{"text_format":"1","workbook":"xlsx","n_sheets":8,"sheets":["BasicCalcs","Canoe","Drawing","Unfold Offset Table","Unfold Plot","Offset Table","Section","Slice"],"not_rendered":{"charts":1,"images":0,"macros":1,"external_links":3,"defined_names":3,"comments":0,"pivot_tables":0},"unopened":[],"bounds":{"document_bytes":16777216,"sheet_cells":100000,"rows_first":2000,"rows_last":500,"rows_between":2000,"halvings":0,"cell_chars":16384,"cell_head_chars":4096},"cells_cut":0,"cells_raw":0,"read":"whole","date_system":"1900"}

{"sheet":"BasicCalcs","index":0,"n_rows":94,"n_cols":5,"rows_kept":94,"cut":false,"hidden":false,"merged":[[66,2,66,3],[73,1,73,4],[85,1,85,4],[1,1,1,4],[13,1,13,4],[24,1,24,4],[37,1,37,4],[57,1,57,4],[59,1,59,4]]}
[]
[null,"Canoe Basic Metrics"]
[null,"Length Overall (LOA)",{"$f":"Canoe!M2","v":3.93},"m"]
[null,"Beam Overall (BOA)",{"$f":"Canoe!M3","v":0.65},"m"]
[null,"Length Water Line (LWL)",{"$f":"Canoe!M4","v":3.6},"m"]
[null,"Beam Water Line (BWL)",{"$f":"Canoe!M5","v":0.55000000000000004},"m","Actually the bottom width"]
[null,"Depth Water Line (DWL)",{"$f":"Canoe!M6","v":7.4999999999999997E-2},"m"]
[null,"Rocker",{"$f":"Canoe!M7","v":2.5000000000000001E-2},"m"]
[null,"Amidships Deadrise",{"$f":"Canoe!M8","v":0},"Degrees"]
[null,"Amidships Freeboard",{"$f":"Canoe!M9","v":0.25},"m"]
[null,"Forward Freeboard",{"$f":"Canoe!M10","v":0.26},"m"]
[null,"Rear Freeboard",{"$f":"Canoe!M11","v":0.26},"m"]
[]
[null,"Basic Calculations"]
[null,"Mid-Section Area",{"$f":"C6*C7","v":4.1250000000000002E-2},"m^2"]
[null,"Plan Water Line Area",{"$f":"C6*C5*2/3","v":1.32},"m^2"]
[null,"Displacement Volume",{"$f":"C5*C6*(C7-C8/3)*2/3","v":8.8000000000000009E-2},"m^3"]
[null,"Displacement Weight",{"$f":"C17*1025","v":90.2},"kg"]
[null,"Prismatic Coefficient (cp)",{"$f":"C17/(C5*C6*C7)","v":0.59259259259259256}]
[null,"Displacement Length Ratio (DLR)",{"$f":"C18/(C3/3.048)^3","v":42.079810407674792}]
[null,"Hull Speed",{"$f":"1.34*(C5*3.28)^0.5","v":4.6046112539496757},"kt"]
[null,"Design G Force",3.5,"g","Light duty"]
[null,"Design Pressure",{"$f":"C22*C18*9.81/1000/C16","v":2.3462249999999996},"KN"]
[]
[null,"Bottom Plank Design"]
[null,"Design Pressure (P)",{"$f":"C23","v":2.3462249999999996},"kPa"]
[null,"Span (L)",{"$f":"C6*1000","v":550},"mm","BWL"]
[null,"Allowable Stress (S)",14000,"kPa","F14 Plywood"]
[null,"Plank Thickness (t)",{"$f":"(C26*C27*C27/C28/2)^0.5","v":5.0346409380411625},"mm","t^2=P*L^2/2/S, ~fixed sides"]
[null,"Design Plank Thickness (t)",6,"mm"]
[null,"Modulus of Elasticity (E)",{"$f":"10500000*80%","v":8400000},"kPa","Factored 80% for wet condition"]
[null,"Moment of Inertia (I)",{"$f":"1000*C30^3/12","v":18000},"mm^4"]
[null,"Deflection (d)",{"$f":"C26*C27^4/384/C31/C32*1000","v":3.6977487634729447},"mm","d=P*L^4/384EI (2% max)"]
[null,"Deflection Ratio",{"$f":"C27/C33","v":148.73914783854519}]
[null,"Maximum Concentrated Load",{"$f":"C28*C30*C30/1000000","v":0.504},"kN","=S*t*t"]
[null,"Note: Hull bottom centre needs reinforcement"]
[]
[null,"Hull Centre Reinforcement"]
[null,"T-Section Modulus"]
[null,"Maximum Rib Spacing (Flange Width)",{"$f":"36*C42+C44","v":256},"mm","Fw<36t+w"]
[null,"Design Rib Spacing",150,"mm"]
[null,"Plank Thickness  (Flange Thickness) ",{"$f":"C30","v":6},"mm"]
[null,"Rib Thickness (Web Height)",6,"mm"]
[null,"Rib Width (Web Thickness)",40,"mm"]
[null,"A",{"$f":"C40*C42+C43*C44","v":1776},"mm^2"]
[null,"cy",{"$f":"(C40*C42*C42/2+C43*C44*(C42+C43/2))/(C40*C42+C43*C44)","v":3.810810810810811},"mm","From top of T"]
[null,"cx",{"$f":"(C40*C42*0/2+C43*C44*0/2)/(C40*C42+C43*C44)","v":0},"mm","From centre line of T"]
[null,"Ixx",{"$f":"C41*C42^3/12+C41*C42*(C46-C42/2)^2+C44*C43^3/12+C44*C43*(C46-C42-C43/2)^2","v":10474.317019722426},"mm^4"]
[null,"Iyy",{"$f":"C40*C40*C40*C42/12+C44*C44*C44*C43/12","v":8420608},"mm^4"]
[null,"Design Point Load",1,"kN","~100kg"]
[null,"Span",{"$f":"C27","v":550},"mm"]
[null,"Allowable Stress",{"$f":"C28","v":14000},"kPa","F14 Plywood"]
[null,"Bending Moment",{"$f":"C50*C51/8","v":68.75},"Nm"]
[null,"Section Modulus",{"$f":"C48/C46","v":2748.5796434732606},"mm^3"]
[null,"Working Stress (per rib)",{"$f":"C53/C54*1000000","v":25012.919004640378},"kN"]
[null,"Distribute Load (over two ribs)",{"$f":"C55/2","v":12506.459502320189},"kN"]
[null,"Safety Factor",{"$f":"C52/C56","v":1.1194215275236552}]
[null,"Note: May be easier to either double plank thickness or reinforce with one layers of 4 oz/sq_yd fibre-glass on both sides"]
[]
[null,"Side Plank Design"]
[null,"Design Pressure (P)",{"$f":"C23","v":2.3462249999999996},"kPa"]
[null,"Span (L)",{"$f":"(C10+C7)*1000","v":325},"mm"]
[null,"Allowable Stress (S)",{"$f":"C28","v":14000},"kPa","F14 Plywood"]
[null,"Plank Thickness (t)",{"$f":"(C61*C62*C62/C63/2)^0.5","v":2.9750150997515958},"mm","t^2=P*L^2/2/S, ~fixed sides"]
[null,"Design Plank Thickness (t)",{"$f":"C43","v":6},"mm","Okay"]
[]
[null,"Hull Section Modulus",null,null,"Triangular Load & Free Ends"]
[null,"Design Pressure",{"$f":"C23","v":2.3462249999999996},"kPa"]
[null,"Width",{"$f":"C6*1000","v":550},"mm","BWL"]
[null,"Length",{"$f":"C5*1000","v":3600},"mm","LWL"]
[null,"Allowable Stress ",{"$f":"C28","v":14000},"kPa","F14 Plywood"]
[null,"Required Section Modulus",{"$f":"C68*C69*C70^2/12/C71","v":99546.974999999977},"mm^3","SM=PsL^2/12/S"]
[]
[null,"Channel Model"]
[null,"Chine Width (web)",{"$f":"C27","v":550},"mm","BWL"]
[null,"Side Height (flange)",{"$f":"(C10+C7)*1000","v":325},"mm"]
[null,"Deck Width (lip)",50,"mm"]
[null,"Thickness (t)",{"$f":"C30","v":6},"mm"]
[null,"cy (from bottom)",{"$f":"C76*(C76+2*C77)/(C75+2*C76+2*C77)","v":106.25},"mm"]
[null,"I",{"$f":"1/12*C75*C78^3+2/3*C78*C76^3+1/6*C77*C78^3+2*C77*C78*C76^2-(C75*C78+2*C76*C78+2*C77*C78)*C76^2*(C76+2*C77)^2/(C75+2*C76+2*C77)^2","v":112644512.5},"mm^4"]
[null,"Rg",{"$f":"(C80/(C75+2*C76+2*C77)/C78)^0.5","v":120.17322566473227},"mm","Radius of gyration"]
[null,"Slenderness Ratio",{"$f":"C70/C81","v":29.956756008559957}]
[null,"Z",{"$f":"MIN(C80/C79,C80/(C76-C79))","v":514946.34285714285},"mm^3"]
[null,"Safety Factor",{"$f":"C83/C72","v":5.1728979495071847},null,"Assumes no significant keel or stringers"]
[]
[null,"Plywood Fibre Glass Joins"]
[null,"Spw",{"$f":"C28","v":14000},"Pa"]
[null,"b",1,"m"]
[null,"h",{"$f":"C30","v":6},"mm"]
[null,"M",{"$f":"C87*C88*C89^2/6","v":84000},"Nm","M=Spw*b*h^2/6"]
[null,"Sfg",120000000,"Pa"]
[null,"t",{"$f":"1000*((C90*6*C89/C91/C88+C89*C89*C89)^(1/3)-C89)/2","v":0.11666212992356151},"mm","t~((6*M*h/Sfg/b+h^3)^(1/3)-h)/2"]
[null,"F/G Weight",{"$f":"C92*16","v":1.8665940787769841},"oz/sq_yd","Each side of plywood"]
[null,"F/G Overlap (each side of join)",{"$f":"C89*3","v":18},"mm","=3*h [JS = 15%*(1+L/h)]"]

{"sheet":"Canoe","index":1,"n_rows":71,"n_cols":37,"rows_kept":71,"cut":false,"hidden":false,"merged":[[9,14,9,16],[10,8,10,11],[10,14,10,16],[0,0,0,2],[18,22,18,26],[0,8,0,16],[1,8,1,11],[1,14,1,16],[2,8,2,11],[2,14,2,16],[3,8,3,11],[3,14,3,16],[4,8,4,11],[4,14,4,16],[28,1,28,4],[28,6,28,9],[28,11,28,14],[28,16,28,19],[28,21,28,24],[18,32,18,36],[1,4,3,6],[18,17,18,21],[18,12,18,16],[18,7,18,11],[18,2,18,6],[18,27,18,31],[5,8,5,11],[5,14,5,16],[6,8,6,11],[6,14,6,16],[7,8,7,11],[7,14,7,16],[8,8,8,11],[8,14,8,16],[9,8,9,11]]}
["Canoe",null,null,null,null,null,null,null,"Canoe Basic Metrics"]
["Find Offet Table at row",19,null,null,null,null,null,null,"Length Overall (LOA)",null,null,null,{"$f":"(W22-C22)/1000","v":3.93},"m"]
["Stations",5,null,null,null,null,null,null,"Beam Overall (BOA)",null,null,null,{"$f":"N23/500","v":0.65},"m"]
["Chines",5,null,null,null,null,null,null,"Length Water Line (LWL)",null,null,null,{"$f":"(R24-H24)/1000","v":3.6},"m"]
["Forward-Aft Slice",100,"mm",null,null,null,null,null,"Beam Water Line (BWL)",null,null,null,{"$f":"N24/500","v":0.55000000000000004},"m","Actually the bottom width"]
["First slice",100,"mm",null,null,null,null,null,"Depth Water Line (DWL)",null,null,null,{"$f":"-O25/1000","v":7.4999999999999997E-2},"m"]
["Last slice",3900,"mm",null,null,null,null,null,"Rocker",null,null,null,{"$f":"(J24-O25)/1000","v":2.5000000000000001E-2},"m"]
["Water Line Slice",25,"mm",null,null,null,null,null,"Amidships Deadrise",null,null,null,{"$f":"DEGREES(ATAN2(N24-N25,O24-O25))","v":0},"Degrees"]
["Draft",-75,"mm",null,null,null,null,null,"Amidships Freeboard",null,null,null,{"$f":"O21/1000","v":0.25},"m"]
["Displacement",71.819025268000331,"dm3",null,null,null,null,null,"Forward Freeboard",null,null,null,{"$f":"E22/1000","v":0.26},"m"]
["Find Unfold Offsets at row",29,null,null,null,null,null,null,"Rear Freeboard",null,null,null,{"$f":"Y22/1000","v":0.26},"m"]
[]
["Export Plan Slice at",0,"mm"]
["Export Cross Section at",1800,"mm"]
[]
[]
[]
[]
["Table Row","Station",1,null,null,null,null,2,null,null,null,null,3,null,null,null,null,4,null,null,null,null,5,null,null,null,null,6,null,null,null,null,7]
[null,"Chine","X","Y","Z","Break","Colour","X","Y","Z","Break","Colour","X","Y","Z","Break","Colour","X","Y","Z","Break","Colour","X","Y","Z","Break","Colour","X","Y","Z","Break","Colour","X","Y","Z","Break","Colour"]
["Coaming",5,35,0,260,true,1,200,0,250,true,1,2000,275,250,false,1,3800,0,250,true,1,3965,0,260,true,0]
["Deck",4,35,0,260,true,2,200,0,250,true,2,2000,275,200,false,2,3800,0,250,true,2,3965,0,260,true,0]
["Sheer",3,35,0,260,true,3,200,52,250,false,3,2000,325,200,false,3,3800,52,250,false,3,3965,0,260,true,0]
["Chine",2,35,0,260,true,4,200,0,-50,true,4,2000,275,-75,false,4,3800,0,-50,true,4,3965,0,260,true,0]
["Centreline",1,35,0,260,true,5,200,0,-50,true,5,2000,0,-75,false,5,3800,0,-50,true,5,3965,0,260,true,0]
[]
[]
[]
["Offset Row","Sole",null,null,null,null,"Side",null,null,null,null,"Deck",null,null,null,null,"Coaming"]
[null,"X Lower","Y Lower","X Upper","Y Upper",null,"X Lower","Y Lower","X Upper","Y Upper",null,"X Lower","Y Lower","X Upper","Y Upper",null,"X Lower","Y Lower","X Upper","Y Upper",null,"X Lower","Y Lower","X Upper","Y Upper"]
[null,null,null,null,null,null,0,0,0,0,null,0,0,0,0]
[null,null,null,null,null,null,68.420209202994386,-120.23836917794821,68.434301162861757,-0.31243178485994921,null,65.114487669239978,-21.058363774088619,65.119256257569489,-3.5903631151279022E-2]
[null,351.17659375305755,2.8142841868191996E-14,351.17659375305755,2.8142841868191996E-14,null,173.68206951529351,-305.22047560556086,173.29046072255329,-0.74741170244078059,null,165.27444452618741,-52.090386710897199,165.3027278313659,-9.0394402679995114E-2,null,165.08162866770854,-8.547273039794657,165.08162866770854,-8.547273039794657]
[null,451.21305377496344,3.6159635485792533E-14,451.21305377496344,29.706790123456834,null,278.00512878184253,-302.67370933800157,277.65084615385166,-1.125491200794636,null,265.41530521234034,-81.467946386825687,265.43243207104501,-29.851258690717625,null,269.40081855834711,-13.948507607695964,269.40081855834711,-8.5472730397946997]
[null,551.24546664613501,5.3429585868176778E-14,551.24546664613501,57.716049382716101,null,381.85697214063686,-300.26604240476951,381.54021101316789,-1.4495310825625141,null,365.53871354940952,-109.18812379761447,365.54729117708473,-57.913120527458595,null,373.24935540048273,-19.041100200288234,373.24935540048273,-8.5472730397943799]
[null,651.27407028468008,8.7575864000523277E-14,651.27407028468008,84.027777777777857,null,485.26337967023164,-297.9981185003968,484.98371231647133,-1.722455572006595,null,465.64622369497602,-135.24803289413239,465.64843805584724,-84.275093674408794,null,476.65296777033905,-23.825050817572116,476.65296777033905,-8.5472730397944083]
[null,751.29910263588818,7.3151510328061984E-14,751.29910263588818,108.641975308642,null,588.2504645035491,-295.87063771700252,588.00689938612902,-1.947246647105866,null,565.73924970475196,-159.64503576791662,565.73691884609741,-108.93646266781764,null,579.6377177097761,-28.300359459547494,579.63771770977621,-8.5472730397943941]
[null,851.32080167053653,7.6842398620694972E-14,851.32080167053653,131.55864197530869,null,690.84465804664626,-293.88434968894029,690.63570145713948,-2.1269376216869573,null,665.81908659796022,-182.37672182077674,665.81370729518187,-131.89667033106434,null,682.22998647848556,-32.467026126214442,682.22998647848567,-8.5472730397947281]
[null,951.33940538319484,9.8758477611684125E-14,951.33940538319484,152.77777777777789,null,793.07269410799711,-292.04004606085834,792.89641404342933,-2.2646060031109965,null,765.88692961696393,-203.44088771366407,765.87971784266063,-153.1553065016806,null,784.45645919570109,-36.325050817572858,784.45645919570109,-8.5472730397951153]
[null,1051.3551517905294,1.2887665793244835E-13,1051.3551517905294,172.29938271604954,null,894.96159197158306,-290.33855232711602,894.81568407381326,-2.3633656618056404,null,865.94389172991259,-222.83551814903035,865.93581756058938,-172.71209780973598,null,886.34410839503209,-39.874433533622437,886.34410839503209,-8.5472730397952645]
[null,1151.3682789296063,1.5899560204334012E-13,1151.3682789296063,190.12345679012358,null,996.53863845538785,-288.78071910041962,996.42049381655931,-2.4263583596701941,null,965.9910194423685,-240.55876749634669,965.98283708744714,-190.56689831098305,null,987.92017652428228,-43.115174274363291,987.9201765242824,-8.5472730397953534]
[null,1251.3790248561943,1.5439704792810918E-13,1251.3790248561943,206.25000000000011,null,1097.8313690050722,-287.36741287683481,1097.738143621154,-2.4567446948275724,null,1066.0293069933971,-256.60894223413442,1066.0215806737119,-206.7196807571064,null,1089.2121574304724,-46.047273039795456,1089.2121574304724,-8.5472730397955043]
[null,1351.3876276430667,1.5954360024191436E-13,1351.3876276430667,220.67901234567921,null,1198.8675478805183,-286.09950637277126,1198.7962335156667,-2.4576945301412896,null,1166.0597090146746,-270.98448415405016,1166.0528354333403,-221.17052827604954,null,1190.2477768786243,-48.670729829919033,1190.2477768786243,-8.5472730397955647]
[null,1451.394325378302,1.8612821705618022E-13,1451.394325378302,233.41049382716068,null,1299.6751475004892,-284.97786851691183,1299.6226437079592,-2.4323769820814607,null,1266.0831517290978,-283.68395425311996,1266.0773798688404,-233.91962623672262,null,1291.0549721610707,-50.985544644734013,1291.0549721610707,-8.5472730397958152]
[null,1551.3993561635855,2.1714124529008194E-13,1551.3993561635855,244.44444444444468,null,1400.2823270177053,-284.0033541861888,1400.245514048685,-2.3839500546850938,null,1366.1005427595414,-294.7060172286786,1366.0959917101061,-244.96725408313787,null,1391.6618708620279,-52.991717484240183,1391.6618708620281,-8.5472730397957424]
[null,1651.4029581125089,2.1524333453999805E-13,1651.4029581125089,253.78086419753109,null,1500.7174102031086,-283.17679377963287,1500.6932225234571,-2.3155500103102504,null,1466.1127796100609,-304.04942648624672,1466.1094550802725,-254.31377694167401,null,1492.0967688497585,-54.689248348437793,1492.0967688497585,-8.5472730397958472]
[null,1751.4053693488706,2.0531050290238941E-13,1751.4053693488706,261.41975308641992,null,1601.0088627238508,-282.49898272712738,1600.9943628505446,-2.230280574412701,null,1566.1207568722259,-311.71300957258114,1566.1185669769832,-261.9596368301149,null,1592.3881075757761,-56.078137237326743,1592.3881075757763,-8.5472730397957939]
[null,1851.4068280049751,2.1246831692010015E-13,1851.4068280049751,267.36111111111131,null,1701.1852689045409,-281.97067103169729,1701.1777212688517,-2.1312020755427925,null,1666.1253721993783,-317.6956539534691,1666.1241430356652,-267.90534332665777,null,1692.5644507670584,-57.158384150907239,1692.5644507670586,-8.5472730397960603]
[null,1951.4075722199318,2.3493967059107288E-13,1951.4075722199318,271.60493827160525,null,1801.2753080654136,-281.5925529439196,1801.2722526085809,-2.0213206240413113,null,1766.1275310823971,-321.99629306747266,1766.1270225235151,-272.15146358961329,null,1792.6544606030463,-57.929989089179045,1792.6544606030463,-8.5472730397962735]
[null,2051.4078401379543,2.5837540943859838E-13,2051.4078401379543,274.15123456790155,null,1901.3077305343186,-281.36525686536436,1901.3070557437736,-1.9035774334304538,null,1866.1281504526492,-324.61389260172172,1866.1280724994001,-274.69861165247511,null,1892.6868734742179,-58.392952052142029,1892.6868734742179,-8.5472730397963215]
[null,2151.407869906659,2.5116251074235464E-13,2151.407869906659,275.00000000000028,null,2001.3113334317047,-281.28933557470356,2001.3113485317076,-1.7808383872302236,null,1966.1281611318107,-325.54743695302528,1966.1281910660055,-275.54743695303421,null,1992.6904754231414,-58.547273039796437,1992.6904754231414,-8.5472730397964316]
[null,2251.4078996753638,2.5837540943859838E-13,2251.4078996753638,274.15123456790155,null,2101.3149363290913,-281.36525686536436,2101.3156413196416,-1.9035774335050131,null,2066.1281718109722,-324.61389260172172,2066.1283096326115,-274.69861165260443,null,2092.6940773720648,-58.392952052142036,2092.6940773720648,-8.547273039796373]
[null,2351.4081675933862,2.4235044001350696E-13,2351.4081675933862,271.60493827160514,null,2201.3473588076895,-281.59254867783352,2201.3504444598552,-2.0213163582870868,null,2166.1287912889711,-321.99629718374541,2166.1293597133563,-272.15146770653257,null,2192.7264902432362,-57.929989089179145,2192.7264902432362,-8.5472730397964938]
[null,2451.408911808343,2.8770904422082349E-13,2451.408911808343,267.36111111111137,null,2301.4373980013975,-281.97065807375799,2301.444975809125,-2.1311891184189919,null,2266.1309507132223,-317.69567065495323,2266.1322397356098,-267.90536002965536,null,2292.8165000792242,-57.158384150907558,2292.8165000792242,-8.5472730397964352]
[null,2551.4103704644476,2.4696909692053708E-13,2551.4103704644476,261.41975308642009,null,2401.6138042509933,-282.498956703418,2401.6283342403522,-2.2302545522630304,null,2366.1355675315276,-311.71305119991479,2366.1378172762929,-261.95967846011877,null,2392.9928432705065,-56.078137237327546,2392.9928432705069,-8.547273039796714]
[null,2651.4127817008093,2.685868255622268E-13,2651.4127817008093,253.78086419753112,null,2501.9052568879629,-283.17675055832666,2501.9294745820575,-2.3155067915905398,null,2466.1435478872868,-304.04950848436869,2466.1469322595126,-254.31385894383203,null,2493.2841819965238,-54.689248348439378,2493.2841819965242,-8.5472730397974601]
[null,2751.4163836497328,2.9190204527062667E-13,2751.4163836497328,244.44444444444477,null,2602.3403402455438,-284.00329004334742,2602.3771830710725,-2.3838859157483894,null,2566.1557901437304,-294.70615709221488,2566.1604010374758,-244.96739395218589,null,2593.7190799842547,-52.991717484242336,2593.7190799842547,-8.5472730397978953]
[null,2851.4214144350162,3.0283761975539612E-13,2851.4214144350162,233.41049382716082,null,2702.9475199961862,-284.97778027526471,2703.0000534233927,-2.4322887459428681,null,2666.1731895574057,-283.68417018879995,2666.1790212814772,-233.91984217938202,null,2694.3259786852118,-50.985544644736812,2694.3259786852122,-8.5472730397986094]
[null,2951.4281121702516,3.321003800998733E-13,2951.4281121702516,220.67901234567935,null,2803.7551199123368,-286.09939151154583,2803.8264636223653,-2.4575796762959237,null,2766.1966441278282,-270.98479347018178,2766.2035776193457,-221.17083760048385,null,2795.1331739676584,-48.670729829923019,2795.1331739676584,-8.5472730397995473]
[null,3051.436714957124,3.3491496096789573E-13,3051.436714957124,206.2500000000004,null,2904.791299144224,-287.36726961141125,2904.8845535166074,-2.4566014388906772,null,2866.2270616588967,-256.60935947361452,2866.2348479700281,-206.72009800591357,null,2896.1687934158103,-46.047273039800295,2896.1687934158103,-8.5472730398002952]
[null,3151.4474608837122,3.4342922696571111E-13,3151.4474608837122,190.12345679012381,null,3006.0840301041649,-288.78054643130992,3006.2022033123799,-2.4261857023490956,null,2966.2653680777657,-240.55930233663491,2966.2736105447566,-190.567433161146,null,2997.4607743220008,-43.115174274368876,2997.4607743220008,-8.5472730398009453]
[null,3251.4605880227891,3.5455542818542911E-13,3251.4605880227891,172.29938271604968,null,3107.6610770419175,-290.33835005850557,3107.8070130367723,-2.3631634074325683,null,3066.3125170675967,-222.83617309978072,3066.3206515069214,-172.71275277023113,null,3099.0368424512508,-39.87443353362918,3099.0368424512508,-8.5472730398020431]
[null,3351.4763344301236,3.8232396809560865E-13,3351.4763344301236,152.77777777777814,null,3209.549975389828,-292.0398147896567,3209.7262830390509,-2.2643747486910231,null,3166.3695010811603,-203.44165565009939,3166.3767733085665,-153.15607444682234,null,3200.9244916505818,-36.325050817580319,3200.9244916505822,-8.5472730398024979]
[null,3451.4949381427818,3.9237406674752564E-13,3451.4949381427818,131.558641975309,null,3311.778011950043,-293.88409076595752,3311.986995588115,-2.1266787180775735,null,3266.4373638114248,-182.37758339813473,3266.4428037491812,-131.89753191492014,null,3303.1509643677973,-32.467026126222514,3303.1509643677978,-8.5472730398027768]
[null,3551.5166371774303,4.0453491291305828E-13,3551.5166371774303,108.64197530864243,null,3414.3722059889928,-295.87035318247001,3414.615797614284,-1.946962134540704,null,3366.5172142018937,-159.64595676917784,3366.5196058307879,-108.93738367190873,null,3405.7432331365067,-28.300359459556226,3405.7432331365071,-8.5472730398031747]
[null,3651.5416695286385,4.1976956176726276E-13,3651.5416695286385,84.027777777778226,null,3517.3592912968015,-297.99781099657179,3517.638984633827,-1.7221480927094137,null,3466.610242082173,-135.24896156946775,3466.6080885105571,-84.276022347139701,null,3508.7279830759444,-23.825050817582365,3508.7279830759444,-8.5472730398045691]
[null,3751.5702731671836,4.5481336211172663E-13,3751.5702731671836,57.716049382716498,null,3620.7656992613561,-300.26571506878162,3621.08248588481,-1.4492037736027279,null,3566.7177355116664,-109.18898825928518,3566.7092184764397,-57.913984979028719,null,3612.1315954458009,-19.041100200299272,3612.1315954458009,-8.5472730398053898]
[null,3851.6026860383554,4.6587680583332292E-13,3851.6026860383554,29.706790123457331,null,3724.6175429985897,-302.67336567841443,3724.9718506932181,-1.1251475706585148,null,3666.8410999050525,-81.468652127369822,3666.8240330905965,-29.851964411373512,null,3715.9801322879362,-13.94850760770772,3715.9801322879366,-8.5472730398064627]
[null,3951.6391460602613,4.7260797849058453E-13,3951.6391460602613,4.7299869537939945E-13,null,3828.9406025722365,-305.22011936632674,3829.3322360789502,-0.74705549499423252,null,3766.9818789960391,-52.090814315059774,3766.9536546576774,-9.0821974803445005E-2,null,3820.2993221785746,-8.5472730398104968,3820.2993221785746,-8.5472730398104968]
[null,null,null,null,null,null,3934.2004752594175,-120.2368819184945,3934.1883909396324,-0.31094430630209768,null,3867.1417776697222,-21.058603584694705,3867.1371261291583,-3.6143415533017587E-2]
[null,null,null,null,null,null,4002.622697323221,3.4184272542392424E-4,4002.622697323221,3.4184272542392424E-4,null,3932.2563825856205,-6.0235200727465354E-4,3932.2563825856205,-6.0235200727465354E-4]

{"sheet":"Drawing","index":2,"n_rows":43,"n_cols":37,"rows_kept":43,"cut":false,"hidden":false,"merged":[]}
["  "]
[]
[]
[]
[]
[]
[]
[]
[]
[]
[]
[]
[]
[]
[]
[]
[]
[]
[]
[]
[]
[]
[]
[]
[]
[]
[]
[]
[]
[]
[]
[]
[]
[]
[]
[]
[]
[]
[]
[]
[]
[]
[null,null,null,null,null,null,null,null,null,null,null,null,null,null,null,null,null,null,null,null,null,null,null,null,null,null,null,null,null,null,null,null,null,null,null,null," "]

{"sheet":"Unfold Offset Table","index":3,"n_rows":63,"n_cols":25,"rows_kept":63,"cut":false,"hidden":false,"merged":[[4,1,4,4],[4,6,4,9],[4,11,4,14],[4,16,4,19],[4,21,4,24]]}
[null,null,null,"Xofs",249,null,null,null,"Xofs",399,null,null,null,"Xofs",434,null,null,null,"Xofs",407,null,null,null,"Xofs",0]
["Offset",400,1000,"Yofs",0,null,null,null,"Yofs",608,null,null,null,"Yofs",0,null,null,null,"Yofs",-1,null,null,null,"Yofs",0]
["Number of Lines",{"$f":"COUNT(A7:A107)","v":57},null,"Mirror",1,null,null,null,"Mirror",1,null,null,null,"Mirror",-1,null,null,null,"Mirror",1,null,null,null,"Mirror",1]
["Number of Planks",{"$f":"Canoe!B4-1","v":4},null,"Rotation",0,null,null,null,"Rotation",0,null,null,null,"Rotation",0,null,null,null,"Rotation",0,null,null,null,"Rotation",0]
[null,{"$f":"Canoe!B29","v":"Sole"},null,null,null,null,{"$f":"Canoe!G29","v":"Side"},null,null,null,null,{"$f":"Canoe!L29","v":"Deck"},null,null,null,null,{"$f":"Canoe!Q29","v":"Coaming"},null,null,null,null,{"$f":"Canoe!V29","v":0}]
[null,"X Lower","Y Lower","X Upper","Y Upper",null,"X Lower","Y Lower","X Upper","Y Upper",null,"X Lower","Y Lower","X Upper","Y Upper",null,"X Lower","Y Lower","X Upper","Y Upper",null,"X Lower","Y Lower","X Upper","Y Upper"]
[1,{"$f":"IF(Canoe!B31<>\"\",Canoe!B31*COS(RADIANS(E$4))-Canoe!C31*SIN(RADIANS(E$4))+E$1,\"\")","v":""},{"$f":"IF(Canoe!C31<>\"\",(Canoe!B31*SIN(RADIANS(E$4))+Canoe!C31*COS(RADIANS(E$4))*E$3)+E$2,\"\")","v":""},{"$f":"IF(Canoe!D31<>\"\",Canoe!D31*COS(RADIANS(E$4))-Canoe!E31*SIN(RADIANS(E$4))+E$1,\"\")","v":""},{"$f":"IF(Canoe!E31<>\"\",(Canoe!D31*SIN(RADIANS(E$4))+Canoe!E31*COS(RADIANS(E$4))*E$3)+E$2,\"\")","v":""},null,{"$f":"IF(Canoe!G31<>\"\",Canoe!G31*COS(RADIANS(J$4))-Canoe!H31*SIN(RADIANS(J$4))+J$1,\"\")","v":399},{"$f":"IF(Canoe!H31<>\"\",(Canoe!G31*SIN(RADIANS(J$4))+Canoe!H31*COS(RADIANS(J$4))*J$3)+J$2,\"\")","v":608},{"$f":"IF(Canoe!I31<>\"\",Canoe!I31*COS(RADIANS(J$4))-Canoe!J31*SIN(RADIANS(J$4))+J$1,\"\")","v":399},{"$f":"IF(Canoe!J31<>\"\",(Canoe!I31*SIN(RADIANS(J$4))+Canoe!J31*COS(RADIANS(J$4))*J$3)+J$2,\"\")","v":608},null,{"$f":"IF(Canoe!L31<>\"\",Canoe!L31*COS(RADIANS(O$4))-Canoe!M31*SIN(RADIANS(O$4))+O$1,\"\")","v":434},{"$f":"IF(Canoe!M31<>\"\",(Canoe!L31*SIN(RADIANS(O$4))+Canoe!M31*COS(RADIANS(O$4))*O$3)+O$2,\"\")","v":0},{"$f":"IF(Canoe!N31<>\"\",Canoe!N31*COS(RADIANS(O$4))-Canoe!O31*SIN(RADIANS(O$4))+O$1,\"\")","v":434},{"$f":"IF(Canoe!O31<>\"\",(Canoe!N31*SIN(RADIANS(O$4))+Canoe!O31*COS(RADIANS(O$4))*O$3)+O$2,\"\")","v":0},null,{"$f":"IF(Canoe!Q31<>\"\",Canoe!Q31*COS(RADIANS(T$4))-Canoe!R31*SIN(RADIANS(T$4))+T$1,\"\")","v":""},{"$f":"IF(Canoe!R31<>\"\",(Canoe!Q31*SIN(RADIANS(T$4))+Canoe!R31*COS(RADIANS(T$4))*T$3)+T$2,\"\")","v":""},{"$f":"IF(Canoe!S31<>\"\",Canoe!S31*COS(RADIANS(T$4))-Canoe!T31*SIN(RADIANS(T$4))+T$1,\"\")","v":""},{"$f":"IF(Canoe!T31<>\"\",(Canoe!S31*SIN(RADIANS(T$4))+Canoe!T31*COS(RADIANS(T$4))*T$3)+T$2,\"\")","v":""},null,{"$f":"IF(Canoe!V31<>\"\",Canoe!V31*COS(RADIANS(Y$4))-Canoe!W31*SIN(RADIANS(Y$4))+Y$1,\"\")","v":""},{"$f":"IF(Canoe!W31<>\"\",(Canoe!V31*SIN(RADIANS(Y$4))+Canoe!W31*COS(RADIANS(Y$4))*Y$3)+Y$2,\"\")","v":""},{"$f":"IF(Canoe!X31<>\"\",Canoe!X31*COS(RADIANS(Y$4))-Canoe!Y31*SIN(RADIANS(Y$4))+Y$1,\"\")","v":""},{"$f":"IF(Canoe!Y31<>\"\",(Canoe!X31*SIN(RADIANS(Y$4))+Canoe!Y31*COS(RADIANS(Y$4))*Y$3)+Y$2,\"\")","v":""}]
[2,{"$f":"IF(Canoe!B32<>\"\",Canoe!B32*COS(RADIANS(E$4))-Canoe!C32*SIN(RADIANS(E$4))+E$1,\"\")","v":""},{"$f":"IF(Canoe!C32<>\"\",(Canoe!B32*SIN(RADIANS(E$4))+Canoe!C32*COS(RADIANS(E$4))*E$3)+E$2,\"\")","v":""},{"$f":"IF(Canoe!D32<>\"\",Canoe!D32*COS(RADIANS(E$4))-Canoe!E32*SIN(RADIANS(E$4))+E$1,\"\")","v":""},{"$f":"IF(Canoe!E32<>\"\",(Canoe!D32*SIN(RADIANS(E$4))+Canoe!E32*COS(RADIANS(E$4))*E$3)+E$2,\"\")","v":""},null,{"$f":"IF(Canoe!G32<>\"\",Canoe!G32*COS(RADIANS(J$4))-Canoe!H32*SIN(RADIANS(J$4))+J$1,\"\")","v":467.42020920299439},{"$f":"IF(Canoe!H32<>\"\",(Canoe!G32*SIN(RADIANS(J$4))+Canoe!H32*COS(RADIANS(J$4))*J$3)+J$2,\"\")","v":487.76163082205176},{"$f":"IF(Canoe!I32<>\"\",Canoe!I32*COS(RADIANS(J$4))-Canoe!J32*SIN(RADIANS(J$4))+J$1,\"\")","v":467.43430116286174},{"$f":"IF(Canoe!J32<>\"\",(Canoe!I32*SIN(RADIANS(J$4))+Canoe!J32*COS(RADIANS(J$4))*J$3)+J$2,\"\")","v":607.68756821514},null,{"$f":"IF(Canoe!L32<>\"\",Canoe!L32*COS(RADIANS(O$4))-Canoe!M32*SIN(RADIANS(O$4))+O$1,\"\")","v":499.11448766923996},{"$f":"IF(Canoe!M32<>\"\",(Canoe!L32*SIN(RADIANS(O$4))+Canoe!M32*COS(RADIANS(O$4))*O$3)+O$2,\"\")","v":21.058363774088619},{"$f":"IF(Canoe!N32<>\"\",Canoe!N32*COS(RADIANS(O$4))-Canoe!O32*SIN(RADIANS(O$4))+O$1,\"\")","v":499.11925625756948},{"$f":"IF(Canoe!O32<>\"\",(Canoe!N32*SIN(RADIANS(O$4))+Canoe!O32*COS(RADIANS(O$4))*O$3)+O$2,\"\")","v":3.5903631151279022E-2},null,{"$f":"IF(Canoe!Q32<>\"\",Canoe!Q32*COS(RADIANS(T$4))-Canoe!R32*SIN(RADIANS(T$4))+T$1,\"\")","v":""},{"$f":"IF(Canoe!R32<>\"\",(Canoe!Q32*SIN(RADIANS(T$4))+Canoe!R32*COS(RADIANS(T$4))*T$3)+T$2,\"\")","v":""},{"$f":"IF(Canoe!S32<>\"\",Canoe!S32*COS(RADIANS(T$4))-Canoe!T32*SIN(RADIANS(T$4))+T$1,\"\")","v":""},{"$f":"IF(Canoe!T32<>\"\",(Canoe!S32*SIN(RADIANS(T$4))+Canoe!T32*COS(RADIANS(T$4))*T$3)+T$2,\"\")","v":""},null,{"$f":"IF(Canoe!V32<>\"\",Canoe!V32*COS(RADIANS(Y$4))-Canoe!W32*SIN(RADIANS(Y$4))+Y$1,\"\")","v":""},{"$f":"IF(Canoe!W32<>\"\",(Canoe!V32*SIN(RADIANS(Y$4))+Canoe!W32*COS(RADIANS(Y$4))*Y$3)+Y$2,\"\")","v":""},{"$f":"IF(Canoe!X32<>\"\",Canoe!X32*COS(RADIANS(Y$4))-Canoe!Y32*SIN(RADIANS(Y$4))+Y$1,\"\")","v":""},{"$f":"IF(Canoe!Y32<>\"\",(Canoe!X32*SIN(RADIANS(Y$4))+Canoe!Y32*COS(RADIANS(Y$4))*Y$3)+Y$2,\"\")","v":""}]
[3,{"$f":"IF(Canoe!B33<>\"\",Canoe!B33*COS(RADIANS(E$4))-Canoe!C33*SIN(RADIANS(E$4))+E$1,\"\")","v":600.17659375305755},{"$f":"IF(Canoe!C33<>\"\",(Canoe!B33*SIN(RADIANS(E$4))+Canoe!C33*COS(RADIANS(E$4))*E$3)+E$2,\"\")","v":2.8142841868191996E-14},{"$f":"IF(Canoe!D33<>\"\",Canoe!D33*COS(RADIANS(E$4))-Canoe!E33*SIN(RADIANS(E$4))+E$1,\"\")","v":600.17659375305755},{"$f":"IF(Canoe!E33<>\"\",(Canoe!D33*SIN(RADIANS(E$4))+Canoe!E33*COS(RADIANS(E$4))*E$3)+E$2,\"\")","v":2.8142841868191996E-14},null,{"$f":"IF(Canoe!G33<>\"\",Canoe!G33*COS(RADIANS(J$4))-Canoe!H33*SIN(RADIANS(J$4))+J$1,\"\")","v":572.68206951529351},{"$f":"IF(Canoe!H33<>\"\",(Canoe!G33*SIN(RADIANS(J$4))+Canoe!H33*COS(RADIANS(J$4))*J$3)+J$2,\"\")","v":302.77952439443914},{"$f":"IF(Canoe!I33<>\"\",Canoe!I33*COS(RADIANS(J$4))-Canoe!J33*SIN(RADIANS(J$4))+J$1,\"\")","v":572.29046072255323},{"$f":"IF(Canoe!J33<>\"\",(Canoe!I33*SIN(RADIANS(J$4))+Canoe!J33*COS(RADIANS(J$4))*J$3)+J$2,\"\")","v":607.25258829755921},null,{"$f":"IF(Canoe!L33<>\"\",Canoe!L33*COS(RADIANS(O$4))-Canoe!M33*SIN(RADIANS(O$4))+O$1,\"\")","v":599.27444452618738},{"$f":"IF(Canoe!M33<>\"\",(Canoe!L33*SIN(RADIANS(O$4))+Canoe!M33*COS(RADIANS(O$4))*O$3)+O$2,\"\")","v":52.090386710897199},{"$f":"IF(Canoe!N33<>\"\",Canoe!N33*COS(RADIANS(O$4))-Canoe!O33*SIN(RADIANS(O$4))+O$1,\"\")","v":599.30272783136593},{"$f":"IF(Canoe!O33<>\"\",(Canoe!N33*SIN(RADIANS(O$4))+Canoe!O33*COS(RADIANS(O$4))*O$3)+O$2,\"\")","v":9.0394402679995114E-2},null,{"$f":"IF(Canoe!Q33<>\"\",Canoe!Q33*COS(RADIANS(T$4))-Canoe!R33*SIN(RADIANS(T$4))+T$1,\"\")","v":572.08162866770851},{"$f":"IF(Canoe!R33<>\"\",(Canoe!Q33*SIN(RADIANS(T$4))+Canoe!R33*COS(RADIANS(T$4))*T$3)+T$2,\"\")","v":-9.547273039794657},{"$f":"IF(Canoe!S33<>\"\",Canoe!S33*COS(RADIANS(T$4))-Canoe!T33*SIN(RADIANS(T$4))+T$1,\"\")","v":572.08162866770851},{"$f":"IF(Canoe!T33<>\"\",(Canoe!S33*SIN(RADIANS(T$4))+Canoe!T33*COS(RADIANS(T$4))*T$3)+T$2,\"\")","v":-9.547273039794657},null,{"$f":"IF(Canoe!V33<>\"\",Canoe!V33*COS(RADIANS(Y$4))-Canoe!W33*SIN(RADIANS(Y$4))+Y$1,\"\")","v":""},{"$f":"IF(Canoe!W33<>\"\",(Canoe!V33*SIN(RADIANS(Y$4))+Canoe!W33*COS(RADIANS(Y$4))*Y$3)+Y$2,\"\")","v":""},{"$f":"IF(Canoe!X33<>\"\",Canoe!X33*COS(RADIANS(Y$4))-Canoe!Y33*SIN(RADIANS(Y$4))+Y$1,\"\")","v":""},{"$f":"IF(Canoe!Y33<>\"\",(Canoe!X33*SIN(RADIANS(Y$4))+Canoe!Y33*COS(RADIANS(Y$4))*Y$3)+Y$2,\"\")","v":""}]
[4,{"$f":"IF(Canoe!B34<>\"\",Canoe!B34*COS(RADIANS(E$4))-Canoe!C34*SIN(RADIANS(E$4))+E$1,\"\")","v":700.21305377496344},{"$f":"IF(Canoe!C34<>\"\",(Canoe!B34*SIN(RADIANS(E$4))+Canoe!C34*COS(RADIANS(E$4))*E$3)+E$2,\"\")","v":3.6159635485792533E-14},{"$f":"IF(Canoe!D34<>\"\",Canoe!D34*COS(RADIANS(E$4))-Canoe!E34*SIN(RADIANS(E$4))+E$1,\"\")","v":700.21305377496344},{"$f":"IF(Canoe!E34<>\"\",(Canoe!D34*SIN(RADIANS(E$4))+Canoe!E34*COS(RADIANS(E$4))*E$3)+E$2,\"\")","v":29.706790123456834},null,{"$f":"IF(Canoe!G34<>\"\",Canoe!G34*COS(RADIANS(J$4))-Canoe!H34*SIN(RADIANS(J$4))+J$1,\"\")","v":677.00512878184259},{"$f":"IF(Canoe!H34<>\"\",(Canoe!G34*SIN(RADIANS(J$4))+Canoe!H34*COS(RADIANS(J$4))*J$3)+J$2,\"\")","v":305.32629066199843},{"$f":"IF(Canoe!I34<>\"\",Canoe!I34*COS(RADIANS(J$4))-Canoe!J34*SIN(RADIANS(J$4))+J$1,\"\")","v":676.65084615385172},{"$f":"IF(Canoe!J34<>\"\",(Canoe!I34*SIN(RADIANS(J$4))+Canoe!J34*COS(RADIANS(J$4))*J$3)+J$2,\"\")","v":606.87450879920539},null,{"$f":"IF(Canoe!L34<>\"\",Canoe!L34*COS(RADIANS(O$4))-Canoe!M34*SIN(RADIANS(O$4))+O$1,\"\")","v":699.4153052123404},{"$f":"IF(Canoe!M34<>\"\",(Canoe!L34*SIN(RADIANS(O$4))+Canoe!M34*COS(RADIANS(O$4))*O$3)+O$2,\"\")","v":81.467946386825687},{"$f":"IF(Canoe!N34<>\"\",Canoe!N34*COS(RADIANS(O$4))-Canoe!O34*SIN(RADIANS(O$4))+O$1,\"\")","v":699.43243207104501},{"$f":"IF(Canoe!O34<>\"\",(Canoe!N34*SIN(RADIANS(O$4))+Canoe!O34*COS(RADIANS(O$4))*O$3)+O$2,\"\")","v":29.851258690717625},null,{"$f":"IF(Canoe!Q34<>\"\",Canoe!Q34*COS(RADIANS(T$4))-Canoe!R34*SIN(RADIANS(T$4))+T$1,\"\")","v":676.40081855834705},{"$f":"IF(Canoe!R34<>\"\",(Canoe!Q34*SIN(RADIANS(T$4))+Canoe!R34*COS(RADIANS(T$4))*T$3)+T$2,\"\")","v":-14.948507607695964},{"$f":"IF(Canoe!S34<>\"\",Canoe!S34*COS(RADIANS(T$4))-Canoe!T34*SIN(RADIANS(T$4))+T$1,\"\")","v":676.40081855834705},{"$f":"IF(Canoe!T34<>\"\",(Canoe!S34*SIN(RADIANS(T$4))+Canoe!T34*COS(RADIANS(T$4))*T$3)+T$2,\"\")","v":-9.5472730397946997},null,{"$f":"IF(Canoe!V34<>\"\",Canoe!V34*COS(RADIANS(Y$4))-Canoe!W34*SIN(RADIANS(Y$4))+Y$1,\"\")","v":""},{"$f":"IF(Canoe!W34<>\"\",(Canoe!V34*SIN(RADIANS(Y$4))+Canoe!W34*COS(RADIANS(Y$4))*Y$3)+Y$2,\"\")","v":""},{"$f":"IF(Canoe!X34<>\"\",Canoe!X34*COS(RADIANS(Y$4))-Canoe!Y34*SIN(RADIANS(Y$4))+Y$1,\"\")","v":""},{"$f":"IF(Canoe!Y34<>\"\",(Canoe!X34*SIN(RADIANS(Y$4))+Canoe!Y34*COS(RADIANS(Y$4))*Y$3)+Y$2,\"\")","v":""}]
[5,{"$f":"IF(Canoe!B35<>\"\",Canoe!B35*COS(RADIANS(E$4))-Canoe!C35*SIN(RADIANS(E$4))+E$1,\"\")","v":800.24546664613501},{"$f":"IF(Canoe!C35<>\"\",(Canoe!B35*SIN(RADIANS(E$4))+Canoe!C35*COS(RADIANS(E$4))*E$3)+E$2,\"\")","v":5.3429585868176778E-14},{"$f":"IF(Canoe!D35<>\"\",Canoe!D35*COS(RADIANS(E$4))-Canoe!E35*SIN(RADIANS(E$4))+E$1,\"\")","v":800.24546664613501},{"$f":"IF(Canoe!E35<>\"\",(Canoe!D35*SIN(RADIANS(E$4))+Canoe!E35*COS(RADIANS(E$4))*E$3)+E$2,\"\")","v":57.716049382716101},null,{"$f":"IF(Canoe!G35<>\"\",Canoe!G35*COS(RADIANS(J$4))-Canoe!H35*SIN(RADIANS(J$4))+J$1,\"\")","v":780.8569721406368},{"$f":"IF(Canoe!H35<>\"\",(Canoe!G35*SIN(RADIANS(J$4))+Canoe!H35*COS(RADIANS(J$4))*J$3)+J$2,\"\")","v":307.73395759523049},{"$f":"IF(Canoe!I35<>\"\",Canoe!I35*COS(RADIANS(J$4))-Canoe!J35*SIN(RADIANS(J$4))+J$1,\"\")","v":780.54021101316789},{"$f":"IF(Canoe!J35<>\"\",(Canoe!I35*SIN(RADIANS(J$4))+Canoe!J35*COS(RADIANS(J$4))*J$3)+J$2,\"\")","v":606.55046891743746},null,{"$f":"IF(Canoe!L35<>\"\",Canoe!L35*COS(RADIANS(O$4))-Canoe!M35*SIN(RADIANS(O$4))+O$1,\"\")","v":799.53871354940952},{"$f":"IF(Canoe!M35<>\"\",(Canoe!L35*SIN(RADIANS(O$4))+Canoe!M35*COS(RADIANS(O$4))*O$3)+O$2,\"\")","v":109.18812379761447},{"$f":"IF(Canoe!N35<>\"\",Canoe!N35*COS(RADIANS(O$4))-Canoe!O35*SIN(RADIANS(O$4))+O$1,\"\")","v":799.54729117708473},{"$f":"IF(Canoe!O35<>\"\",(Canoe!N35*SIN(RADIANS(O$4))+Canoe!O35*COS(RADIANS(O$4))*O$3)+O$2,\"\")","v":57.913120527458595},null,{"$f":"IF(Canoe!Q35<>\"\",Canoe!Q35*COS(RADIANS(T$4))-Canoe!R35*SIN(RADIANS(T$4))+T$1,\"\")","v":780.24935540048273},{"$f":"IF(Canoe!R35<>\"\",(Canoe!Q35*SIN(RADIANS(T$4))+Canoe!R35*COS(RADIANS(T$4))*T$3)+T$2,\"\")","v":-20.041100200288234},{"$f":"IF(Canoe!S35<>\"\",Canoe!S35*COS(RADIANS(T$4))-Canoe!T35*SIN(RADIANS(T$4))+T$1,\"\")","v":780.24935540048273},{"$f":"IF(Canoe!T35<>\"\",(Canoe!S35*SIN(RADIANS(T$4))+Canoe!T35*COS(RADIANS(T$4))*T$3)+T$2,\"\")","v":-9.5472730397943799},null,{"$f":"IF(Canoe!V35<>\"\",Canoe!V35*COS(RADIANS(Y$4))-Canoe!W35*SIN(RADIANS(Y$4))+Y$1,\"\")","v":""},{"$f":"IF(Canoe!W35<>\"\",(Canoe!V35*SIN(RADIANS(Y$4))+Canoe!W35*COS(RADIANS(Y$4))*Y$3)+Y$2,\"\")","v":""},{"$f":"IF(Canoe!X35<>\"\",Canoe!X35*COS(RADIANS(Y$4))-Canoe!Y35*SIN(RADIANS(Y$4))+Y$1,\"\")","v":""},{"$f":"IF(Canoe!Y35<>\"\",(Canoe!X35*SIN(RADIANS(Y$4))+Canoe!Y35*COS(RADIANS(Y$4))*Y$3)+Y$2,\"\")","v":""}]
[6,{"$f":"IF(Canoe!B36<>\"\",Canoe!B36*COS(RADIANS(E$4))-Canoe!C36*SIN(RADIANS(E$4))+E$1,\"\")","v":900.27407028468008},{"$f":"IF(Canoe!C36<>\"\",(Canoe!B36*SIN(RADIANS(E$4))+Canoe!C36*COS(RADIANS(E$4))*E$3)+E$2,\"\")","v":8.7575864000523277E-14},{"$f":"IF(Canoe!D36<>\"\",Canoe!D36*COS(RADIANS(E$4))-Canoe!E36*SIN(RADIANS(E$4))+E$1,\"\")","v":900.27407028468008},{"$f":"IF(Canoe!E36<>\"\",(Canoe!D36*SIN(RADIANS(E$4))+Canoe!E36*COS(RADIANS(E$4))*E$3)+E$2,\"\")","v":84.027777777777857},null,{"$f":"IF(Canoe!G36<>\"\",Canoe!G36*COS(RADIANS(J$4))-Canoe!H36*SIN(RADIANS(J$4))+J$1,\"\")","v":884.26337967023164},{"$f":"IF(Canoe!H36<>\"\",(Canoe!G36*SIN(RADIANS(J$4))+Canoe!H36*COS(RADIANS(J$4))*J$3)+J$2,\"\")","v":310.0018814996032},{"$f":"IF(Canoe!I36<>\"\",Canoe!I36*COS(RADIANS(J$4))-Canoe!J36*SIN(RADIANS(J$4))+J$1,\"\")","v":883.98371231647138},{"$f":"IF(Canoe!J36<>\"\",(Canoe!I36*SIN(RADIANS(J$4))+Canoe!J36*COS(RADIANS(J$4))*J$3)+J$2,\"\")","v":606.27754442799346},null,{"$f":"IF(Canoe!L36<>\"\",Canoe!L36*COS(RADIANS(O$4))-Canoe!M36*SIN(RADIANS(O$4))+O$1,\"\")","v":899.64622369497602},{"$f":"IF(Canoe!M36<>\"\",(Canoe!L36*SIN(RADIANS(O$4))+Canoe!M36*COS(RADIANS(O$4))*O$3)+O$2,\"\")","v":135.24803289413239},{"$f":"IF(Canoe!N36<>\"\",Canoe!N36*COS(RADIANS(O$4))-Canoe!O36*SIN(RADIANS(O$4))+O$1,\"\")","v":899.64843805584724},{"$f":"IF(Canoe!O36<>\"\",(Canoe!N36*SIN(RADIANS(O$4))+Canoe!O36*COS(RADIANS(O$4))*O$3)+O$2,\"\")","v":84.275093674408794},null,{"$f":"IF(Canoe!Q36<>\"\",Canoe!Q36*COS(RADIANS(T$4))-Canoe!R36*SIN(RADIANS(T$4))+T$1,\"\")","v":883.65296777033905},{"$f":"IF(Canoe!R36<>\"\",(Canoe!Q36*SIN(RADIANS(T$4))+Canoe!R36*COS(RADIANS(T$4))*T$3)+T$2,\"\")","v":-24.825050817572116},{"$f":"IF(Canoe!S36<>\"\",Canoe!S36*COS(RADIANS(T$4))-Canoe!T36*SIN(RADIANS(T$4))+T$1,\"\")","v":883.65296777033905},{"$f":"IF(Canoe!T36<>\"\",(Canoe!S36*SIN(RADIANS(T$4))+Canoe!T36*COS(RADIANS(T$4))*T$3)+T$2,\"\")","v":-9.5472730397944083},null,{"$f":"IF(Canoe!V36<>\"\",Canoe!V36*COS(RADIANS(Y$4))-Canoe!W36*SIN(RADIANS(Y$4))+Y$1,\"\")","v":""},{"$f":"IF(Canoe!W36<>\"\",(Canoe!V36*SIN(RADIANS(Y$4))+Canoe!W36*COS(RADIANS(Y$4))*Y$3)+Y$2,\"\")","v":""},{"$f":"IF(Canoe!X36<>\"\",Canoe!X36*COS(RADIANS(Y$4))-Canoe!Y36*SIN(RADIANS(Y$4))+Y$1,\"\")","v":""},{"$f":"IF(Canoe!Y36<>\"\",(Canoe!X36*SIN(RADIANS(Y$4))+Canoe!Y36*COS(RADIANS(Y$4))*Y$3)+Y$2,\"\")","v":""}]
[7,{"$f":"IF(Canoe!B37<>\"\",Canoe!B37*COS(RADIANS(E$4))-Canoe!C37*SIN(RADIANS(E$4))+E$1,\"\")","v":1000.2991026358882},{"$f":"IF(Canoe!C37<>\"\",(Canoe!B37*SIN(RADIANS(E$4))+Canoe!C37*COS(RADIANS(E$4))*E$3)+E$2,\"\")","v":7.3151510328061984E-14},{"$f":"IF(Canoe!D37<>\"\",Canoe!D37*COS(RADIANS(E$4))-Canoe!E37*SIN(RADIANS(E$4))+E$1,\"\")","v":1000.2991026358882},{"$f":"IF(Canoe!E37<>\"\",(Canoe!D37*SIN(RADIANS(E$4))+Canoe!E37*COS(RADIANS(E$4))*E$3)+E$2,\"\")","v":108.641975308642},null,{"$f":"IF(Canoe!G37<>\"\",Canoe!G37*COS(RADIANS(J$4))-Canoe!H37*SIN(RADIANS(J$4))+J$1,\"\")","v":987.2504645035491},{"$f":"IF(Canoe!H37<>\"\",(Canoe!G37*SIN(RADIANS(J$4))+Canoe!H37*COS(RADIANS(J$4))*J$3)+J$2,\"\")","v":312.12936228299748},{"$f":"IF(Canoe!I37<>\"\",Canoe!I37*COS(RADIANS(J$4))-Canoe!J37*SIN(RADIANS(J$4))+J$1,\"\")","v":987.00689938612902},{"$f":"IF(Canoe!J37<>\"\",(Canoe!I37*SIN(RADIANS(J$4))+Canoe!J37*COS(RADIANS(J$4))*J$3)+J$2,\"\")","v":606.05275335289411},null,{"$f":"IF(Canoe!L37<>\"\",Canoe!L37*COS(RADIANS(O$4))-Canoe!M37*SIN(RADIANS(O$4))+O$1,\"\")","v":999.73924970475196},{"$f":"IF(Canoe!M37<>\"\",(Canoe!L37*SIN(RADIANS(O$4))+Canoe!M37*COS(RADIANS(O$4))*O$3)+O$2,\"\")","v":159.64503576791662},{"$f":"IF(Canoe!N37<>\"\",Canoe!N37*COS(RADIANS(O$4))-Canoe!O37*SIN(RADIANS(O$4))+O$1,\"\")","v":999.73691884609741},{"$f":"IF(Canoe!O37<>\"\",(Canoe!N37*SIN(RADIANS(O$4))+Canoe!O37*COS(RADIANS(O$4))*O$3)+O$2,\"\")","v":108.93646266781764},null,{"$f":"IF(Canoe!Q37<>\"\",Canoe!Q37*COS(RADIANS(T$4))-Canoe!R37*SIN(RADIANS(T$4))+T$1,\"\")","v":986.6377177097761},{"$f":"IF(Canoe!R37<>\"\",(Canoe!Q37*SIN(RADIANS(T$4))+Canoe!R37*COS(RADIANS(T$4))*T$3)+T$2,\"\")","v":-29.300359459547494},{"$f":"IF(Canoe!S37<>\"\",Canoe!S37*COS(RADIANS(T$4))-Canoe!T37*SIN(RADIANS(T$4))+T$1,\"\")","v":986.63771770977621},{"$f":"IF(Canoe!T37<>\"\",(Canoe!S37*SIN(RADIANS(T$4))+Canoe!T37*COS(RADIANS(T$4))*T$3)+T$2,\"\")","v":-9.5472730397943941},null,{"$f":"IF(Canoe!V37<>\"\",Canoe!V37*COS(RADIANS(Y$4))-Canoe!W37*SIN(RADIANS(Y$4))+Y$1,\"\")","v":""},{"$f":"IF(Canoe!W37<>\"\",(Canoe!V37*SIN(RADIANS(Y$4))+Canoe!W37*COS(RADIANS(Y$4))*Y$3)+Y$2,\"\")","v":""},{"$f":"IF(Canoe!X37<>\"\",Canoe!X37*COS(RADIANS(Y$4))-Canoe!Y37*SIN(RADIANS(Y$4))+Y$1,\"\")","v":""},{"$f":"IF(Canoe!Y37<>\"\",(Canoe!X37*SIN(RADIANS(Y$4))+Canoe!Y37*COS(RADIANS(Y$4))*Y$3)+Y$2,\"\")","v":""}]
[8,{"$f":"IF(Canoe!B38<>\"\",Canoe!B38*COS(RADIANS(E$4))-Canoe!C38*SIN(RADIANS(E$4))+E$1,\"\")","v":1100.3208016705366},{"$f":"IF(Canoe!C38<>\"\",(Canoe!B38*SIN(RADIANS(E$4))+Canoe!C38*COS(RADIANS(E$4))*E$3)+E$2,\"\")","v":7.6842398620694972E-14},{"$f":"IF(Canoe!D38<>\"\",Canoe!D38*COS(RADIANS(E$4))-Canoe!E38*SIN(RADIANS(E$4))+E$1,\"\")","v":1100.3208016705366},{"$f":"IF(Canoe!E38<>\"\",(Canoe!D38*SIN(RADIANS(E$4))+Canoe!E38*COS(RADIANS(E$4))*E$3)+E$2,\"\")","v":131.55864197530869},null,{"$f":"IF(Canoe!G38<>\"\",Canoe!G38*COS(RADIANS(J$4))-Canoe!H38*SIN(RADIANS(J$4))+J$1,\"\")","v":1089.8446580466461},{"$f":"IF(Canoe!H38<>\"\",(Canoe!G38*SIN(RADIANS(J$4))+Canoe!H38*COS(RADIANS(J$4))*J$3)+J$2,\"\")","v":314.11565031105971},{"$f":"IF(Canoe!I38<>\"\",Canoe!I38*COS(RADIANS(J$4))-Canoe!J38*SIN(RADIANS(J$4))+J$1,\"\")","v":1089.6357014571395},{"$f":"IF(Canoe!J38<>\"\",(Canoe!I38*SIN(RADIANS(J$4))+Canoe!J38*COS(RADIANS(J$4))*J$3)+J$2,\"\")","v":605.87306237831308},null,{"$f":"IF(Canoe!L38<>\"\",Canoe!L38*COS(RADIANS(O$4))-Canoe!M38*SIN(RADIANS(O$4))+O$1,\"\")","v":1099.8190865979602},{"$f":"IF(Canoe!M38<>\"\",(Canoe!L38*SIN(RADIANS(O$4))+Canoe!M38*COS(RADIANS(O$4))*O$3)+O$2,\"\")","v":182.37672182077674},{"$f":"IF(Canoe!N38<>\"\",Canoe!N38*COS(RADIANS(O$4))-Canoe!O38*SIN(RADIANS(O$4))+O$1,\"\")","v":1099.8137072951818},{"$f":"IF(Canoe!O38<>\"\",(Canoe!N38*SIN(RADIANS(O$4))+Canoe!O38*COS(RADIANS(O$4))*O$3)+O$2,\"\")","v":131.89667033106434},null,{"$f":"IF(Canoe!Q38<>\"\",Canoe!Q38*COS(RADIANS(T$4))-Canoe!R38*SIN(RADIANS(T$4))+T$1,\"\")","v":1089.2299864784854},{"$f":"IF(Canoe!R38<>\"\",(Canoe!Q38*SIN(RADIANS(T$4))+Canoe!R38*COS(RADIANS(T$4))*T$3)+T$2,\"\")","v":-33.467026126214442},{"$f":"IF(Canoe!S38<>\"\",Canoe!S38*COS(RADIANS(T$4))-Canoe!T38*SIN(RADIANS(T$4))+T$1,\"\")","v":1089.2299864784857},{"$f":"IF(Canoe!T38<>\"\",(Canoe!S38*SIN(RADIANS(T$4))+Canoe!T38*COS(RADIANS(T$4))*T$3)+T$2,\"\")","v":-9.5472730397947281},null,{"$f":"IF(Canoe!V38<>\"\",Canoe!V38*COS(RADIANS(Y$4))-Canoe!W38*SIN(RADIANS(Y$4))+Y$1,\"\")","v":""},{"$f":"IF(Canoe!W38<>\"\",(Canoe!V38*SIN(RADIANS(Y$4))+Canoe!W38*COS(RADIANS(Y$4))*Y$3)+Y$2,\"\")","v":""},{"$f":"IF(Canoe!X38<>\"\",Canoe!X38*COS(RADIANS(Y$4))-Canoe!Y38*SIN(RADIANS(Y$4))+Y$1,\"\")","v":""},{"$f":"IF(Canoe!Y38<>\"\",(Canoe!X38*SIN(RADIANS(Y$4))+Canoe!Y38*COS(RADIANS(Y$4))*Y$3)+Y$2,\"\")","v":""}]
[9,{"$f":"IF(Canoe!B39<>\"\",Canoe!B39*COS(RADIANS(E$4))-Canoe!C39*SIN(RADIANS(E$4))+E$1,\"\")","v":1200.3394053831948},{"$f":"IF(Canoe!C39<>\"\",(Canoe!B39*SIN(RADIANS(E$4))+Canoe!C39*COS(RADIANS(E$4))*E$3)+E$2,\"\")","v":9.8758477611684125E-14},{"$f":"IF(Canoe!D39<>\"\",Canoe!D39*COS(RADIANS(E$4))-Canoe!E39*SIN(RADIANS(E$4))+E$1,\"\")","v":1200.3394053831948},{"$f":"IF(Canoe!E39<>\"\",(Canoe!D39*SIN(RADIANS(E$4))+Canoe!E39*COS(RADIANS(E$4))*E$3)+E$2,\"\")","v":152.77777777777789},null,{"$f":"IF(Canoe!G39<>\"\",Canoe!G39*COS(RADIANS(J$4))-Canoe!H39*SIN(RADIANS(J$4))+J$1,\"\")","v":1192.072694107997},{"$f":"IF(Canoe!H39<>\"\",(Canoe!G39*SIN(RADIANS(J$4))+Canoe!H39*COS(RADIANS(J$4))*J$3)+J$2,\"\")","v":315.95995393914166},{"$f":"IF(Canoe!I39<>\"\",Canoe!I39*COS(RADIANS(J$4))-Canoe!J39*SIN(RADIANS(J$4))+J$1,\"\")","v":1191.8964140434293},{"$f":"IF(Canoe!J39<>\"\",(Canoe!I39*SIN(RADIANS(J$4))+Canoe!J39*COS(RADIANS(J$4))*J$3)+J$2,\"\")","v":605.735393996889},null,{"$f":"IF(Canoe!L39<>\"\",Canoe!L39*COS(RADIANS(O$4))-Canoe!M39*SIN(RADIANS(O$4))+O$1,\"\")","v":1199.8869296169639},{"$f":"IF(Canoe!M39<>\"\",(Canoe!L39*SIN(RADIANS(O$4))+Canoe!M39*COS(RADIANS(O$4))*O$3)+O$2,\"\")","v":203.44088771366407},{"$f":"IF(Canoe!N39<>\"\",Canoe!N39*COS(RADIANS(O$4))-Canoe!O39*SIN(RADIANS(O$4))+O$1,\"\")","v":1199.8797178426607},{"$f":"IF(Canoe!O39<>\"\",(Canoe!N39*SIN(RADIANS(O$4))+Canoe!O39*COS(RADIANS(O$4))*O$3)+O$2,\"\")","v":153.1553065016806},null,{"$f":"IF(Canoe!Q39<>\"\",Canoe!Q39*COS(RADIANS(T$4))-Canoe!R39*SIN(RADIANS(T$4))+T$1,\"\")","v":1191.456459195701},{"$f":"IF(Canoe!R39<>\"\",(Canoe!Q39*SIN(RADIANS(T$4))+Canoe!R39*COS(RADIANS(T$4))*T$3)+T$2,\"\")","v":-37.325050817572858},{"$f":"IF(Canoe!S39<>\"\",Canoe!S39*COS(RADIANS(T$4))-Canoe!T39*SIN(RADIANS(T$4))+T$1,\"\")","v":1191.456459195701},{"$f":"IF(Canoe!T39<>\"\",(Canoe!S39*SIN(RADIANS(T$4))+Canoe!T39*COS(RADIANS(T$4))*T$3)+T$2,\"\")","v":-9.5472730397951153},null,{"$f":"IF(Canoe!V39<>\"\",Canoe!V39*COS(RADIANS(Y$4))-Canoe!W39*SIN(RADIANS(Y$4))+Y$1,\"\")","v":""},{"$f":"IF(Canoe!W39<>\"\",(Canoe!V39*SIN(RADIANS(Y$4))+Canoe!W39*COS(RADIANS(Y$4))*Y$3)+Y$2,\"\")","v":""},{"$f":"IF(Canoe!X39<>\"\",Canoe!X39*COS(RADIANS(Y$4))-Canoe!Y39*SIN(RADIANS(Y$4))+Y$1,\"\")","v":""},{"$f":"IF(Canoe!Y39<>\"\",(Canoe!X39*SIN(RADIANS(Y$4))+Canoe!Y39*COS(RADIANS(Y$4))*Y$3)+Y$2,\"\")","v":""}]
[10,{"$f":"IF(Canoe!B40<>\"\",Canoe!B40*COS(RADIANS(E$4))-Canoe!C40*SIN(RADIANS(E$4))+E$1,\"\")","v":1300.3551517905294},{"$f":"IF(Canoe!C40<>\"\",(Canoe!B40*SIN(RADIANS(E$4))+Canoe!C40*COS(RADIANS(E$4))*E$3)+E$2,\"\")","v":1.2887665793244835E-13},{"$f":"IF(Canoe!D40<>\"\",Canoe!D40*COS(RADIANS(E$4))-Canoe!E40*SIN(RADIANS(E$4))+E$1,\"\")","v":1300.3551517905294},{"$f":"IF(Canoe!E40<>\"\",(Canoe!D40*SIN(RADIANS(E$4))+Canoe!E40*COS(RADIANS(E$4))*E$3)+E$2,\"\")","v":172.29938271604954},null,{"$f":"IF(Canoe!G40<>\"\",Canoe!G40*COS(RADIANS(J$4))-Canoe!H40*SIN(RADIANS(J$4))+J$1,\"\")","v":1293.9615919715829},{"$f":"IF(Canoe!H40<>\"\",(Canoe!G40*SIN(RADIANS(J$4))+Canoe!H40*COS(RADIANS(J$4))*J$3)+J$2,\"\")","v":317.66144767288398},{"$f":"IF(Canoe!I40<>\"\",Canoe!I40*COS(RADIANS(J$4))-Canoe!J40*SIN(RADIANS(J$4))+J$1,\"\")","v":1293.8156840738134},{"$f":"IF(Canoe!J40<>\"\",(Canoe!I40*SIN(RADIANS(J$4))+Canoe!J40*COS(RADIANS(J$4))*J$3)+J$2,\"\")","v":605.63663433819431},null,{"$f":"IF(Canoe!L40<>\"\",Canoe!L40*COS(RADIANS(O$4))-Canoe!M40*SIN(RADIANS(O$4))+O$1,\"\")","v":1299.9438917299126},{"$f":"IF(Canoe!M40<>\"\",(Canoe!L40*SIN(RADIANS(O$4))+Canoe!M40*COS(RADIANS(O$4))*O$3)+O$2,\"\")","v":222.83551814903035},{"$f":"IF(Canoe!N40<>\"\",Canoe!N40*COS(RADIANS(O$4))-Canoe!O40*SIN(RADIANS(O$4))+O$1,\"\")","v":1299.9358175605894},{"$f":"IF(Canoe!O40<>\"\",(Canoe!N40*SIN(RADIANS(O$4))+Canoe!O40*COS(RADIANS(O$4))*O$3)+O$2,\"\")","v":172.71209780973598},null,{"$f":"IF(Canoe!Q40<>\"\",Canoe!Q40*COS(RADIANS(T$4))-Canoe!R40*SIN(RADIANS(T$4))+T$1,\"\")","v":1293.344108395032},{"$f":"IF(Canoe!R40<>\"\",(Canoe!Q40*SIN(RADIANS(T$4))+Canoe!R40*COS(RADIANS(T$4))*T$3)+T$2,\"\")","v":-40.874433533622437},{"$f":"IF(Canoe!S40<>\"\",Canoe!S40*COS(RADIANS(T$4))-Canoe!T40*SIN(RADIANS(T$4))+T$1,\"\")","v":1293.344108395032},{"$f":"IF(Canoe!T40<>\"\",(Canoe!S40*SIN(RADIANS(T$4))+Canoe!T40*COS(RADIANS(T$4))*T$3)+T$2,\"\")","v":-9.5472730397952645},null,{"$f":"IF(Canoe!V40<>\"\",Canoe!V40*COS(RADIANS(Y$4))-Canoe!W40*SIN(RADIANS(Y$4))+Y$1,\"\")","v":""},{"$f":"IF(Canoe!W40<>\"\",(Canoe!V40*SIN(RADIANS(Y$4))+Canoe!W40*COS(RADIANS(Y$4))*Y$3)+Y$2,\"\")","v":""},{"$f":"IF(Canoe!X40<>\"\",Canoe!X40*COS(RADIANS(Y$4))-Canoe!Y40*SIN(RADIANS(Y$4))+Y$1,\"\")","v":""},{"$f":"IF(Canoe!Y40<>\"\",(Canoe!X40*SIN(RADIANS(Y$4))+Canoe!Y40*COS(RADIANS(Y$4))*Y$3)+Y$2,\"\")","v":""}]
[11,{"$f":"IF(Canoe!B41<>\"\",Canoe!B41*COS(RADIANS(E$4))-Canoe!C41*SIN(RADIANS(E$4))+E$1,\"\")","v":1400.3682789296063},{"$f":"IF(Canoe!C41<>\"\",(Canoe!B41*SIN(RADIANS(E$4))+Canoe!C41*COS(RADIANS(E$4))*E$3)+E$2,\"\")","v":1.5899560204334012E-13},{"$f":"IF(Canoe!D41<>\"\",Canoe!D41*COS(RADIANS(E$4))-Canoe!E41*SIN(RADIANS(E$4))+E$1,\"\")","v":1400.3682789296063},{"$f":"IF(Canoe!E41<>\"\",(Canoe!D41*SIN(RADIANS(E$4))+Canoe!E41*COS(RADIANS(E$4))*E$3)+E$2,\"\")","v":190.12345679012358},null,{"$f":"IF(Canoe!G41<>\"\",Canoe!G41*COS(RADIANS(J$4))-Canoe!H41*SIN(RADIANS(J$4))+J$1,\"\")","v":1395.5386384553879},{"$f":"IF(Canoe!H41<>\"\",(Canoe!G41*SIN(RADIANS(J$4))+Canoe!H41*COS(RADIANS(J$4))*J$3)+J$2,\"\")","v":319.21928089958038},{"$f":"IF(Canoe!I41<>\"\",Canoe!I41*COS(RADIANS(J$4))-Canoe!J41*SIN(RADIANS(J$4))+J$1,\"\")","v":1395.4204938165594},{"$f":"IF(Canoe!J41<>\"\",(Canoe!I41*SIN(RADIANS(J$4))+Canoe!J41*COS(RADIANS(J$4))*J$3)+J$2,\"\")","v":605.57364164032981},null,{"$f":"IF(Canoe!L41<>\"\",Canoe!L41*COS(RADIANS(O$4))-Canoe!M41*SIN(RADIANS(O$4))+O$1,\"\")","v":1399.9910194423685},{"$f":"IF(Canoe!M41<>\"\",(Canoe!L41*SIN(RADIANS(O$4))+Canoe!M41*COS(RADIANS(O$4))*O$3)+O$2,\"\")","v":240.55876749634669},{"$f":"IF(Canoe!N41<>\"\",Canoe!N41*COS(RADIANS(O$4))-Canoe!O41*SIN(RADIANS(O$4))+O$1,\"\")","v":1399.982837087447},{"$f":"IF(Canoe!O41<>\"\",(Canoe!N41*SIN(RADIANS(O$4))+Canoe!O41*COS(RADIANS(O$4))*O$3)+O$2,\"\")","v":190.56689831098305},null,{"$f":"IF(Canoe!Q41<>\"\",Canoe!Q41*COS(RADIANS(T$4))-Canoe!R41*SIN(RADIANS(T$4))+T$1,\"\")","v":1394.9201765242824},{"$f":"IF(Canoe!R41<>\"\",(Canoe!Q41*SIN(RADIANS(T$4))+Canoe!R41*COS(RADIANS(T$4))*T$3)+T$2,\"\")","v":-44.115174274363291},{"$f":"IF(Canoe!S41<>\"\",Canoe!S41*COS(RADIANS(T$4))-Canoe!T41*SIN(RADIANS(T$4))+T$1,\"\")","v":1394.9201765242824},{"$f":"IF(Canoe!T41<>\"\",(Canoe!S41*SIN(RADIANS(T$4))+Canoe!T41*COS(RADIANS(T$4))*T$3)+T$2,\"\")","v":-9.5472730397953534},null,{"$f":"IF(Canoe!V41<>\"\",Canoe!V41*COS(RADIANS(Y$4))-Canoe!W41*SIN(RADIANS(Y$4))+Y$1,\"\")","v":""},{"$f":"IF(Canoe!W41<>\"\",(Canoe!V41*SIN(RADIANS(Y$4))+Canoe!W41*COS(RADIANS(Y$4))*Y$3)+Y$2,\"\")","v":""},{"$f":"IF(Canoe!X41<>\"\",Canoe!X41*COS(RADIANS(Y$4))-Canoe!Y41*SIN(RADIANS(Y$4))+Y$1,\"\")","v":""},{"$f":"IF(Canoe!Y41<>\"\",(Canoe!X41*SIN(RADIANS(Y$4))+Canoe!Y41*COS(RADIANS(Y$4))*Y$3)+Y$2,\"\")","v":""}]
[12,{"$f":"IF(Canoe!B42<>\"\",Canoe!B42*COS(RADIANS(E$4))-Canoe!C42*SIN(RADIANS(E$4))+E$1,\"\")","v":1500.3790248561943},{"$f":"IF(Canoe!C42<>\"\",(Canoe!B42*SIN(RADIANS(E$4))+Canoe!C42*COS(RADIANS(E$4))*E$3)+E$2,\"\")","v":1.5439704792810918E-13},{"$f":"IF(Canoe!D42<>\"\",Canoe!D42*COS(RADIANS(E$4))-Canoe!E42*SIN(RADIANS(E$4))+E$1,\"\")","v":1500.3790248561943},{"$f":"IF(Canoe!E42<>\"\",(Canoe!D42*SIN(RADIANS(E$4))+Canoe!E42*COS(RADIANS(E$4))*E$3)+E$2,\"\")","v":206.25000000000011},null,{"$f":"IF(Canoe!G42<>\"\",Canoe!G42*COS(RADIANS(J$4))-Canoe!H42*SIN(RADIANS(J$4))+J$1,\"\")","v":1496.8313690050722},{"$f":"IF(Canoe!H42<>\"\",(Canoe!G42*SIN(RADIANS(J$4))+Canoe!H42*COS(RADIANS(J$4))*J$3)+J$2,\"\")","v":320.63258712316519},{"$f":"IF(Canoe!I42<>\"\",Canoe!I42*COS(RADIANS(J$4))-Canoe!J42*SIN(RADIANS(J$4))+J$1,\"\")","v":1496.738143621154},{"$f":"IF(Canoe!J42<>\"\",(Canoe!I42*SIN(RADIANS(J$4))+Canoe!J42*COS(RADIANS(J$4))*J$3)+J$2,\"\")","v":605.54325530517247},null,{"$f":"IF(Canoe!L42<>\"\",Canoe!L42*COS(RADIANS(O$4))-Canoe!M42*SIN(RADIANS(O$4))+O$1,\"\")","v":1500.0293069933971},{"$f":"IF(Canoe!M42<>\"\",(Canoe!L42*SIN(RADIANS(O$4))+Canoe!M42*COS(RADIANS(O$4))*O$3)+O$2,\"\")","v":256.60894223413442},{"$f":"IF(Canoe!N42<>\"\",Canoe!N42*COS(RADIANS(O$4))-Canoe!O42*SIN(RADIANS(O$4))+O$1,\"\")","v":1500.0215806737119},{"$f":"IF(Canoe!O42<>\"\",(Canoe!N42*SIN(RADIANS(O$4))+Canoe!O42*COS(RADIANS(O$4))*O$3)+O$2,\"\")","v":206.7196807571064},null,{"$f":"IF(Canoe!Q42<>\"\",Canoe!Q42*COS(RADIANS(T$4))-Canoe!R42*SIN(RADIANS(T$4))+T$1,\"\")","v":1496.2121574304724},{"$f":"IF(Canoe!R42<>\"\",(Canoe!Q42*SIN(RADIANS(T$4))+Canoe!R42*COS(RADIANS(T$4))*T$3)+T$2,\"\")","v":-47.047273039795456},{"$f":"IF(Canoe!S42<>\"\",Canoe!S42*COS(RADIANS(T$4))-Canoe!T42*SIN(RADIANS(T$4))+T$1,\"\")","v":1496.2121574304724},{"$f":"IF(Canoe!T42<>\"\",(Canoe!S42*SIN(RADIANS(T$4))+Canoe!T42*COS(RADIANS(T$4))*T$3)+T$2,\"\")","v":-9.5472730397955043},null,{"$f":"IF(Canoe!V42<>\"\",Canoe!V42*COS(RADIANS(Y$4))-Canoe!W42*SIN(RADIANS(Y$4))+Y$1,\"\")","v":""},{"$f":"IF(Canoe!W42<>\"\",(Canoe!V42*SIN(RADIANS(Y$4))+Canoe!W42*COS(RADIANS(Y$4))*Y$3)+Y$2,\"\")","v":""},{"$f":"IF(Canoe!X42<>\"\",Canoe!X42*COS(RADIANS(Y$4))-Canoe!Y42*SIN(RADIANS(Y$4))+Y$1,\"\")","v":""},{"$f":"IF(Canoe!Y42<>\"\",(Canoe!X42*SIN(RADIANS(Y$4))+Canoe!Y42*COS(RADIANS(Y$4))*Y$3)+Y$2,\"\")","v":""}]
[13,{"$f":"IF(Canoe!B43<>\"\",Canoe!B43*COS(RADIANS(E$4))-Canoe!C43*SIN(RADIANS(E$4))+E$1,\"\")","v":1600.3876276430667},{"$f":"IF(Canoe!C43<>\"\",(Canoe!B43*SIN(RADIANS(E$4))+Canoe!C43*COS(RADIANS(E$4))*E$3)+E$2,\"\")","v":1.5954360024191436E-13},{"$f":"IF(Canoe!D43<>\"\",Canoe!D43*COS(RADIANS(E$4))-Canoe!E43*SIN(RADIANS(E$4))+E$1,\"\")","v":1600.3876276430667},{"$f":"IF(Canoe!E43<>\"\",(Canoe!D43*SIN(RADIANS(E$4))+Canoe!E43*COS(RADIANS(E$4))*E$3)+E$2,\"\")","v":220.67901234567921},null,{"$f":"IF(Canoe!G43<>\"\",Canoe!G43*COS(RADIANS(J$4))-Canoe!H43*SIN(RADIANS(J$4))+J$1,\"\")","v":1597.8675478805183},{"$f":"IF(Canoe!H43<>\"\",(Canoe!G43*SIN(RADIANS(J$4))+Canoe!H43*COS(RADIANS(J$4))*J$3)+J$2,\"\")","v":321.90049362722874},{"$f":"IF(Canoe!I43<>\"\",Canoe!I43*COS(RADIANS(J$4))-Canoe!J43*SIN(RADIANS(J$4))+J$1,\"\")","v":1597.7962335156667},{"$f":"IF(Canoe!J43<>\"\",(Canoe!I43*SIN(RADIANS(J$4))+Canoe!J43*COS(RADIANS(J$4))*J$3)+J$2,\"\")","v":605.54230546985866},null,{"$f":"IF(Canoe!L43<>\"\",Canoe!L43*COS(RADIANS(O$4))-Canoe!M43*SIN(RADIANS(O$4))+O$1,\"\")","v":1600.0597090146746},{"$f":"IF(Canoe!M43<>\"\",(Canoe!L43*SIN(RADIANS(O$4))+Canoe!M43*COS(RADIANS(O$4))*O$3)+O$2,\"\")","v":270.98448415405016},{"$f":"IF(Canoe!N43<>\"\",Canoe!N43*COS(RADIANS(O$4))-Canoe!O43*SIN(RADIANS(O$4))+O$1,\"\")","v":1600.0528354333403},{"$f":"IF(Canoe!O43<>\"\",(Canoe!N43*SIN(RADIANS(O$4))+Canoe!O43*COS(RADIANS(O$4))*O$3)+O$2,\"\")","v":221.17052827604954},null,{"$f":"IF(Canoe!Q43<>\"\",Canoe!Q43*COS(RADIANS(T$4))-Canoe!R43*SIN(RADIANS(T$4))+T$1,\"\")","v":1597.2477768786243},{"$f":"IF(Canoe!R43<>\"\",(Canoe!Q43*SIN(RADIANS(T$4))+Canoe!R43*COS(RADIANS(T$4))*T$3)+T$2,\"\")","v":-49.670729829919033},{"$f":"IF(Canoe!S43<>\"\",Canoe!S43*COS(RADIANS(T$4))-Canoe!T43*SIN(RADIANS(T$4))+T$1,\"\")","v":1597.2477768786243},{"$f":"IF(Canoe!T43<>\"\",(Canoe!S43*SIN(RADIANS(T$4))+Canoe!T43*COS(RADIANS(T$4))*T$3)+T$2,\"\")","v":-9.5472730397955647},null,{"$f":"IF(Canoe!V43<>\"\",Canoe!V43*COS(RADIANS(Y$4))-Canoe!W43*SIN(RADIANS(Y$4))+Y$1,\"\")","v":""},{"$f":"IF(Canoe!W43<>\"\",(Canoe!V43*SIN(RADIANS(Y$4))+Canoe!W43*COS(RADIANS(Y$4))*Y$3)+Y$2,\"\")","v":""},{"$f":"IF(Canoe!X43<>\"\",Canoe!X43*COS(RADIANS(Y$4))-Canoe!Y43*SIN(RADIANS(Y$4))+Y$1,\"\")","v":""},{"$f":"IF(Canoe!Y43<>\"\",(Canoe!X43*SIN(RADIANS(Y$4))+Canoe!Y43*COS(RADIANS(Y$4))*Y$3)+Y$2,\"\")","v":""}]
[14,{"$f":"IF(Canoe!B44<>\"\",Canoe!B44*COS(RADIANS(E$4))-Canoe!C44*SIN(RADIANS(E$4))+E$1,\"\")","v":1700.394325378302},{"$f":"IF(Canoe!C44<>\"\",(Canoe!B44*SIN(RADIANS(E$4))+Canoe!C44*COS(RADIANS(E$4))*E$3)+E$2,\"\")","v":1.8612821705618022E-13},{"$f":"IF(Canoe!D44<>\"\",Canoe!D44*COS(RADIANS(E$4))-Canoe!E44*SIN(RADIANS(E$4))+E$1,\"\")","v":1700.394325378302},{"$f":"IF(Canoe!E44<>\"\",(Canoe!D44*SIN(RADIANS(E$4))+Canoe!E44*COS(RADIANS(E$4))*E$3)+E$2,\"\")","v":233.41049382716068},null,{"$f":"IF(Canoe!G44<>\"\",Canoe!G44*COS(RADIANS(J$4))-Canoe!H44*SIN(RADIANS(J$4))+J$1,\"\")","v":1698.6751475004892},{"$f":"IF(Canoe!H44<>\"\",(Canoe!G44*SIN(RADIANS(J$4))+Canoe!H44*COS(RADIANS(J$4))*J$3)+J$2,\"\")","v":323.02213148308817},{"$f":"IF(Canoe!I44<>\"\",Canoe!I44*COS(RADIANS(J$4))-Canoe!J44*SIN(RADIANS(J$4))+J$1,\"\")","v":1698.6226437079592},{"$f":"IF(Canoe!J44<>\"\",(Canoe!I44*SIN(RADIANS(J$4))+Canoe!J44*COS(RADIANS(J$4))*J$3)+J$2,\"\")","v":605.56762301791855},null,{"$f":"IF(Canoe!L44<>\"\",Canoe!L44*COS(RADIANS(O$4))-Canoe!M44*SIN(RADIANS(O$4))+O$1,\"\")","v":1700.0831517290978},{"$f":"IF(Canoe!M44<>\"\",(Canoe!L44*SIN(RADIANS(O$4))+Canoe!M44*COS(RADIANS(O$4))*O$3)+O$2,\"\")","v":283.68395425311996},{"$f":"IF(Canoe!N44<>\"\",Canoe!N44*COS(RADIANS(O$4))-Canoe!O44*SIN(RADIANS(O$4))+O$1,\"\")","v":1700.0773798688404},{"$f":"IF(Canoe!O44<>\"\",(Canoe!N44*SIN(RADIANS(O$4))+Canoe!O44*COS(RADIANS(O$4))*O$3)+O$2,\"\")","v":233.91962623672262},null,{"$f":"IF(Canoe!Q44<>\"\",Canoe!Q44*COS(RADIANS(T$4))-Canoe!R44*SIN(RADIANS(T$4))+T$1,\"\")","v":1698.0549721610707},{"$f":"IF(Canoe!R44<>\"\",(Canoe!Q44*SIN(RADIANS(T$4))+Canoe!R44*COS(RADIANS(T$4))*T$3)+T$2,\"\")","v":-51.985544644734013},{"$f":"IF(Canoe!S44<>\"\",Canoe!S44*COS(RADIANS(T$4))-Canoe!T44*SIN(RADIANS(T$4))+T$1,\"\")","v":1698.0549721610707},{"$f":"IF(Canoe!T44<>\"\",(Canoe!S44*SIN(RADIANS(T$4))+Canoe!T44*COS(RADIANS(T$4))*T$3)+T$2,\"\")","v":-9.5472730397958152},null,{"$f":"IF(Canoe!V44<>\"\",Canoe!V44*COS(RADIANS(Y$4))-Canoe!W44*SIN(RADIANS(Y$4))+Y$1,\"\")","v":""},{"$f":"IF(Canoe!W44<>\"\",(Canoe!V44*SIN(RADIANS(Y$4))+Canoe!W44*COS(RADIANS(Y$4))*Y$3)+Y$2,\"\")","v":""},{"$f":"IF(Canoe!X44<>\"\",Canoe!X44*COS(RADIANS(Y$4))-Canoe!Y44*SIN(RADIANS(Y$4))+Y$1,\"\")","v":""},{"$f":"IF(Canoe!Y44<>\"\",(Canoe!X44*SIN(RADIANS(Y$4))+Canoe!Y44*COS(RADIANS(Y$4))*Y$3)+Y$2,\"\")","v":""}]
[15,{"$f":"IF(Canoe!B45<>\"\",Canoe!B45*COS(RADIANS(E$4))-Canoe!C45*SIN(RADIANS(E$4))+E$1,\"\")","v":1800.3993561635855},{"$f":"IF(Canoe!C45<>\"\",(Canoe!B45*SIN(RADIANS(E$4))+Canoe!C45*COS(RADIANS(E$4))*E$3)+E$2,\"\")","v":2.1714124529008194E-13},{"$f":"IF(Canoe!D45<>\"\",Canoe!D45*COS(RADIANS(E$4))-Canoe!E45*SIN(RADIANS(E$4))+E$1,\"\")","v":1800.3993561635855},{"$f":"IF(Canoe!E45<>\"\",(Canoe!D45*SIN(RADIANS(E$4))+Canoe!E45*COS(RADIANS(E$4))*E$3)+E$2,\"\")","v":244.44444444444468},null,{"$f":"IF(Canoe!G45<>\"\",Canoe!G45*COS(RADIANS(J$4))-Canoe!H45*SIN(RADIANS(J$4))+J$1,\"\")","v":1799.2823270177053},{"$f":"IF(Canoe!H45<>\"\",(Canoe!G45*SIN(RADIANS(J$4))+Canoe!H45*COS(RADIANS(J$4))*J$3)+J$2,\"\")","v":323.9966458138112},{"$f":"IF(Canoe!I45<>\"\",Canoe!I45*COS(RADIANS(J$4))-Canoe!J45*SIN(RADIANS(J$4))+J$1,\"\")","v":1799.245514048685},{"$f":"IF(Canoe!J45<>\"\",(Canoe!I45*SIN(RADIANS(J$4))+Canoe!J45*COS(RADIANS(J$4))*J$3)+J$2,\"\")","v":605.6160499453149},null,{"$f":"IF(Canoe!L45<>\"\",Canoe!L45*COS(RADIANS(O$4))-Canoe!M45*SIN(RADIANS(O$4))+O$1,\"\")","v":1800.1005427595414},{"$f":"IF(Canoe!M45<>\"\",(Canoe!L45*SIN(RADIANS(O$4))+Canoe!M45*COS(RADIANS(O$4))*O$3)+O$2,\"\")","v":294.7060172286786},{"$f":"IF(Canoe!N45<>\"\",Canoe!N45*COS(RADIANS(O$4))-Canoe!O45*SIN(RADIANS(O$4))+O$1,\"\")","v":1800.0959917101061},{"$f":"IF(Canoe!O45<>\"\",(Canoe!N45*SIN(RADIANS(O$4))+Canoe!O45*COS(RADIANS(O$4))*O$3)+O$2,\"\")","v":244.96725408313787},null,{"$f":"IF(Canoe!Q45<>\"\",Canoe!Q45*COS(RADIANS(T$4))-Canoe!R45*SIN(RADIANS(T$4))+T$1,\"\")","v":1798.6618708620279},{"$f":"IF(Canoe!R45<>\"\",(Canoe!Q45*SIN(RADIANS(T$4))+Canoe!R45*COS(RADIANS(T$4))*T$3)+T$2,\"\")","v":-53.991717484240183},{"$f":"IF(Canoe!S45<>\"\",Canoe!S45*COS(RADIANS(T$4))-Canoe!T45*SIN(RADIANS(T$4))+T$1,\"\")","v":1798.6618708620281},{"$f":"IF(Canoe!T45<>\"\",(Canoe!S45*SIN(RADIANS(T$4))+Canoe!T45*COS(RADIANS(T$4))*T$3)+T$2,\"\")","v":-9.5472730397957424},null,{"$f":"IF(Canoe!V45<>\"\",Canoe!V45*COS(RADIANS(Y$4))-Canoe!W45*SIN(RADIANS(Y$4))+Y$1,\"\")","v":""},{"$f":"IF(Canoe!W45<>\"\",(Canoe!V45*SIN(RADIANS(Y$4))+Canoe!W45*COS(RADIANS(Y$4))*Y$3)+Y$2,\"\")","v":""},{"$f":"IF(Canoe!X45<>\"\",Canoe!X45*COS(RADIANS(Y$4))-Canoe!Y45*SIN(RADIANS(Y$4))+Y$1,\"\")","v":""},{"$f":"IF(Canoe!Y45<>\"\",(Canoe!X45*SIN(RADIANS(Y$4))+Canoe!Y45*COS(RADIANS(Y$4))*Y$3)+Y$2,\"\")","v":""}]
[16,{"$f":"IF(Canoe!B46<>\"\",Canoe!B46*COS(RADIANS(E$4))-Canoe!C46*SIN(RADIANS(E$4))+E$1,\"\")","v":1900.4029581125089},{"$f":"IF(Canoe!C46<>\"\",(Canoe!B46*SIN(RADIANS(E$4))+Canoe!C46*COS(RADIANS(E$4))*E$3)+E$2,\"\")","v":2.1524333453999805E-13},{"$f":"IF(Canoe!D46<>\"\",Canoe!D46*COS(RADIANS(E$4))-Canoe!E46*SIN(RADIANS(E$4))+E$1,\"\")","v":1900.4029581125089},{"$f":"IF(Canoe!E46<>\"\",(Canoe!D46*SIN(RADIANS(E$4))+Canoe!E46*COS(RADIANS(E$4))*E$3)+E$2,\"\")","v":253.78086419753109},null,{"$f":"IF(Canoe!G46<>\"\",Canoe!G46*COS(RADIANS(J$4))-Canoe!H46*SIN(RADIANS(J$4))+J$1,\"\")","v":1899.7174102031086},{"$f":"IF(Canoe!H46<>\"\",(Canoe!G46*SIN(RADIANS(J$4))+Canoe!H46*COS(RADIANS(J$4))*J$3)+J$2,\"\")","v":324.82320622036713},{"$f":"IF(Canoe!I46<>\"\",Canoe!I46*COS(RADIANS(J$4))-Canoe!J46*SIN(RADIANS(J$4))+J$1,\"\")","v":1899.6932225234571},{"$f":"IF(Canoe!J46<>\"\",(Canoe!I46*SIN(RADIANS(J$4))+Canoe!J46*COS(RADIANS(J$4))*J$3)+J$2,\"\")","v":605.68444998968971},null,{"$f":"IF(Canoe!L46<>\"\",Canoe!L46*COS(RADIANS(O$4))-Canoe!M46*SIN(RADIANS(O$4))+O$1,\"\")","v":1900.1127796100609},{"$f":"IF(Canoe!M46<>\"\",(Canoe!L46*SIN(RADIANS(O$4))+Canoe!M46*COS(RADIANS(O$4))*O$3)+O$2,\"\")","v":304.04942648624672},{"$f":"IF(Canoe!N46<>\"\",Canoe!N46*COS(RADIANS(O$4))-Canoe!O46*SIN(RADIANS(O$4))+O$1,\"\")","v":1900.1094550802725},{"$f":"IF(Canoe!O46<>\"\",(Canoe!N46*SIN(RADIANS(O$4))+Canoe!O46*COS(RADIANS(O$4))*O$3)+O$2,\"\")","v":254.31377694167401},null,{"$f":"IF(Canoe!Q46<>\"\",Canoe!Q46*COS(RADIANS(T$4))-Canoe!R46*SIN(RADIANS(T$4))+T$1,\"\")","v":1899.0967688497585},{"$f":"IF(Canoe!R46<>\"\",(Canoe!Q46*SIN(RADIANS(T$4))+Canoe!R46*COS(RADIANS(T$4))*T$3)+T$2,\"\")","v":-55.689248348437793},{"$f":"IF(Canoe!S46<>\"\",Canoe!S46*COS(RADIANS(T$4))-Canoe!T46*SIN(RADIANS(T$4))+T$1,\"\")","v":1899.0967688497585},{"$f":"IF(Canoe!T46<>\"\",(Canoe!S46*SIN(RADIANS(T$4))+Canoe!T46*COS(RADIANS(T$4))*T$3)+T$2,\"\")","v":-9.5472730397958472},null,{"$f":"IF(Canoe!V46<>\"\",Canoe!V46*COS(RADIANS(Y$4))-Canoe!W46*SIN(RADIANS(Y$4))+Y$1,\"\")","v":""},{"$f":"IF(Canoe!W46<>\"\",(Canoe!V46*SIN(RADIANS(Y$4))+Canoe!W46*COS(RADIANS(Y$4))*Y$3)+Y$2,\"\")","v":""},{"$f":"IF(Canoe!X46<>\"\",Canoe!X46*COS(RADIANS(Y$4))-Canoe!Y46*SIN(RADIANS(Y$4))+Y$1,\"\")","v":""},{"$f":"IF(Canoe!Y46<>\"\",(Canoe!X46*SIN(RADIANS(Y$4))+Canoe!Y46*COS(RADIANS(Y$4))*Y$3)+Y$2,\"\")","v":""}]
[17,{"$f":"IF(Canoe!B47<>\"\",Canoe!B47*COS(RADIANS(E$4))-Canoe!C47*SIN(RADIANS(E$4))+E$1,\"\")","v":2000.4053693488706},{"$f":"IF(Canoe!C47<>\"\",(Canoe!B47*SIN(RADIANS(E$4))+Canoe!C47*COS(RADIANS(E$4))*E$3)+E$2,\"\")","v":2.0531050290238941E-13},{"$f":"IF(Canoe!D47<>\"\",Canoe!D47*COS(RADIANS(E$4))-Canoe!E47*SIN(RADIANS(E$4))+E$1,\"\")","v":2000.4053693488706},{"$f":"IF(Canoe!E47<>\"\",(Canoe!D47*SIN(RADIANS(E$4))+Canoe!E47*COS(RADIANS(E$4))*E$3)+E$2,\"\")","v":261.41975308641992},null,{"$f":"IF(Canoe!G47<>\"\",Canoe!G47*COS(RADIANS(J$4))-Canoe!H47*SIN(RADIANS(J$4))+J$1,\"\")","v":2000.0088627238508},{"$f":"IF(Canoe!H47<>\"\",(Canoe!G47*SIN(RADIANS(J$4))+Canoe!H47*COS(RADIANS(J$4))*J$3)+J$2,\"\")","v":325.50101727287262},{"$f":"IF(Canoe!I47<>\"\",Canoe!I47*COS(RADIANS(J$4))-Canoe!J47*SIN(RADIANS(J$4))+J$1,\"\")","v":1999.9943628505446},{"$f":"IF(Canoe!J47<>\"\",(Canoe!I47*SIN(RADIANS(J$4))+Canoe!J47*COS(RADIANS(J$4))*J$3)+J$2,\"\")","v":605.76971942558725},null,{"$f":"IF(Canoe!L47<>\"\",Canoe!L47*COS(RADIANS(O$4))-Canoe!M47*SIN(RADIANS(O$4))+O$1,\"\")","v":2000.1207568722259},{"$f":"IF(Canoe!M47<>\"\",(Canoe!L47*SIN(RADIANS(O$4))+Canoe!M47*COS(RADIANS(O$4))*O$3)+O$2,\"\")","v":311.71300957258114},{"$f":"IF(Canoe!N47<>\"\",Canoe!N47*COS(RADIANS(O$4))-Canoe!O47*SIN(RADIANS(O$4))+O$1,\"\")","v":2000.1185669769832},{"$f":"IF(Canoe!O47<>\"\",(Canoe!N47*SIN(RADIANS(O$4))+Canoe!O47*COS(RADIANS(O$4))*O$3)+O$2,\"\")","v":261.9596368301149},null,{"$f":"IF(Canoe!Q47<>\"\",Canoe!Q47*COS(RADIANS(T$4))-Canoe!R47*SIN(RADIANS(T$4))+T$1,\"\")","v":1999.3881075757761},{"$f":"IF(Canoe!R47<>\"\",(Canoe!Q47*SIN(RADIANS(T$4))+Canoe!R47*COS(RADIANS(T$4))*T$3)+T$2,\"\")","v":-57.078137237326743},{"$f":"IF(Canoe!S47<>\"\",Canoe!S47*COS(RADIANS(T$4))-Canoe!T47*SIN(RADIANS(T$4))+T$1,\"\")","v":1999.3881075757763},{"$f":"IF(Canoe!T47<>\"\",(Canoe!S47*SIN(RADIANS(T$4))+Canoe!T47*COS(RADIANS(T$4))*T$3)+T$2,\"\")","v":-9.5472730397957939},null,{"$f":"IF(Canoe!V47<>\"\",Canoe!V47*COS(RADIANS(Y$4))-Canoe!W47*SIN(RADIANS(Y$4))+Y$1,\"\")","v":""},{"$f":"IF(Canoe!W47<>\"\",(Canoe!V47*SIN(RADIANS(Y$4))+Canoe!W47*COS(RADIANS(Y$4))*Y$3)+Y$2,\"\")","v":""},{"$f":"IF(Canoe!X47<>\"\",Canoe!X47*COS(RADIANS(Y$4))-Canoe!Y47*SIN(RADIANS(Y$4))+Y$1,\"\")","v":""},{"$f":"IF(Canoe!Y47<>\"\",(Canoe!X47*SIN(RADIANS(Y$4))+Canoe!Y47*COS(RADIANS(Y$4))*Y$3)+Y$2,\"\")","v":""}]
[18,{"$f":"IF(Canoe!B48<>\"\",Canoe!B48*COS(RADIANS(E$4))-Canoe!C48*SIN(RADIANS(E$4))+E$1,\"\")","v":2100.4068280049751},{"$f":"IF(Canoe!C48<>\"\",(Canoe!B48*SIN(RADIANS(E$4))+Canoe!C48*COS(RADIANS(E$4))*E$3)+E$2,\"\")","v":2.1246831692010015E-13},{"$f":"IF(Canoe!D48<>\"\",Canoe!D48*COS(RADIANS(E$4))-Canoe!E48*SIN(RADIANS(E$4))+E$1,\"\")","v":2100.4068280049751},{"$f":"IF(Canoe!E48<>\"\",(Canoe!D48*SIN(RADIANS(E$4))+Canoe!E48*COS(RADIANS(E$4))*E$3)+E$2,\"\")","v":267.36111111111131},null,{"$f":"IF(Canoe!G48<>\"\",Canoe!G48*COS(RADIANS(J$4))-Canoe!H48*SIN(RADIANS(J$4))+J$1,\"\")","v":2100.1852689045409},{"$f":"IF(Canoe!H48<>\"\",(Canoe!G48*SIN(RADIANS(J$4))+Canoe!H48*COS(RADIANS(J$4))*J$3)+J$2,\"\")","v":326.02932896830271},{"$f":"IF(Canoe!I48<>\"\",Canoe!I48*COS(RADIANS(J$4))-Canoe!J48*SIN(RADIANS(J$4))+J$1,\"\")","v":2100.1777212688517},{"$f":"IF(Canoe!J48<>\"\",(Canoe!I48*SIN(RADIANS(J$4))+Canoe!J48*COS(RADIANS(J$4))*J$3)+J$2,\"\")","v":605.86879792445723},null,{"$f":"IF(Canoe!L48<>\"\",Canoe!L48*COS(RADIANS(O$4))-Canoe!M48*SIN(RADIANS(O$4))+O$1,\"\")","v":2100.125372199378},{"$f":"IF(Canoe!M48<>\"\",(Canoe!L48*SIN(RADIANS(O$4))+Canoe!M48*COS(RADIANS(O$4))*O$3)+O$2,\"\")","v":317.6956539534691},{"$f":"IF(Canoe!N48<>\"\",Canoe!N48*COS(RADIANS(O$4))-Canoe!O48*SIN(RADIANS(O$4))+O$1,\"\")","v":2100.1241430356649},{"$f":"IF(Canoe!O48<>\"\",(Canoe!N48*SIN(RADIANS(O$4))+Canoe!O48*COS(RADIANS(O$4))*O$3)+O$2,\"\")","v":267.90534332665777},null,{"$f":"IF(Canoe!Q48<>\"\",Canoe!Q48*COS(RADIANS(T$4))-Canoe!R48*SIN(RADIANS(T$4))+T$1,\"\")","v":2099.5644507670586},{"$f":"IF(Canoe!R48<>\"\",(Canoe!Q48*SIN(RADIANS(T$4))+Canoe!R48*COS(RADIANS(T$4))*T$3)+T$2,\"\")","v":-58.158384150907239},{"$f":"IF(Canoe!S48<>\"\",Canoe!S48*COS(RADIANS(T$4))-Canoe!T48*SIN(RADIANS(T$4))+T$1,\"\")","v":2099.5644507670586},{"$f":"IF(Canoe!T48<>\"\",(Canoe!S48*SIN(RADIANS(T$4))+Canoe!T48*COS(RADIANS(T$4))*T$3)+T$2,\"\")","v":-9.5472730397960603},null,{"$f":"IF(Canoe!V48<>\"\",Canoe!V48*COS(RADIANS(Y$4))-Canoe!W48*SIN(RADIANS(Y$4))+Y$1,\"\")","v":""},{"$f":"IF(Canoe!W48<>\"\",(Canoe!V48*SIN(RADIANS(Y$4))+Canoe!W48*COS(RADIANS(Y$4))*Y$3)+Y$2,\"\")","v":""},{"$f":"IF(Canoe!X48<>\"\",Canoe!X48*COS(RADIANS(Y$4))-Canoe!Y48*SIN(RADIANS(Y$4))+Y$1,\"\")","v":""},{"$f":"IF(Canoe!Y48<>\"\",(Canoe!X48*SIN(RADIANS(Y$4))+Canoe!Y48*COS(RADIANS(Y$4))*Y$3)+Y$2,\"\")","v":""}]
[19,{"$f":"IF(Canoe!B49<>\"\",Canoe!B49*COS(RADIANS(E$4))-Canoe!C49*SIN(RADIANS(E$4))+E$1,\"\")","v":2200.4075722199318},{"$f":"IF(Canoe!C49<>\"\",(Canoe!B49*SIN(RADIANS(E$4))+Canoe!C49*COS(RADIANS(E$4))*E$3)+E$2,\"\")","v":2.3493967059107288E-13},{"$f":"IF(Canoe!D49<>\"\",Canoe!D49*COS(RADIANS(E$4))-Canoe!E49*SIN(RADIANS(E$4))+E$1,\"\")","v":2200.4075722199318},{"$f":"IF(Canoe!E49<>\"\",(Canoe!D49*SIN(RADIANS(E$4))+Canoe!E49*COS(RADIANS(E$4))*E$3)+E$2,\"\")","v":271.60493827160525},null,{"$f":"IF(Canoe!G49<>\"\",Canoe!G49*COS(RADIANS(J$4))-Canoe!H49*SIN(RADIANS(J$4))+J$1,\"\")","v":2200.2753080654138},{"$f":"IF(Canoe!H49<>\"\",(Canoe!G49*SIN(RADIANS(J$4))+Canoe!H49*COS(RADIANS(J$4))*J$3)+J$2,\"\")","v":326.4074470560804},{"$f":"IF(Canoe!I49<>\"\",Canoe!I49*COS(RADIANS(J$4))-Canoe!J49*SIN(RADIANS(J$4))+J$1,\"\")","v":2200.2722526085809},{"$f":"IF(Canoe!J49<>\"\",(Canoe!I49*SIN(RADIANS(J$4))+Canoe!J49*COS(RADIANS(J$4))*J$3)+J$2,\"\")","v":605.97867937595868},null,{"$f":"IF(Canoe!L49<>\"\",Canoe!L49*COS(RADIANS(O$4))-Canoe!M49*SIN(RADIANS(O$4))+O$1,\"\")","v":2200.1275310823971},{"$f":"IF(Canoe!M49<>\"\",(Canoe!L49*SIN(RADIANS(O$4))+Canoe!M49*COS(RADIANS(O$4))*O$3)+O$2,\"\")","v":321.99629306747266},{"$f":"IF(Canoe!N49<>\"\",Canoe!N49*COS(RADIANS(O$4))-Canoe!O49*SIN(RADIANS(O$4))+O$1,\"\")","v":2200.1270225235148},{"$f":"IF(Canoe!O49<>\"\",(Canoe!N49*SIN(RADIANS(O$4))+Canoe!O49*COS(RADIANS(O$4))*O$3)+O$2,\"\")","v":272.15146358961329},null,{"$f":"IF(Canoe!Q49<>\"\",Canoe!Q49*COS(RADIANS(T$4))-Canoe!R49*SIN(RADIANS(T$4))+T$1,\"\")","v":2199.6544606030466},{"$f":"IF(Canoe!R49<>\"\",(Canoe!Q49*SIN(RADIANS(T$4))+Canoe!R49*COS(RADIANS(T$4))*T$3)+T$2,\"\")","v":-58.929989089179045},{"$f":"IF(Canoe!S49<>\"\",Canoe!S49*COS(RADIANS(T$4))-Canoe!T49*SIN(RADIANS(T$4))+T$1,\"\")","v":2199.6544606030466},{"$f":"IF(Canoe!T49<>\"\",(Canoe!S49*SIN(RADIANS(T$4))+Canoe!T49*COS(RADIANS(T$4))*T$3)+T$2,\"\")","v":-9.5472730397962735},null,{"$f":"IF(Canoe!V49<>\"\",Canoe!V49*COS(RADIANS(Y$4))-Canoe!W49*SIN(RADIANS(Y$4))+Y$1,\"\")","v":""},{"$f":"IF(Canoe!W49<>\"\",(Canoe!V49*SIN(RADIANS(Y$4))+Canoe!W49*COS(RADIANS(Y$4))*Y$3)+Y$2,\"\")","v":""},{"$f":"IF(Canoe!X49<>\"\",Canoe!X49*COS(RADIANS(Y$4))-Canoe!Y49*SIN(RADIANS(Y$4))+Y$1,\"\")","v":""},{"$f":"IF(Canoe!Y49<>\"\",(Canoe!X49*SIN(RADIANS(Y$4))+Canoe!Y49*COS(RADIANS(Y$4))*Y$3)+Y$2,\"\")","v":""}]
[20,{"$f":"IF(Canoe!B50<>\"\",Canoe!B50*COS(RADIANS(E$4))-Canoe!C50*SIN(RADIANS(E$4))+E$1,\"\")","v":2300.4078401379543},{"$f":"IF(Canoe!C50<>\"\",(Canoe!B50*SIN(RADIANS(E$4))+Canoe!C50*COS(RADIANS(E$4))*E$3)+E$2,\"\")","v":2.5837540943859838E-13},{"$f":"IF(Canoe!D50<>\"\",Canoe!D50*COS(RADIANS(E$4))-Canoe!E50*SIN(RADIANS(E$4))+E$1,\"\")","v":2300.4078401379543},{"$f":"IF(Canoe!E50<>\"\",(Canoe!D50*SIN(RADIANS(E$4))+Canoe!E50*COS(RADIANS(E$4))*E$3)+E$2,\"\")","v":274.15123456790155},null,{"$f":"IF(Canoe!G50<>\"\",Canoe!G50*COS(RADIANS(J$4))-Canoe!H50*SIN(RADIANS(J$4))+J$1,\"\")","v":2300.3077305343186},{"$f":"IF(Canoe!H50<>\"\",(Canoe!G50*SIN(RADIANS(J$4))+Canoe!H50*COS(RADIANS(J$4))*J$3)+J$2,\"\")","v":326.63474313463564},{"$f":"IF(Canoe!I50<>\"\",Canoe!I50*COS(RADIANS(J$4))-Canoe!J50*SIN(RADIANS(J$4))+J$1,\"\")","v":2300.3070557437736},{"$f":"IF(Canoe!J50<>\"\",(Canoe!I50*SIN(RADIANS(J$4))+Canoe!J50*COS(RADIANS(J$4))*J$3)+J$2,\"\")","v":606.09642256656957},null,{"$f":"IF(Canoe!L50<>\"\",Canoe!L50*COS(RADIANS(O$4))-Canoe!M50*SIN(RADIANS(O$4))+O$1,\"\")","v":2300.1281504526492},{"$f":"IF(Canoe!M50<>\"\",(Canoe!L50*SIN(RADIANS(O$4))+Canoe!M50*COS(RADIANS(O$4))*O$3)+O$2,\"\")","v":324.61389260172172},{"$f":"IF(Canoe!N50<>\"\",Canoe!N50*COS(RADIANS(O$4))-Canoe!O50*SIN(RADIANS(O$4))+O$1,\"\")","v":2300.1280724994003},{"$f":"IF(Canoe!O50<>\"\",(Canoe!N50*SIN(RADIANS(O$4))+Canoe!O50*COS(RADIANS(O$4))*O$3)+O$2,\"\")","v":274.69861165247511},null,{"$f":"IF(Canoe!Q50<>\"\",Canoe!Q50*COS(RADIANS(T$4))-Canoe!R50*SIN(RADIANS(T$4))+T$1,\"\")","v":2299.6868734742179},{"$f":"IF(Canoe!R50<>\"\",(Canoe!Q50*SIN(RADIANS(T$4))+Canoe!R50*COS(RADIANS(T$4))*T$3)+T$2,\"\")","v":-59.392952052142029},{"$f":"IF(Canoe!S50<>\"\",Canoe!S50*COS(RADIANS(T$4))-Canoe!T50*SIN(RADIANS(T$4))+T$1,\"\")","v":2299.6868734742179},{"$f":"IF(Canoe!T50<>\"\",(Canoe!S50*SIN(RADIANS(T$4))+Canoe!T50*COS(RADIANS(T$4))*T$3)+T$2,\"\")","v":-9.5472730397963215},null,{"$f":"IF(Canoe!V50<>\"\",Canoe!V50*COS(RADIANS(Y$4))-Canoe!W50*SIN(RADIANS(Y$4))+Y$1,\"\")","v":""},{"$f":"IF(Canoe!W50<>\"\",(Canoe!V50*SIN(RADIANS(Y$4))+Canoe!W50*COS(RADIANS(Y$4))*Y$3)+Y$2,\"\")","v":""},{"$f":"IF(Canoe!X50<>\"\",Canoe!X50*COS(RADIANS(Y$4))-Canoe!Y50*SIN(RADIANS(Y$4))+Y$1,\"\")","v":""},{"$f":"IF(Canoe!Y50<>\"\",(Canoe!X50*SIN(RADIANS(Y$4))+Canoe!Y50*COS(RADIANS(Y$4))*Y$3)+Y$2,\"\")","v":""}]
[21,{"$f":"IF(Canoe!B51<>\"\",Canoe!B51*COS(RADIANS(E$4))-Canoe!C51*SIN(RADIANS(E$4))+E$1,\"\")","v":2400.407869906659},{"$f":"IF(Canoe!C51<>\"\",(Canoe!B51*SIN(RADIANS(E$4))+Canoe!C51*COS(RADIANS(E$4))*E$3)+E$2,\"\")","v":2.5116251074235464E-13},{"$f":"IF(Canoe!D51<>\"\",Canoe!D51*COS(RADIANS(E$4))-Canoe!E51*SIN(RADIANS(E$4))+E$1,\"\")","v":2400.407869906659},{"$f":"IF(Canoe!E51<>\"\",(Canoe!D51*SIN(RADIANS(E$4))+Canoe!E51*COS(RADIANS(E$4))*E$3)+E$2,\"\")","v":275.00000000000028},null,{"$f":"IF(Canoe!G51<>\"\",Canoe!G51*COS(RADIANS(J$4))-Canoe!H51*SIN(RADIANS(J$4))+J$1,\"\")","v":2400.311333431705},{"$f":"IF(Canoe!H51<>\"\",(Canoe!G51*SIN(RADIANS(J$4))+Canoe!H51*COS(RADIANS(J$4))*J$3)+J$2,\"\")","v":326.71066442529644},{"$f":"IF(Canoe!I51<>\"\",Canoe!I51*COS(RADIANS(J$4))-Canoe!J51*SIN(RADIANS(J$4))+J$1,\"\")","v":2400.3113485317076},{"$f":"IF(Canoe!J51<>\"\",(Canoe!I51*SIN(RADIANS(J$4))+Canoe!J51*COS(RADIANS(J$4))*J$3)+J$2,\"\")","v":606.21916161276977},null,{"$f":"IF(Canoe!L51<>\"\",Canoe!L51*COS(RADIANS(O$4))-Canoe!M51*SIN(RADIANS(O$4))+O$1,\"\")","v":2400.1281611318109},{"$f":"IF(Canoe!M51<>\"\",(Canoe!L51*SIN(RADIANS(O$4))+Canoe!M51*COS(RADIANS(O$4))*O$3)+O$2,\"\")","v":325.54743695302528},{"$f":"IF(Canoe!N51<>\"\",Canoe!N51*COS(RADIANS(O$4))-Canoe!O51*SIN(RADIANS(O$4))+O$1,\"\")","v":2400.1281910660055},{"$f":"IF(Canoe!O51<>\"\",(Canoe!N51*SIN(RADIANS(O$4))+Canoe!O51*COS(RADIANS(O$4))*O$3)+O$2,\"\")","v":275.54743695303421},null,{"$f":"IF(Canoe!Q51<>\"\",Canoe!Q51*COS(RADIANS(T$4))-Canoe!R51*SIN(RADIANS(T$4))+T$1,\"\")","v":2399.6904754231414},{"$f":"IF(Canoe!R51<>\"\",(Canoe!Q51*SIN(RADIANS(T$4))+Canoe!R51*COS(RADIANS(T$4))*T$3)+T$2,\"\")","v":-59.547273039796437},{"$f":"IF(Canoe!S51<>\"\",Canoe!S51*COS(RADIANS(T$4))-Canoe!T51*SIN(RADIANS(T$4))+T$1,\"\")","v":2399.6904754231414},{"$f":"IF(Canoe!T51<>\"\",(Canoe!S51*SIN(RADIANS(T$4))+Canoe!T51*COS(RADIANS(T$4))*T$3)+T$2,\"\")","v":-9.5472730397964316},null,{"$f":"IF(Canoe!V51<>\"\",Canoe!V51*COS(RADIANS(Y$4))-Canoe!W51*SIN(RADIANS(Y$4))+Y$1,\"\")","v":""},{"$f":"IF(Canoe!W51<>\"\",(Canoe!V51*SIN(RADIANS(Y$4))+Canoe!W51*COS(RADIANS(Y$4))*Y$3)+Y$2,\"\")","v":""},{"$f":"IF(Canoe!X51<>\"\",Canoe!X51*COS(RADIANS(Y$4))-Canoe!Y51*SIN(RADIANS(Y$4))+Y$1,\"\")","v":""},{"$f":"IF(Canoe!Y51<>\"\",(Canoe!X51*SIN(RADIANS(Y$4))+Canoe!Y51*COS(RADIANS(Y$4))*Y$3)+Y$2,\"\")","v":""}]
[22,{"$f":"IF(Canoe!B52<>\"\",Canoe!B52*COS(RADIANS(E$4))-Canoe!C52*SIN(RADIANS(E$4))+E$1,\"\")","v":2500.4078996753638},{"$f":"IF(Canoe!C52<>\"\",(Canoe!B52*SIN(RADIANS(E$4))+Canoe!C52*COS(RADIANS(E$4))*E$3)+E$2,\"\")","v":2.5837540943859838E-13},{"$f":"IF(Canoe!D52<>\"\",Canoe!D52*COS(RADIANS(E$4))-Canoe!E52*SIN(RADIANS(E$4))+E$1,\"\")","v":2500.4078996753638},{"$f":"IF(Canoe!E52<>\"\",(Canoe!D52*SIN(RADIANS(E$4))+Canoe!E52*COS(RADIANS(E$4))*E$3)+E$2,\"\")","v":274.15123456790155},null,{"$f":"IF(Canoe!G52<>\"\",Canoe!G52*COS(RADIANS(J$4))-Canoe!H52*SIN(RADIANS(J$4))+J$1,\"\")","v":2500.3149363290913},{"$f":"IF(Canoe!H52<>\"\",(Canoe!G52*SIN(RADIANS(J$4))+Canoe!H52*COS(RADIANS(J$4))*J$3)+J$2,\"\")","v":326.63474313463564},{"$f":"IF(Canoe!I52<>\"\",Canoe!I52*COS(RADIANS(J$4))-Canoe!J52*SIN(RADIANS(J$4))+J$1,\"\")","v":2500.3156413196416},{"$f":"IF(Canoe!J52<>\"\",(Canoe!I52*SIN(RADIANS(J$4))+Canoe!J52*COS(RADIANS(J$4))*J$3)+J$2,\"\")","v":606.09642256649499},null,{"$f":"IF(Canoe!L52<>\"\",Canoe!L52*COS(RADIANS(O$4))-Canoe!M52*SIN(RADIANS(O$4))+O$1,\"\")","v":2500.1281718109722},{"$f":"IF(Canoe!M52<>\"\",(Canoe!L52*SIN(RADIANS(O$4))+Canoe!M52*COS(RADIANS(O$4))*O$3)+O$2,\"\")","v":324.61389260172172},{"$f":"IF(Canoe!N52<>\"\",Canoe!N52*COS(RADIANS(O$4))-Canoe!O52*SIN(RADIANS(O$4))+O$1,\"\")","v":2500.1283096326115},{"$f":"IF(Canoe!O52<>\"\",(Canoe!N52*SIN(RADIANS(O$4))+Canoe!O52*COS(RADIANS(O$4))*O$3)+O$2,\"\")","v":274.69861165260443},null,{"$f":"IF(Canoe!Q52<>\"\",Canoe!Q52*COS(RADIANS(T$4))-Canoe!R52*SIN(RADIANS(T$4))+T$1,\"\")","v":2499.6940773720648},{"$f":"IF(Canoe!R52<>\"\",(Canoe!Q52*SIN(RADIANS(T$4))+Canoe!R52*COS(RADIANS(T$4))*T$3)+T$2,\"\")","v":-59.392952052142036},{"$f":"IF(Canoe!S52<>\"\",Canoe!S52*COS(RADIANS(T$4))-Canoe!T52*SIN(RADIANS(T$4))+T$1,\"\")","v":2499.6940773720648},{"$f":"IF(Canoe!T52<>\"\",(Canoe!S52*SIN(RADIANS(T$4))+Canoe!T52*COS(RADIANS(T$4))*T$3)+T$2,\"\")","v":-9.547273039796373},null,{"$f":"IF(Canoe!V52<>\"\",Canoe!V52*COS(RADIANS(Y$4))-Canoe!W52*SIN(RADIANS(Y$4))+Y$1,\"\")","v":""},{"$f":"IF(Canoe!W52<>\"\",(Canoe!V52*SIN(RADIANS(Y$4))+Canoe!W52*COS(RADIANS(Y$4))*Y$3)+Y$2,\"\")","v":""},{"$f":"IF(Canoe!X52<>\"\",Canoe!X52*COS(RADIANS(Y$4))-Canoe!Y52*SIN(RADIANS(Y$4))+Y$1,\"\")","v":""},{"$f":"IF(Canoe!Y52<>\"\",(Canoe!X52*SIN(RADIANS(Y$4))+Canoe!Y52*COS(RADIANS(Y$4))*Y$3)+Y$2,\"\")","v":""}]
[23,{"$f":"IF(Canoe!B53<>\"\",Canoe!B53*COS(RADIANS(E$4))-Canoe!C53*SIN(RADIANS(E$4))+E$1,\"\")","v":2600.4081675933862},{"$f":"IF(Canoe!C53<>\"\",(Canoe!B53*SIN(RADIANS(E$4))+Canoe!C53*COS(RADIANS(E$4))*E$3)+E$2,\"\")","v":2.4235044001350696E-13},{"$f":"IF(Canoe!D53<>\"\",Canoe!D53*COS(RADIANS(E$4))-Canoe!E53*SIN(RADIANS(E$4))+E$1,\"\")","v":2600.4081675933862},{"$f":"IF(Canoe!E53<>\"\",(Canoe!D53*SIN(RADIANS(E$4))+Canoe!E53*COS(RADIANS(E$4))*E$3)+E$2,\"\")","v":271.60493827160514},null,{"$f":"IF(Canoe!G53<>\"\",Canoe!G53*COS(RADIANS(J$4))-Canoe!H53*SIN(RADIANS(J$4))+J$1,\"\")","v":2600.3473588076895},{"$f":"IF(Canoe!H53<>\"\",(Canoe!G53*SIN(RADIANS(J$4))+Canoe!H53*COS(RADIANS(J$4))*J$3)+J$2,\"\")","v":326.40745132216648},{"$f":"IF(Canoe!I53<>\"\",Canoe!I53*COS(RADIANS(J$4))-Canoe!J53*SIN(RADIANS(J$4))+J$1,\"\")","v":2600.3504444598552},{"$f":"IF(Canoe!J53<>\"\",(Canoe!I53*SIN(RADIANS(J$4))+Canoe!J53*COS(RADIANS(J$4))*J$3)+J$2,\"\")","v":605.97868364171291},null,{"$f":"IF(Canoe!L53<>\"\",Canoe!L53*COS(RADIANS(O$4))-Canoe!M53*SIN(RADIANS(O$4))+O$1,\"\")","v":2600.1287912889711},{"$f":"IF(Canoe!M53<>\"\",(Canoe!L53*SIN(RADIANS(O$4))+Canoe!M53*COS(RADIANS(O$4))*O$3)+O$2,\"\")","v":321.99629718374541},{"$f":"IF(Canoe!N53<>\"\",Canoe!N53*COS(RADIANS(O$4))-Canoe!O53*SIN(RADIANS(O$4))+O$1,\"\")","v":2600.1293597133563},{"$f":"IF(Canoe!O53<>\"\",(Canoe!N53*SIN(RADIANS(O$4))+Canoe!O53*COS(RADIANS(O$4))*O$3)+O$2,\"\")","v":272.15146770653257},null,{"$f":"IF(Canoe!Q53<>\"\",Canoe!Q53*COS(RADIANS(T$4))-Canoe!R53*SIN(RADIANS(T$4))+T$1,\"\")","v":2599.7264902432362},{"$f":"IF(Canoe!R53<>\"\",(Canoe!Q53*SIN(RADIANS(T$4))+Canoe!R53*COS(RADIANS(T$4))*T$3)+T$2,\"\")","v":-58.929989089179145},{"$f":"IF(Canoe!S53<>\"\",Canoe!S53*COS(RADIANS(T$4))-Canoe!T53*SIN(RADIANS(T$4))+T$1,\"\")","v":2599.7264902432362},{"$f":"IF(Canoe!T53<>\"\",(Canoe!S53*SIN(RADIANS(T$4))+Canoe!T53*COS(RADIANS(T$4))*T$3)+T$2,\"\")","v":-9.5472730397964938},null,{"$f":"IF(Canoe!V53<>\"\",Canoe!V53*COS(RADIANS(Y$4))-Canoe!W53*SIN(RADIANS(Y$4))+Y$1,\"\")","v":""},{"$f":"IF(Canoe!W53<>\"\",(Canoe!V53*SIN(RADIANS(Y$4))+Canoe!W53*COS(RADIANS(Y$4))*Y$3)+Y$2,\"\")","v":""},{"$f":"IF(Canoe!X53<>\"\",Canoe!X53*COS(RADIANS(Y$4))-Canoe!Y53*SIN(RADIANS(Y$4))+Y$1,\"\")","v":""},{"$f":"IF(Canoe!Y53<>\"\",(Canoe!X53*SIN(RADIANS(Y$4))+Canoe!Y53*COS(RADIANS(Y$4))*Y$3)+Y$2,\"\")","v":""}]
[24,{"$f":"IF(Canoe!B54<>\"\",Canoe!B54*COS(RADIANS(E$4))-Canoe!C54*SIN(RADIANS(E$4))+E$1,\"\")","v":2700.408911808343},{"$f":"IF(Canoe!C54<>\"\",(Canoe!B54*SIN(RADIANS(E$4))+Canoe!C54*COS(RADIANS(E$4))*E$3)+E$2,\"\")","v":2.8770904422082349E-13},{"$f":"IF(Canoe!D54<>\"\",Canoe!D54*COS(RADIANS(E$4))-Canoe!E54*SIN(RADIANS(E$4))+E$1,\"\")","v":2700.408911808343},{"$f":"IF(Canoe!E54<>\"\",(Canoe!D54*SIN(RADIANS(E$4))+Canoe!E54*COS(RADIANS(E$4))*E$3)+E$2,\"\")","v":267.36111111111137},null,{"$f":"IF(Canoe!G54<>\"\",Canoe!G54*COS(RADIANS(J$4))-Canoe!H54*SIN(RADIANS(J$4))+J$1,\"\")","v":2700.4373980013975},{"$f":"IF(Canoe!H54<>\"\",(Canoe!G54*SIN(RADIANS(J$4))+Canoe!H54*COS(RADIANS(J$4))*J$3)+J$2,\"\")","v":326.02934192624201},{"$f":"IF(Canoe!I54<>\"\",Canoe!I54*COS(RADIANS(J$4))-Canoe!J54*SIN(RADIANS(J$4))+J$1,\"\")","v":2700.444975809125},{"$f":"IF(Canoe!J54<>\"\",(Canoe!I54*SIN(RADIANS(J$4))+Canoe!J54*COS(RADIANS(J$4))*J$3)+J$2,\"\")","v":605.868810881581},null,{"$f":"IF(Canoe!L54<>\"\",Canoe!L54*COS(RADIANS(O$4))-Canoe!M54*SIN(RADIANS(O$4))+O$1,\"\")","v":2700.1309507132223},{"$f":"IF(Canoe!M54<>\"\",(Canoe!L54*SIN(RADIANS(O$4))+Canoe!M54*COS(RADIANS(O$4))*O$3)+O$2,\"\")","v":317.69567065495323},{"$f":"IF(Canoe!N54<>\"\",Canoe!N54*COS(RADIANS(O$4))-Canoe!O54*SIN(RADIANS(O$4))+O$1,\"\")","v":2700.1322397356098},{"$f":"IF(Canoe!O54<>\"\",(Canoe!N54*SIN(RADIANS(O$4))+Canoe!O54*COS(RADIANS(O$4))*O$3)+O$2,\"\")","v":267.90536002965536},null,{"$f":"IF(Canoe!Q54<>\"\",Canoe!Q54*COS(RADIANS(T$4))-Canoe!R54*SIN(RADIANS(T$4))+T$1,\"\")","v":2699.8165000792242},{"$f":"IF(Canoe!R54<>\"\",(Canoe!Q54*SIN(RADIANS(T$4))+Canoe!R54*COS(RADIANS(T$4))*T$3)+T$2,\"\")","v":-58.158384150907558},{"$f":"IF(Canoe!S54<>\"\",Canoe!S54*COS(RADIANS(T$4))-Canoe!T54*SIN(RADIANS(T$4))+T$1,\"\")","v":2699.8165000792242},{"$f":"IF(Canoe!T54<>\"\",(Canoe!S54*SIN(RADIANS(T$4))+Canoe!T54*COS(RADIANS(T$4))*T$3)+T$2,\"\")","v":-9.5472730397964352},null,{"$f":"IF(Canoe!V54<>\"\",Canoe!V54*COS(RADIANS(Y$4))-Canoe!W54*SIN(RADIANS(Y$4))+Y$1,\"\")","v":""},{"$f":"IF(Canoe!W54<>\"\",(Canoe!V54*SIN(RADIANS(Y$4))+Canoe!W54*COS(RADIANS(Y$4))*Y$3)+Y$2,\"\")","v":""},{"$f":"IF(Canoe!X54<>\"\",Canoe!X54*COS(RADIANS(Y$4))-Canoe!Y54*SIN(RADIANS(Y$4))+Y$1,\"\")","v":""},{"$f":"IF(Canoe!Y54<>\"\",(Canoe!X54*SIN(RADIANS(Y$4))+Canoe!Y54*COS(RADIANS(Y$4))*Y$3)+Y$2,\"\")","v":""}]
[25,{"$f":"IF(Canoe!B55<>\"\",Canoe!B55*COS(RADIANS(E$4))-Canoe!C55*SIN(RADIANS(E$4))+E$1,\"\")","v":2800.4103704644476},{"$f":"IF(Canoe!C55<>\"\",(Canoe!B55*SIN(RADIANS(E$4))+Canoe!C55*COS(RADIANS(E$4))*E$3)+E$2,\"\")","v":2.4696909692053708E-13},{"$f":"IF(Canoe!D55<>\"\",Canoe!D55*COS(RADIANS(E$4))-Canoe!E55*SIN(RADIANS(E$4))+E$1,\"\")","v":2800.4103704644476},{"$f":"IF(Canoe!E55<>\"\",(Canoe!D55*SIN(RADIANS(E$4))+Canoe!E55*COS(RADIANS(E$4))*E$3)+E$2,\"\")","v":261.41975308642009},null,{"$f":"IF(Canoe!G55<>\"\",Canoe!G55*COS(RADIANS(J$4))-Canoe!H55*SIN(RADIANS(J$4))+J$1,\"\")","v":2800.6138042509933},{"$f":"IF(Canoe!H55<>\"\",(Canoe!G55*SIN(RADIANS(J$4))+Canoe!H55*COS(RADIANS(J$4))*J$3)+J$2,\"\")","v":325.501043296582},{"$f":"IF(Canoe!I55<>\"\",Canoe!I55*COS(RADIANS(J$4))-Canoe!J55*SIN(RADIANS(J$4))+J$1,\"\")","v":2800.6283342403522},{"$f":"IF(Canoe!J55<>\"\",(Canoe!I55*SIN(RADIANS(J$4))+Canoe!J55*COS(RADIANS(J$4))*J$3)+J$2,\"\")","v":605.76974544773702},null,{"$f":"IF(Canoe!L55<>\"\",Canoe!L55*COS(RADIANS(O$4))-Canoe!M55*SIN(RADIANS(O$4))+O$1,\"\")","v":2800.1355675315276},{"$f":"IF(Canoe!M55<>\"\",(Canoe!L55*SIN(RADIANS(O$4))+Canoe!M55*COS(RADIANS(O$4))*O$3)+O$2,\"\")","v":311.71305119991479},{"$f":"IF(Canoe!N55<>\"\",Canoe!N55*COS(RADIANS(O$4))-Canoe!O55*SIN(RADIANS(O$4))+O$1,\"\")","v":2800.1378172762929},{"$f":"IF(Canoe!O55<>\"\",(Canoe!N55*SIN(RADIANS(O$4))+Canoe!O55*COS(RADIANS(O$4))*O$3)+O$2,\"\")","v":261.95967846011877},null,{"$f":"IF(Canoe!Q55<>\"\",Canoe!Q55*COS(RADIANS(T$4))-Canoe!R55*SIN(RADIANS(T$4))+T$1,\"\")","v":2799.9928432705065},{"$f":"IF(Canoe!R55<>\"\",(Canoe!Q55*SIN(RADIANS(T$4))+Canoe!R55*COS(RADIANS(T$4))*T$3)+T$2,\"\")","v":-57.078137237327546},{"$f":"IF(Canoe!S55<>\"\",Canoe!S55*COS(RADIANS(T$4))-Canoe!T55*SIN(RADIANS(T$4))+T$1,\"\")","v":2799.9928432705069},{"$f":"IF(Canoe!T55<>\"\",(Canoe!S55*SIN(RADIANS(T$4))+Canoe!T55*COS(RADIANS(T$4))*T$3)+T$2,\"\")","v":-9.547273039796714},null,{"$f":"IF(Canoe!V55<>\"\",Canoe!V55*COS(RADIANS(Y$4))-Canoe!W55*SIN(RADIANS(Y$4))+Y$1,\"\")","v":""},{"$f":"IF(Canoe!W55<>\"\",(Canoe!V55*SIN(RADIANS(Y$4))+Canoe!W55*COS(RADIANS(Y$4))*Y$3)+Y$2,\"\")","v":""},{"$f":"IF(Canoe!X55<>\"\",Canoe!X55*COS(RADIANS(Y$4))-Canoe!Y55*SIN(RADIANS(Y$4))+Y$1,\"\")","v":""},{"$f":"IF(Canoe!Y55<>\"\",(Canoe!X55*SIN(RADIANS(Y$4))+Canoe!Y55*COS(RADIANS(Y$4))*Y$3)+Y$2,\"\")","v":""}]
[26,{"$f":"IF(Canoe!B56<>\"\",Canoe!B56*COS(RADIANS(E$4))-Canoe!C56*SIN(RADIANS(E$4))+E$1,\"\")","v":2900.4127817008093},{"$f":"IF(Canoe!C56<>\"\",(Canoe!B56*SIN(RADIANS(E$4))+Canoe!C56*COS(RADIANS(E$4))*E$3)+E$2,\"\")","v":2.685868255622268E-13},{"$f":"IF(Canoe!D56<>\"\",Canoe!D56*COS(RADIANS(E$4))-Canoe!E56*SIN(RADIANS(E$4))+E$1,\"\")","v":2900.4127817008093},{"$f":"IF(Canoe!E56<>\"\",(Canoe!D56*SIN(RADIANS(E$4))+Canoe!E56*COS(RADIANS(E$4))*E$3)+E$2,\"\")","v":253.78086419753112},null,{"$f":"IF(Canoe!G56<>\"\",Canoe!G56*COS(RADIANS(J$4))-Canoe!H56*SIN(RADIANS(J$4))+J$1,\"\")","v":2900.9052568879629},{"$f":"IF(Canoe!H56<>\"\",(Canoe!G56*SIN(RADIANS(J$4))+Canoe!H56*COS(RADIANS(J$4))*J$3)+J$2,\"\")","v":324.82324944167334},{"$f":"IF(Canoe!I56<>\"\",Canoe!I56*COS(RADIANS(J$4))-Canoe!J56*SIN(RADIANS(J$4))+J$1,\"\")","v":2900.9294745820575},{"$f":"IF(Canoe!J56<>\"\",(Canoe!I56*SIN(RADIANS(J$4))+Canoe!J56*COS(RADIANS(J$4))*J$3)+J$2,\"\")","v":605.68449320840944},null,{"$f":"IF(Canoe!L56<>\"\",Canoe!L56*COS(RADIANS(O$4))-Canoe!M56*SIN(RADIANS(O$4))+O$1,\"\")","v":2900.1435478872868},{"$f":"IF(Canoe!M56<>\"\",(Canoe!L56*SIN(RADIANS(O$4))+Canoe!M56*COS(RADIANS(O$4))*O$3)+O$2,\"\")","v":304.04950848436869},{"$f":"IF(Canoe!N56<>\"\",Canoe!N56*COS(RADIANS(O$4))-Canoe!O56*SIN(RADIANS(O$4))+O$1,\"\")","v":2900.1469322595126},{"$f":"IF(Canoe!O56<>\"\",(Canoe!N56*SIN(RADIANS(O$4))+Canoe!O56*COS(RADIANS(O$4))*O$3)+O$2,\"\")","v":254.31385894383203},null,{"$f":"IF(Canoe!Q56<>\"\",Canoe!Q56*COS(RADIANS(T$4))-Canoe!R56*SIN(RADIANS(T$4))+T$1,\"\")","v":2900.2841819965238},{"$f":"IF(Canoe!R56<>\"\",(Canoe!Q56*SIN(RADIANS(T$4))+Canoe!R56*COS(RADIANS(T$4))*T$3)+T$2,\"\")","v":-55.689248348439378},{"$f":"IF(Canoe!S56<>\"\",Canoe!S56*COS(RADIANS(T$4))-Canoe!T56*SIN(RADIANS(T$4))+T$1,\"\")","v":2900.2841819965242},{"$f":"IF(Canoe!T56<>\"\",(Canoe!S56*SIN(RADIANS(T$4))+Canoe!T56*COS(RADIANS(T$4))*T$3)+T$2,\"\")","v":-9.5472730397974601},null,{"$f":"IF(Canoe!V56<>\"\",Canoe!V56*COS(RADIANS(Y$4))-Canoe!W56*SIN(RADIANS(Y$4))+Y$1,\"\")","v":""},{"$f":"IF(Canoe!W56<>\"\",(Canoe!V56*SIN(RADIANS(Y$4))+Canoe!W56*COS(RADIANS(Y$4))*Y$3)+Y$2,\"\")","v":""},{"$f":"IF(Canoe!X56<>\"\",Canoe!X56*COS(RADIANS(Y$4))-Canoe!Y56*SIN(RADIANS(Y$4))+Y$1,\"\")","v":""},{"$f":"IF(Canoe!Y56<>\"\",(Canoe!X56*SIN(RADIANS(Y$4))+Canoe!Y56*COS(RADIANS(Y$4))*Y$3)+Y$2,\"\")","v":""}]
[27,{"$f":"IF(Canoe!B57<>\"\",Canoe!B57*COS(RADIANS(E$4))-Canoe!C57*SIN(RADIANS(E$4))+E$1,\"\")","v":3000.4163836497328},{"$f":"IF(Canoe!C57<>\"\",(Canoe!B57*SIN(RADIANS(E$4))+Canoe!C57*COS(RADIANS(E$4))*E$3)+E$2,\"\")","v":2.9190204527062667E-13},{"$f":"IF(Canoe!D57<>\"\",Canoe!D57*COS(RADIANS(E$4))-Canoe!E57*SIN(RADIANS(E$4))+E$1,\"\")","v":3000.4163836497328},{"$f":"IF(Canoe!E57<>\"\",(Canoe!D57*SIN(RADIANS(E$4))+Canoe!E57*COS(RADIANS(E$4))*E$3)+E$2,\"\")","v":244.44444444444477},null,{"$f":"IF(Canoe!G57<>\"\",Canoe!G57*COS(RADIANS(J$4))-Canoe!H57*SIN(RADIANS(J$4))+J$1,\"\")","v":3001.3403402455438},{"$f":"IF(Canoe!H57<>\"\",(Canoe!G57*SIN(RADIANS(J$4))+Canoe!H57*COS(RADIANS(J$4))*J$3)+J$2,\"\")","v":323.99670995665258},{"$f":"IF(Canoe!I57<>\"\",Canoe!I57*COS(RADIANS(J$4))-Canoe!J57*SIN(RADIANS(J$4))+J$1,\"\")","v":3001.3771830710725},{"$f":"IF(Canoe!J57<>\"\",(Canoe!I57*SIN(RADIANS(J$4))+Canoe!J57*COS(RADIANS(J$4))*J$3)+J$2,\"\")","v":605.61611408425165},null,{"$f":"IF(Canoe!L57<>\"\",Canoe!L57*COS(RADIANS(O$4))-Canoe!M57*SIN(RADIANS(O$4))+O$1,\"\")","v":3000.1557901437304},{"$f":"IF(Canoe!M57<>\"\",(Canoe!L57*SIN(RADIANS(O$4))+Canoe!M57*COS(RADIANS(O$4))*O$3)+O$2,\"\")","v":294.70615709221488},{"$f":"IF(Canoe!N57<>\"\",Canoe!N57*COS(RADIANS(O$4))-Canoe!O57*SIN(RADIANS(O$4))+O$1,\"\")","v":3000.1604010374758},{"$f":"IF(Canoe!O57<>\"\",(Canoe!N57*SIN(RADIANS(O$4))+Canoe!O57*COS(RADIANS(O$4))*O$3)+O$2,\"\")","v":244.96739395218589},null,{"$f":"IF(Canoe!Q57<>\"\",Canoe!Q57*COS(RADIANS(T$4))-Canoe!R57*SIN(RADIANS(T$4))+T$1,\"\")","v":3000.7190799842547},{"$f":"IF(Canoe!R57<>\"\",(Canoe!Q57*SIN(RADIANS(T$4))+Canoe!R57*COS(RADIANS(T$4))*T$3)+T$2,\"\")","v":-53.991717484242336},{"$f":"IF(Canoe!S57<>\"\",Canoe!S57*COS(RADIANS(T$4))-Canoe!T57*SIN(RADIANS(T$4))+T$1,\"\")","v":3000.7190799842547},{"$f":"IF(Canoe!T57<>\"\",(Canoe!S57*SIN(RADIANS(T$4))+Canoe!T57*COS(RADIANS(T$4))*T$3)+T$2,\"\")","v":-9.5472730397978953},null,{"$f":"IF(Canoe!V57<>\"\",Canoe!V57*COS(RADIANS(Y$4))-Canoe!W57*SIN(RADIANS(Y$4))+Y$1,\"\")","v":""},{"$f":"IF(Canoe!W57<>\"\",(Canoe!V57*SIN(RADIANS(Y$4))+Canoe!W57*COS(RADIANS(Y$4))*Y$3)+Y$2,\"\")","v":""},{"$f":"IF(Canoe!X57<>\"\",Canoe!X57*COS(RADIANS(Y$4))-Canoe!Y57*SIN(RADIANS(Y$4))+Y$1,\"\")","v":""},{"$f":"IF(Canoe!Y57<>\"\",(Canoe!X57*SIN(RADIANS(Y$4))+Canoe!Y57*COS(RADIANS(Y$4))*Y$3)+Y$2,\"\")","v":""}]
[28,{"$f":"IF(Canoe!B58<>\"\",Canoe!B58*COS(RADIANS(E$4))-Canoe!C58*SIN(RADIANS(E$4))+E$1,\"\")","v":3100.4214144350162},{"$f":"IF(Canoe!C58<>\"\",(Canoe!B58*SIN(RADIANS(E$4))+Canoe!C58*COS(RADIANS(E$4))*E$3)+E$2,\"\")","v":3.0283761975539612E-13},{"$f":"IF(Canoe!D58<>\"\",Canoe!D58*COS(RADIANS(E$4))-Canoe!E58*SIN(RADIANS(E$4))+E$1,\"\")","v":3100.4214144350162},{"$f":"IF(Canoe!E58<>\"\",(Canoe!D58*SIN(RADIANS(E$4))+Canoe!E58*COS(RADIANS(E$4))*E$3)+E$2,\"\")","v":233.41049382716082},null,{"$f":"IF(Canoe!G58<>\"\",Canoe!G58*COS(RADIANS(J$4))-Canoe!H58*SIN(RADIANS(J$4))+J$1,\"\")","v":3101.9475199961862},{"$f":"IF(Canoe!H58<>\"\",(Canoe!G58*SIN(RADIANS(J$4))+Canoe!H58*COS(RADIANS(J$4))*J$3)+J$2,\"\")","v":323.02221972473529},{"$f":"IF(Canoe!I58<>\"\",Canoe!I58*COS(RADIANS(J$4))-Canoe!J58*SIN(RADIANS(J$4))+J$1,\"\")","v":3102.0000534233927},{"$f":"IF(Canoe!J58<>\"\",(Canoe!I58*SIN(RADIANS(J$4))+Canoe!J58*COS(RADIANS(J$4))*J$3)+J$2,\"\")","v":605.56771125405714},null,{"$f":"IF(Canoe!L58<>\"\",Canoe!L58*COS(RADIANS(O$4))-Canoe!M58*SIN(RADIANS(O$4))+O$1,\"\")","v":3100.1731895574057},{"$f":"IF(Canoe!M58<>\"\",(Canoe!L58*SIN(RADIANS(O$4))+Canoe!M58*COS(RADIANS(O$4))*O$3)+O$2,\"\")","v":283.68417018879995},{"$f":"IF(Canoe!N58<>\"\",Canoe!N58*COS(RADIANS(O$4))-Canoe!O58*SIN(RADIANS(O$4))+O$1,\"\")","v":3100.1790212814772},{"$f":"IF(Canoe!O58<>\"\",(Canoe!N58*SIN(RADIANS(O$4))+Canoe!O58*COS(RADIANS(O$4))*O$3)+O$2,\"\")","v":233.91984217938202},null,{"$f":"IF(Canoe!Q58<>\"\",Canoe!Q58*COS(RADIANS(T$4))-Canoe!R58*SIN(RADIANS(T$4))+T$1,\"\")","v":3101.3259786852118},{"$f":"IF(Canoe!R58<>\"\",(Canoe!Q58*SIN(RADIANS(T$4))+Canoe!R58*COS(RADIANS(T$4))*T$3)+T$2,\"\")","v":-51.985544644736812},{"$f":"IF(Canoe!S58<>\"\",Canoe!S58*COS(RADIANS(T$4))-Canoe!T58*SIN(RADIANS(T$4))+T$1,\"\")","v":3101.3259786852122},{"$f":"IF(Canoe!T58<>\"\",(Canoe!S58*SIN(RADIANS(T$4))+Canoe!T58*COS(RADIANS(T$4))*T$3)+T$2,\"\")","v":-9.5472730397986094},null,{"$f":"IF(Canoe!V58<>\"\",Canoe!V58*COS(RADIANS(Y$4))-Canoe!W58*SIN(RADIANS(Y$4))+Y$1,\"\")","v":""},{"$f":"IF(Canoe!W58<>\"\",(Canoe!V58*SIN(RADIANS(Y$4))+Canoe!W58*COS(RADIANS(Y$4))*Y$3)+Y$2,\"\")","v":""},{"$f":"IF(Canoe!X58<>\"\",Canoe!X58*COS(RADIANS(Y$4))-Canoe!Y58*SIN(RADIANS(Y$4))+Y$1,\"\")","v":""},{"$f":"IF(Canoe!Y58<>\"\",(Canoe!X58*SIN(RADIANS(Y$4))+Canoe!Y58*COS(RADIANS(Y$4))*Y$3)+Y$2,\"\")","v":""}]
[29,{"$f":"IF(Canoe!B59<>\"\",Canoe!B59*COS(RADIANS(E$4))-Canoe!C59*SIN(RADIANS(E$4))+E$1,\"\")","v":3200.4281121702516},{"$f":"IF(Canoe!C59<>\"\",(Canoe!B59*SIN(RADIANS(E$4))+Canoe!C59*COS(RADIANS(E$4))*E$3)+E$2,\"\")","v":3.321003800998733E-13},{"$f":"IF(Canoe!D59<>\"\",Canoe!D59*COS(RADIANS(E$4))-Canoe!E59*SIN(RADIANS(E$4))+E$1,\"\")","v":3200.4281121702516},{"$f":"IF(Canoe!E59<>\"\",(Canoe!D59*SIN(RADIANS(E$4))+Canoe!E59*COS(RADIANS(E$4))*E$3)+E$2,\"\")","v":220.67901234567935},null,{"$f":"IF(Canoe!G59<>\"\",Canoe!G59*COS(RADIANS(J$4))-Canoe!H59*SIN(RADIANS(J$4))+J$1,\"\")","v":3202.7551199123368},{"$f":"IF(Canoe!H59<>\"\",(Canoe!G59*SIN(RADIANS(J$4))+Canoe!H59*COS(RADIANS(J$4))*J$3)+J$2,\"\")","v":321.90060848845417},{"$f":"IF(Canoe!I59<>\"\",Canoe!I59*COS(RADIANS(J$4))-Canoe!J59*SIN(RADIANS(J$4))+J$1,\"\")","v":3202.8264636223653},{"$f":"IF(Canoe!J59<>\"\",(Canoe!I59*SIN(RADIANS(J$4))+Canoe!J59*COS(RADIANS(J$4))*J$3)+J$2,\"\")","v":605.54242032370405},null,{"$f":"IF(Canoe!L59<>\"\",Canoe!L59*COS(RADIANS(O$4))-Canoe!M59*SIN(RADIANS(O$4))+O$1,\"\")","v":3200.1966441278282},{"$f":"IF(Canoe!M59<>\"\",(Canoe!L59*SIN(RADIANS(O$4))+Canoe!M59*COS(RADIANS(O$4))*O$3)+O$2,\"\")","v":270.98479347018178},{"$f":"IF(Canoe!N59<>\"\",Canoe!N59*COS(RADIANS(O$4))-Canoe!O59*SIN(RADIANS(O$4))+O$1,\"\")","v":3200.2035776193457},{"$f":"IF(Canoe!O59<>\"\",(Canoe!N59*SIN(RADIANS(O$4))+Canoe!O59*COS(RADIANS(O$4))*O$3)+O$2,\"\")","v":221.17083760048385},null,{"$f":"IF(Canoe!Q59<>\"\",Canoe!Q59*COS(RADIANS(T$4))-Canoe!R59*SIN(RADIANS(T$4))+T$1,\"\")","v":3202.1331739676584},{"$f":"IF(Canoe!R59<>\"\",(Canoe!Q59*SIN(RADIANS(T$4))+Canoe!R59*COS(RADIANS(T$4))*T$3)+T$2,\"\")","v":-49.670729829923019},{"$f":"IF(Canoe!S59<>\"\",Canoe!S59*COS(RADIANS(T$4))-Canoe!T59*SIN(RADIANS(T$4))+T$1,\"\")","v":3202.1331739676584},{"$f":"IF(Canoe!T59<>\"\",(Canoe!S59*SIN(RADIANS(T$4))+Canoe!T59*COS(RADIANS(T$4))*T$3)+T$2,\"\")","v":-9.5472730397995473},null,{"$f":"IF(Canoe!V59<>\"\",Canoe!V59*COS(RADIANS(Y$4))-Canoe!W59*SIN(RADIANS(Y$4))+Y$1,\"\")","v":""},{"$f":"IF(Canoe!W59<>\"\",(Canoe!V59*SIN(RADIANS(Y$4))+Canoe!W59*COS(RADIANS(Y$4))*Y$3)+Y$2,\"\")","v":""},{"$f":"IF(Canoe!X59<>\"\",Canoe!X59*COS(RADIANS(Y$4))-Canoe!Y59*SIN(RADIANS(Y$4))+Y$1,\"\")","v":""},{"$f":"IF(Canoe!Y59<>\"\",(Canoe!X59*SIN(RADIANS(Y$4))+Canoe!Y59*COS(RADIANS(Y$4))*Y$3)+Y$2,\"\")","v":""}]
[30,{"$f":"IF(Canoe!B60<>\"\",Canoe!B60*COS(RADIANS(E$4))-Canoe!C60*SIN(RADIANS(E$4))+E$1,\"\")","v":3300.436714957124},{"$f":"IF(Canoe!C60<>\"\",(Canoe!B60*SIN(RADIANS(E$4))+Canoe!C60*COS(RADIANS(E$4))*E$3)+E$2,\"\")","v":3.3491496096789573E-13},{"$f":"IF(Canoe!D60<>\"\",Canoe!D60*COS(RADIANS(E$4))-Canoe!E60*SIN(RADIANS(E$4))+E$1,\"\")","v":3300.436714957124},{"$f":"IF(Canoe!E60<>\"\",(Canoe!D60*SIN(RADIANS(E$4))+Canoe!E60*COS(RADIANS(E$4))*E$3)+E$2,\"\")","v":206.2500000000004},null,{"$f":"IF(Canoe!G60<>\"\",Canoe!G60*COS(RADIANS(J$4))-Canoe!H60*SIN(RADIANS(J$4))+J$1,\"\")","v":3303.791299144224},{"$f":"IF(Canoe!H60<>\"\",(Canoe!G60*SIN(RADIANS(J$4))+Canoe!H60*COS(RADIANS(J$4))*J$3)+J$2,\"\")","v":320.63273038858875},{"$f":"IF(Canoe!I60<>\"\",Canoe!I60*COS(RADIANS(J$4))-Canoe!J60*SIN(RADIANS(J$4))+J$1,\"\")","v":3303.8845535166074},{"$f":"IF(Canoe!J60<>\"\",(Canoe!I60*SIN(RADIANS(J$4))+Canoe!J60*COS(RADIANS(J$4))*J$3)+J$2,\"\")","v":605.54339856110937},null,{"$f":"IF(Canoe!L60<>\"\",Canoe!L60*COS(RADIANS(O$4))-Canoe!M60*SIN(RADIANS(O$4))+O$1,\"\")","v":3300.2270616588967},{"$f":"IF(Canoe!M60<>\"\",(Canoe!L60*SIN(RADIANS(O$4))+Canoe!M60*COS(RADIANS(O$4))*O$3)+O$2,\"\")","v":256.60935947361452},{"$f":"IF(Canoe!N60<>\"\",Canoe!N60*COS(RADIANS(O$4))-Canoe!O60*SIN(RADIANS(O$4))+O$1,\"\")","v":3300.2348479700281},{"$f":"IF(Canoe!O60<>\"\",(Canoe!N60*SIN(RADIANS(O$4))+Canoe!O60*COS(RADIANS(O$4))*O$3)+O$2,\"\")","v":206.72009800591357},null,{"$f":"IF(Canoe!Q60<>\"\",Canoe!Q60*COS(RADIANS(T$4))-Canoe!R60*SIN(RADIANS(T$4))+T$1,\"\")","v":3303.1687934158103},{"$f":"IF(Canoe!R60<>\"\",(Canoe!Q60*SIN(RADIANS(T$4))+Canoe!R60*COS(RADIANS(T$4))*T$3)+T$2,\"\")","v":-47.047273039800295},{"$f":"IF(Canoe!S60<>\"\",Canoe!S60*COS(RADIANS(T$4))-Canoe!T60*SIN(RADIANS(T$4))+T$1,\"\")","v":3303.1687934158103},{"$f":"IF(Canoe!T60<>\"\",(Canoe!S60*SIN(RADIANS(T$4))+Canoe!T60*COS(RADIANS(T$4))*T$3)+T$2,\"\")","v":-9.5472730398002952},null,{"$f":"IF(Canoe!V60<>\"\",Canoe!V60*COS(RADIANS(Y$4))-Canoe!W60*SIN(RADIANS(Y$4))+Y$1,\"\")","v":""},{"$f":"IF(Canoe!W60<>\"\",(Canoe!V60*SIN(RADIANS(Y$4))+Canoe!W60*COS(RADIANS(Y$4))*Y$3)+Y$2,\"\")","v":""},{"$f":"IF(Canoe!X60<>\"\",Canoe!X60*COS(RADIANS(Y$4))-Canoe!Y60*SIN(RADIANS(Y$4))+Y$1,\"\")","v":""},{"$f":"IF(Canoe!Y60<>\"\",(Canoe!X60*SIN(RADIANS(Y$4))+Canoe!Y60*COS(RADIANS(Y$4))*Y$3)+Y$2,\"\")","v":""}]
[31,{"$f":"IF(Canoe!B61<>\"\",Canoe!B61*COS(RADIANS(E$4))-Canoe!C61*SIN(RADIANS(E$4))+E$1,\"\")","v":3400.4474608837122},{"$f":"IF(Canoe!C61<>\"\",(Canoe!B61*SIN(RADIANS(E$4))+Canoe!C61*COS(RADIANS(E$4))*E$3)+E$2,\"\")","v":3.4342922696571111E-13},{"$f":"IF(Canoe!D61<>\"\",Canoe!D61*COS(RADIANS(E$4))-Canoe!E61*SIN(RADIANS(E$4))+E$1,\"\")","v":3400.4474608837122},{"$f":"IF(Canoe!E61<>\"\",(Canoe!D61*SIN(RADIANS(E$4))+Canoe!E61*COS(RADIANS(E$4))*E$3)+E$2,\"\")","v":190.12345679012381},null,{"$f":"IF(Canoe!G61<>\"\",Canoe!G61*COS(RADIANS(J$4))-Canoe!H61*SIN(RADIANS(J$4))+J$1,\"\")","v":3405.0840301041649},{"$f":"IF(Canoe!H61<>\"\",(Canoe!G61*SIN(RADIANS(J$4))+Canoe!H61*COS(RADIANS(J$4))*J$3)+J$2,\"\")","v":319.21945356869008},{"$f":"IF(Canoe!I61<>\"\",Canoe!I61*COS(RADIANS(J$4))-Canoe!J61*SIN(RADIANS(J$4))+J$1,\"\")","v":3405.2022033123799},{"$f":"IF(Canoe!J61<>\"\",(Canoe!I61*SIN(RADIANS(J$4))+Canoe!J61*COS(RADIANS(J$4))*J$3)+J$2,\"\")","v":605.57381429765087},null,{"$f":"IF(Canoe!L61<>\"\",Canoe!L61*COS(RADIANS(O$4))-Canoe!M61*SIN(RADIANS(O$4))+O$1,\"\")","v":3400.2653680777657},{"$f":"IF(Canoe!M61<>\"\",(Canoe!L61*SIN(RADIANS(O$4))+Canoe!M61*COS(RADIANS(O$4))*O$3)+O$2,\"\")","v":240.55930233663491},{"$f":"IF(Canoe!N61<>\"\",Canoe!N61*COS(RADIANS(O$4))-Canoe!O61*SIN(RADIANS(O$4))+O$1,\"\")","v":3400.2736105447566},{"$f":"IF(Canoe!O61<>\"\",(Canoe!N61*SIN(RADIANS(O$4))+Canoe!O61*COS(RADIANS(O$4))*O$3)+O$2,\"\")","v":190.567433161146},null,{"$f":"IF(Canoe!Q61<>\"\",Canoe!Q61*COS(RADIANS(T$4))-Canoe!R61*SIN(RADIANS(T$4))+T$1,\"\")","v":3404.4607743220008},{"$f":"IF(Canoe!R61<>\"\",(Canoe!Q61*SIN(RADIANS(T$4))+Canoe!R61*COS(RADIANS(T$4))*T$3)+T$2,\"\")","v":-44.115174274368876},{"$f":"IF(Canoe!S61<>\"\",Canoe!S61*COS(RADIANS(T$4))-Canoe!T61*SIN(RADIANS(T$4))+T$1,\"\")","v":3404.4607743220008},{"$f":"IF(Canoe!T61<>\"\",(Canoe!S61*SIN(RADIANS(T$4))+Canoe!T61*COS(RADIANS(T$4))*T$3)+T$2,\"\")","v":-9.5472730398009453},null,{"$f":"IF(Canoe!V61<>\"\",Canoe!V61*COS(RADIANS(Y$4))-Canoe!W61*SIN(RADIANS(Y$4))+Y$1,\"\")","v":""},{"$f":"IF(Canoe!W61<>\"\",(Canoe!V61*SIN(RADIANS(Y$4))+Canoe!W61*COS(RADIANS(Y$4))*Y$3)+Y$2,\"\")","v":""},{"$f":"IF(Canoe!X61<>\"\",Canoe!X61*COS(RADIANS(Y$4))-Canoe!Y61*SIN(RADIANS(Y$4))+Y$1,\"\")","v":""},{"$f":"IF(Canoe!Y61<>\"\",(Canoe!X61*SIN(RADIANS(Y$4))+Canoe!Y61*COS(RADIANS(Y$4))*Y$3)+Y$2,\"\")","v":""}]
[32,{"$f":"IF(Canoe!B62<>\"\",Canoe!B62*COS(RADIANS(E$4))-Canoe!C62*SIN(RADIANS(E$4))+E$1,\"\")","v":3500.4605880227891},{"$f":"IF(Canoe!C62<>\"\",(Canoe!B62*SIN(RADIANS(E$4))+Canoe!C62*COS(RADIANS(E$4))*E$3)+E$2,\"\")","v":3.5455542818542911E-13},{"$f":"IF(Canoe!D62<>\"\",Canoe!D62*COS(RADIANS(E$4))-Canoe!E62*SIN(RADIANS(E$4))+E$1,\"\")","v":3500.4605880227891},{"$f":"IF(Canoe!E62<>\"\",(Canoe!D62*SIN(RADIANS(E$4))+Canoe!E62*COS(RADIANS(E$4))*E$3)+E$2,\"\")","v":172.29938271604968},null,{"$f":"IF(Canoe!G62<>\"\",Canoe!G62*COS(RADIANS(J$4))-Canoe!H62*SIN(RADIANS(J$4))+J$1,\"\")","v":3506.6610770419175},{"$f":"IF(Canoe!H62<>\"\",(Canoe!G62*SIN(RADIANS(J$4))+Canoe!H62*COS(RADIANS(J$4))*J$3)+J$2,\"\")","v":317.66164994149443},{"$f":"IF(Canoe!I62<>\"\",Canoe!I62*COS(RADIANS(J$4))-Canoe!J62*SIN(RADIANS(J$4))+J$1,\"\")","v":3506.8070130367723},{"$f":"IF(Canoe!J62<>\"\",(Canoe!I62*SIN(RADIANS(J$4))+Canoe!J62*COS(RADIANS(J$4))*J$3)+J$2,\"\")","v":605.63683659256742},null,{"$f":"IF(Canoe!L62<>\"\",Canoe!L62*COS(RADIANS(O$4))-Canoe!M62*SIN(RADIANS(O$4))+O$1,\"\")","v":3500.3125170675967},{"$f":"IF(Canoe!M62<>\"\",(Canoe!L62*SIN(RADIANS(O$4))+Canoe!M62*COS(RADIANS(O$4))*O$3)+O$2,\"\")","v":222.83617309978072},{"$f":"IF(Canoe!N62<>\"\",Canoe!N62*COS(RADIANS(O$4))-Canoe!O62*SIN(RADIANS(O$4))+O$1,\"\")","v":3500.3206515069214},{"$f":"IF(Canoe!O62<>\"\",(Canoe!N62*SIN(RADIANS(O$4))+Canoe!O62*COS(RADIANS(O$4))*O$3)+O$2,\"\")","v":172.71275277023113},null,{"$f":"IF(Canoe!Q62<>\"\",Canoe!Q62*COS(RADIANS(T$4))-Canoe!R62*SIN(RADIANS(T$4))+T$1,\"\")","v":3506.0368424512508},{"$f":"IF(Canoe!R62<>\"\",(Canoe!Q62*SIN(RADIANS(T$4))+Canoe!R62*COS(RADIANS(T$4))*T$3)+T$2,\"\")","v":-40.87443353362918},{"$f":"IF(Canoe!S62<>\"\",Canoe!S62*COS(RADIANS(T$4))-Canoe!T62*SIN(RADIANS(T$4))+T$1,\"\")","v":3506.0368424512508},{"$f":"IF(Canoe!T62<>\"\",(Canoe!S62*SIN(RADIANS(T$4))+Canoe!T62*COS(RADIANS(T$4))*T$3)+T$2,\"\")","v":-9.5472730398020431},null,{"$f":"IF(Canoe!V62<>\"\",Canoe!V62*COS(RADIANS(Y$4))-Canoe!W62*SIN(RADIANS(Y$4))+Y$1,\"\")","v":""},{"$f":"IF(Canoe!W62<>\"\",(Canoe!V62*SIN(RADIANS(Y$4))+Canoe!W62*COS(RADIANS(Y$4))*Y$3)+Y$2,\"\")","v":""},{"$f":"IF(Canoe!X62<>\"\",Canoe!X62*COS(RADIANS(Y$4))-Canoe!Y62*SIN(RADIANS(Y$4))+Y$1,\"\")","v":""},{"$f":"IF(Canoe!Y62<>\"\",(Canoe!X62*SIN(RADIANS(Y$4))+Canoe!Y62*COS(RADIANS(Y$4))*Y$3)+Y$2,\"\")","v":""}]
[33,{"$f":"IF(Canoe!B63<>\"\",Canoe!B63*COS(RADIANS(E$4))-Canoe!C63*SIN(RADIANS(E$4))+E$1,\"\")","v":3600.4763344301236},{"$f":"IF(Canoe!C63<>\"\",(Canoe!B63*SIN(RADIANS(E$4))+Canoe!C63*COS(RADIANS(E$4))*E$3)+E$2,\"\")","v":3.8232396809560865E-13},{"$f":"IF(Canoe!D63<>\"\",Canoe!D63*COS(RADIANS(E$4))-Canoe!E63*SIN(RADIANS(E$4))+E$1,\"\")","v":3600.4763344301236},{"$f":"IF(Canoe!E63<>\"\",(Canoe!D63*SIN(RADIANS(E$4))+Canoe!E63*COS(RADIANS(E$4))*E$3)+E$2,\"\")","v":152.77777777777814},null,{"$f":"IF(Canoe!G63<>\"\",Canoe!G63*COS(RADIANS(J$4))-Canoe!H63*SIN(RADIANS(J$4))+J$1,\"\")","v":3608.549975389828},{"$f":"IF(Canoe!H63<>\"\",(Canoe!G63*SIN(RADIANS(J$4))+Canoe!H63*COS(RADIANS(J$4))*J$3)+J$2,\"\")","v":315.9601852103433},{"$f":"IF(Canoe!I63<>\"\",Canoe!I63*COS(RADIANS(J$4))-Canoe!J63*SIN(RADIANS(J$4))+J$1,\"\")","v":3608.7262830390509},{"$f":"IF(Canoe!J63<>\"\",(Canoe!I63*SIN(RADIANS(J$4))+Canoe!J63*COS(RADIANS(J$4))*J$3)+J$2,\"\")","v":605.73562525130899},null,{"$f":"IF(Canoe!L63<>\"\",Canoe!L63*COS(RADIANS(O$4))-Canoe!M63*SIN(RADIANS(O$4))+O$1,\"\")","v":3600.3695010811603},{"$f":"IF(Canoe!M63<>\"\",(Canoe!L63*SIN(RADIANS(O$4))+Canoe!M63*COS(RADIANS(O$4))*O$3)+O$2,\"\")","v":203.44165565009939},{"$f":"IF(Canoe!N63<>\"\",Canoe!N63*COS(RADIANS(O$4))-Canoe!O63*SIN(RADIANS(O$4))+O$1,\"\")","v":3600.3767733085665},{"$f":"IF(Canoe!O63<>\"\",(Canoe!N63*SIN(RADIANS(O$4))+Canoe!O63*COS(RADIANS(O$4))*O$3)+O$2,\"\")","v":153.15607444682234},null,{"$f":"IF(Canoe!Q63<>\"\",Canoe!Q63*COS(RADIANS(T$4))-Canoe!R63*SIN(RADIANS(T$4))+T$1,\"\")","v":3607.9244916505818},{"$f":"IF(Canoe!R63<>\"\",(Canoe!Q63*SIN(RADIANS(T$4))+Canoe!R63*COS(RADIANS(T$4))*T$3)+T$2,\"\")","v":-37.325050817580319},{"$f":"IF(Canoe!S63<>\"\",Canoe!S63*COS(RADIANS(T$4))-Canoe!T63*SIN(RADIANS(T$4))+T$1,\"\")","v":3607.9244916505822},{"$f":"IF(Canoe!T63<>\"\",(Canoe!S63*SIN(RADIANS(T$4))+Canoe!T63*COS(RADIANS(T$4))*T$3)+T$2,\"\")","v":-9.5472730398024979},null,{"$f":"IF(Canoe!V63<>\"\",Canoe!V63*COS(RADIANS(Y$4))-Canoe!W63*SIN(RADIANS(Y$4))+Y$1,\"\")","v":""},{"$f":"IF(Canoe!W63<>\"\",(Canoe!V63*SIN(RADIANS(Y$4))+Canoe!W63*COS(RADIANS(Y$4))*Y$3)+Y$2,\"\")","v":""},{"$f":"IF(Canoe!X63<>\"\",Canoe!X63*COS(RADIANS(Y$4))-Canoe!Y63*SIN(RADIANS(Y$4))+Y$1,\"\")","v":""},{"$f":"IF(Canoe!Y63<>\"\",(Canoe!X63*SIN(RADIANS(Y$4))+Canoe!Y63*COS(RADIANS(Y$4))*Y$3)+Y$2,\"\")","v":""}]
[34,{"$f":"IF(Canoe!B64<>\"\",Canoe!B64*COS(RADIANS(E$4))-Canoe!C64*SIN(RADIANS(E$4))+E$1,\"\")","v":3700.4949381427818},{"$f":"IF(Canoe!C64<>\"\",(Canoe!B64*SIN(RADIANS(E$4))+Canoe!C64*COS(RADIANS(E$4))*E$3)+E$2,\"\")","v":3.9237406674752564E-13},{"$f":"IF(Canoe!D64<>\"\",Canoe!D64*COS(RADIANS(E$4))-Canoe!E64*SIN(RADIANS(E$4))+E$1,\"\")","v":3700.4949381427818},{"$f":"IF(Canoe!E64<>\"\",(Canoe!D64*SIN(RADIANS(E$4))+Canoe!E64*COS(RADIANS(E$4))*E$3)+E$2,\"\")","v":131.558641975309},null,{"$f":"IF(Canoe!G64<>\"\",Canoe!G64*COS(RADIANS(J$4))-Canoe!H64*SIN(RADIANS(J$4))+J$1,\"\")","v":3710.778011950043},{"$f":"IF(Canoe!H64<>\"\",(Canoe!G64*SIN(RADIANS(J$4))+Canoe!H64*COS(RADIANS(J$4))*J$3)+J$2,\"\")","v":314.11590923404248},{"$f":"IF(Canoe!I64<>\"\",Canoe!I64*COS(RADIANS(J$4))-Canoe!J64*SIN(RADIANS(J$4))+J$1,\"\")","v":3710.986995588115},{"$f":"IF(Canoe!J64<>\"\",(Canoe!I64*SIN(RADIANS(J$4))+Canoe!J64*COS(RADIANS(J$4))*J$3)+J$2,\"\")","v":605.87332128192247},null,{"$f":"IF(Canoe!L64<>\"\",Canoe!L64*COS(RADIANS(O$4))-Canoe!M64*SIN(RADIANS(O$4))+O$1,\"\")","v":3700.4373638114248},{"$f":"IF(Canoe!M64<>\"\",(Canoe!L64*SIN(RADIANS(O$4))+Canoe!M64*COS(RADIANS(O$4))*O$3)+O$2,\"\")","v":182.37758339813473},{"$f":"IF(Canoe!N64<>\"\",Canoe!N64*COS(RADIANS(O$4))-Canoe!O64*SIN(RADIANS(O$4))+O$1,\"\")","v":3700.4428037491812},{"$f":"IF(Canoe!O64<>\"\",(Canoe!N64*SIN(RADIANS(O$4))+Canoe!O64*COS(RADIANS(O$4))*O$3)+O$2,\"\")","v":131.89753191492014},null,{"$f":"IF(Canoe!Q64<>\"\",Canoe!Q64*COS(RADIANS(T$4))-Canoe!R64*SIN(RADIANS(T$4))+T$1,\"\")","v":3710.1509643677973},{"$f":"IF(Canoe!R64<>\"\",(Canoe!Q64*SIN(RADIANS(T$4))+Canoe!R64*COS(RADIANS(T$4))*T$3)+T$2,\"\")","v":-33.467026126222514},{"$f":"IF(Canoe!S64<>\"\",Canoe!S64*COS(RADIANS(T$4))-Canoe!T64*SIN(RADIANS(T$4))+T$1,\"\")","v":3710.1509643677978},{"$f":"IF(Canoe!T64<>\"\",(Canoe!S64*SIN(RADIANS(T$4))+Canoe!T64*COS(RADIANS(T$4))*T$3)+T$2,\"\")","v":-9.5472730398027768},null,{"$f":"IF(Canoe!V64<>\"\",Canoe!V64*COS(RADIANS(Y$4))-Canoe!W64*SIN(RADIANS(Y$4))+Y$1,\"\")","v":""},{"$f":"IF(Canoe!W64<>\"\",(Canoe!V64*SIN(RADIANS(Y$4))+Canoe!W64*COS(RADIANS(Y$4))*Y$3)+Y$2,\"\")","v":""},{"$f":"IF(Canoe!X64<>\"\",Canoe!X64*COS(RADIANS(Y$4))-Canoe!Y64*SIN(RADIANS(Y$4))+Y$1,\"\")","v":""},{"$f":"IF(Canoe!Y64<>\"\",(Canoe!X64*SIN(RADIANS(Y$4))+Canoe!Y64*COS(RADIANS(Y$4))*Y$3)+Y$2,\"\")","v":""}]
[35,{"$f":"IF(Canoe!B65<>\"\",Canoe!B65*COS(RADIANS(E$4))-Canoe!C65*SIN(RADIANS(E$4))+E$1,\"\")","v":3800.5166371774303},{"$f":"IF(Canoe!C65<>\"\",(Canoe!B65*SIN(RADIANS(E$4))+Canoe!C65*COS(RADIANS(E$4))*E$3)+E$2,\"\")","v":4.0453491291305828E-13},{"$f":"IF(Canoe!D65<>\"\",Canoe!D65*COS(RADIANS(E$4))-Canoe!E65*SIN(RADIANS(E$4))+E$1,\"\")","v":3800.5166371774303},{"$f":"IF(Canoe!E65<>\"\",(Canoe!D65*SIN(RADIANS(E$4))+Canoe!E65*COS(RADIANS(E$4))*E$3)+E$2,\"\")","v":108.64197530864243},null,{"$f":"IF(Canoe!G65<>\"\",Canoe!G65*COS(RADIANS(J$4))-Canoe!H65*SIN(RADIANS(J$4))+J$1,\"\")","v":3813.3722059889928},{"$f":"IF(Canoe!H65<>\"\",(Canoe!G65*SIN(RADIANS(J$4))+Canoe!H65*COS(RADIANS(J$4))*J$3)+J$2,\"\")","v":312.12964681752999},{"$f":"IF(Canoe!I65<>\"\",Canoe!I65*COS(RADIANS(J$4))-Canoe!J65*SIN(RADIANS(J$4))+J$1,\"\")","v":3813.615797614284},{"$f":"IF(Canoe!J65<>\"\",(Canoe!I65*SIN(RADIANS(J$4))+Canoe!J65*COS(RADIANS(J$4))*J$3)+J$2,\"\")","v":606.05303786545926},null,{"$f":"IF(Canoe!L65<>\"\",Canoe!L65*COS(RADIANS(O$4))-Canoe!M65*SIN(RADIANS(O$4))+O$1,\"\")","v":3800.5172142018937},{"$f":"IF(Canoe!M65<>\"\",(Canoe!L65*SIN(RADIANS(O$4))+Canoe!M65*COS(RADIANS(O$4))*O$3)+O$2,\"\")","v":159.64595676917784},{"$f":"IF(Canoe!N65<>\"\",Canoe!N65*COS(RADIANS(O$4))-Canoe!O65*SIN(RADIANS(O$4))+O$1,\"\")","v":3800.5196058307879},{"$f":"IF(Canoe!O65<>\"\",(Canoe!N65*SIN(RADIANS(O$4))+Canoe!O65*COS(RADIANS(O$4))*O$3)+O$2,\"\")","v":108.93738367190873},null,{"$f":"IF(Canoe!Q65<>\"\",Canoe!Q65*COS(RADIANS(T$4))-Canoe!R65*SIN(RADIANS(T$4))+T$1,\"\")","v":3812.7432331365067},{"$f":"IF(Canoe!R65<>\"\",(Canoe!Q65*SIN(RADIANS(T$4))+Canoe!R65*COS(RADIANS(T$4))*T$3)+T$2,\"\")","v":-29.300359459556226},{"$f":"IF(Canoe!S65<>\"\",Canoe!S65*COS(RADIANS(T$4))-Canoe!T65*SIN(RADIANS(T$4))+T$1,\"\")","v":3812.7432331365071},{"$f":"IF(Canoe!T65<>\"\",(Canoe!S65*SIN(RADIANS(T$4))+Canoe!T65*COS(RADIANS(T$4))*T$3)+T$2,\"\")","v":-9.5472730398031747},null,{"$f":"IF(Canoe!V65<>\"\",Canoe!V65*COS(RADIANS(Y$4))-Canoe!W65*SIN(RADIANS(Y$4))+Y$1,\"\")","v":""},{"$f":"IF(Canoe!W65<>\"\",(Canoe!V65*SIN(RADIANS(Y$4))+Canoe!W65*COS(RADIANS(Y$4))*Y$3)+Y$2,\"\")","v":""},{"$f":"IF(Canoe!X65<>\"\",Canoe!X65*COS(RADIANS(Y$4))-Canoe!Y65*SIN(RADIANS(Y$4))+Y$1,\"\")","v":""},{"$f":"IF(Canoe!Y65<>\"\",(Canoe!X65*SIN(RADIANS(Y$4))+Canoe!Y65*COS(RADIANS(Y$4))*Y$3)+Y$2,\"\")","v":""}]
[36,{"$f":"IF(Canoe!B66<>\"\",Canoe!B66*COS(RADIANS(E$4))-Canoe!C66*SIN(RADIANS(E$4))+E$1,\"\")","v":3900.5416695286385},{"$f":"IF(Canoe!C66<>\"\",(Canoe!B66*SIN(RADIANS(E$4))+Canoe!C66*COS(RADIANS(E$4))*E$3)+E$2,\"\")","v":4.1976956176726276E-13},{"$f":"IF(Canoe!D66<>\"\",Canoe!D66*COS(RADIANS(E$4))-Canoe!E66*SIN(RADIANS(E$4))+E$1,\"\")","v":3900.5416695286385},{"$f":"IF(Canoe!E66<>\"\",(Canoe!D66*SIN(RADIANS(E$4))+Canoe!E66*COS(RADIANS(E$4))*E$3)+E$2,\"\")","v":84.027777777778226},null,{"$f":"IF(Canoe!G66<>\"\",Canoe!G66*COS(RADIANS(J$4))-Canoe!H66*SIN(RADIANS(J$4))+J$1,\"\")","v":3916.3592912968015},{"$f":"IF(Canoe!H66<>\"\",(Canoe!G66*SIN(RADIANS(J$4))+Canoe!H66*COS(RADIANS(J$4))*J$3)+J$2,\"\")","v":310.00218900342821},{"$f":"IF(Canoe!I66<>\"\",Canoe!I66*COS(RADIANS(J$4))-Canoe!J66*SIN(RADIANS(J$4))+J$1,\"\")","v":3916.638984633827},{"$f":"IF(Canoe!J66<>\"\",(Canoe!I66*SIN(RADIANS(J$4))+Canoe!J66*COS(RADIANS(J$4))*J$3)+J$2,\"\")","v":606.2778519072906},null,{"$f":"IF(Canoe!L66<>\"\",Canoe!L66*COS(RADIANS(O$4))-Canoe!M66*SIN(RADIANS(O$4))+O$1,\"\")","v":3900.610242082173},{"$f":"IF(Canoe!M66<>\"\",(Canoe!L66*SIN(RADIANS(O$4))+Canoe!M66*COS(RADIANS(O$4))*O$3)+O$2,\"\")","v":135.24896156946775},{"$f":"IF(Canoe!N66<>\"\",Canoe!N66*COS(RADIANS(O$4))-Canoe!O66*SIN(RADIANS(O$4))+O$1,\"\")","v":3900.6080885105571},{"$f":"IF(Canoe!O66<>\"\",(Canoe!N66*SIN(RADIANS(O$4))+Canoe!O66*COS(RADIANS(O$4))*O$3)+O$2,\"\")","v":84.276022347139701},null,{"$f":"IF(Canoe!Q66<>\"\",Canoe!Q66*COS(RADIANS(T$4))-Canoe!R66*SIN(RADIANS(T$4))+T$1,\"\")","v":3915.7279830759444},{"$f":"IF(Canoe!R66<>\"\",(Canoe!Q66*SIN(RADIANS(T$4))+Canoe!R66*COS(RADIANS(T$4))*T$3)+T$2,\"\")","v":-24.825050817582365},{"$f":"IF(Canoe!S66<>\"\",Canoe!S66*COS(RADIANS(T$4))-Canoe!T66*SIN(RADIANS(T$4))+T$1,\"\")","v":3915.7279830759444},{"$f":"IF(Canoe!T66<>\"\",(Canoe!S66*SIN(RADIANS(T$4))+Canoe!T66*COS(RADIANS(T$4))*T$3)+T$2,\"\")","v":-9.5472730398045691},null,{"$f":"IF(Canoe!V66<>\"\",Canoe!V66*COS(RADIANS(Y$4))-Canoe!W66*SIN(RADIANS(Y$4))+Y$1,\"\")","v":""},{"$f":"IF(Canoe!W66<>\"\",(Canoe!V66*SIN(RADIANS(Y$4))+Canoe!W66*COS(RADIANS(Y$4))*Y$3)+Y$2,\"\")","v":""},{"$f":"IF(Canoe!X66<>\"\",Canoe!X66*COS(RADIANS(Y$4))-Canoe!Y66*SIN(RADIANS(Y$4))+Y$1,\"\")","v":""},{"$f":"IF(Canoe!Y66<>\"\",(Canoe!X66*SIN(RADIANS(Y$4))+Canoe!Y66*COS(RADIANS(Y$4))*Y$3)+Y$2,\"\")","v":""}]
[37,{"$f":"IF(Canoe!B67<>\"\",Canoe!B67*COS(RADIANS(E$4))-Canoe!C67*SIN(RADIANS(E$4))+E$1,\"\")","v":4000.5702731671836},{"$f":"IF(Canoe!C67<>\"\",(Canoe!B67*SIN(RADIANS(E$4))+Canoe!C67*COS(RADIANS(E$4))*E$3)+E$2,\"\")","v":4.5481336211172663E-13},{"$f":"IF(Canoe!D67<>\"\",Canoe!D67*COS(RADIANS(E$4))-Canoe!E67*SIN(RADIANS(E$4))+E$1,\"\")","v":4000.5702731671836},{"$f":"IF(Canoe!E67<>\"\",(Canoe!D67*SIN(RADIANS(E$4))+Canoe!E67*COS(RADIANS(E$4))*E$3)+E$2,\"\")","v":57.716049382716498},null,{"$f":"IF(Canoe!G67<>\"\",Canoe!G67*COS(RADIANS(J$4))-Canoe!H67*SIN(RADIANS(J$4))+J$1,\"\")","v":4019.7656992613561},{"$f":"IF(Canoe!H67<>\"\",(Canoe!G67*SIN(RADIANS(J$4))+Canoe!H67*COS(RADIANS(J$4))*J$3)+J$2,\"\")","v":307.73428493121838},{"$f":"IF(Canoe!I67<>\"\",Canoe!I67*COS(RADIANS(J$4))-Canoe!J67*SIN(RADIANS(J$4))+J$1,\"\")","v":4020.08248588481},{"$f":"IF(Canoe!J67<>\"\",(Canoe!I67*SIN(RADIANS(J$4))+Canoe!J67*COS(RADIANS(J$4))*J$3)+J$2,\"\")","v":606.55079622639732},null,{"$f":"IF(Canoe!L67<>\"\",Canoe!L67*COS(RADIANS(O$4))-Canoe!M67*SIN(RADIANS(O$4))+O$1,\"\")","v":4000.7177355116664},{"$f":"IF(Canoe!M67<>\"\",(Canoe!L67*SIN(RADIANS(O$4))+Canoe!M67*COS(RADIANS(O$4))*O$3)+O$2,\"\")","v":109.18898825928518},{"$f":"IF(Canoe!N67<>\"\",Canoe!N67*COS(RADIANS(O$4))-Canoe!O67*SIN(RADIANS(O$4))+O$1,\"\")","v":4000.7092184764397},{"$f":"IF(Canoe!O67<>\"\",(Canoe!N67*SIN(RADIANS(O$4))+Canoe!O67*COS(RADIANS(O$4))*O$3)+O$2,\"\")","v":57.913984979028719},null,{"$f":"IF(Canoe!Q67<>\"\",Canoe!Q67*COS(RADIANS(T$4))-Canoe!R67*SIN(RADIANS(T$4))+T$1,\"\")","v":4019.1315954458009},{"$f":"IF(Canoe!R67<>\"\",(Canoe!Q67*SIN(RADIANS(T$4))+Canoe!R67*COS(RADIANS(T$4))*T$3)+T$2,\"\")","v":-20.041100200299272},{"$f":"IF(Canoe!S67<>\"\",Canoe!S67*COS(RADIANS(T$4))-Canoe!T67*SIN(RADIANS(T$4))+T$1,\"\")","v":4019.1315954458009},{"$f":"IF(Canoe!T67<>\"\",(Canoe!S67*SIN(RADIANS(T$4))+Canoe!T67*COS(RADIANS(T$4))*T$3)+T$2,\"\")","v":-9.5472730398053898},null,{"$f":"IF(Canoe!V67<>\"\",Canoe!V67*COS(RADIANS(Y$4))-Canoe!W67*SIN(RADIANS(Y$4))+Y$1,\"\")","v":""},{"$f":"IF(Canoe!W67<>\"\",(Canoe!V67*SIN(RADIANS(Y$4))+Canoe!W67*COS(RADIANS(Y$4))*Y$3)+Y$2,\"\")","v":""},{"$f":"IF(Canoe!X67<>\"\",Canoe!X67*COS(RADIANS(Y$4))-Canoe!Y67*SIN(RADIANS(Y$4))+Y$1,\"\")","v":""},{"$f":"IF(Canoe!Y67<>\"\",(Canoe!X67*SIN(RADIANS(Y$4))+Canoe!Y67*COS(RADIANS(Y$4))*Y$3)+Y$2,\"\")","v":""}]
[38,{"$f":"IF(Canoe!B68<>\"\",Canoe!B68*COS(RADIANS(E$4))-Canoe!C68*SIN(RADIANS(E$4))+E$1,\"\")","v":4100.6026860383554},{"$f":"IF(Canoe!C68<>\"\",(Canoe!B68*SIN(RADIANS(E$4))+Canoe!C68*COS(RADIANS(E$4))*E$3)+E$2,\"\")","v":4.6587680583332292E-13},{"$f":"IF(Canoe!D68<>\"\",Canoe!D68*COS(RADIANS(E$4))-Canoe!E68*SIN(RADIANS(E$4))+E$1,\"\")","v":4100.6026860383554},{"$f":"IF(Canoe!E68<>\"\",(Canoe!D68*SIN(RADIANS(E$4))+Canoe!E68*COS(RADIANS(E$4))*E$3)+E$2,\"\")","v":29.706790123457331},null,{"$f":"IF(Canoe!G68<>\"\",Canoe!G68*COS(RADIANS(J$4))-Canoe!H68*SIN(RADIANS(J$4))+J$1,\"\")","v":4123.6175429985897},{"$f":"IF(Canoe!H68<>\"\",(Canoe!G68*SIN(RADIANS(J$4))+Canoe!H68*COS(RADIANS(J$4))*J$3)+J$2,\"\")","v":305.32663432158557},{"$f":"IF(Canoe!I68<>\"\",Canoe!I68*COS(RADIANS(J$4))-Canoe!J68*SIN(RADIANS(J$4))+J$1,\"\")","v":4123.9718506932186},{"$f":"IF(Canoe!J68<>\"\",(Canoe!I68*SIN(RADIANS(J$4))+Canoe!J68*COS(RADIANS(J$4))*J$3)+J$2,\"\")","v":606.87485242934144},null,{"$f":"IF(Canoe!L68<>\"\",Canoe!L68*COS(RADIANS(O$4))-Canoe!M68*SIN(RADIANS(O$4))+O$1,\"\")","v":4100.841099905052},{"$f":"IF(Canoe!M68<>\"\",(Canoe!L68*SIN(RADIANS(O$4))+Canoe!M68*COS(RADIANS(O$4))*O$3)+O$2,\"\")","v":81.468652127369822},{"$f":"IF(Canoe!N68<>\"\",Canoe!N68*COS(RADIANS(O$4))-Canoe!O68*SIN(RADIANS(O$4))+O$1,\"\")","v":4100.8240330905965},{"$f":"IF(Canoe!O68<>\"\",(Canoe!N68*SIN(RADIANS(O$4))+Canoe!O68*COS(RADIANS(O$4))*O$3)+O$2,\"\")","v":29.851964411373512},null,{"$f":"IF(Canoe!Q68<>\"\",Canoe!Q68*COS(RADIANS(T$4))-Canoe!R68*SIN(RADIANS(T$4))+T$1,\"\")","v":4122.9801322879357},{"$f":"IF(Canoe!R68<>\"\",(Canoe!Q68*SIN(RADIANS(T$4))+Canoe!R68*COS(RADIANS(T$4))*T$3)+T$2,\"\")","v":-14.94850760770772},{"$f":"IF(Canoe!S68<>\"\",Canoe!S68*COS(RADIANS(T$4))-Canoe!T68*SIN(RADIANS(T$4))+T$1,\"\")","v":4122.9801322879366},{"$f":"IF(Canoe!T68<>\"\",(Canoe!S68*SIN(RADIANS(T$4))+Canoe!T68*COS(RADIANS(T$4))*T$3)+T$2,\"\")","v":-9.5472730398064627},null,{"$f":"IF(Canoe!V68<>\"\",Canoe!V68*COS(RADIANS(Y$4))-Canoe!W68*SIN(RADIANS(Y$4))+Y$1,\"\")","v":""},{"$f":"IF(Canoe!W68<>\"\",(Canoe!V68*SIN(RADIANS(Y$4))+Canoe!W68*COS(RADIANS(Y$4))*Y$3)+Y$2,\"\")","v":""},{"$f":"IF(Canoe!X68<>\"\",Canoe!X68*COS(RADIANS(Y$4))-Canoe!Y68*SIN(RADIANS(Y$4))+Y$1,\"\")","v":""},{"$f":"IF(Canoe!Y68<>\"\",(Canoe!X68*SIN(RADIANS(Y$4))+Canoe!Y68*COS(RADIANS(Y$4))*Y$3)+Y$2,\"\")","v":""}]
[39,{"$f":"IF(Canoe!B69<>\"\",Canoe!B69*COS(RADIANS(E$4))-Canoe!C69*SIN(RADIANS(E$4))+E$1,\"\")","v":4200.6391460602608},{"$f":"IF(Canoe!C69<>\"\",(Canoe!B69*SIN(RADIANS(E$4))+Canoe!C69*COS(RADIANS(E$4))*E$3)+E$2,\"\")","v":4.7260797849058453E-13},{"$f":"IF(Canoe!D69<>\"\",Canoe!D69*COS(RADIANS(E$4))-Canoe!E69*SIN(RADIANS(E$4))+E$1,\"\")","v":4200.6391460602608},{"$f":"IF(Canoe!E69<>\"\",(Canoe!D69*SIN(RADIANS(E$4))+Canoe!E69*COS(RADIANS(E$4))*E$3)+E$2,\"\")","v":4.7299869537939945E-13},null,{"$f":"IF(Canoe!G69<>\"\",Canoe!G69*COS(RADIANS(J$4))-Canoe!H69*SIN(RADIANS(J$4))+J$1,\"\")","v":4227.9406025722365},{"$f":"IF(Canoe!H69<>\"\",(Canoe!G69*SIN(RADIANS(J$4))+Canoe!H69*COS(RADIANS(J$4))*J$3)+J$2,\"\")","v":302.77988063367326},{"$f":"IF(Canoe!I69<>\"\",Canoe!I69*COS(RADIANS(J$4))-Canoe!J69*SIN(RADIANS(J$4))+J$1,\"\")","v":4228.3322360789498},{"$f":"IF(Canoe!J69<>\"\",(Canoe!I69*SIN(RADIANS(J$4))+Canoe!J69*COS(RADIANS(J$4))*J$3)+J$2,\"\")","v":607.25294450500576},null,{"$f":"IF(Canoe!L69<>\"\",Canoe!L69*COS(RADIANS(O$4))-Canoe!M69*SIN(RADIANS(O$4))+O$1,\"\")","v":4200.9818789960391},{"$f":"IF(Canoe!M69<>\"\",(Canoe!L69*SIN(RADIANS(O$4))+Canoe!M69*COS(RADIANS(O$4))*O$3)+O$2,\"\")","v":52.090814315059774},{"$f":"IF(Canoe!N69<>\"\",Canoe!N69*COS(RADIANS(O$4))-Canoe!O69*SIN(RADIANS(O$4))+O$1,\"\")","v":4200.9536546576774},{"$f":"IF(Canoe!O69<>\"\",(Canoe!N69*SIN(RADIANS(O$4))+Canoe!O69*COS(RADIANS(O$4))*O$3)+O$2,\"\")","v":9.0821974803445005E-2},null,{"$f":"IF(Canoe!Q69<>\"\",Canoe!Q69*COS(RADIANS(T$4))-Canoe!R69*SIN(RADIANS(T$4))+T$1,\"\")","v":4227.2993221785746},{"$f":"IF(Canoe!R69<>\"\",(Canoe!Q69*SIN(RADIANS(T$4))+Canoe!R69*COS(RADIANS(T$4))*T$3)+T$2,\"\")","v":-9.5472730398104968},{"$f":"IF(Canoe!S69<>\"\",Canoe!S69*COS(RADIANS(T$4))-Canoe!T69*SIN(RADIANS(T$4))+T$1,\"\")","v":4227.2993221785746},{"$f":"IF(Canoe!T69<>\"\",(Canoe!S69*SIN(RADIANS(T$4))+Canoe!T69*COS(RADIANS(T$4))*T$3)+T$2,\"\")","v":-9.5472730398104968},null,{"$f":"IF(Canoe!V69<>\"\",Canoe!V69*COS(RADIANS(Y$4))-Canoe!W69*SIN(RADIANS(Y$4))+Y$1,\"\")","v":""},{"$f":"IF(Canoe!W69<>\"\",(Canoe!V69*SIN(RADIANS(Y$4))+Canoe!W69*COS(RADIANS(Y$4))*Y$3)+Y$2,\"\")","v":""},{"$f":"IF(Canoe!X69<>\"\",Canoe!X69*COS(RADIANS(Y$4))-Canoe!Y69*SIN(RADIANS(Y$4))+Y$1,\"\")","v":""},{"$f":"IF(Canoe!Y69<>\"\",(Canoe!X69*SIN(RADIANS(Y$4))+Canoe!Y69*COS(RADIANS(Y$4))*Y$3)+Y$2,\"\")","v":""}]
[40,{"$f":"IF(Canoe!B70<>\"\",Canoe!B70*COS(RADIANS(E$4))-Canoe!C70*SIN(RADIANS(E$4))+E$1,\"\")","v":""},{"$f":"IF(Canoe!C70<>\"\",(Canoe!B70*SIN(RADIANS(E$4))+Canoe!C70*COS(RADIANS(E$4))*E$3)+E$2,\"\")","v":""},{"$f":"IF(Canoe!D70<>\"\",Canoe!D70*COS(RADIANS(E$4))-Canoe!E70*SIN(RADIANS(E$4))+E$1,\"\")","v":""},{"$f":"IF(Canoe!E70<>\"\",(Canoe!D70*SIN(RADIANS(E$4))+Canoe!E70*COS(RADIANS(E$4))*E$3)+E$2,\"\")","v":""},null,{"$f":"IF(Canoe!G70<>\"\",Canoe!G70*COS(RADIANS(J$4))-Canoe!H70*SIN(RADIANS(J$4))+J$1,\"\")","v":4333.2004752594175},{"$f":"IF(Canoe!H70<>\"\",(Canoe!G70*SIN(RADIANS(J$4))+Canoe!H70*COS(RADIANS(J$4))*J$3)+J$2,\"\")","v":487.76311808150547},{"$f":"IF(Canoe!I70<>\"\",Canoe!I70*COS(RADIANS(J$4))-Canoe!J70*SIN(RADIANS(J$4))+J$1,\"\")","v":4333.1883909396329},{"$f":"IF(Canoe!J70<>\"\",(Canoe!I70*SIN(RADIANS(J$4))+Canoe!J70*COS(RADIANS(J$4))*J$3)+J$2,\"\")","v":607.68905569369792},null,{"$f":"IF(Canoe!L70<>\"\",Canoe!L70*COS(RADIANS(O$4))-Canoe!M70*SIN(RADIANS(O$4))+O$1,\"\")","v":4301.1417776697217},{"$f":"IF(Canoe!M70<>\"\",(Canoe!L70*SIN(RADIANS(O$4))+Canoe!M70*COS(RADIANS(O$4))*O$3)+O$2,\"\")","v":21.058603584694705},{"$f":"IF(Canoe!N70<>\"\",Canoe!N70*COS(RADIANS(O$4))-Canoe!O70*SIN(RADIANS(O$4))+O$1,\"\")","v":4301.1371261291588},{"$f":"IF(Canoe!O70<>\"\",(Canoe!N70*SIN(RADIANS(O$4))+Canoe!O70*COS(RADIANS(O$4))*O$3)+O$2,\"\")","v":3.6143415533017587E-2},null,{"$f":"IF(Canoe!Q70<>\"\",Canoe!Q70*COS(RADIANS(T$4))-Canoe!R70*SIN(RADIANS(T$4))+T$1,\"\")","v":""},{"$f":"IF(Canoe!R70<>\"\",(Canoe!Q70*SIN(RADIANS(T$4))+Canoe!R70*COS(RADIANS(T$4))*T$3)+T$2,\"\")","v":""},{"$f":"IF(Canoe!S70<>\"\",Canoe!S70*COS(RADIANS(T$4))-Canoe!T70*SIN(RADIANS(T$4))+T$1,\"\")","v":""},{"$f":"IF(Canoe!T70<>\"\",(Canoe!S70*SIN(RADIANS(T$4))+Canoe!T70*COS(RADIANS(T$4))*T$3)+T$2,\"\")","v":""},null,{"$f":"IF(Canoe!V70<>\"\",Canoe!V70*COS(RADIANS(Y$4))-Canoe!W70*SIN(RADIANS(Y$4))+Y$1,\"\")","v":""},{"$f":"IF(Canoe!W70<>\"\",(Canoe!V70*SIN(RADIANS(Y$4))+Canoe!W70*COS(RADIANS(Y$4))*Y$3)+Y$2,\"\")","v":""},{"$f":"IF(Canoe!X70<>\"\",Canoe!X70*COS(RADIANS(Y$4))-Canoe!Y70*SIN(RADIANS(Y$4))+Y$1,\"\")","v":""},{"$f":"IF(Canoe!Y70<>\"\",(Canoe!X70*SIN(RADIANS(Y$4))+Canoe!Y70*COS(RADIANS(Y$4))*Y$3)+Y$2,\"\")","v":""}]
[41,{"$f":"IF(Canoe!B71<>\"\",Canoe!B71*COS(RADIANS(E$4))-Canoe!C71*SIN(RADIANS(E$4))+E$1,\"\")","v":""},{"$f":"IF(Canoe!C71<>\"\",(Canoe!B71*SIN(RADIANS(E$4))+Canoe!C71*COS(RADIANS(E$4))*E$3)+E$2,\"\")","v":""},{"$f":"IF(Canoe!D71<>\"\",Canoe!D71*COS(RADIANS(E$4))-Canoe!E71*SIN(RADIANS(E$4))+E$1,\"\")","v":""},{"$f":"IF(Canoe!E71<>\"\",(Canoe!D71*SIN(RADIANS(E$4))+Canoe!E71*COS(RADIANS(E$4))*E$3)+E$2,\"\")","v":""},null,{"$f":"IF(Canoe!G71<>\"\",Canoe!G71*COS(RADIANS(J$4))-Canoe!H71*SIN(RADIANS(J$4))+J$1,\"\")","v":4401.6226973232206},{"$f":"IF(Canoe!H71<>\"\",(Canoe!G71*SIN(RADIANS(J$4))+Canoe!H71*COS(RADIANS(J$4))*J$3)+J$2,\"\")","v":608.00034184272545},{"$f":"IF(Canoe!I71<>\"\",Canoe!I71*COS(RADIANS(J$4))-Canoe!J71*SIN(RADIANS(J$4))+J$1,\"\")","v":4401.6226973232206},{"$f":"IF(Canoe!J71<>\"\",(Canoe!I71*SIN(RADIANS(J$4))+Canoe!J71*COS(RADIANS(J$4))*J$3)+J$2,\"\")","v":608.00034184272545},null,{"$f":"IF(Canoe!L71<>\"\",Canoe!L71*COS(RADIANS(O$4))-Canoe!M71*SIN(RADIANS(O$4))+O$1,\"\")","v":4366.2563825856205},{"$f":"IF(Canoe!M71<>\"\",(Canoe!L71*SIN(RADIANS(O$4))+Canoe!M71*COS(RADIANS(O$4))*O$3)+O$2,\"\")","v":6.0235200727465354E-4},{"$f":"IF(Canoe!N71<>\"\",Canoe!N71*COS(RADIANS(O$4))-Canoe!O71*SIN(RADIANS(O$4))+O$1,\"\")","v":4366.2563825856205},{"$f":"IF(Canoe!O71<>\"\",(Canoe!N71*SIN(RADIANS(O$4))+Canoe!O71*COS(RADIANS(O$4))*O$3)+O$2,\"\")","v":6.0235200727465354E-4},null,{"$f":"IF(Canoe!Q71<>\"\",Canoe!Q71*COS(RADIANS(T$4))-Canoe!R71*SIN(RADIANS(T$4))+T$1,\"\")","v":""},{"$f":"IF(Canoe!R71<>\"\",(Canoe!Q71*SIN(RADIANS(T$4))+Canoe!R71*COS(RADIANS(T$4))*T$3)+T$2,\"\")","v":""},{"$f":"IF(Canoe!S71<>\"\",Canoe!S71*COS(RADIANS(T$4))-Canoe!T71*SIN(RADIANS(T$4))+T$1,\"\")","v":""},{"$f":"IF(Canoe!T71<>\"\",(Canoe!S71*SIN(RADIANS(T$4))+Canoe!T71*COS(RADIANS(T$4))*T$3)+T$2,\"\")","v":""},null,{"$f":"IF(Canoe!V71<>\"\",Canoe!V71*COS(RADIANS(Y$4))-Canoe!W71*SIN(RADIANS(Y$4))+Y$1,\"\")","v":""},{"$f":"IF(Canoe!W71<>\"\",(Canoe!V71*SIN(RADIANS(Y$4))+Canoe!W71*COS(RADIANS(Y$4))*Y$3)+Y$2,\"\")","v":""},{"$f":"IF(Canoe!X71<>\"\",Canoe!X71*COS(RADIANS(Y$4))-Canoe!Y71*SIN(RADIANS(Y$4))+Y$1,\"\")","v":""},{"$f":"IF(Canoe!Y71<>\"\",(Canoe!X71*SIN(RADIANS(Y$4))+Canoe!Y71*COS(RADIANS(Y$4))*Y$3)+Y$2,\"\")","v":""}]
[42,{"$f":"IF(Canoe!B72<>\"\",Canoe!B72*COS(RADIANS(E$4))-Canoe!C72*SIN(RADIANS(E$4))+E$1,\"\")","v":""},{"$f":"IF(Canoe!C72<>\"\",(Canoe!B72*SIN(RADIANS(E$4))+Canoe!C72*COS(RADIANS(E$4))*E$3)+E$2,\"\")","v":""},{"$f":"IF(Canoe!D72<>\"\",Canoe!D72*COS(RADIANS(E$4))-Canoe!E72*SIN(RADIANS(E$4))+E$1,\"\")","v":""},{"$f":"IF(Canoe!E72<>\"\",(Canoe!D72*SIN(RADIANS(E$4))+Canoe!E72*COS(RADIANS(E$4))*E$3)+E$2,\"\")","v":""},null,{"$f":"IF(Canoe!G72<>\"\",Canoe!G72*COS(RADIANS(J$4))-Canoe!H72*SIN(RADIANS(J$4))+J$1,\"\")","v":""},{"$f":"IF(Canoe!H72<>\"\",(Canoe!G72*SIN(RADIANS(J$4))+Canoe!H72*COS(RADIANS(J$4))*J$3)+J$2,\"\")","v":""},{"$f":"IF(Canoe!I72<>\"\",Canoe!I72*COS(RADIANS(J$4))-Canoe!J72*SIN(RADIANS(J$4))+J$1,\"\")","v":""},{"$f":"IF(Canoe!J72<>\"\",(Canoe!I72*SIN(RADIANS(J$4))+Canoe!J72*COS(RADIANS(J$4))*J$3)+J$2,\"\")","v":""},null,{"$f":"IF(Canoe!L72<>\"\",Canoe!L72*COS(RADIANS(O$4))-Canoe!M72*SIN(RADIANS(O$4))+O$1,\"\")","v":""},{"$f":"IF(Canoe!M72<>\"\",(Canoe!L72*SIN(RADIANS(O$4))+Canoe!M72*COS(RADIANS(O$4))*O$3)+O$2,\"\")","v":""},{"$f":"IF(Canoe!N72<>\"\",Canoe!N72*COS(RADIANS(O$4))-Canoe!O72*SIN(RADIANS(O$4))+O$1,\"\")","v":""},{"$f":"IF(Canoe!O72<>\"\",(Canoe!N72*SIN(RADIANS(O$4))+Canoe!O72*COS(RADIANS(O$4))*O$3)+O$2,\"\")","v":""},null,{"$f":"IF(Canoe!Q72<>\"\",Canoe!Q72*COS(RADIANS(T$4))-Canoe!R72*SIN(RADIANS(T$4))+T$1,\"\")","v":""},{"$f":"IF(Canoe!R72<>\"\",(Canoe!Q72*SIN(RADIANS(T$4))+Canoe!R72*COS(RADIANS(T$4))*T$3)+T$2,\"\")","v":""},{"$f":"IF(Canoe!S72<>\"\",Canoe!S72*COS(RADIANS(T$4))-Canoe!T72*SIN(RADIANS(T$4))+T$1,\"\")","v":""},{"$f":"IF(Canoe!T72<>\"\",(Canoe!S72*SIN(RADIANS(T$4))+Canoe!T72*COS(RADIANS(T$4))*T$3)+T$2,\"\")","v":""},null,{"$f":"IF(Canoe!V72<>\"\",Canoe!V72*COS(RADIANS(Y$4))-Canoe!W72*SIN(RADIANS(Y$4))+Y$1,\"\")","v":""},{"$f":"IF(Canoe!W72<>\"\",(Canoe!V72*SIN(RADIANS(Y$4))+Canoe!W72*COS(RADIANS(Y$4))*Y$3)+Y$2,\"\")","v":""},{"$f":"IF(Canoe!X72<>\"\",Canoe!X72*COS(RADIANS(Y$4))-Canoe!Y72*SIN(RADIANS(Y$4))+Y$1,\"\")","v":""},{"$f":"IF(Canoe!Y72<>\"\",(Canoe!X72*SIN(RADIANS(Y$4))+Canoe!Y72*COS(RADIANS(Y$4))*Y$3)+Y$2,\"\")","v":""}]
[43,{"$f":"IF(Canoe!B73<>\"\",Canoe!B73*COS(RADIANS(E$4))-Canoe!C73*SIN(RADIANS(E$4))+E$1,\"\")","v":""},{"$f":"IF(Canoe!C73<>\"\",(Canoe!B73*SIN(RADIANS(E$4))+Canoe!C73*COS(RADIANS(E$4))*E$3)+E$2,\"\")","v":""},{"$f":"IF(Canoe!D73<>\"\",Canoe!D73*COS(RADIANS(E$4))-Canoe!E73*SIN(RADIANS(E$4))+E$1,\"\")","v":""},{"$f":"IF(Canoe!E73<>\"\",(Canoe!D73*SIN(RADIANS(E$4))+Canoe!E73*COS(RADIANS(E$4))*E$3)+E$2,\"\")","v":""},null,{"$f":"IF(Canoe!G73<>\"\",Canoe!G73*COS(RADIANS(J$4))-Canoe!H73*SIN(RADIANS(J$4))+J$1,\"\")","v":""},{"$f":"IF(Canoe!H73<>\"\",(Canoe!G73*SIN(RADIANS(J$4))+Canoe!H73*COS(RADIANS(J$4))*J$3)+J$2,\"\")","v":""},{"$f":"IF(Canoe!I73<>\"\",Canoe!I73*COS(RADIANS(J$4))-Canoe!J73*SIN(RADIANS(J$4))+J$1,\"\")","v":""},{"$f":"IF(Canoe!J73<>\"\",(Canoe!I73*SIN(RADIANS(J$4))+Canoe!J73*COS(RADIANS(J$4))*J$3)+J$2,\"\")","v":""},null,{"$f":"IF(Canoe!L73<>\"\",Canoe!L73*COS(RADIANS(O$4))-Canoe!M73*SIN(RADIANS(O$4))+O$1,\"\")","v":""},{"$f":"IF(Canoe!M73<>\"\",(Canoe!L73*SIN(RADIANS(O$4))+Canoe!M73*COS(RADIANS(O$4))*O$3)+O$2,\"\")","v":""},{"$f":"IF(Canoe!N73<>\"\",Canoe!N73*COS(RADIANS(O$4))-Canoe!O73*SIN(RADIANS(O$4))+O$1,\"\")","v":""},{"$f":"IF(Canoe!O73<>\"\",(Canoe!N73*SIN(RADIANS(O$4))+Canoe!O73*COS(RADIANS(O$4))*O$3)+O$2,\"\")","v":""},null,{"$f":"IF(Canoe!Q73<>\"\",Canoe!Q73*COS(RADIANS(T$4))-Canoe!R73*SIN(RADIANS(T$4))+T$1,\"\")","v":""},{"$f":"IF(Canoe!R73<>\"\",(Canoe!Q73*SIN(RADIANS(T$4))+Canoe!R73*COS(RADIANS(T$4))*T$3)+T$2,\"\")","v":""},{"$f":"IF(Canoe!S73<>\"\",Canoe!S73*COS(RADIANS(T$4))-Canoe!T73*SIN(RADIANS(T$4))+T$1,\"\")","v":""},{"$f":"IF(Canoe!T73<>\"\",(Canoe!S73*SIN(RADIANS(T$4))+Canoe!T73*COS(RADIANS(T$4))*T$3)+T$2,\"\")","v":""},null,{"$f":"IF(Canoe!V73<>\"\",Canoe!V73*COS(RADIANS(Y$4))-Canoe!W73*SIN(RADIANS(Y$4))+Y$1,\"\")","v":""},{"$f":"IF(Canoe!W73<>\"\",(Canoe!V73*SIN(RADIANS(Y$4))+Canoe!W73*COS(RADIANS(Y$4))*Y$3)+Y$2,\"\")","v":""},{"$f":"IF(Canoe!X73<>\"\",Canoe!X73*COS(RADIANS(Y$4))-Canoe!Y73*SIN(RADIANS(Y$4))+Y$1,\"\")","v":""},{"$f":"IF(Canoe!Y73<>\"\",(Canoe!X73*SIN(RADIANS(Y$4))+Canoe!Y73*COS(RADIANS(Y$4))*Y$3)+Y$2,\"\")","v":""}]
[44,{"$f":"IF(Canoe!B74<>\"\",Canoe!B74*COS(RADIANS(E$4))-Canoe!C74*SIN(RADIANS(E$4))+E$1,\"\")","v":""},{"$f":"IF(Canoe!C74<>\"\",(Canoe!B74*SIN(RADIANS(E$4))+Canoe!C74*COS(RADIANS(E$4))*E$3)+E$2,\"\")","v":""},{"$f":"IF(Canoe!D74<>\"\",Canoe!D74*COS(RADIANS(E$4))-Canoe!E74*SIN(RADIANS(E$4))+E$1,\"\")","v":""},{"$f":"IF(Canoe!E74<>\"\",(Canoe!D74*SIN(RADIANS(E$4))+Canoe!E74*COS(RADIANS(E$4))*E$3)+E$2,\"\")","v":""},null,{"$f":"IF(Canoe!G74<>\"\",Canoe!G74*COS(RADIANS(J$4))-Canoe!H74*SIN(RADIANS(J$4))+J$1,\"\")","v":""},{"$f":"IF(Canoe!H74<>\"\",(Canoe!G74*SIN(RADIANS(J$4))+Canoe!H74*COS(RADIANS(J$4))*J$3)+J$2,\"\")","v":""},{"$f":"IF(Canoe!I74<>\"\",Canoe!I74*COS(RADIANS(J$4))-Canoe!J74*SIN(RADIANS(J$4))+J$1,\"\")","v":""},{"$f":"IF(Canoe!J74<>\"\",(Canoe!I74*SIN(RADIANS(J$4))+Canoe!J74*COS(RADIANS(J$4))*J$3)+J$2,\"\")","v":""},null,{"$f":"IF(Canoe!L74<>\"\",Canoe!L74*COS(RADIANS(O$4))-Canoe!M74*SIN(RADIANS(O$4))+O$1,\"\")","v":""},{"$f":"IF(Canoe!M74<>\"\",(Canoe!L74*SIN(RADIANS(O$4))+Canoe!M74*COS(RADIANS(O$4))*O$3)+O$2,\"\")","v":""},{"$f":"IF(Canoe!N74<>\"\",Canoe!N74*COS(RADIANS(O$4))-Canoe!O74*SIN(RADIANS(O$4))+O$1,\"\")","v":""},{"$f":"IF(Canoe!O74<>\"\",(Canoe!N74*SIN(RADIANS(O$4))+Canoe!O74*COS(RADIANS(O$4))*O$3)+O$2,\"\")","v":""},null,{"$f":"IF(Canoe!Q74<>\"\",Canoe!Q74*COS(RADIANS(T$4))-Canoe!R74*SIN(RADIANS(T$4))+T$1,\"\")","v":""},{"$f":"IF(Canoe!R74<>\"\",(Canoe!Q74*SIN(RADIANS(T$4))+Canoe!R74*COS(RADIANS(T$4))*T$3)+T$2,\"\")","v":""},{"$f":"IF(Canoe!S74<>\"\",Canoe!S74*COS(RADIANS(T$4))-Canoe!T74*SIN(RADIANS(T$4))+T$1,\"\")","v":""},{"$f":"IF(Canoe!T74<>\"\",(Canoe!S74*SIN(RADIANS(T$4))+Canoe!T74*COS(RADIANS(T$4))*T$3)+T$2,\"\")","v":""},null,{"$f":"IF(Canoe!V74<>\"\",Canoe!V74*COS(RADIANS(Y$4))-Canoe!W74*SIN(RADIANS(Y$4))+Y$1,\"\")","v":""},{"$f":"IF(Canoe!W74<>\"\",(Canoe!V74*SIN(RADIANS(Y$4))+Canoe!W74*COS(RADIANS(Y$4))*Y$3)+Y$2,\"\")","v":""},{"$f":"IF(Canoe!X74<>\"\",Canoe!X74*COS(RADIANS(Y$4))-Canoe!Y74*SIN(RADIANS(Y$4))+Y$1,\"\")","v":""},{"$f":"IF(Canoe!Y74<>\"\",(Canoe!X74*SIN(RADIANS(Y$4))+Canoe!Y74*COS(RADIANS(Y$4))*Y$3)+Y$2,\"\")","v":""}]
[45,{"$f":"IF(Canoe!B75<>\"\",Canoe!B75*COS(RADIANS(E$4))-Canoe!C75*SIN(RADIANS(E$4))+E$1,\"\")","v":""},{"$f":"IF(Canoe!C75<>\"\",(Canoe!B75*SIN(RADIANS(E$4))+Canoe!C75*COS(RADIANS(E$4))*E$3)+E$2,\"\")","v":""},{"$f":"IF(Canoe!D75<>\"\",Canoe!D75*COS(RADIANS(E$4))-Canoe!E75*SIN(RADIANS(E$4))+E$1,\"\")","v":""},{"$f":"IF(Canoe!E75<>\"\",(Canoe!D75*SIN(RADIANS(E$4))+Canoe!E75*COS(RADIANS(E$4))*E$3)+E$2,\"\")","v":""},null,{"$f":"IF(Canoe!G75<>\"\",Canoe!G75*COS(RADIANS(J$4))-Canoe!H75*SIN(RADIANS(J$4))+J$1,\"\")","v":""},{"$f":"IF(Canoe!H75<>\"\",(Canoe!G75*SIN(RADIANS(J$4))+Canoe!H75*COS(RADIANS(J$4))*J$3)+J$2,\"\")","v":""},{"$f":"IF(Canoe!I75<>\"\",Canoe!I75*COS(RADIANS(J$4))-Canoe!J75*SIN(RADIANS(J$4))+J$1,\"\")","v":""},{"$f":"IF(Canoe!J75<>\"\",(Canoe!I75*SIN(RADIANS(J$4))+Canoe!J75*COS(RADIANS(J$4))*J$3)+J$2,\"\")","v":""},null,{"$f":"IF(Canoe!L75<>\"\",Canoe!L75*COS(RADIANS(O$4))-Canoe!M75*SIN(RADIANS(O$4))+O$1,\"\")","v":""},{"$f":"IF(Canoe!M75<>\"\",(Canoe!L75*SIN(RADIANS(O$4))+Canoe!M75*COS(RADIANS(O$4))*O$3)+O$2,\"\")","v":""},{"$f":"IF(Canoe!N75<>\"\",Canoe!N75*COS(RADIANS(O$4))-Canoe!O75*SIN(RADIANS(O$4))+O$1,\"\")","v":""},{"$f":"IF(Canoe!O75<>\"\",(Canoe!N75*SIN(RADIANS(O$4))+Canoe!O75*COS(RADIANS(O$4))*O$3)+O$2,\"\")","v":""},null,{"$f":"IF(Canoe!Q75<>\"\",Canoe!Q75*COS(RADIANS(T$4))-Canoe!R75*SIN(RADIANS(T$4))+T$1,\"\")","v":""},{"$f":"IF(Canoe!R75<>\"\",(Canoe!Q75*SIN(RADIANS(T$4))+Canoe!R75*COS(RADIANS(T$4))*T$3)+T$2,\"\")","v":""},{"$f":"IF(Canoe!S75<>\"\",Canoe!S75*COS(RADIANS(T$4))-Canoe!T75*SIN(RADIANS(T$4))+T$1,\"\")","v":""},{"$f":"IF(Canoe!T75<>\"\",(Canoe!S75*SIN(RADIANS(T$4))+Canoe!T75*COS(RADIANS(T$4))*T$3)+T$2,\"\")","v":""},null,{"$f":"IF(Canoe!V75<>\"\",Canoe!V75*COS(RADIANS(Y$4))-Canoe!W75*SIN(RADIANS(Y$4))+Y$1,\"\")","v":""},{"$f":"IF(Canoe!W75<>\"\",(Canoe!V75*SIN(RADIANS(Y$4))+Canoe!W75*COS(RADIANS(Y$4))*Y$3)+Y$2,\"\")","v":""},{"$f":"IF(Canoe!X75<>\"\",Canoe!X75*COS(RADIANS(Y$4))-Canoe!Y75*SIN(RADIANS(Y$4))+Y$1,\"\")","v":""},{"$f":"IF(Canoe!Y75<>\"\",(Canoe!X75*SIN(RADIANS(Y$4))+Canoe!Y75*COS(RADIANS(Y$4))*Y$3)+Y$2,\"\")","v":""}]
[46,{"$f":"IF(Canoe!B76<>\"\",Canoe!B76*COS(RADIANS(E$4))-Canoe!C76*SIN(RADIANS(E$4))+E$1,\"\")","v":""},{"$f":"IF(Canoe!C76<>\"\",(Canoe!B76*SIN(RADIANS(E$4))+Canoe!C76*COS(RADIANS(E$4))*E$3)+E$2,\"\")","v":""},{"$f":"IF(Canoe!D76<>\"\",Canoe!D76*COS(RADIANS(E$4))-Canoe!E76*SIN(RADIANS(E$4))+E$1,\"\")","v":""},{"$f":"IF(Canoe!E76<>\"\",(Canoe!D76*SIN(RADIANS(E$4))+Canoe!E76*COS(RADIANS(E$4))*E$3)+E$2,\"\")","v":""},null,{"$f":"IF(Canoe!G76<>\"\",Canoe!G76*COS(RADIANS(J$4))-Canoe!H76*SIN(RADIANS(J$4))+J$1,\"\")","v":""},{"$f":"IF(Canoe!H76<>\"\",(Canoe!G76*SIN(RADIANS(J$4))+Canoe!H76*COS(RADIANS(J$4))*J$3)+J$2,\"\")","v":""},{"$f":"IF(Canoe!I76<>\"\",Canoe!I76*COS(RADIANS(J$4))-Canoe!J76*SIN(RADIANS(J$4))+J$1,\"\")","v":""},{"$f":"IF(Canoe!J76<>\"\",(Canoe!I76*SIN(RADIANS(J$4))+Canoe!J76*COS(RADIANS(J$4))*J$3)+J$2,\"\")","v":""},null,{"$f":"IF(Canoe!L76<>\"\",Canoe!L76*COS(RADIANS(O$4))-Canoe!M76*SIN(RADIANS(O$4))+O$1,\"\")","v":""},{"$f":"IF(Canoe!M76<>\"\",(Canoe!L76*SIN(RADIANS(O$4))+Canoe!M76*COS(RADIANS(O$4))*O$3)+O$2,\"\")","v":""},{"$f":"IF(Canoe!N76<>\"\",Canoe!N76*COS(RADIANS(O$4))-Canoe!O76*SIN(RADIANS(O$4))+O$1,\"\")","v":""},{"$f":"IF(Canoe!O76<>\"\",(Canoe!N76*SIN(RADIANS(O$4))+Canoe!O76*COS(RADIANS(O$4))*O$3)+O$2,\"\")","v":""},null,{"$f":"IF(Canoe!Q76<>\"\",Canoe!Q76*COS(RADIANS(T$4))-Canoe!R76*SIN(RADIANS(T$4))+T$1,\"\")","v":""},{"$f":"IF(Canoe!R76<>\"\",(Canoe!Q76*SIN(RADIANS(T$4))+Canoe!R76*COS(RADIANS(T$4))*T$3)+T$2,\"\")","v":""},{"$f":"IF(Canoe!S76<>\"\",Canoe!S76*COS(RADIANS(T$4))-Canoe!T76*SIN(RADIANS(T$4))+T$1,\"\")","v":""},{"$f":"IF(Canoe!T76<>\"\",(Canoe!S76*SIN(RADIANS(T$4))+Canoe!T76*COS(RADIANS(T$4))*T$3)+T$2,\"\")","v":""},null,{"$f":"IF(Canoe!V76<>\"\",Canoe!V76*COS(RADIANS(Y$4))-Canoe!W76*SIN(RADIANS(Y$4))+Y$1,\"\")","v":""},{"$f":"IF(Canoe!W76<>\"\",(Canoe!V76*SIN(RADIANS(Y$4))+Canoe!W76*COS(RADIANS(Y$4))*Y$3)+Y$2,\"\")","v":""},{"$f":"IF(Canoe!X76<>\"\",Canoe!X76*COS(RADIANS(Y$4))-Canoe!Y76*SIN(RADIANS(Y$4))+Y$1,\"\")","v":""},{"$f":"IF(Canoe!Y76<>\"\",(Canoe!X76*SIN(RADIANS(Y$4))+Canoe!Y76*COS(RADIANS(Y$4))*Y$3)+Y$2,\"\")","v":""}]
[47,{"$f":"IF(Canoe!B77<>\"\",Canoe!B77*COS(RADIANS(E$4))-Canoe!C77*SIN(RADIANS(E$4))+E$1,\"\")","v":""},{"$f":"IF(Canoe!C77<>\"\",(Canoe!B77*SIN(RADIANS(E$4))+Canoe!C77*COS(RADIANS(E$4))*E$3)+E$2,\"\")","v":""},{"$f":"IF(Canoe!D77<>\"\",Canoe!D77*COS(RADIANS(E$4))-Canoe!E77*SIN(RADIANS(E$4))+E$1,\"\")","v":""},{"$f":"IF(Canoe!E77<>\"\",(Canoe!D77*SIN(RADIANS(E$4))+Canoe!E77*COS(RADIANS(E$4))*E$3)+E$2,\"\")","v":""},null,{"$f":"IF(Canoe!G77<>\"\",Canoe!G77*COS(RADIANS(J$4))-Canoe!H77*SIN(RADIANS(J$4))+J$1,\"\")","v":""},{"$f":"IF(Canoe!H77<>\"\",(Canoe!G77*SIN(RADIANS(J$4))+Canoe!H77*COS(RADIANS(J$4))*J$3)+J$2,\"\")","v":""},{"$f":"IF(Canoe!I77<>\"\",Canoe!I77*COS(RADIANS(J$4))-Canoe!J77*SIN(RADIANS(J$4))+J$1,\"\")","v":""},{"$f":"IF(Canoe!J77<>\"\",(Canoe!I77*SIN(RADIANS(J$4))+Canoe!J77*COS(RADIANS(J$4))*J$3)+J$2,\"\")","v":""},null,{"$f":"IF(Canoe!L77<>\"\",Canoe!L77*COS(RADIANS(O$4))-Canoe!M77*SIN(RADIANS(O$4))+O$1,\"\")","v":""},{"$f":"IF(Canoe!M77<>\"\",(Canoe!L77*SIN(RADIANS(O$4))+Canoe!M77*COS(RADIANS(O$4))*O$3)+O$2,\"\")","v":""},{"$f":"IF(Canoe!N77<>\"\",Canoe!N77*COS(RADIANS(O$4))-Canoe!O77*SIN(RADIANS(O$4))+O$1,\"\")","v":""},{"$f":"IF(Canoe!O77<>\"\",(Canoe!N77*SIN(RADIANS(O$4))+Canoe!O77*COS(RADIANS(O$4))*O$3)+O$2,\"\")","v":""},null,{"$f":"IF(Canoe!Q77<>\"\",Canoe!Q77*COS(RADIANS(T$4))-Canoe!R77*SIN(RADIANS(T$4))+T$1,\"\")","v":""},{"$f":"IF(Canoe!R77<>\"\",(Canoe!Q77*SIN(RADIANS(T$4))+Canoe!R77*COS(RADIANS(T$4))*T$3)+T$2,\"\")","v":""},{"$f":"IF(Canoe!S77<>\"\",Canoe!S77*COS(RADIANS(T$4))-Canoe!T77*SIN(RADIANS(T$4))+T$1,\"\")","v":""},{"$f":"IF(Canoe!T77<>\"\",(Canoe!S77*SIN(RADIANS(T$4))+Canoe!T77*COS(RADIANS(T$4))*T$3)+T$2,\"\")","v":""},null,{"$f":"IF(Canoe!V77<>\"\",Canoe!V77*COS(RADIANS(Y$4))-Canoe!W77*SIN(RADIANS(Y$4))+Y$1,\"\")","v":""},{"$f":"IF(Canoe!W77<>\"\",(Canoe!V77*SIN(RADIANS(Y$4))+Canoe!W77*COS(RADIANS(Y$4))*Y$3)+Y$2,\"\")","v":""},{"$f":"IF(Canoe!X77<>\"\",Canoe!X77*COS(RADIANS(Y$4))-Canoe!Y77*SIN(RADIANS(Y$4))+Y$1,\"\")","v":""},{"$f":"IF(Canoe!Y77<>\"\",(Canoe!X77*SIN(RADIANS(Y$4))+Canoe!Y77*COS(RADIANS(Y$4))*Y$3)+Y$2,\"\")","v":""}]
[48,{"$f":"IF(Canoe!B78<>\"\",Canoe!B78*COS(RADIANS(E$4))-Canoe!C78*SIN(RADIANS(E$4))+E$1,\"\")","v":""},{"$f":"IF(Canoe!C78<>\"\",(Canoe!B78*SIN(RADIANS(E$4))+Canoe!C78*COS(RADIANS(E$4))*E$3)+E$2,\"\")","v":""},{"$f":"IF(Canoe!D78<>\"\",Canoe!D78*COS(RADIANS(E$4))-Canoe!E78*SIN(RADIANS(E$4))+E$1,\"\")","v":""},{"$f":"IF(Canoe!E78<>\"\",(Canoe!D78*SIN(RADIANS(E$4))+Canoe!E78*COS(RADIANS(E$4))*E$3)+E$2,\"\")","v":""},null,{"$f":"IF(Canoe!G78<>\"\",Canoe!G78*COS(RADIANS(J$4))-Canoe!H78*SIN(RADIANS(J$4))+J$1,\"\")","v":""},{"$f":"IF(Canoe!H78<>\"\",(Canoe!G78*SIN(RADIANS(J$4))+Canoe!H78*COS(RADIANS(J$4))*J$3)+J$2,\"\")","v":""},{"$f":"IF(Canoe!I78<>\"\",Canoe!I78*COS(RADIANS(J$4))-Canoe!J78*SIN(RADIANS(J$4))+J$1,\"\")","v":""},{"$f":"IF(Canoe!J78<>\"\",(Canoe!I78*SIN(RADIANS(J$4))+Canoe!J78*COS(RADIANS(J$4))*J$3)+J$2,\"\")","v":""},null,{"$f":"IF(Canoe!L78<>\"\",Canoe!L78*COS(RADIANS(O$4))-Canoe!M78*SIN(RADIANS(O$4))+O$1,\"\")","v":""},{"$f":"IF(Canoe!M78<>\"\",(Canoe!L78*SIN(RADIANS(O$4))+Canoe!M78*COS(RADIANS(O$4))*O$3)+O$2,\"\")","v":""},{"$f":"IF(Canoe!N78<>\"\",Canoe!N78*COS(RADIANS(O$4))-Canoe!O78*SIN(RADIANS(O$4))+O$1,\"\")","v":""},{"$f":"IF(Canoe!O78<>\"\",(Canoe!N78*SIN(RADIANS(O$4))+Canoe!O78*COS(RADIANS(O$4))*O$3)+O$2,\"\")","v":""},null,{"$f":"IF(Canoe!Q78<>\"\",Canoe!Q78*COS(RADIANS(T$4))-Canoe!R78*SIN(RADIANS(T$4))+T$1,\"\")","v":""},{"$f":"IF(Canoe!R78<>\"\",(Canoe!Q78*SIN(RADIANS(T$4))+Canoe!R78*COS(RADIANS(T$4))*T$3)+T$2,\"\")","v":""},{"$f":"IF(Canoe!S78<>\"\",Canoe!S78*COS(RADIANS(T$4))-Canoe!T78*SIN(RADIANS(T$4))+T$1,\"\")","v":""},{"$f":"IF(Canoe!T78<>\"\",(Canoe!S78*SIN(RADIANS(T$4))+Canoe!T78*COS(RADIANS(T$4))*T$3)+T$2,\"\")","v":""},null,{"$f":"IF(Canoe!V78<>\"\",Canoe!V78*COS(RADIANS(Y$4))-Canoe!W78*SIN(RADIANS(Y$4))+Y$1,\"\")","v":""},{"$f":"IF(Canoe!W78<>\"\",(Canoe!V78*SIN(RADIANS(Y$4))+Canoe!W78*COS(RADIANS(Y$4))*Y$3)+Y$2,\"\")","v":""},{"$f":"IF(Canoe!X78<>\"\",Canoe!X78*COS(RADIANS(Y$4))-Canoe!Y78*SIN(RADIANS(Y$4))+Y$1,\"\")","v":""},{"$f":"IF(Canoe!Y78<>\"\",(Canoe!X78*SIN(RADIANS(Y$4))+Canoe!Y78*COS(RADIANS(Y$4))*Y$3)+Y$2,\"\")","v":""}]
[49,{"$f":"IF(Canoe!B79<>\"\",Canoe!B79*COS(RADIANS(E$4))-Canoe!C79*SIN(RADIANS(E$4))+E$1,\"\")","v":""},{"$f":"IF(Canoe!C79<>\"\",(Canoe!B79*SIN(RADIANS(E$4))+Canoe!C79*COS(RADIANS(E$4))*E$3)+E$2,\"\")","v":""},{"$f":"IF(Canoe!D79<>\"\",Canoe!D79*COS(RADIANS(E$4))-Canoe!E79*SIN(RADIANS(E$4))+E$1,\"\")","v":""},{"$f":"IF(Canoe!E79<>\"\",(Canoe!D79*SIN(RADIANS(E$4))+Canoe!E79*COS(RADIANS(E$4))*E$3)+E$2,\"\")","v":""},null,{"$f":"IF(Canoe!G79<>\"\",Canoe!G79*COS(RADIANS(J$4))-Canoe!H79*SIN(RADIANS(J$4))+J$1,\"\")","v":""},{"$f":"IF(Canoe!H79<>\"\",(Canoe!G79*SIN(RADIANS(J$4))+Canoe!H79*COS(RADIANS(J$4))*J$3)+J$2,\"\")","v":""},{"$f":"IF(Canoe!I79<>\"\",Canoe!I79*COS(RADIANS(J$4))-Canoe!J79*SIN(RADIANS(J$4))+J$1,\"\")","v":""},{"$f":"IF(Canoe!J79<>\"\",(Canoe!I79*SIN(RADIANS(J$4))+Canoe!J79*COS(RADIANS(J$4))*J$3)+J$2,\"\")","v":""},null,{"$f":"IF(Canoe!L79<>\"\",Canoe!L79*COS(RADIANS(O$4))-Canoe!M79*SIN(RADIANS(O$4))+O$1,\"\")","v":""},{"$f":"IF(Canoe!M79<>\"\",(Canoe!L79*SIN(RADIANS(O$4))+Canoe!M79*COS(RADIANS(O$4))*O$3)+O$2,\"\")","v":""},{"$f":"IF(Canoe!N79<>\"\",Canoe!N79*COS(RADIANS(O$4))-Canoe!O79*SIN(RADIANS(O$4))+O$1,\"\")","v":""},{"$f":"IF(Canoe!O79<>\"\",(Canoe!N79*SIN(RADIANS(O$4))+Canoe!O79*COS(RADIANS(O$4))*O$3)+O$2,\"\")","v":""},null,{"$f":"IF(Canoe!Q79<>\"\",Canoe!Q79*COS(RADIANS(T$4))-Canoe!R79*SIN(RADIANS(T$4))+T$1,\"\")","v":""},{"$f":"IF(Canoe!R79<>\"\",(Canoe!Q79*SIN(RADIANS(T$4))+Canoe!R79*COS(RADIANS(T$4))*T$3)+T$2,\"\")","v":""},{"$f":"IF(Canoe!S79<>\"\",Canoe!S79*COS(RADIANS(T$4))-Canoe!T79*SIN(RADIANS(T$4))+T$1,\"\")","v":""},{"$f":"IF(Canoe!T79<>\"\",(Canoe!S79*SIN(RADIANS(T$4))+Canoe!T79*COS(RADIANS(T$4))*T$3)+T$2,\"\")","v":""},null,{"$f":"IF(Canoe!V79<>\"\",Canoe!V79*COS(RADIANS(Y$4))-Canoe!W79*SIN(RADIANS(Y$4))+Y$1,\"\")","v":""},{"$f":"IF(Canoe!W79<>\"\",(Canoe!V79*SIN(RADIANS(Y$4))+Canoe!W79*COS(RADIANS(Y$4))*Y$3)+Y$2,\"\")","v":""},{"$f":"IF(Canoe!X79<>\"\",Canoe!X79*COS(RADIANS(Y$4))-Canoe!Y79*SIN(RADIANS(Y$4))+Y$1,\"\")","v":""},{"$f":"IF(Canoe!Y79<>\"\",(Canoe!X79*SIN(RADIANS(Y$4))+Canoe!Y79*COS(RADIANS(Y$4))*Y$3)+Y$2,\"\")","v":""}]
[50,{"$f":"IF(Canoe!B80<>\"\",Canoe!B80*COS(RADIANS(E$4))-Canoe!C80*SIN(RADIANS(E$4))+E$1,\"\")","v":""},{"$f":"IF(Canoe!C80<>\"\",(Canoe!B80*SIN(RADIANS(E$4))+Canoe!C80*COS(RADIANS(E$4))*E$3)+E$2,\"\")","v":""},{"$f":"IF(Canoe!D80<>\"\",Canoe!D80*COS(RADIANS(E$4))-Canoe!E80*SIN(RADIANS(E$4))+E$1,\"\")","v":""},{"$f":"IF(Canoe!E80<>\"\",(Canoe!D80*SIN(RADIANS(E$4))+Canoe!E80*COS(RADIANS(E$4))*E$3)+E$2,\"\")","v":""},null,{"$f":"IF(Canoe!G80<>\"\",Canoe!G80*COS(RADIANS(J$4))-Canoe!H80*SIN(RADIANS(J$4))+J$1,\"\")","v":""},{"$f":"IF(Canoe!H80<>\"\",(Canoe!G80*SIN(RADIANS(J$4))+Canoe!H80*COS(RADIANS(J$4))*J$3)+J$2,\"\")","v":""},{"$f":"IF(Canoe!I80<>\"\",Canoe!I80*COS(RADIANS(J$4))-Canoe!J80*SIN(RADIANS(J$4))+J$1,\"\")","v":""},{"$f":"IF(Canoe!J80<>\"\",(Canoe!I80*SIN(RADIANS(J$4))+Canoe!J80*COS(RADIANS(J$4))*J$3)+J$2,\"\")","v":""},null,{"$f":"IF(Canoe!L80<>\"\",Canoe!L80*COS(RADIANS(O$4))-Canoe!M80*SIN(RADIANS(O$4))+O$1,\"\")","v":""},{"$f":"IF(Canoe!M80<>\"\",(Canoe!L80*SIN(RADIANS(O$4))+Canoe!M80*COS(RADIANS(O$4))*O$3)+O$2,\"\")","v":""},{"$f":"IF(Canoe!N80<>\"\",Canoe!N80*COS(RADIANS(O$4))-Canoe!O80*SIN(RADIANS(O$4))+O$1,\"\")","v":""},{"$f":"IF(Canoe!O80<>\"\",(Canoe!N80*SIN(RADIANS(O$4))+Canoe!O80*COS(RADIANS(O$4))*O$3)+O$2,\"\")","v":""},null,{"$f":"IF(Canoe!Q80<>\"\",Canoe!Q80*COS(RADIANS(T$4))-Canoe!R80*SIN(RADIANS(T$4))+T$1,\"\")","v":""},{"$f":"IF(Canoe!R80<>\"\",(Canoe!Q80*SIN(RADIANS(T$4))+Canoe!R80*COS(RADIANS(T$4))*T$3)+T$2,\"\")","v":""},{"$f":"IF(Canoe!S80<>\"\",Canoe!S80*COS(RADIANS(T$4))-Canoe!T80*SIN(RADIANS(T$4))+T$1,\"\")","v":""},{"$f":"IF(Canoe!T80<>\"\",(Canoe!S80*SIN(RADIANS(T$4))+Canoe!T80*COS(RADIANS(T$4))*T$3)+T$2,\"\")","v":""},null,{"$f":"IF(Canoe!V80<>\"\",Canoe!V80*COS(RADIANS(Y$4))-Canoe!W80*SIN(RADIANS(Y$4))+Y$1,\"\")","v":""},{"$f":"IF(Canoe!W80<>\"\",(Canoe!V80*SIN(RADIANS(Y$4))+Canoe!W80*COS(RADIANS(Y$4))*Y$3)+Y$2,\"\")","v":""},{"$f":"IF(Canoe!X80<>\"\",Canoe!X80*COS(RADIANS(Y$4))-Canoe!Y80*SIN(RADIANS(Y$4))+Y$1,\"\")","v":""},{"$f":"IF(Canoe!Y80<>\"\",(Canoe!X80*SIN(RADIANS(Y$4))+Canoe!Y80*COS(RADIANS(Y$4))*Y$3)+Y$2,\"\")","v":""}]
[51,{"$f":"IF(Canoe!B81<>\"\",Canoe!B81*COS(RADIANS(E$4))-Canoe!C81*SIN(RADIANS(E$4))+E$1,\"\")","v":""},{"$f":"IF(Canoe!C81<>\"\",(Canoe!B81*SIN(RADIANS(E$4))+Canoe!C81*COS(RADIANS(E$4))*E$3)+E$2,\"\")","v":""},{"$f":"IF(Canoe!D81<>\"\",Canoe!D81*COS(RADIANS(E$4))-Canoe!E81*SIN(RADIANS(E$4))+E$1,\"\")","v":""},{"$f":"IF(Canoe!E81<>\"\",(Canoe!D81*SIN(RADIANS(E$4))+Canoe!E81*COS(RADIANS(E$4))*E$3)+E$2,\"\")","v":""},null,{"$f":"IF(Canoe!G81<>\"\",Canoe!G81*COS(RADIANS(J$4))-Canoe!H81*SIN(RADIANS(J$4))+J$1,\"\")","v":""},{"$f":"IF(Canoe!H81<>\"\",(Canoe!G81*SIN(RADIANS(J$4))+Canoe!H81*COS(RADIANS(J$4))*J$3)+J$2,\"\")","v":""},{"$f":"IF(Canoe!I81<>\"\",Canoe!I81*COS(RADIANS(J$4))-Canoe!J81*SIN(RADIANS(J$4))+J$1,\"\")","v":""},{"$f":"IF(Canoe!J81<>\"\",(Canoe!I81*SIN(RADIANS(J$4))+Canoe!J81*COS(RADIANS(J$4))*J$3)+J$2,\"\")","v":""},null,{"$f":"IF(Canoe!L81<>\"\",Canoe!L81*COS(RADIANS(O$4))-Canoe!M81*SIN(RADIANS(O$4))+O$1,\"\")","v":""},{"$f":"IF(Canoe!M81<>\"\",(Canoe!L81*SIN(RADIANS(O$4))+Canoe!M81*COS(RADIANS(O$4))*O$3)+O$2,\"\")","v":""},{"$f":"IF(Canoe!N81<>\"\",Canoe!N81*COS(RADIANS(O$4))-Canoe!O81*SIN(RADIANS(O$4))+O$1,\"\")","v":""},{"$f":"IF(Canoe!O81<>\"\",(Canoe!N81*SIN(RADIANS(O$4))+Canoe!O81*COS(RADIANS(O$4))*O$3)+O$2,\"\")","v":""},null,{"$f":"IF(Canoe!Q81<>\"\",Canoe!Q81*COS(RADIANS(T$4))-Canoe!R81*SIN(RADIANS(T$4))+T$1,\"\")","v":""},{"$f":"IF(Canoe!R81<>\"\",(Canoe!Q81*SIN(RADIANS(T$4))+Canoe!R81*COS(RADIANS(T$4))*T$3)+T$2,\"\")","v":""},{"$f":"IF(Canoe!S81<>\"\",Canoe!S81*COS(RADIANS(T$4))-Canoe!T81*SIN(RADIANS(T$4))+T$1,\"\")","v":""},{"$f":"IF(Canoe!T81<>\"\",(Canoe!S81*SIN(RADIANS(T$4))+Canoe!T81*COS(RADIANS(T$4))*T$3)+T$2,\"\")","v":""},null,{"$f":"IF(Canoe!V81<>\"\",Canoe!V81*COS(RADIANS(Y$4))-Canoe!W81*SIN(RADIANS(Y$4))+Y$1,\"\")","v":""},{"$f":"IF(Canoe!W81<>\"\",(Canoe!V81*SIN(RADIANS(Y$4))+Canoe!W81*COS(RADIANS(Y$4))*Y$3)+Y$2,\"\")","v":""},{"$f":"IF(Canoe!X81<>\"\",Canoe!X81*COS(RADIANS(Y$4))-Canoe!Y81*SIN(RADIANS(Y$4))+Y$1,\"\")","v":""},{"$f":"IF(Canoe!Y81<>\"\",(Canoe!X81*SIN(RADIANS(Y$4))+Canoe!Y81*COS(RADIANS(Y$4))*Y$3)+Y$2,\"\")","v":""}]
[52,{"$f":"IF(Canoe!B82<>\"\",Canoe!B82*COS(RADIANS(E$4))-Canoe!C82*SIN(RADIANS(E$4))+E$1,\"\")","v":""},{"$f":"IF(Canoe!C82<>\"\",(Canoe!B82*SIN(RADIANS(E$4))+Canoe!C82*COS(RADIANS(E$4))*E$3)+E$2,\"\")","v":""},{"$f":"IF(Canoe!D82<>\"\",Canoe!D82*COS(RADIANS(E$4))-Canoe!E82*SIN(RADIANS(E$4))+E$1,\"\")","v":""},{"$f":"IF(Canoe!E82<>\"\",(Canoe!D82*SIN(RADIANS(E$4))+Canoe!E82*COS(RADIANS(E$4))*E$3)+E$2,\"\")","v":""},null,{"$f":"IF(Canoe!G82<>\"\",Canoe!G82*COS(RADIANS(J$4))-Canoe!H82*SIN(RADIANS(J$4))+J$1,\"\")","v":""},{"$f":"IF(Canoe!H82<>\"\",(Canoe!G82*SIN(RADIANS(J$4))+Canoe!H82*COS(RADIANS(J$4))*J$3)+J$2,\"\")","v":""},{"$f":"IF(Canoe!I82<>\"\",Canoe!I82*COS(RADIANS(J$4))-Canoe!J82*SIN(RADIANS(J$4))+J$1,\"\")","v":""},{"$f":"IF(Canoe!J82<>\"\",(Canoe!I82*SIN(RADIANS(J$4))+Canoe!J82*COS(RADIANS(J$4))*J$3)+J$2,\"\")","v":""},null,{"$f":"IF(Canoe!L82<>\"\",Canoe!L82*COS(RADIANS(O$4))-Canoe!M82*SIN(RADIANS(O$4))+O$1,\"\")","v":""},{"$f":"IF(Canoe!M82<>\"\",(Canoe!L82*SIN(RADIANS(O$4))+Canoe!M82*COS(RADIANS(O$4))*O$3)+O$2,\"\")","v":""},{"$f":"IF(Canoe!N82<>\"\",Canoe!N82*COS(RADIANS(O$4))-Canoe!O82*SIN(RADIANS(O$4))+O$1,\"\")","v":""},{"$f":"IF(Canoe!O82<>\"\",(Canoe!N82*SIN(RADIANS(O$4))+Canoe!O82*COS(RADIANS(O$4))*O$3)+O$2,\"\")","v":""},null,{"$f":"IF(Canoe!Q82<>\"\",Canoe!Q82*COS(RADIANS(T$4))-Canoe!R82*SIN(RADIANS(T$4))+T$1,\"\")","v":""},{"$f":"IF(Canoe!R82<>\"\",(Canoe!Q82*SIN(RADIANS(T$4))+Canoe!R82*COS(RADIANS(T$4))*T$3)+T$2,\"\")","v":""},{"$f":"IF(Canoe!S82<>\"\",Canoe!S82*COS(RADIANS(T$4))-Canoe!T82*SIN(RADIANS(T$4))+T$1,\"\")","v":""},{"$f":"IF(Canoe!T82<>\"\",(Canoe!S82*SIN(RADIANS(T$4))+Canoe!T82*COS(RADIANS(T$4))*T$3)+T$2,\"\")","v":""},null,{"$f":"IF(Canoe!V82<>\"\",Canoe!V82*COS(RADIANS(Y$4))-Canoe!W82*SIN(RADIANS(Y$4))+Y$1,\"\")","v":""},{"$f":"IF(Canoe!W82<>\"\",(Canoe!V82*SIN(RADIANS(Y$4))+Canoe!W82*COS(RADIANS(Y$4))*Y$3)+Y$2,\"\")","v":""},{"$f":"IF(Canoe!X82<>\"\",Canoe!X82*COS(RADIANS(Y$4))-Canoe!Y82*SIN(RADIANS(Y$4))+Y$1,\"\")","v":""},{"$f":"IF(Canoe!Y82<>\"\",(Canoe!X82*SIN(RADIANS(Y$4))+Canoe!Y82*COS(RADIANS(Y$4))*Y$3)+Y$2,\"\")","v":""}]
[53,{"$f":"IF(Canoe!B83<>\"\",Canoe!B83*COS(RADIANS(E$4))-Canoe!C83*SIN(RADIANS(E$4))+E$1,\"\")","v":""},{"$f":"IF(Canoe!C83<>\"\",(Canoe!B83*SIN(RADIANS(E$4))+Canoe!C83*COS(RADIANS(E$4))*E$3)+E$2,\"\")","v":""},{"$f":"IF(Canoe!D83<>\"\",Canoe!D83*COS(RADIANS(E$4))-Canoe!E83*SIN(RADIANS(E$4))+E$1,\"\")","v":""},{"$f":"IF(Canoe!E83<>\"\",(Canoe!D83*SIN(RADIANS(E$4))+Canoe!E83*COS(RADIANS(E$4))*E$3)+E$2,\"\")","v":""},null,{"$f":"IF(Canoe!G83<>\"\",Canoe!G83*COS(RADIANS(J$4))-Canoe!H83*SIN(RADIANS(J$4))+J$1,\"\")","v":""},{"$f":"IF(Canoe!H83<>\"\",(Canoe!G83*SIN(RADIANS(J$4))+Canoe!H83*COS(RADIANS(J$4))*J$3)+J$2,\"\")","v":""},{"$f":"IF(Canoe!I83<>\"\",Canoe!I83*COS(RADIANS(J$4))-Canoe!J83*SIN(RADIANS(J$4))+J$1,\"\")","v":""},{"$f":"IF(Canoe!J83<>\"\",(Canoe!I83*SIN(RADIANS(J$4))+Canoe!J83*COS(RADIANS(J$4))*J$3)+J$2,\"\")","v":""},null,{"$f":"IF(Canoe!L83<>\"\",Canoe!L83*COS(RADIANS(O$4))-Canoe!M83*SIN(RADIANS(O$4))+O$1,\"\")","v":""},{"$f":"IF(Canoe!M83<>\"\",(Canoe!L83*SIN(RADIANS(O$4))+Canoe!M83*COS(RADIANS(O$4))*O$3)+O$2,\"\")","v":""},{"$f":"IF(Canoe!N83<>\"\",Canoe!N83*COS(RADIANS(O$4))-Canoe!O83*SIN(RADIANS(O$4))+O$1,\"\")","v":""},{"$f":"IF(Canoe!O83<>\"\",(Canoe!N83*SIN(RADIANS(O$4))+Canoe!O83*COS(RADIANS(O$4))*O$3)+O$2,\"\")","v":""},null,{"$f":"IF(Canoe!Q83<>\"\",Canoe!Q83*COS(RADIANS(T$4))-Canoe!R83*SIN(RADIANS(T$4))+T$1,\"\")","v":""},{"$f":"IF(Canoe!R83<>\"\",(Canoe!Q83*SIN(RADIANS(T$4))+Canoe!R83*COS(RADIANS(T$4))*T$3)+T$2,\"\")","v":""},{"$f":"IF(Canoe!S83<>\"\",Canoe!S83*COS(RADIANS(T$4))-Canoe!T83*SIN(RADIANS(T$4))+T$1,\"\")","v":""},{"$f":"IF(Canoe!T83<>\"\",(Canoe!S83*SIN(RADIANS(T$4))+Canoe!T83*COS(RADIANS(T$4))*T$3)+T$2,\"\")","v":""},null,{"$f":"IF(Canoe!V83<>\"\",Canoe!V83*COS(RADIANS(Y$4))-Canoe!W83*SIN(RADIANS(Y$4))+Y$1,\"\")","v":""},{"$f":"IF(Canoe!W83<>\"\",(Canoe!V83*SIN(RADIANS(Y$4))+Canoe!W83*COS(RADIANS(Y$4))*Y$3)+Y$2,\"\")","v":""},{"$f":"IF(Canoe!X83<>\"\",Canoe!X83*COS(RADIANS(Y$4))-Canoe!Y83*SIN(RADIANS(Y$4))+Y$1,\"\")","v":""},{"$f":"IF(Canoe!Y83<>\"\",(Canoe!X83*SIN(RADIANS(Y$4))+Canoe!Y83*COS(RADIANS(Y$4))*Y$3)+Y$2,\"\")","v":""}]
[54,{"$f":"IF(Canoe!B84<>\"\",Canoe!B84*COS(RADIANS(E$4))-Canoe!C84*SIN(RADIANS(E$4))+E$1,\"\")","v":""},{"$f":"IF(Canoe!C84<>\"\",(Canoe!B84*SIN(RADIANS(E$4))+Canoe!C84*COS(RADIANS(E$4))*E$3)+E$2,\"\")","v":""},{"$f":"IF(Canoe!D84<>\"\",Canoe!D84*COS(RADIANS(E$4))-Canoe!E84*SIN(RADIANS(E$4))+E$1,\"\")","v":""},{"$f":"IF(Canoe!E84<>\"\",(Canoe!D84*SIN(RADIANS(E$4))+Canoe!E84*COS(RADIANS(E$4))*E$3)+E$2,\"\")","v":""},null,{"$f":"IF(Canoe!G84<>\"\",Canoe!G84*COS(RADIANS(J$4))-Canoe!H84*SIN(RADIANS(J$4))+J$1,\"\")","v":""},{"$f":"IF(Canoe!H84<>\"\",(Canoe!G84*SIN(RADIANS(J$4))+Canoe!H84*COS(RADIANS(J$4))*J$3)+J$2,\"\")","v":""},{"$f":"IF(Canoe!I84<>\"\",Canoe!I84*COS(RADIANS(J$4))-Canoe!J84*SIN(RADIANS(J$4))+J$1,\"\")","v":""},{"$f":"IF(Canoe!J84<>\"\",(Canoe!I84*SIN(RADIANS(J$4))+Canoe!J84*COS(RADIANS(J$4))*J$3)+J$2,\"\")","v":""},null,{"$f":"IF(Canoe!L84<>\"\",Canoe!L84*COS(RADIANS(O$4))-Canoe!M84*SIN(RADIANS(O$4))+O$1,\"\")","v":""},{"$f":"IF(Canoe!M84<>\"\",(Canoe!L84*SIN(RADIANS(O$4))+Canoe!M84*COS(RADIANS(O$4))*O$3)+O$2,\"\")","v":""},{"$f":"IF(Canoe!N84<>\"\",Canoe!N84*COS(RADIANS(O$4))-Canoe!O84*SIN(RADIANS(O$4))+O$1,\"\")","v":""},{"$f":"IF(Canoe!O84<>\"\",(Canoe!N84*SIN(RADIANS(O$4))+Canoe!O84*COS(RADIANS(O$4))*O$3)+O$2,\"\")","v":""},null,{"$f":"IF(Canoe!Q84<>\"\",Canoe!Q84*COS(RADIANS(T$4))-Canoe!R84*SIN(RADIANS(T$4))+T$1,\"\")","v":""},{"$f":"IF(Canoe!R84<>\"\",(Canoe!Q84*SIN(RADIANS(T$4))+Canoe!R84*COS(RADIANS(T$4))*T$3)+T$2,\"\")","v":""},{"$f":"IF(Canoe!S84<>\"\",Canoe!S84*COS(RADIANS(T$4))-Canoe!T84*SIN(RADIANS(T$4))+T$1,\"\")","v":""},{"$f":"IF(Canoe!T84<>\"\",(Canoe!S84*SIN(RADIANS(T$4))+Canoe!T84*COS(RADIANS(T$4))*T$3)+T$2,\"\")","v":""},null,{"$f":"IF(Canoe!V84<>\"\",Canoe!V84*COS(RADIANS(Y$4))-Canoe!W84*SIN(RADIANS(Y$4))+Y$1,\"\")","v":""},{"$f":"IF(Canoe!W84<>\"\",(Canoe!V84*SIN(RADIANS(Y$4))+Canoe!W84*COS(RADIANS(Y$4))*Y$3)+Y$2,\"\")","v":""},{"$f":"IF(Canoe!X84<>\"\",Canoe!X84*COS(RADIANS(Y$4))-Canoe!Y84*SIN(RADIANS(Y$4))+Y$1,\"\")","v":""},{"$f":"IF(Canoe!Y84<>\"\",(Canoe!X84*SIN(RADIANS(Y$4))+Canoe!Y84*COS(RADIANS(Y$4))*Y$3)+Y$2,\"\")","v":""}]
[55,{"$f":"IF(Canoe!B85<>\"\",Canoe!B85*COS(RADIANS(E$4))-Canoe!C85*SIN(RADIANS(E$4))+E$1,\"\")","v":""},{"$f":"IF(Canoe!C85<>\"\",(Canoe!B85*SIN(RADIANS(E$4))+Canoe!C85*COS(RADIANS(E$4))*E$3)+E$2,\"\")","v":""},{"$f":"IF(Canoe!D85<>\"\",Canoe!D85*COS(RADIANS(E$4))-Canoe!E85*SIN(RADIANS(E$4))+E$1,\"\")","v":""},{"$f":"IF(Canoe!E85<>\"\",(Canoe!D85*SIN(RADIANS(E$4))+Canoe!E85*COS(RADIANS(E$4))*E$3)+E$2,\"\")","v":""},null,{"$f":"IF(Canoe!G85<>\"\",Canoe!G85*COS(RADIANS(J$4))-Canoe!H85*SIN(RADIANS(J$4))+J$1,\"\")","v":""},{"$f":"IF(Canoe!H85<>\"\",(Canoe!G85*SIN(RADIANS(J$4))+Canoe!H85*COS(RADIANS(J$4))*J$3)+J$2,\"\")","v":""},{"$f":"IF(Canoe!I85<>\"\",Canoe!I85*COS(RADIANS(J$4))-Canoe!J85*SIN(RADIANS(J$4))+J$1,\"\")","v":""},{"$f":"IF(Canoe!J85<>\"\",(Canoe!I85*SIN(RADIANS(J$4))+Canoe!J85*COS(RADIANS(J$4))*J$3)+J$2,\"\")","v":""},null,{"$f":"IF(Canoe!L85<>\"\",Canoe!L85*COS(RADIANS(O$4))-Canoe!M85*SIN(RADIANS(O$4))+O$1,\"\")","v":""},{"$f":"IF(Canoe!M85<>\"\",(Canoe!L85*SIN(RADIANS(O$4))+Canoe!M85*COS(RADIANS(O$4))*O$3)+O$2,\"\")","v":""},{"$f":"IF(Canoe!N85<>\"\",Canoe!N85*COS(RADIANS(O$4))-Canoe!O85*SIN(RADIANS(O$4))+O$1,\"\")","v":""},{"$f":"IF(Canoe!O85<>\"\",(Canoe!N85*SIN(RADIANS(O$4))+Canoe!O85*COS(RADIANS(O$4))*O$3)+O$2,\"\")","v":""},null,{"$f":"IF(Canoe!Q85<>\"\",Canoe!Q85*COS(RADIANS(T$4))-Canoe!R85*SIN(RADIANS(T$4))+T$1,\"\")","v":""},{"$f":"IF(Canoe!R85<>\"\",(Canoe!Q85*SIN(RADIANS(T$4))+Canoe!R85*COS(RADIANS(T$4))*T$3)+T$2,\"\")","v":""},{"$f":"IF(Canoe!S85<>\"\",Canoe!S85*COS(RADIANS(T$4))-Canoe!T85*SIN(RADIANS(T$4))+T$1,\"\")","v":""},{"$f":"IF(Canoe!T85<>\"\",(Canoe!S85*SIN(RADIANS(T$4))+Canoe!T85*COS(RADIANS(T$4))*T$3)+T$2,\"\")","v":""},null,{"$f":"IF(Canoe!V85<>\"\",Canoe!V85*COS(RADIANS(Y$4))-Canoe!W85*SIN(RADIANS(Y$4))+Y$1,\"\")","v":""},{"$f":"IF(Canoe!W85<>\"\",(Canoe!V85*SIN(RADIANS(Y$4))+Canoe!W85*COS(RADIANS(Y$4))*Y$3)+Y$2,\"\")","v":""},{"$f":"IF(Canoe!X85<>\"\",Canoe!X85*COS(RADIANS(Y$4))-Canoe!Y85*SIN(RADIANS(Y$4))+Y$1,\"\")","v":""},{"$f":"IF(Canoe!Y85<>\"\",(Canoe!X85*SIN(RADIANS(Y$4))+Canoe!Y85*COS(RADIANS(Y$4))*Y$3)+Y$2,\"\")","v":""}]
[56,{"$f":"IF(Canoe!B86<>\"\",Canoe!B86*COS(RADIANS(E$4))-Canoe!C86*SIN(RADIANS(E$4))+E$1,\"\")","v":""},{"$f":"IF(Canoe!C86<>\"\",(Canoe!B86*SIN(RADIANS(E$4))+Canoe!C86*COS(RADIANS(E$4))*E$3)+E$2,\"\")","v":""},{"$f":"IF(Canoe!D86<>\"\",Canoe!D86*COS(RADIANS(E$4))-Canoe!E86*SIN(RADIANS(E$4))+E$1,\"\")","v":""},{"$f":"IF(Canoe!E86<>\"\",(Canoe!D86*SIN(RADIANS(E$4))+Canoe!E86*COS(RADIANS(E$4))*E$3)+E$2,\"\")","v":""},null,{"$f":"IF(Canoe!G86<>\"\",Canoe!G86*COS(RADIANS(J$4))-Canoe!H86*SIN(RADIANS(J$4))+J$1,\"\")","v":""},{"$f":"IF(Canoe!H86<>\"\",(Canoe!G86*SIN(RADIANS(J$4))+Canoe!H86*COS(RADIANS(J$4))*J$3)+J$2,\"\")","v":""},{"$f":"IF(Canoe!I86<>\"\",Canoe!I86*COS(RADIANS(J$4))-Canoe!J86*SIN(RADIANS(J$4))+J$1,\"\")","v":""},{"$f":"IF(Canoe!J86<>\"\",(Canoe!I86*SIN(RADIANS(J$4))+Canoe!J86*COS(RADIANS(J$4))*J$3)+J$2,\"\")","v":""},null,{"$f":"IF(Canoe!L86<>\"\",Canoe!L86*COS(RADIANS(O$4))-Canoe!M86*SIN(RADIANS(O$4))+O$1,\"\")","v":""},{"$f":"IF(Canoe!M86<>\"\",(Canoe!L86*SIN(RADIANS(O$4))+Canoe!M86*COS(RADIANS(O$4))*O$3)+O$2,\"\")","v":""},{"$f":"IF(Canoe!N86<>\"\",Canoe!N86*COS(RADIANS(O$4))-Canoe!O86*SIN(RADIANS(O$4))+O$1,\"\")","v":""},{"$f":"IF(Canoe!O86<>\"\",(Canoe!N86*SIN(RADIANS(O$4))+Canoe!O86*COS(RADIANS(O$4))*O$3)+O$2,\"\")","v":""},null,{"$f":"IF(Canoe!Q86<>\"\",Canoe!Q86*COS(RADIANS(T$4))-Canoe!R86*SIN(RADIANS(T$4))+T$1,\"\")","v":""},{"$f":"IF(Canoe!R86<>\"\",(Canoe!Q86*SIN(RADIANS(T$4))+Canoe!R86*COS(RADIANS(T$4))*T$3)+T$2,\"\")","v":""},{"$f":"IF(Canoe!S86<>\"\",Canoe!S86*COS(RADIANS(T$4))-Canoe!T86*SIN(RADIANS(T$4))+T$1,\"\")","v":""},{"$f":"IF(Canoe!T86<>\"\",(Canoe!S86*SIN(RADIANS(T$4))+Canoe!T86*COS(RADIANS(T$4))*T$3)+T$2,\"\")","v":""},null,{"$f":"IF(Canoe!V86<>\"\",Canoe!V86*COS(RADIANS(Y$4))-Canoe!W86*SIN(RADIANS(Y$4))+Y$1,\"\")","v":""},{"$f":"IF(Canoe!W86<>\"\",(Canoe!V86*SIN(RADIANS(Y$4))+Canoe!W86*COS(RADIANS(Y$4))*Y$3)+Y$2,\"\")","v":""},{"$f":"IF(Canoe!X86<>\"\",Canoe!X86*COS(RADIANS(Y$4))-Canoe!Y86*SIN(RADIANS(Y$4))+Y$1,\"\")","v":""},{"$f":"IF(Canoe!Y86<>\"\",(Canoe!X86*SIN(RADIANS(Y$4))+Canoe!Y86*COS(RADIANS(Y$4))*Y$3)+Y$2,\"\")","v":""}]
[57,{"$f":"IF(Canoe!B87<>\"\",Canoe!B87*COS(RADIANS(E$4))-Canoe!C87*SIN(RADIANS(E$4))+E$1,\"\")","v":""},{"$f":"IF(Canoe!C87<>\"\",(Canoe!B87*SIN(RADIANS(E$4))+Canoe!C87*COS(RADIANS(E$4))*E$3)+E$2,\"\")","v":""},{"$f":"IF(Canoe!D87<>\"\",Canoe!D87*COS(RADIANS(E$4))-Canoe!E87*SIN(RADIANS(E$4))+E$1,\"\")","v":""},{"$f":"IF(Canoe!E87<>\"\",(Canoe!D87*SIN(RADIANS(E$4))+Canoe!E87*COS(RADIANS(E$4))*E$3)+E$2,\"\")","v":""},null,{"$f":"IF(Canoe!G87<>\"\",Canoe!G87*COS(RADIANS(J$4))-Canoe!H87*SIN(RADIANS(J$4))+J$1,\"\")","v":""},{"$f":"IF(Canoe!H87<>\"\",(Canoe!G87*SIN(RADIANS(J$4))+Canoe!H87*COS(RADIANS(J$4))*J$3)+J$2,\"\")","v":""},{"$f":"IF(Canoe!I87<>\"\",Canoe!I87*COS(RADIANS(J$4))-Canoe!J87*SIN(RADIANS(J$4))+J$1,\"\")","v":""},{"$f":"IF(Canoe!J87<>\"\",(Canoe!I87*SIN(RADIANS(J$4))+Canoe!J87*COS(RADIANS(J$4))*J$3)+J$2,\"\")","v":""},null,{"$f":"IF(Canoe!L87<>\"\",Canoe!L87*COS(RADIANS(O$4))-Canoe!M87*SIN(RADIANS(O$4))+O$1,\"\")","v":""},{"$f":"IF(Canoe!M87<>\"\",(Canoe!L87*SIN(RADIANS(O$4))+Canoe!M87*COS(RADIANS(O$4))*O$3)+O$2,\"\")","v":""},{"$f":"IF(Canoe!N87<>\"\",Canoe!N87*COS(RADIANS(O$4))-Canoe!O87*SIN(RADIANS(O$4))+O$1,\"\")","v":""},{"$f":"IF(Canoe!O87<>\"\",(Canoe!N87*SIN(RADIANS(O$4))+Canoe!O87*COS(RADIANS(O$4))*O$3)+O$2,\"\")","v":""},null,{"$f":"IF(Canoe!Q87<>\"\",Canoe!Q87*COS(RADIANS(T$4))-Canoe!R87*SIN(RADIANS(T$4))+T$1,\"\")","v":""},{"$f":"IF(Canoe!R87<>\"\",(Canoe!Q87*SIN(RADIANS(T$4))+Canoe!R87*COS(RADIANS(T$4))*T$3)+T$2,\"\")","v":""},{"$f":"IF(Canoe!S87<>\"\",Canoe!S87*COS(RADIANS(T$4))-Canoe!T87*SIN(RADIANS(T$4))+T$1,\"\")","v":""},{"$f":"IF(Canoe!T87<>\"\",(Canoe!S87*SIN(RADIANS(T$4))+Canoe!T87*COS(RADIANS(T$4))*T$3)+T$2,\"\")","v":""},null,{"$f":"IF(Canoe!V87<>\"\",Canoe!V87*COS(RADIANS(Y$4))-Canoe!W87*SIN(RADIANS(Y$4))+Y$1,\"\")","v":""},{"$f":"IF(Canoe!W87<>\"\",(Canoe!V87*SIN(RADIANS(Y$4))+Canoe!W87*COS(RADIANS(Y$4))*Y$3)+Y$2,\"\")","v":""},{"$f":"IF(Canoe!X87<>\"\",Canoe!X87*COS(RADIANS(Y$4))-Canoe!Y87*SIN(RADIANS(Y$4))+Y$1,\"\")","v":""},{"$f":"IF(Canoe!Y87<>\"\",(Canoe!X87*SIN(RADIANS(Y$4))+Canoe!Y87*COS(RADIANS(Y$4))*Y$3)+Y$2,\"\")","v":""}]

{"sheet":"Unfold Plot","index":4,"n_rows":0,"n_cols":0,"rows_kept":0,"cut":false,"hidden":false,"merged":[]}

{"sheet":"Offset Table","index":5,"n_rows":14,"n_cols":42,"rows_kept":14,"cut":false,"hidden":false,"merged":[]}
["Offset Tables"]
["Height WL",35,100,200,300,400,500,600,700,800,900,1000,1100,1200,1300,1400,1500,1600,1700,1800,1900,2000,2100,2200,2300,2400,2500,2600,2700,2800,2900,3000,3100,3200,3300,3400,3500,3600,3700,3800,3900,3965]
[5,260,256.06060606060606,250,250.00000000000003,250.00000000000006,249.99999999999997,250.00000000000003,249.99999999999997,250,250.00000000000003,250,250,250,249.99999999999997,250,249.99999999999997,250.00000000000003,250.00000000000003,250,250.00000000000003,250,250.00000000000003,250,250,249.99999999999997,250,249.99999999999997,250,249.99999999999997,250,250,250,250,249.99999999999997,250,250,250.00000000000003,249.99999999999997,250,256.06060606060606,260]
[4,260,256.06060606060606,250,244.59876543209879,239.50617283950621,234.72222222222223,230.24691358024691,226.08024691358023,222.22222222222223,218.67283950617283,215.43209876543207,212.5,209.87654320987653,207.56172839506175,205.55555555555557,203.85802469135805,202.46913580246914,201.38888888888886,200.61728395061729,200.15432098765433,200,200.15432098765433,200.61728395061729,201.38888888888891,202.46913580246914,203.85802469135803,205.55555555555557,207.56172839506172,209.87654320987656,212.5,215.4320987654321,218.67283950617286,222.22222222222223,226.08024691358023,230.24691358024694,234.72222222222223,239.50617283950618,244.59876543209876,250,256.06060606060606,260]
[3,260,255.94783345236152,250,244.39736520315813,239.13789813515763,234.21956786932,229.64034347896691,225.3981940374201,221.49108861800073,217.91699629403098,214.6738861388321,211.75972722572578,209.17248862803373,206.91013941907741,204.97064867217841,203.35198546065848,202.05211885783916,201.06901793704202,200.40065177158874,200.04498943480078,200,200.04498943480081,200.40065177158868,201.06901793704205,202.0521188578391,203.35198546065845,204.97064867217836,206.91013941907727,209.17248862803353,211.75972722572584,214.67388613883219,217.91699629403087,221.49108861800079,225.39819403741984,229.64034347896705,234.21956786931997,239.13789813515766,244.39736520315813,250,255.94783345236155,260]
[2,260,137.87878787878788,-50,-52.700617283950621,-55.246913580246918,-57.638888888888893,-59.876543209876544,-61.959876543209873,-63.888888888888886,-65.663580246913583,-67.283950617283963,-68.75,-70.061728395061735,-71.21913580246914,-72.222222222222229,-73.070987654320987,-73.765432098765444,-74.305555555555557,-74.691358024691354,-74.922839506172835,-75,-74.922839506172835,-74.691358024691354,-74.305555555555557,-73.765432098765444,-73.070987654320987,-72.222222222222229,-71.21913580246914,-70.061728395061721,-68.75,-67.283950617283949,-65.663580246913583,-63.888888888888886,-61.959876543209873,-59.876543209876544,-57.638888888888886,-55.246913580246911,-52.700617283950621,-50,137.87878787878788,260]
[1,260,137.87878787878788,-50,-52.700617283950621,-55.246913580246918,-57.638888888888893,-59.876543209876544,-61.959876543209873,-63.888888888888886,-65.663580246913583,-67.283950617283963,-68.75,-70.061728395061735,-71.21913580246914,-72.222222222222229,-73.070987654320987,-73.765432098765444,-74.305555555555557,-74.691358024691354,-74.922839506172835,-75,-74.922839506172835,-74.691358024691354,-74.305555555555557,-73.765432098765444,-73.070987654320987,-72.222222222222229,-71.21913580246914,-70.061728395061721,-68.75,-67.283950617283949,-65.663580246913583,-63.888888888888886,-61.959876543209873,-59.876543209876544,-57.638888888888886,-55.246913580246911,-52.700617283950621,-50,137.87878787878788,260]
[]
["Half Width",null,null,null,null,null,null,null,null,null,null,null,null,null,null,null,null,null,null,null,null,null,null,null,null,null,null,null,null,null,null,null,null,null,null,3400,3500,3600,3700,3800,3900,3965]
[5,0,0,0,29.706790123456791,57.716049382716051,84.027777777777786,108.64197530864197,131.55864197530863,152.77777777777777,172.29938271604939,190.12345679012347,206.25,220.67901234567901,233.41049382716048,244.44444444444446,253.78086419753086,261.41975308641975,267.36111111111109,271.60493827160496,274.15123456790127,275,274.15123456790121,271.60493827160491,267.36111111111109,261.41975308641975,253.78086419753089,244.44444444444446,233.41049382716051,220.67901234567901,206.25,190.12345679012344,172.29938271604937,152.77777777777777,131.55864197530863,108.64197530864197,84.027777777777786,57.716049382716051,29.706790123456788,0,0,0]
[4,0,0,0,29.706790123456791,57.716049382716051,84.027777777777786,108.64197530864197,131.55864197530863,152.77777777777777,172.29938271604939,190.12345679012347,206.25,220.67901234567901,233.41049382716048,244.44444444444446,253.78086419753086,261.41975308641975,267.36111111111109,271.60493827160496,274.15123456790127,275,274.15123456790121,271.60493827160491,267.36111111111109,261.41975308641975,253.78086419753089,244.44444444444446,233.41049382716051,220.67901234567901,206.25,190.12345679012344,172.29938271604937,152.77777777777777,131.55864197530863,108.64197530864197,84.027777777777786,57.716049382716051,29.706790123456788,0,0,0]
[3,0,21.022158203658666,52,81.323087743439416,108.98973081551674,134.99823859777175,159.34692047174434,182.03408581897423,203.05804402100136,222.41710445936545,240.10957651560636,256.13376957126388,270.48799300787783,283.17055620698807,294.17976855013444,303.51393941885664,311.17137819469457,317.15039425918803,321.44929699387689,324.06639578030098,325,324.06639578030092,321.44929699387694,317.15039425918803,311.17137819469463,303.51393941885669,294.17976855013438,283.17055620698807,270.48799300787783,256.13376957126383,240.10957651560634,222.41710445936542,203.05804402100134,182.03408581897423,159.34692047174434,134.99823859777177,108.98973081551674,81.32308774343943,52,21.022158203658663,0]
[2,0,0,0,29.706790123456791,57.716049382716051,84.027777777777786,108.64197530864197,131.55864197530863,152.77777777777777,172.29938271604939,190.12345679012347,206.25,220.67901234567901,233.41049382716048,244.44444444444446,253.78086419753086,261.41975308641975,267.36111111111109,271.60493827160496,274.15123456790127,275,274.15123456790121,271.60493827160491,267.36111111111109,261.41975308641975,253.78086419753089,244.44444444444446,233.41049382716051,220.67901234567901,206.25,190.12345679012344,172.29938271604937,152.77777777777777,131.55864197530863,108.64197530864197,84.027777777777786,57.716049382716051,29.706790123456788,0,0,0]
[1,0,0,0,0,0,0,0,0,0,0,0,0,0,0,0,0,0,0,0,0,0,0,0,0,0,0,0,0,0,0,0,0,0,0,0,0,0,0,0,0,0]

{"sheet":"Section","index":6,"n_rows":7,"n_cols":2,"rows_kept":7,"cut":false,"hidden":false,"merged":[]}
["Section",1800]
["Y","Z"]
[0,-74.691358024691354]
[271.60493827160496,-74.691358024691354]
[321.44929699387689,200.40065177158874]
[271.60493827160496,200.61728395061729]
[271.60493827160496,250]

{"sheet":"Slice","index":7,"n_rows":115,"n_cols":2,"rows_kept":115,"cut":false,"hidden":false,"merged":[]}
["Slice",0]
["X","Y"]
[173.38670616753168,0]
[187.40260235460434,4.5994458190823968]
[216.90043494987339,13.776379228876417]
[282.50578061921323,33.573250298213708]
[200,8.6667822214518573]
[317.97446739386686,43.988268164475485]
[381.47843696811412,62.056712936125734]
[300,38.862840352779337]
[419.00271672645653,72.430574956311176]
[480.49514576318035,88.86699896318018]
[400,67.338640504355794]
[519.9821410187792,99.10468294151525]
[579.55890834138927,114.00234609596117]
[500,94.093998227483439]
[620.9098160428349,124.01212475816162]
[678.67262948356029,137.46067779201542]
[600,119.12864020184142]
[721.78295539864791,147.15458255804808]
[777.83909787559458,159.23961300950054]
[700,142.44220954314002]
[822.59892982298447,168.53388700248132]
[877.06096706812741,179.33647909401409]
[800,164.03427214945108]
[923.35528541055044,188.15201502881877]
[976.34073718969103,197.74832772959323]
[900,183.90432403983803]
[1024.0497604905352,206.01108639651656]
[1075.6807376641525,214.47195383738449]
[1000,202.05179962069437]
[1124.6803009193154,222.11335904277877]
[1175.0831111732832,229.50391725269711]
[1100,218.47608079780645]
[1225.2450735737309,236.46122329901465]
[1274.5497990898957,242.84056696052266]
[1200,233.17650683609421]
[1325.7424778580648,249.05719503959983]
[1374.0825285863264,254.47806762256511]
[1300,246.15238485472557]
[1426.1711550709581,259.90390785333682]
[1473.6828015975707,264.41242808673326]
[1400,257.40300083327429]
[1526.5299955150995,269.00410434498315]
[1573.351885788717,272.63953153412791]
[1500,266.92763099516213]
[1626.8181432716378,276.3606266888014]
[1673.0908076432099,279.15516688984007]
[1600,274.72555342807209]
[1727.0349986017848,281.97640656789076]
[1772.9003477528056,283.95506110317899]
[1700,280.7960597975262]
[1827.1802179788976,285.85445464179969]
[1872.7810383527988,287.03491189081342]
[1800,285.13846700947943]
[1927.2537117943264,287.99784969040735]
[1972.7331631082325,288.39042053300176]
[1900,287.75212868056184]
[2027.2666386344142,288.39032317116448]
[2072.745924448614,287.99803450207776]
[2000,288.63644628039071]
[2127.2187638819787,287.03481828168356]
[2172.8194181206632,285.85464542044861]
[2100,287.75212868056178]
[2227.099455604367,283.95497148715549]
[2272.9646375627203,281.97660325971748]
[2200,285.13846700947943]
[2326.9089974616336,279.15508146905466]
[2373.1814931685958,276.36082923453563]
[2300,280.7960597975262]
[2426.6479216801167,272.63945047184291]
[2473.4696414133673,269.00431267992752]
[2400,274.72555342807215]
[2526.3170088386951,264.41235150719308]
[2573.8284825592027,259.90412190744559]
[2500,266.92763099516219]
[2625.9172854041099,254.47799561130125]
[2674.2571606874249,249.05741473759304]
[2600,257.40300083327429]
[2725.450019021067,242.84049956510484]
[2774.7545661001086,236.46144856052783]
[2700,246.1523848547256]
[2824.9167116006947,229.5038544839139]
[2875.3193400944892,222.11358978254665]
[2800,233.17650683609421]
[2924.3190902882156,214.47189567083046]
[2975.9498820726576,206.01132252458956]
[2900,218.47608079780642]
[3023.6590964263628,197.74827410763015]
[3076.6443589084874,188.15225645081026]
[3000,202.05179962069434]
[3122.9388726641746,179.33642992806887]
[3177.4007164546356,168.53413361984309]
[3100,183.904324039838]
[3222.1607483904781,159.23956818265634]
[3278.2166930358453,147.15483426837179]
[3200,164.03427214945108]
[3321.3272236968246,137.46063716184841]
[3379.0898347416805,124.01238145550295]
[3300,142.44220954314005]
[3420.4409520953109,114.00230949757166]
[3480.0175123031117,99.104944516737362]
[3400,119.12864020184141]
[3519.5047222321364,88.86696621236581]
[3580.9969393137549,72.430841297444459]
[3500,94.093998227483453]
[3618.5214388476497,62.056683832643145]
[3682.0251915386407,43.988539157089562]
[3600,67.338640504355794]
[3717.4941032379829,33.573224629076044]
[3783.0992270414276,13.776654756460994]
[3700,38.862840352779337]
[3812.5973341692143,4.599422643243523]
[3800,8.6667822214518573]
[3812.5973976453956,4.5994458190823968]