{"text_format":"1","workbook":"xlsx","n_sheets":9,"sheets":["Curves","BasicCalcs","Hearts Desire II","Offset Table","Drawing","Unfold Offset Table","Unfold Plot","Section","Slice"],"not_rendered":{"charts":1,"images":0,"macros":1,"external_links":2,"defined_names":3,"comments":0,"pivot_tables":0},"unopened":[],"bounds":{"document_bytes":16777216,"sheet_cells":100000,"rows_first":2000,"rows_last":500,"rows_between":2000,"halvings":0,"cell_chars":16384,"cell_head_chars":4096},"cells_cut":0,"cells_raw":0,"read":"whole","date_system":"1900"}

{"sheet":"Curves","index":0,"n_rows":7,"n_cols":111,"rows_kept":7,"cut":false,"hidden":false,"merged":[[0,56,0,60],[0,1,0,5],[0,6,0,10],[0,11,0,15],[0,16,0,20],[0,21,0,25],[0,26,0,30],[0,31,0,35],[0,36,0,40],[0,41,0,45],[0,46,0,50],[0,51,0,55],[0,91,0,95],[0,96,0,100],[0,101,0,105],[0,106,0,110],[0,61,0,65],[0,66,0,70],[0,71,0,75],[0,76,0,80],[0,81,0,85],[0,86,0,90]]}
[null,1,null,null,null,null,2,null,null,null,null,3,null,null,null,null,4,null,null,null,null,5,null,null,null,null,6,null,null,null,null,7,null,null,null,null,8,null,null,null,null,9,null,null,null,null,10,null,null,null,null,11,null,null,null,null,12,null,null,null,null,13,null,null,null,null,14,null,null,null,null,15,null,null,null,null,16,null,null,null,null,17,null,null,null,null,18,null,null,null,null,19,null,null,null,null,20,null,null,null,null,21,null,null,null,null,22]
[null,"X","Y","Z","BREAK","COLOUR","X","Y","Z","BREAK","COLOUR","X","Y","Z","BREAK","COLOUR","X","Y","Z","BREAK","COLOUR","X","Y","Z","BREAK","COLOUR","X","Y","Z","BREAK","COLOUR","X","Y","Z","BREAK","COLOUR","X","Y","Z","BREAK","COLOUR","X","Y","Z","BREAK","COLOUR","X","Y","Z","BREAK","COLOUR","X","Y","Z","BREAK","COLOUR","X","Y","Z","BREAK","COLOUR","X","Y","Z","BREAK","COLOUR","X","Y","Z","BREAK","COLOUR","X","Y","Z","BREAK","COLOUR","X","Y","Z","BREAK","COLOUR","X","Y","Z","BREAK","COLOUR","X","Y","Z","BREAK","COLOUR","X","Y","Z","BREAK","COLOUR","X","Y","Z","BREAK","COLOUR","X","Y","Z","BREAK","COLOUR","X","Y","Z","BREAK","COLOUR"]
["Keel",0,{"$f":" -8.20168948E-16*B3^5 + 0.0000000000135889885*B3^4 - 0.0000000840631515*B3^3 + 0.000206462105*B3^2 - 0.0717799351*B3 - 37.5476442","v":-37.547644200000001},{"$f":" -0.0536796537*B3 - 386.148723","v":-386.14872300000002},false,5,100,{"$f":" -8.20168948E-16*G3^5 + 0.0000000000135889885*G3^4 - 0.0000000840631515*G3^3 + 0.000206462105*G3^2 - 0.0717799351*G3 - 37.5476442","v":-42.74372911433948},{"$f":" -0.0536796537*G3 - 386.148723","v":-391.51668837},false,5,200,{"$f":" -8.20168948E-16*L3^5 + 0.0000000000135889885*L3^4 - 0.0000000840631515*L3^3 + 0.000206462105*L3^2 - 0.0717799351*L3 - 37.5476442","v":-44.296172304463362},{"$f":" -0.0536796537*L3 - 386.148723","v":-396.88465374000003},false,5,400,{"$f":" -8.20168948E-16*Q3^5 + 0.0000000000135889885*Q3^4 - 0.0000000840631515*Q3^3 + 0.000206462105*Q3^2 - 0.0717799351*Q3 - 37.5476442","v":-38.266243560427519},{"$f":" -0.0536796537*Q3 - 386.148723","v":-407.62058448000005},false,5,600,{"$f":" -8.20168948E-16*V3^5 + 0.0000000000135889885*V3^4 - 0.0000000840631515*V3^3 + 0.000206462105*V3^2 - 0.0717799351*V3 - 37.5476442","v":-22.749531611796485},{"$f":" -0.0536796537*V3 - 386.148723","v":-418.35651522000001},false,5,800,{"$f":" -8.20168948E-16*AA3^5 + 0.0000000000135889885*AA3^4 - 0.0000000840631515*AA3^3 + 0.000206462105*AA3^2 - 0.0717799351*AA3 - 37.5476442","v":-0.57888191928064714},{"$f":" -0.0536796537*AA3 - 386.148723","v":-429.09244596000002},false,5,1000,{"$f":" -8.20168948E-16*AF3^5 + 0.0000000000135889885*AF3^4 - 0.0000000840631515*AF3^3 + 0.000206462105*AF3^2 - 0.0717799351*AF3 - 37.5476442","v":25.840193751999969},{"$f":" -0.0536796537*AF3 - 386.148723","v":-439.82837670000004},false,5,1500,{"$f":" -8.20168948E-16*AK3^5 + 0.0000000000135889885*AK3^4 - 0.0000000840631515*AK3^3 + 0.000206462105*AK3^2 - 0.0717799351*AK3 - 37.5476442","v":98.175149419874941},{"$f":" -0.0536796537*AK3 - 386.148723","v":-466.66820355000004},false,5,2000,{"$f":" -8.20168948E-16*AP3^5 + 0.0000000000135889885*AP3^4 - 0.0000000840631515*AP3^3 + 0.000206462105*AP3^2 - 0.0717799351*AP3 - 37.5476442","v":163.41410326399989},{"$f":" -0.0536796537*AP3 - 386.148723","v":-493.50803040000005},false,5,2500,{"$f":" -8.20168948E-16*AU3^5 + 0.0000000000135889885*AU3^4 - 0.0000000840631515*AU3^3 + 0.000206462105*AU3^2 - 0.0717799351*AU3 - 37.5476442","v":210.62917156562486},{"$f":" -0.0536796537*AU3 - 386.148723","v":-520.34785725000006},false,5,3000,{"$f":" -8.20168948E-16*AZ3^5 + 0.0000000000135889885*AZ3^4 - 0.0000000840631515*AZ3^3 + 0.000206462105*AZ3^2 - 0.0717799351*AZ3 - 37.5476442","v":236.97341913599965},{"$f":" -0.0536796537*AZ3 - 386.148723","v":-547.18768410000007},false,5,3500,{"$f":" -8.20168948E-16*BE3^5 + 0.0000000000135889885*BE3^4 - 0.0000000840631515*BE3^3 + 0.000206462105*BE3^2 - 0.0717799351*BE3 - 37.5476442","v":244.60522576137478},{"$f":" -0.0536796537*BE3 - 386.148723","v":-574.02751095000008},false,5,4000,{"$f":" -8.20168948E-16*BJ3^5 + 0.0000000000135889885*BJ3^4 - 0.0000000840631515*BJ3^3 + 0.000206462105*BJ3^2 - 0.0717799351*BJ3 - 37.5476442","v":237.61265264799917},{"$f":" -0.0536796537*BJ3 - 386.148723","v":-600.86733780000009},false,5,4500,{"$f":" -8.20168948E-16*BO3^5 + 0.0000000000135889885*BO3^4 - 0.0000000840631515*BO3^3 + 0.000206462105*BO3^2 - 0.0717799351*BO3 - 37.5476442","v":218.9378088671256},{"$f":" -0.0536796537*BO3 - 386.148723","v":-627.7071646500001},false,5,5000,{"$f":" -8.20168948E-16*BT3^5 + 0.0000000000135889885*BT3^4 - 0.0000000840631515*BT3^3 + 0.000206462105*BT3^2 - 0.0717799351*BT3 - 37.5476442","v":187.30121779999874},{"$f":" -0.0536796537*BT3 - 386.148723","v":-654.5469915000001},false,5,6000,{"$f":" -8.20168948E-16*BY3^5 + 0.0000000000135889885*BY3^4 - 0.0000000840631515*BY3^3 + 0.000206462105*BY3^2 - 0.0717799351*BY3 - 37.5476442","v":40.463157551995302},{"$f":" -0.0536796537*BY3 - 386.148723","v":-708.22664520000012},false,5,6200,{"$f":" -8.20168948E-16*CD3^5 + 0.0000000000135889885*CD3^4 - 0.0000000840631515*CD3^3 + 0.000206462105*CD3^2 - 0.0717799351*CD3 - 37.5476442","v":-15.073709195406273},{"$f":" -0.0536796537*CD3 - 386.148723","v":-718.96257594000008},false,5,6400,{"$f":" -8.20168948E-16*CI3^5 + 0.0000000000135889885*CI3^4 - 0.0000000840631515*CI3^3 + 0.000206462105*CI3^2 - 0.0717799351*CI3 - 37.5476442","v":-84.859688391212813},{"$f":" -0.0536796537*CI3 - 386.148723","v":-729.69850668000004},false,5,6600,{"$f":" -8.20168948E-16*CN3^5 + 0.0000000000135889885*CN3^4 - 0.0000000840631515*CN3^3 + 0.000206462105*CN3^2 - 0.0717799351*CN3 - 37.5476442","v":-172.12171029090305},{"$f":" -0.0536796537*CN3 - 386.148723","v":-740.43443741999999},false,5,6800,{"$f":" -8.20168948E-16*CS3^5 + 0.0000000000135889885*CS3^4 - 0.0000000840631515*CS3^3 + 0.000206462105*CS3^2 - 0.0717799351*CS3 - 37.5476442","v":-280.57271159486589},{"$f":" -0.0536796537*CS3 - 386.148723","v":-751.17036816000007},false,5,6900,{"$f":" -8.20168948E-16*CX3^5 + 0.0000000000135889885*CX3^4 - 0.0000000840631515*CX3^3 + 0.000206462105*CX3^2 - 0.0717799351*CX3 - 37.5476442","v":-344.04501522615902},{"$f":" -0.0536796537*CX3 - 386.148723","v":-756.53833353000005},false,5,7000,{"$f":" -8.20168948E-16*DC3^5 + 0.0000000000135889885*DC3^4 - 0.0000000840631515*DC3^3 + 0.000206462105*DC3^2 - 0.0717799351*DC3 - 37.5476442","v":-414.44312993600261},{"$f":" -0.0536796537*DC3 - 386.148723","v":-761.90629890000002},true,0]
["Rabbet",0,{"$f":" -8.20168948E-16*B4^5 + 0.0000000000135889885*B4^4 - 0.0000000840631515*B4^3 + 0.000206462105*B4^2 - 0.0717799351*B4 - 37.5476442","v":-37.547644200000001},{"$f":" -0.0536796537*B4- 309.948723","v":-309.94872299999997},false,4,100,{"$f":" -8.20168948E-16*G4^5 + 0.0000000000135889885*G4^4 - 0.0000000840631515*G4^3 + 0.000206462105*G4^2 - 0.0717799351*G4 - 37.5476442","v":-42.74372911433948},{"$f":" -0.0536796537*G4- 309.948723","v":-315.31668836999995},false,4,200,{"$f":" -8.20168948E-16*L4^5 + 0.0000000000135889885*L4^4 - 0.0000000840631515*L4^3 + 0.000206462105*L4^2 - 0.0717799351*L4 - 37.5476442","v":-44.296172304463362},{"$f":" -0.0536796537*L4- 309.948723","v":-320.68465373999999},false,4,400,{"$f":" -8.20168948E-16*Q4^5 + 0.0000000000135889885*Q4^4 - 0.0000000840631515*Q4^3 + 0.000206462105*Q4^2 - 0.0717799351*Q4 - 37.5476442","v":-38.266243560427519},{"$f":" -0.0536796537*Q4- 309.948723","v":-331.42058448},false,4,600,{"$f":" -8.20168948E-16*V4^5 + 0.0000000000135889885*V4^4 - 0.0000000840631515*V4^3 + 0.000206462105*V4^2 - 0.0717799351*V4 - 37.5476442","v":-22.749531611796485},{"$f":" -0.0536796537*V4- 309.948723","v":-342.15651521999996},false,4,800,{"$f":" -8.20168948E-16*AA4^5 + 0.0000000000135889885*AA4^4 - 0.0000000840631515*AA4^3 + 0.000206462105*AA4^2 - 0.0717799351*AA4 - 37.5476442","v":-0.57888191928064714},{"$f":" -0.0536796537*AA4- 309.948723","v":-352.89244595999998},false,4,1000,{"$f":" -8.20168948E-16*AF4^5 + 0.0000000000135889885*AF4^4 - 0.0000000840631515*AF4^3 + 0.000206462105*AF4^2 - 0.0717799351*AF4 - 37.5476442","v":25.840193751999969},{"$f":" -0.0536796537*AF4- 309.948723","v":-363.62837669999999},false,4,1500,{"$f":" -8.20168948E-16*AK4^5 + 0.0000000000135889885*AK4^4 - 0.0000000840631515*AK4^3 + 0.000206462105*AK4^2 - 0.0717799351*AK4 - 37.5476442","v":98.175149419874941},{"$f":" -0.0536796537*AK4- 309.948723","v":-390.46820355},false,4,2000,{"$f":" -8.20168948E-16*AP4^5 + 0.0000000000135889885*AP4^4 - 0.0000000840631515*AP4^3 + 0.000206462105*AP4^2 - 0.0717799351*AP4 - 37.5476442","v":163.41410326399989},{"$f":" -0.0536796537*AP4- 309.948723","v":-417.30803040000001},false,4,2500,{"$f":" -8.20168948E-16*AU4^5 + 0.0000000000135889885*AU4^4 - 0.0000000840631515*AU4^3 + 0.000206462105*AU4^2 - 0.0717799351*AU4 - 37.5476442","v":210.62917156562486},{"$f":" -0.0536796537*AU4- 309.948723","v":-444.14785725000002},false,4,3000,{"$f":" -8.20168948E-16*AZ4^5 + 0.0000000000135889885*AZ4^4 - 0.0000000840631515*AZ4^3 + 0.000206462105*AZ4^2 - 0.0717799351*AZ4 - 37.5476442","v":236.97341913599965},{"$f":" -0.0536796537*AZ4- 309.948723","v":-470.98768410000002},false,4,3500,{"$f":" -8.20168948E-16*BE4^5 + 0.0000000000135889885*BE4^4 - 0.0000000840631515*BE4^3 + 0.000206462105*BE4^2 - 0.0717799351*BE4 - 37.5476442","v":244.60522576137478},{"$f":" -0.0536796537*BE4- 309.948723","v":-497.82751094999998},false,4,4000,{"$f":" -8.20168948E-16*BJ4^5 + 0.0000000000135889885*BJ4^4 - 0.0000000840631515*BJ4^3 + 0.000206462105*BJ4^2 - 0.0717799351*BJ4 - 37.5476442","v":237.61265264799917},{"$f":" -0.0536796537*BJ4- 309.948723","v":-524.66733780000004},false,4,4500,{"$f":" -8.20168948E-16*BO4^5 + 0.0000000000135889885*BO4^4 - 0.0000000840631515*BO4^3 + 0.000206462105*BO4^2 - 0.0717799351*BO4 - 37.5476442","v":218.9378088671256},{"$f":" -0.0536796537*BO4- 309.948723","v":-551.50716465000005},false,4,5000,{"$f":" -8.20168948E-16*BT4^5 + 0.0000000000135889885*BT4^4 - 0.0000000840631515*BT4^3 + 0.000206462105*BT4^2 - 0.0717799351*BT4 - 37.5476442","v":187.30121779999874},{"$f":" -0.0536796537*BT4- 309.948723","v":-578.34699150000006},false,4,6000,{"$f":" -8.20168948E-16*BY4^5 + 0.0000000000135889885*BY4^4 - 0.0000000840631515*BY4^3 + 0.000206462105*BY4^2 - 0.0717799351*BY4 - 37.5476442","v":40.463157551995302},{"$f":" -0.0536796537*BY4- 309.948723","v":-632.02664520000008},false,4,6200,{"$f":" -8.20168948E-16*CD4^5 + 0.0000000000135889885*CD4^4 - 0.0000000840631515*CD4^3 + 0.000206462105*CD4^2 - 0.0717799351*CD4 - 37.5476442","v":-15.073709195406273},{"$f":" -0.0536796537*CD4- 309.948723","v":-642.76257594000003},false,4,6400,{"$f":" -8.20168948E-16*CI4^5 + 0.0000000000135889885*CI4^4 - 0.0000000840631515*CI4^3 + 0.000206462105*CI4^2 - 0.0717799351*CI4 - 37.5476442","v":-84.859688391212813},{"$f":" -0.0536796537*CI4- 309.948723","v":-653.49850667999999},false,4,6600,{"$f":" -8.20168948E-16*CN4^5 + 0.0000000000135889885*CN4^4 - 0.0000000840631515*CN4^3 + 0.000206462105*CN4^2 - 0.0717799351*CN4 - 37.5476442","v":-172.12171029090305},{"$f":" -0.0536796537*CN4- 309.948723","v":-664.23443741999995},false,4,6800,{"$f":" -8.20168948E-16*CS4^5 + 0.0000000000135889885*CS4^4 - 0.0000000840631515*CS4^3 + 0.000206462105*CS4^2 - 0.0717799351*CS4 - 37.5476442","v":-280.57271159486589},{"$f":" -0.0536796537*CS4- 309.948723","v":-674.97036816000002},false,4,6900,{"$f":" -8.20168948E-16*CX4^5 + 0.0000000000135889885*CX4^4 - 0.0000000840631515*CX4^3 + 0.000206462105*CX4^2 - 0.0717799351*CX4 - 37.5476442","v":-344.04501522615902},{"$f":" -0.0536796537*CX4- 309.948723","v":-680.33833353},false,4,7000,{"$f":" -8.20168948E-16*DC4^5 + 0.0000000000135889885*DC4^4 - 0.0000000840631515*DC4^3 + 0.000206462105*DC4^2 - 0.0717799351*DC4 - 37.5476442","v":-414.44312993600261},{"$f":" -0.0536796537*DC4- 309.948723","v":-685.70629889999998},true,0]
["Chine",0,{"$f":" -1.96836918E-12*B5^4 + 0.0000000223263403*B5^3 - 0.00015881897*B5^2 + 0.678982126*B5 - 98.516196","v":-98.516195999999994},{"$f":" 0.0000325080672*B5^2 - 0.237650785*B5 + 321.043886","v":321.04388599999999},false,3,100,{"$f":" -1.96836918E-12*G5^4 + 0.0000000223263403*G5^3 - 0.00015881897*G5^2 + 0.678982126*G5 - 98.516196","v":-32.184043596617997},{"$f":" 0.0000325080672*G5^2 - 0.237650785*G5 + 321.043886","v":297.60388817199998},false,3,200,{"$f":" -1.96836918E-12*L5^4 + 0.0000000223263403*L5^3 - 0.00015881897*L5^2 + 0.678982126*L5 - 98.516196","v":31.10293173171199},{"$f":" 0.0000325080672*L5^2 - 0.237650785*L5 + 321.043886","v":274.81405168800001},false,3,400,{"$f":" -1.96836918E-12*Q5^4 + 0.0000000223263403*Q5^3 - 0.00015881897*Q5^2 + 0.678982126*Q5 - 98.516196","v":149.04411472819197},{"$f":" 0.0000325080672*Q5^2 - 0.237650785*Q5 + 321.043886","v":231.18486275199999},false,3,600,{"$f":" -1.96836918E-12*V5^4 + 0.0000000223263403*V5^3 - 0.00015881897*V5^2 + 0.678982126*V5 - 98.516196","v":256.26563925907197},{"$f":" 0.0000325080672*V5^2 - 0.237650785*V5 + 321.043886","v":190.15631919199998},false,3,800,{"$f":" -1.96836918E-12*AA5^4 + 0.0000000223263403*AA5^3 - 0.00015881897*AA5^2 + 0.678982126*AA5 - 98.516196","v":353.65020621747198},{"$f":" 0.0000325080672*AA5^2 - 0.237650785*AA5 + 321.043886","v":151.72842100799997},false,3,1000,{"$f":" -1.96836918E-12*AF5^4 + 0.0000000223263403*AF5^3 - 0.00015881897*AF5^2 + 0.678982126*AF5 - 98.516196","v":442.00493111999998},{"$f":" 0.0000325080672*AF5^2 - 0.237650785*AF5 + 321.043886","v":115.90116819999997},false,3,1500,{"$f":" -1.96836918E-12*AK5^4 + 0.0000000223263403*AK5^3 - 0.00015881897*AK5^2 + 0.678982126*AK5 - 98.516196","v":628.00084003874986},{"$f":" 0.0000325080672*AK5^2 - 0.237650785*AK5 + 321.043886","v":37.710859699999958},false,3,2000,{"$f":" -1.96836918E-12*AP5^4 + 0.0000000223263403*AP5^3 - 0.00015881897*AP5^2 + 0.678982126*AP5 - 98.516196","v":771.28899151999985},{"$f":" 0.0000325080672*AP5^2 - 0.237650785*AP5 + 321.043886","v":-24.225415200000043},false,3,2500,{"$f":" -1.96836918E-12*AU5^4 + 0.0000000223263403*AU5^3 - 0.00015881897*AU5^2 + 0.678982126*AU5 - 98.516196","v":878.28020259374989},{"$f":" 0.0000325080672*AU5^2 - 0.237650785*AU5 + 321.043886","v":-69.907656499999973},false,3,3000,{"$f":" -1.96836918E-12*AZ5^4 + 0.0000000223263403*AZ5^3 - 0.00015881897*AZ5^2 + 0.678982126*AZ5 - 98.516196","v":952.43273651999993},{"$f":" 0.0000325080672*AZ5^2 - 0.237650785*AZ5 + 321.043886","v":-99.335864200000003},false,3,3500,{"$f":" -1.96836918E-12*BE5^4 + 0.0000000223263403*BE5^3 - 0.00015881897*BE5^2 + 0.678982126*BE5 - 98.516196","v":994.25230278874983},{"$f":" 0.0000325080672*BE5^2 - 0.237650785*BE5 + 321.043886","v":-112.51003830000002},false,3,4000,{"$f":" -1.96836918E-12*BJ5^4 + 0.0000000223263403*BJ5^3 - 0.00015881897*BJ5^2 + 0.678982126*BJ5 - 98.516196","v":1001.2920571199998},{"$f":" 0.0000325080672*BJ5^2 - 0.237650785*BJ5 + 321.043886","v":-109.43017880000008},false,3,4500,{"$f":" -1.96836918E-12*BO5^4 + 0.0000000223263403*BO5^3 - 0.00015881897*BO5^2 + 0.678982126*BO5 - 98.516196","v":968.15260146374976},{"$f":" 0.0000325080672*BO5^2 - 0.237650785*BO5 + 321.043886","v":-90.096285700000124},false,3,5000,{"$f":" -1.96836918E-12*BT5^4 + 0.0000000223263403*BT5^3 - 0.00015881897*BT5^2 + 0.678982126*BT5 - 98.516196","v":886.48198400000001},{"$f":" 0.0000325080672*BT5^2 - 0.237650785*BT5 + 321.043886","v":-54.508358999999984},false,3,6000,{"$f":" -1.96836918E-12*BY5^4 + 0.0000000223263403*BY5^3 - 0.00015881897*BY5^2 + 0.678982126*BY5 - 98.516196","v":529.3766875199999},{"$f":" 0.0000325080672*BY5^2 - 0.237650785*BY5 + 321.043886","v":65.429595200000051},false,3,6200,{"$f":" -1.96836918E-12*CD5^4 + 0.0000000223263403*CD5^3 - 0.00015881897*CD5^2 + 0.678982126*CD5 - 98.516196","v":418.6353718459514},{"$f":" 0.0000325080672*CD5^2 - 0.237650785*CD5 + 321.043886","v":97.219122168000069},false,3,6400,{"$f":" -1.96836918E-12*CI5^4 + 0.0000000223263403*CI5^3 - 0.00015881897*CI5^2 + 0.678982126*CI5 - 98.516196","v":292.08506074291023},{"$f":" 0.0000325080672*CI5^2 - 0.237650785*CI5 + 321.043886","v":131.60929451199996},false,3,6600,{"$f":" -1.96836918E-12*CN5^4 + 0.0000000223263403*CN5^3 - 0.00015881897*CN5^2 + 0.678982126*CN5 - 98.516196","v":148.41647918515133},{"$f":" 0.0000325080672*CN5^2 - 0.237650785*CN5 + 321.043886","v":168.60011223199996},false,3,6800,{"$f":" -1.96836918E-12*CS5^4 + 0.0000000223263403*CS5^3 - 0.00015881897*CS5^2 + 0.678982126*CS5 - 98.516196","v":-13.75523322956856},{"$f":" 0.0000325080672*CS5^2 - 0.237650785*CS5 + 321.043886","v":208.19157532800006},false,3,6900,{"$f":" -1.96836918E-12*CX5^4 + 0.0000000223263403*CX5^3 - 0.00015881897*CX5^2 + 0.678982126*CX5 - 98.516196","v":-102.23320026037932},{"$f":" 0.0000325080672*CX5^2 - 0.237650785*CX5 + 321.043886","v":228.96254889200014},false,3,7000,{"$f":" -1.96836918E-12*DC5^4 + 0.0000000223263403*DC5^3 - 0.00015881897*DC5^2 + 0.678982126*DC5 - 98.516196","v":-195.89052228000077},{"$f":" 0.0000325080672*DC5^2 - 0.237650785*DC5 + 321.043886","v":250.38368380000003},true,0]
["Sheer",0,{"$f":" -0.0000000000067919258*B6^4 + 0.0000000945983196*B6^3 - 0.000504025587*B6^2 + 1.22127801*B6","v":0},{"$f":" 0.0000182672053*B6^2 - 0.165450041*B6 + 1022.13715","v":1022.13715},false,2,100,{"$f":" -0.0000000000067919258*G6^4 + 0.0000000945983196*G6^3 - 0.000504025587*G6^2 + 1.22127801*G6","v":117.18146425702001},{"$f":" 0.0000182672053*G6^2 - 0.165450041*G6 + 1022.13715","v":1005.774817953},false,2,200,{"$f":" -0.0000000000067919258*L6^4 + 0.0000000945983196*L6^3 - 0.000504025587*L6^2 + 1.22127801*L6","v":224.84049799552002},{"$f":" 0.0000182672053*L6^2 - 0.165450041*L6 + 1022.13715","v":989.77783001199998},false,2,400,{"$f":" -0.0000000000067919258*Q6^4 + 0.0000000945983196*Q6^3 - 0.000504025587*Q6^2 + 1.22127801*Q6","v":413.74752923392003},{"$f":" 0.0000182672053*Q6^2 - 0.165450041*Q6 + 1022.13715","v":958.87988644799998},false,2,600,{"$f":" -0.0000000000067919258*V6^4 + 0.0000000945983196*V6^3 - 0.000504025587*V6^2 + 1.22127801*V6","v":570.87059812991993},{"$f":" 0.0000182672053*V6^2 - 0.165450041*V6 + 1022.13715","v":929.44331930800001},false,2,800,{"$f":" -0.0000000000067919258*AA6^4 + 0.0000000945983196*AA6^3 - 0.000504025587*AA6^2 + 1.22127801*AA6","v":700.09839914752001},{"$f":" 0.0000182672053*AA6^2 - 0.165450041*AA6 + 1022.13715","v":901.46812859199997},false,2,1000,{"$f":" -0.0000000000067919258*AF6^4 + 0.0000000945983196*AF6^3 - 0.000504025587*AF6^2 + 1.22127801*AF6","v":805.05881680000005},{"$f":" 0.0000182672053*AF6^2 - 0.165450041*AF6 + 1022.13715","v":874.95431430000008},false,2,1500,{"$f":" -0.0000000000067919258*AK6^4 + 0.0000000945983196*AK6^3 - 0.000504025587*AK6^2 + 1.22127801*AK6","v":982.74464853749998},{"$f":" 0.0000182672053*AK6^2 - 0.165450041*AK6 + 1022.13715","v":815.06330042500008},false,2,2000,{"$f":" -0.0000000000067919258*AP6^4 + 0.0000000945983196*AP6^3 - 0.000504025587*AP6^2 + 1.22127801*AP6","v":1074.569416},{"$f":" 0.0000182672053*AP6^2 - 0.165450041*AP6 + 1022.13715","v":764.30588920000002},false,2,2500,{"$f":" -0.0000000000067919258*AU6^4 + 0.0000000945983196*AU6^3 - 0.000504025587*AU6^2 + 1.22127801*AU6","v":1115.8242484375},{"$f":" 0.0000182672053*AU6^2 - 0.165450041*AU6 + 1022.13715","v":722.68208062500003},false,2,3000,{"$f":" -0.0000000000067919258*AZ6^4 + 0.0000000945983196*AZ6^3 - 0.000504025587*AZ6^2 + 1.22127801*AZ6","v":1131.6123864000001},{"$f":" 0.0000182672053*AZ6^2 - 0.165450041*AZ6 + 1022.13715","v":690.19187469999997},false,2,3500,{"$f":" -0.0000000000067919258*BE6^4 + 0.0000000945983196*BE6^3 - 0.000504025587*BE6^2 + 1.22127801*BE6","v":1136.8491817374997},{"$f":" 0.0000182672053*BE6^2 - 0.165450041*BE6 + 1022.13715","v":666.83527142499997},false,2,4000,{"$f":" -0.0000000000067919258*BJ6^4 + 0.0000000945983196*BJ6^3 - 0.000504025587*BJ6^2 + 1.22127801*BJ6","v":1136.2620975999998},{"$f":" 0.0000182672053*BJ6^2 - 0.165450041*BJ6 + 1022.13715","v":652.61227080000003},false,2,4500,{"$f":" -0.0000000000067919258*BO6^4 + 0.0000000945983196*BO6^3 - 0.000504025587*BO6^2 + 1.22127801*BO6","v":1124.3907084374996},{"$f":" 0.0000182672053*BO6^2 - 0.165450041*BO6 + 1022.13715","v":647.52287282500015},false,2,5000,{"$f":" -0.0000000000067919258*BT6^4 + 0.0000000945983196*BT6^3 - 0.000504025587*BT6^2 + 1.22127801*BT6","v":1085.5866999999998},{"$f":" 0.0000182672053*BT6^2 - 0.165450041*BT6 + 1022.13715","v":651.5670775000001},false,2,6000,{"$f":" -0.0000000000067919258*BY6^4 + 0.0000000945983196*BY6^3 - 0.000504025587*BY6^2 + 1.22127801*BY6","v":813.64812479999819},{"$f":" 0.0000182672053*BY6^2 - 0.165450041*BY6 + 1022.13715","v":687.05629479999993},false,2,6200,{"$f":" -0.0000000000067919258*CD6^4 + 0.0000000945983196*CD6^3 - 0.000504025587*CD6^2 + 1.22127801*CD6","v":706.63064056191888},{"$f":" 0.0000182672053*CD6^2 - 0.165450041*CD6 + 1022.13715","v":698.53826753200008},false,2,6400,{"$f":" -0.0000000000067919258*CI6^4 + 0.0000000945983196*CI6^3 - 0.000504025587*CI6^2 + 1.22127801*CI6","v":574.71249344511853},{"$f":" 0.0000182672053*CI6^2 - 0.165450041*CI6 + 1022.13715","v":711.48161668799992},false,2,6600,{"$f":" -0.0000000000067919258*CN6^4 + 0.0000000945983196*CN6^3 - 0.000504025587*CN6^2 + 1.22127801*CN6","v":414.21888934272374},{"$f":" 0.0000182672053*CN6^2 - 0.165450041*CN6 + 1022.13715","v":725.88634226799991},false,2,6800,{"$f":" -0.0000000000067919258*CS6^4 + 0.0000000945983196*CS6^3 - 0.000504025587*CS6^2 + 1.22127801*CS6","v":221.21422419712326},{"$f":" 0.0000182672053*CS6^2 - 0.165450041*CS6 + 1022.13715","v":741.75244427200005},false,2,6900,{"$f":" -0.0000000000067919258*CX6^4 + 0.0000000945983196*CX6^3 - 0.000504025587*CX6^2 + 1.22127801*CX6","v":111.21905224422153},{"$f":" 0.0000182672053*CX6^2 - 0.165450041*CX6 + 1022.13715","v":750.23351143299999},false,2,7000,{"$f":" -0.0000000000067919258*DC6^4 + 0.0000000945983196*DC6^3 - 0.000504025587*DC6^2 + 1.22127801*DC6","v":-8.4979160000002594},{"$f":" 0.0000182672053*DC6^2 - 0.165450041*DC6 + 1022.13715","v":759.0799227},true,0]
["Rail",0,{"$f":" -0.0000000000069067777*B7^4 + 0.0000000964451557*B7^3 - 0.000510827416*B7^2 + 1.21848117*B7 + 51.4486088","v":51.448608800000002},{"$f":" 0.0000185995137*B7^2 - 0.167922431*B7 + 1120.68543","v":1120.68543},false,1,100,{"$f":" -0.0000000000069067777*G7^4 + 0.0000000964451557*G7^3 - 0.000510827416*G7^2 + 1.21848117*G7 + 51.4486088","v":168.28420611793001},{"$f":" 0.0000185995137*G7^2 - 0.167922431*G7 + 1120.68543","v":1104.079182037},false,1,200,{"$f":" -0.0000000000069067777*L7^4 + 0.0000000964451557*L7^3 - 0.000510827416*L7^2 + 1.21848117*L7 + 51.4486088","v":275.47225656128001},{"$f":" 0.0000185995137*L7^2 - 0.167922431*L7 + 1120.68543","v":1087.8449243479999},false,1,400,{"$f":" -0.0000000000069067777*Q7^4 + 0.0000000964451557*Q7^3 - 0.000510827416*Q7^2 + 1.21848117*Q7 + 51.4486088","v":463.10436669568003},{"$f":" 0.0000185995137*Q7^2 - 0.167922431*Q7 + 1120.68543","v":1056.4923797920001},false,1,600,{"$f":" -0.0000000000069067777*V7^4 + 0.0000000964451557*V7^3 - 0.000510827416*V7^2 + 1.21848117*V7 + 51.4486088","v":618.57647628127995},{"$f":" 0.0000185995137*V7^2 - 0.167922431*V7 + 1120.68543","v":1026.6277963319999},false,1,800,{"$f":" -0.0000000000069067777*AA7^4 + 0.0000000964451557*AA7^3 - 0.000510827416*AA7^2 + 1.21848117*AA7 + 51.4486088","v":745.85490213247999},{"$f":" 0.0000185995137*AA7^2 - 0.167922431*AA7 + 1120.68543","v":998.25117396799999},false,1,1000,{"$f":" -0.0000000000069067777*AF7^4 + 0.0000000964451557*AF7^3 - 0.000510827416*AF7^2 + 1.21848117*AF7 + 51.4486088","v":848.6407408},{"$f":" 0.0000185995137*AF7^2 - 0.167922431*AF7 + 1120.68543","v":971.36251270000002},false,1,1500,{"$f":" -0.0000000000069067777*AK7^4 + 0.0000000964451557*AK7^3 - 0.000510827416*AK7^2 + 1.21848117*AK7 + 51.4486088","v":1020.34551618125},{"$f":" 0.0000185995137*AK7^2 - 0.167922431*AK7 + 1120.68543","v":910.65068932500003},false,1,2000,{"$f":" -0.0000000000069067777*AP7^4 + 0.0000000964451557*AP7^3 - 0.000510827416*AP7^2 + 1.21848117*AP7 + 51.4486088","v":1106.1540872},{"$f":" 0.0000185995137*AP7^2 - 0.167922431*AP7 + 1120.68543","v":859.23862280000003},false,1,2500,{"$f":" -0.0000000000069067777*AU7^4 + 0.0000000964451557*AU7^3 - 0.000510827416*AU7^2 + 1.21848117*AU7 + 51.4486088","v":1142.1397377062501},{"$f":" 0.0000185995137*AU7^2 - 0.167922431*AU7 + 1120.68543","v":817.12631312500002},false,1,3000,{"$f":" -0.0000000000069067777*AZ7^4 + 0.0000000964451557*AZ7^3 - 0.000510827416*AZ7^2 + 1.21848117*AZ7 + 51.4486088","v":1154.0155850000003},{"$f":" 0.0000185995137*AZ7^2 - 0.167922431*AZ7 + 1120.68543","v":784.31376030000001},false,1,3500,{"$f":" -0.0000000000069067777*BE7^4 + 0.0000000964451557*BE7^3 - 0.000510827416*BE7^2 + 1.21848117*BE7 + 51.4486088","v":1157.1345798312498},{"$f":" 0.0000185995137*BE7^2 - 0.167922431*BE7 + 1120.68543","v":760.80096432499988},false,1,4000,{"$f":" -0.0000000000069067777*BJ7^4 + 0.0000000964451557*BJ7^3 - 0.000510827416*BJ7^2 + 1.21848117*BJ7 + 51.4486088","v":1156.4895064},{"$f":" 0.0000185995137*BJ7^2 - 0.167922431*BJ7 + 1120.68543","v":746.58792519999997},false,1,4500,{"$f":" -0.0000000000069067777*BO7^4 + 0.0000000964451557*BO7^3 - 0.000510827416*BO7^2 + 1.21848117*BO7 + 51.4486088","v":1146.7129823562507},{"$f":" 0.0000185995137*BO7^2 - 0.167922431*BO7 + 1120.68543","v":741.67464292499994},false,1,5000,{"$f":" -0.0000000000069067777*BT7^4 + 0.0000000964451557*BT7^3 - 0.000510827416*BT7^2 + 1.21848117*BT7 + 51.4486088","v":1112.0774588000002},{"$f":" 0.0000185995137*BT7^2 - 0.167922431*BT7 + 1120.68543","v":746.06111749999991},false,1,6000,{"$f":" -0.0000000000069067777*BY7^4 + 0.0000000964451557*BY7^3 - 0.000510827416*BY7^2 + 1.21848117*BY7 + 51.4486088","v":853.51838480000026},{"$f":" 0.0000185995137*BY7^2 - 0.167922431*BY7 + 1120.68543","v":782.73333719999994},false,1,6200,{"$f":" -0.0000000000069067777*CD7^4 + 0.0000000964451557*CD7^3 - 0.000510827416*CD7^2 + 1.21848117*CD7 + 51.4486088","v":749.72026217887799},{"$f":" 0.0000185995137*CD7^2 - 0.167922431*CD7 + 1120.68543","v":794.53166442799989},false,1,6400,{"$f":" -0.0000000000069067777*CI7^4 + 0.0000000964451557*CI7^3 - 0.000510827416*CI7^2 + 1.21848117*CI7 + 51.4486088","v":621.10589957248033},{"$f":" 0.0000185995137*CI7^2 - 0.167922431*CI7 + 1120.68543","v":807.817952752},false,1,6600,{"$f":" -0.0000000000069067777*CN7^4 + 0.0000000964451557*CN7^3 - 0.000510827416*CN7^2 + 1.21848117*CN7 + 51.4486088","v":463.95022614847915},{"$f":" 0.0000185995137*CN7^2 - 0.167922431*CN7 + 1120.68543","v":822.59220217199982},false,1,6800,{"$f":" -0.0000000000069067777*CS7^4 + 0.0000000964451557*CS7^3 - 0.000510827416*CS7^2 + 1.21848117*CS7 + 51.4486088","v":274.26295081088085},{"$f":" 0.0000185995137*CS7^2 - 0.167922431*CS7 + 1120.68543","v":838.85441268800002},false,1,6900,{"$f":" -0.0000000000069067777*CX7^4 + 0.0000000964451557*CX7^3 - 0.000510827416*CX7^2 + 1.21848117*CX7 + 51.4486088","v":165.90047529113019},{"$f":" 0.0000185995137*CX7^2 - 0.167922431*CX7 + 1120.68543","v":847.54350335700008},false,1,7000,{"$f":" -0.0000000000069067777*DC7^4 + 0.0000000964451557*DC7^3 - 0.000510827416*DC7^2 + 1.21848117*DC7 + 51.4486088","v":47.788562200000015},{"$f":" 0.0000185995137*DC7^2 - 0.167922431*DC7 + 1120.68543","v":856.60458429999983},true,0]

{"sheet":"BasicCalcs","index":1,"n_rows":73,"n_cols":5,"rows_kept":73,"cut":false,"hidden":false,"merged":[[45,2,45,3],[52,1,52,4],[64,1,64,4],[1,1,1,4],[13,1,13,4],[24,1,24,4],[38,1,38,4]]}
[]
[null,"Canoe Basic Metrics"]
[null,"Length Overall (LOA)",{"$f":"'Hearts Desire II'!M2","v":7.0381816740976326},"m"]
[null,"Beam Overall (BOA)",{"$f":"'Hearts Desire II'!M3","v":2.2736983634749994},"m"]
[null,"Length Water Line (LWL)",{"$f":"'Hearts Desire II'!M4","v":5.7069705582385257},"m"]
[null,"Beam Water Line (BWL)",{"$f":"'Hearts Desire II'!M5","v":2.4262881338860907},"m","Actually the bottom width"]
[null,"Depth Water Line (DWL)",{"$f":"'Hearts Desire II'!M6","v":0.71628430667598497},"m"]
[null,"Rocker",{"$f":"'Hearts Desire II'!M7","v":0},"m"]
[null,"Amidships Deadrise",{"$f":"'Hearts Desire II'!M8","v":0},"Degrees"]
[null,"Amidships Freeboard",{"$f":"'Hearts Desire II'!M9","v":0.66683527142499999},"m"]
[null,"Forward Freeboard",{"$f":"'Hearts Desire II'!M10","v":1.02213715},"m"]
[null,"Rear Freeboard",{"$f":"'Hearts Desire II'!M11","v":0.75846405714748333},"m"]
[]
[null,"Basic Calculations"]
[null,"Mid-Section Area",{"$f":"C6*C7","v":1.7379121137767679},"m^2"]
[null,"Plan Water Line Area",{"$f":"C6*C5*2/3","v":9.2311699639276092},"m^2"]
[null,"Displacement Volume",{"$f":"C5*C6*(C7-C8/3)*2/3","v":6.6121421774200648},"m^3"]
[null,"Displacement Weight",{"$f":"C17*1025","v":6777.445731855566},"kg"]
[null,"Prismatic Coefficient (cp)",{"$f":"C17/(C5*C6*C7)","v":0.66666666666666663}]
[null,"Displacement Length Ratio (DLR)",{"$f":"C18/(C3/3.048)^3","v":550.46475586650479}]
[null,"Hull Speed",{"$f":"1.34*(C5*3.28)^0.5","v":5.7975504462439789},"kt"]
[null,"Design G Force",2.1,"g","Normal"]
[null,"Design Pressure",{"$f":"C22*C18*9.81/1000/C16","v":15.125077326877765},"KN",{"$f":"MAX(6.5,10*(1.3*C7+0.1*C5))","v":15.018666545026331}]
[]
[null,"Bottom Plank Design"]
[null,"Design Pressure (P)",{"$f":"C23","v":15.125077326877765},"kPa"]
[null,"Span (L)",500,"mm","Needs frames"]
[null,"Allowable Stress (S)",14000,"kPa","F14 Plywood"]
[null,"Plank Thickness (t)",{"$f":"(C26*C27*C27/C28/2)^0.5","v":11.620900708451748},"mm","t^2=P*L^2/2/S, ~fixed sides"]
[null,"Design Plank Thickness (t)",12,"mm"]
[null,"Modulus of Elasticity (E)",{"$f":"10500000*80%","v":8400000},"kPa","Factored 80% for wet condition"]
[null,"Moment of Inertia (I)",{"$f":"1000*C30^3/12","v":144000},"mm^4"]
[null,"Deflection (d)",{"$f":"C26*C27^4/384/C31/C32*1000","v":2.0351883993371178},"mm","d=P*L^4/384EI (2% max)"]
[null,"Deflection Ratio",{"$f":"C27/C33","v":245.67750099344869}]
[null,"Maximum Concentrated Load",{"$f":"C28*C30*C30/1000000","v":2.016},"kN","=S*t*t"]
[]
[]
[]
[null,"Side Plank Design"]
[null,"Design Pressure (P)",{"$f":"C23","v":15.125077326877765},"kPa"]
[null,"Span (L)",{"$f":"C27","v":500},"mm"]
[null,"Allowable Stress (S)",{"$f":"C28","v":14000},"kPa","F14 Plywood"]
[null,"Plank Thickness (t)",{"$f":"(C40*C41*C41/C42/2)^0.5","v":11.620900708451748},"mm","t^2=P*L^2/2/S, ~fixed sides"]
[null,"Design Plank Thickness (t)",{"$f":"C30","v":12},"mm","Okay"]
[]
[null,"Hull Section Modulus",null,null,"Triangular Load & Free Ends"]
[null,"Design Pressure",{"$f":"C23","v":15.125077326877765},"kPa"]
[null,"Width",{"$f":"C6*1000","v":2426.2881338860907},"mm","BWL"]
[null,"Length",{"$f":"C5*1000","v":5706.9705582385259},"mm","LWL"]
[null,"Allowable Stress ",{"$f":"C28","v":14000},"kPa","F14 Plywood"]
[null,"Required Section Modulus",{"$f":"C47*C48*C49^2/12/C50","v":7114460.3006204357},"mm^3","SM=PsL^2/12/S"]
[]
[null,"Channel Model"]
[null,"Chine Width (web)",{"$f":"C27","v":500},"mm","BWL"]
[null,"Side Height (flange)",{"$f":"(C10+C7)*1000","v":1383.1195781009851},"mm"]
[null,"Deck Width (lip)",0,"mm"]
[null,"Thickness (t)",{"$f":"C30","v":12},"mm"]
[null,"cy (from bottom)",{"$f":"C55*(C55+2*C56)/(C54+2*C55+2*C56)","v":585.69494634028388},"mm"]
[null,"I",{"$f":"1/12*C54*C57^3+2/3*C57*C55^3+1/6*C56*C57^3+2*C56*C57*C55^2-(C54*C57+2*C55*C57+2*C56*C57)*C55^2*(C55+2*C56)^2/(C54+2*C55+2*C56)^2","v":7722200628.2004032},"mm^4"]
[null,"Rg",{"$f":"(C59/(C54+2*C55+2*C56)/C57)^0.5","v":443.87013662998345},"mm","Radius of gyration"]
[null,"Slenderness Ratio",{"$f":"C49/C60","v":12.857297860964094}]
[null,"Z",{"$f":"MIN(C59/C58,C59/(C55-C58))","v":9683925.3775618952},"mm^3"]
[null,"Safety Factor",{"$f":"C62/C51","v":1.3611609269528684},null,"Assumes no significant keel or stringers"]
[]
[null,"Plywood Fibre Glass Joins"]
[null,"Spw",{"$f":"C28","v":14000},"Pa"]
[null,"b",1,"m"]
[null,"h",{"$f":"C30","v":12},"mm"]
[null,"M",{"$f":"C66*C67*C68^2/6","v":336000},"Nm","M=Spw*b*h^2/6"]
[null,"Sfg",120000000,"Pa"]
[null,"t",{"$f":"1000*((C69*6*C68/C70/C67+C68*C68*C68)^(1/3)-C68)/2","v":0.23332425984712302},"mm","t~((6*M*h/Sfg/b+h^3)^(1/3)-h)/2"]
[null,"F/G Weight",{"$f":"C71*16","v":3.7331881575539683},"oz/sq_yd","Each side of plywood"]
[null,"F/G Overlap (each side of join)",{"$f":"C68*3","v":36},"mm","=3*h [JS = 15%*(1+L/h)]"]

{"sheet":"Hearts Desire II","index":2,"n_rows":64,"n_cols":112,"rows_kept":64,"cut":false,"hidden":false,"merged":[[18,102,18,106],[18,107,18,111],[18,77,18,81],[18,82,18,86],[18,87,18,91],[18,92,18,96],[18,97,18,101],[18,67,18,71],[18,72,18,76],[10,14,10,16],[18,27,18,31],[18,32,18,36],[18,37,18,41],[18,42,18,46],[18,47,18,51],[18,52,18,56],[18,57,18,61],[18,62,18,66],[18,12,18,16],[18,17,18,21],[18,22,18,26],[0,0,0,2],[28,1,28,4],[28,6,28,9],[28,11,28,14],[28,16,28,19],[1,4,3,6],[8,8,8,11],[8,14,8,16],[9,8,9,11],[9,14,9,16],[10,8,10,11],[18,2,18,6],[18,7,18,11],[28,21,28,24],[0,8,0,16],[1,8,1,11],[1,14,1,16],[2,8,2,11],[2,14,2,16],[3,8,3,11],[3,14,3,16],[4,8,4,11],[4,14,4,16],[5,8,5,11],[5,14,5,16],[6,8,6,11],[6,14,6,16],[7,8,7,11],[7,14,7,16]]}
["Heart's Desire II",null,null,null,null,null,null,null,"Basic Metrics"]
["Find Offet Table at row",19,null,null,null,null,null,null,"Length Overall (LOA)",null,null,null,{"$f":"(DD21-C21)/1000","v":7.0381816740976326},"m"]
["Stations",22,null,null,null,null,null,null,"Beam Overall (BOA)",null,null,null,{"$f":"BG22/500","v":2.2736983634749994},"m"]
["Chines",6,null,null,null,null,null,null,"Length Water Line (LWL)",null,null,null,{"$f":"(CE24-TREND(W24:W25,Y24:Y25,0))/1000","v":5.7069705582385257},"m"]
["Forward-Aft Slice",500,"mm",null,null,null,null,null,"Beam Water Line (BWL)",null,null,null,{"$f":"TREND(BG23:BG24,BH23:BH24,0)/500","v":2.4262881338860907},"m"]
["First slice",500,"mm",null,null,null,null,null,"Depth Water Line (DWL)",null,null,null,{"$f":"-CG26/1000","v":0.71628430667598497},"m"]
["Last slice",6500,"mm",null,null,null,null,null,"Rocker",null,null,null,null,"m"]
["Water Line Slice",100,"mm",null,null,null,null,null,"Amidships Deadrise",null,null,null,null,"Degrees"]
["Draft",-716.28430667598502,"mm",null,null,null,null,null,"Amidships Freeboard",null,null,null,{"$f":"BH22/1000","v":0.66683527142499999},"m"]
["Displacement",2921.60262423226,"dm3",null,null,null,null,null,"Forward Freeboard",null,null,null,{"$f":"J22/1000","v":1.02213715},"m"]
["Find Unfold Offsets at row",29,null,null,null,null,null,null,"Rear Freeboard",null,null,null,{"$f":"DA22/1000","v":0.75846405714748333},"m"]
[]
["Export Plan Slice at",0,"mm"]
["Export Cross Section at",3500,"mm"]
[]
[]
[]
[]
["Table Row","Station",1,null,null,null,null,2,null,null,null,null,3,null,null,null,null,4,null,null,null,null,5,null,null,null,null,6,null,null,null,null,7,null,null,null,null,8,null,null,null,null,9,null,null,null,null,10,null,null,null,null,11,null,null,null,null,12,null,null,null,null,13,null,null,null,null,14,null,null,null,null,15,null,null,null,null,16,null,null,null,null,17,null,null,null,null,18,null,null,null,null,19,null,null,null,null,20,null,null,null,null,21,null,null,null,null,22]
[null,"Chine","X","Y","Z","BREAK","COLOUR","X","Y","Z","BREAK","COLOUR","X","Y","Z","BREAK","COLOUR","X","Y","Z","BREAK","COLOUR","X","Y","Z","BREAK","COLOUR","X","Y","Z","BREAK","COLOUR","X","Y","Z","BREAK","COLOUR","X","Y","Z","BREAK","COLOUR","X","Y","Z","BREAK","COLOUR","X","Y","Z","BREAK","COLOUR","X","Y","Z","BREAK","COLOUR","X","Y","Z","BREAK","COLOUR","X","Y","Z","BREAK","COLOUR","X","Y","Z","BREAK","COLOUR","X","Y","Z","BREAK","COLOUR","X","Y","Z","BREAK","COLOUR","X","Y","Z","BREAK","COLOUR","X","Y","Z","BREAK","COLOUR","X","Y","Z","BREAK","COLOUR","X","Y","Z","BREAK","COLOUR","X","Y","Z","BREAK","COLOUR","X","Y","Z","BREAK","COLOUR"]
["Rail",1,0,{"$f":" -0.0000000000069067777*C21^4 + 0.0000000964451557*C21^3 - 0.000510827416*C21^2 + 1.21848117*C21 + 51.4486088","v":51.448608800000002},{"$f":" 0.0000185995137*C21^2 - 0.167922431*C21 + 1120.68543","v":1120.68543},true,1,100,{"$f":" -0.0000000000069067777*H21^4 + 0.0000000964451557*H21^3 - 0.000510827416*H21^2 + 1.21848117*H21 + 51.4486088","v":168.28420611793001},{"$f":" 0.0000185995137*H21^2 - 0.167922431*H21 + 1120.68543","v":1104.079182037},false,1,200,{"$f":" -0.0000000000069067777*M21^4 + 0.0000000964451557*M21^3 - 0.000510827416*M21^2 + 1.21848117*M21 + 51.4486088","v":275.47225656128001},{"$f":" 0.0000185995137*M21^2 - 0.167922431*M21 + 1120.68543","v":1087.8449243479999},false,1,400,{"$f":" -0.0000000000069067777*R21^4 + 0.0000000964451557*R21^3 - 0.000510827416*R21^2 + 1.21848117*R21 + 51.4486088","v":463.10436669568003},{"$f":" 0.0000185995137*R21^2 - 0.167922431*R21 + 1120.68543","v":1056.4923797920001},false,1,600,{"$f":" -0.0000000000069067777*W21^4 + 0.0000000964451557*W21^3 - 0.000510827416*W21^2 + 1.21848117*W21 + 51.4486088","v":618.57647628127995},{"$f":" 0.0000185995137*W21^2 - 0.167922431*W21 + 1120.68543","v":1026.6277963319999},false,1,800,{"$f":" -0.0000000000069067777*AB21^4 + 0.0000000964451557*AB21^3 - 0.000510827416*AB21^2 + 1.21848117*AB21 + 51.4486088","v":745.85490213247999},{"$f":" 0.0000185995137*AB21^2 - 0.167922431*AB21 + 1120.68543","v":998.25117396799999},false,1,1000,{"$f":" -0.0000000000069067777*AG21^4 + 0.0000000964451557*AG21^3 - 0.000510827416*AG21^2 + 1.21848117*AG21 + 51.4486088","v":848.6407408},{"$f":" 0.0000185995137*AG21^2 - 0.167922431*AG21 + 1120.68543","v":971.36251270000002},false,1,1500,{"$f":" -0.0000000000069067777*AL21^4 + 0.0000000964451557*AL21^3 - 0.000510827416*AL21^2 + 1.21848117*AL21 + 51.4486088","v":1020.34551618125},{"$f":" 0.0000185995137*AL21^2 - 0.167922431*AL21 + 1120.68543","v":910.65068932500003},false,1,2000,{"$f":" -0.0000000000069067777*AQ21^4 + 0.0000000964451557*AQ21^3 - 0.000510827416*AQ21^2 + 1.21848117*AQ21 + 51.4486088","v":1106.1540872},{"$f":" 0.0000185995137*AQ21^2 - 0.167922431*AQ21 + 1120.68543","v":859.23862280000003},false,1,2500,{"$f":" -0.0000000000069067777*AV21^4 + 0.0000000964451557*AV21^3 - 0.000510827416*AV21^2 + 1.21848117*AV21 + 51.4486088","v":1142.1397377062501},{"$f":" 0.0000185995137*AV21^2 - 0.167922431*AV21 + 1120.68543","v":817.12631312500002},false,1,3000,{"$f":" -0.0000000000069067777*BA21^4 + 0.0000000964451557*BA21^3 - 0.000510827416*BA21^2 + 1.21848117*BA21 + 51.4486088","v":1154.0155850000003},{"$f":" 0.0000185995137*BA21^2 - 0.167922431*BA21 + 1120.68543","v":784.31376030000001},false,1,3500,{"$f":" -0.0000000000069067777*BF21^4 + 0.0000000964451557*BF21^3 - 0.000510827416*BF21^2 + 1.21848117*BF21 + 51.4486088","v":1157.1345798312498},{"$f":" 0.0000185995137*BF21^2 - 0.167922431*BF21 + 1120.68543","v":760.80096432499988},false,1,4000,{"$f":" -0.0000000000069067777*BK21^4 + 0.0000000964451557*BK21^3 - 0.000510827416*BK21^2 + 1.21848117*BK21 + 51.4486088","v":1156.4895064},{"$f":" 0.0000185995137*BK21^2 - 0.167922431*BK21 + 1120.68543","v":746.58792519999997},false,1,4500,{"$f":" -0.0000000000069067777*BP21^4 + 0.0000000964451557*BP21^3 - 0.000510827416*BP21^2 + 1.21848117*BP21 + 51.4486088","v":1146.7129823562507},{"$f":" 0.0000185995137*BP21^2 - 0.167922431*BP21 + 1120.68543","v":741.67464292499994},false,1,5000,{"$f":" -0.0000000000069067777*BU21^4 + 0.0000000964451557*BU21^3 - 0.000510827416*BU21^2 + 1.21848117*BU21 + 51.4486088","v":1112.0774588000002},{"$f":" 0.0000185995137*BU21^2 - 0.167922431*BU21 + 1120.68543","v":746.06111749999991},false,1,6000,{"$f":" -0.0000000000069067777*BZ21^4 + 0.0000000964451557*BZ21^3 - 0.000510827416*BZ21^2 + 1.21848117*BZ21 + 51.4486088","v":853.51838480000026},{"$f":" 0.0000185995137*BZ21^2 - 0.167922431*BZ21 + 1120.68543","v":782.73333719999994},false,1,6200,{"$f":" -0.0000000000069067777*CE21^4 + 0.0000000964451557*CE21^3 - 0.000510827416*CE21^2 + 1.21848117*CE21 + 51.4486088","v":749.72026217887799},{"$f":" 0.0000185995137*CE21^2 - 0.167922431*CE21 + 1120.68543","v":794.53166442799989},false,1,6400,{"$f":" -0.0000000000069067777*CJ21^4 + 0.0000000964451557*CJ21^3 - 0.000510827416*CJ21^2 + 1.21848117*CJ21 + 51.4486088","v":621.10589957248033},{"$f":" 0.0000185995137*CJ21^2 - 0.167922431*CJ21 + 1120.68543","v":807.817952752},false,1,6600,{"$f":" -0.0000000000069067777*CO21^4 + 0.0000000964451557*CO21^3 - 0.000510827416*CO21^2 + 1.21848117*CO21 + 51.4486088","v":463.95022614847915},{"$f":" 0.0000185995137*CO21^2 - 0.167922431*CO21 + 1120.68543","v":822.59220217199982},false,1,6800,{"$f":" -0.0000000000069067777*CT21^4 + 0.0000000964451557*CT21^3 - 0.000510827416*CT21^2 + 1.21848117*CT21 + 51.4486088","v":274.26295081088085},{"$f":" 0.0000185995137*CT21^2 - 0.167922431*CT21 + 1120.68543","v":838.85441268800002},false,1,6900,{"$f":" -0.0000000000069067777*CY21^4 + 0.0000000964451557*CY21^3 - 0.000510827416*CY21^2 + 1.21848117*CY21 + 51.4486088","v":165.90047529113019},{"$f":" 0.0000185995137*CY21^2 - 0.167922431*CY21 + 1120.68543","v":847.54350335700008},false,1,7038.1816740976328,{"$f":" -0.0000000000069067777*DD21^4 + 0.0000000964451557*DD21^3 - 0.000510827416*DD21^2 + 1.21848117*DD21 + 51.4486088","v":-1.7573287180994157E-6},{"$f":" 0.0000185995137*DD21^2 - 0.167922431*DD21 + 1120.68543","v":860.16238787188445},true,0]
["Side",2,0,0,{"$f":" 0.0000185995137*C22^2 - 0.167922431*C22 + 1120.68543","v":1120.68543},true,2,0,{"$f":" -0.0000000000067919258*H22^4 + 0.0000000945983196*H22^3 - 0.000504025587*H22^2 + 1.22127801*H22","v":0},{"$f":" 0.0000182672053*H22^2 - 0.165450041*H22 + 1022.13715","v":1022.13715},true,2,200,{"$f":" -0.0000000000067919258*M22^4 + 0.0000000945983196*M22^3 - 0.000504025587*M22^2 + 1.22127801*M22","v":224.84049799552002},{"$f":" 0.0000182672053*M22^2 - 0.165450041*M22 + 1022.13715","v":989.77783001199998},false,2,400,{"$f":" -0.0000000000067919258*R22^4 + 0.0000000945983196*R22^3 - 0.000504025587*R22^2 + 1.22127801*R22","v":413.74752923392003},{"$f":" 0.0000182672053*R22^2 - 0.165450041*R22 + 1022.13715","v":958.87988644799998},false,2,600,{"$f":" -0.0000000000067919258*W22^4 + 0.0000000945983196*W22^3 - 0.000504025587*W22^2 + 1.22127801*W22","v":570.87059812991993},{"$f":" 0.0000182672053*W22^2 - 0.165450041*W22 + 1022.13715","v":929.44331930800001},false,2,800,{"$f":" -0.0000000000067919258*AB22^4 + 0.0000000945983196*AB22^3 - 0.000504025587*AB22^2 + 1.22127801*AB22","v":700.09839914752001},{"$f":" 0.0000182672053*AB22^2 - 0.165450041*AB22 + 1022.13715","v":901.46812859199997},false,2,1000,{"$f":" -0.0000000000067919258*AG22^4 + 0.0000000945983196*AG22^3 - 0.000504025587*AG22^2 + 1.22127801*AG22","v":805.05881680000005},{"$f":" 0.0000182672053*AG22^2 - 0.165450041*AG22 + 1022.13715","v":874.95431430000008},false,2,1500,{"$f":" -0.0000000000067919258*AL22^4 + 0.0000000945983196*AL22^3 - 0.000504025587*AL22^2 + 1.22127801*AL22","v":982.74464853749998},{"$f":" 0.0000182672053*AL22^2 - 0.165450041*AL22 + 1022.13715","v":815.06330042500008},false,2,2000,{"$f":" -0.0000000000067919258*AQ22^4 + 0.0000000945983196*AQ22^3 - 0.000504025587*AQ22^2 + 1.22127801*AQ22","v":1074.569416},{"$f":" 0.0000182672053*AQ22^2 - 0.165450041*AQ22 + 1022.13715","v":764.30588920000002},false,2,2500,{"$f":" -0.0000000000067919258*AV22^4 + 0.0000000945983196*AV22^3 - 0.000504025587*AV22^2 + 1.22127801*AV22","v":1115.8242484375},{"$f":" 0.0000182672053*AV22^2 - 0.165450041*AV22 + 1022.13715","v":722.68208062500003},false,2,3000,{"$f":" -0.0000000000067919258*BA22^4 + 0.0000000945983196*BA22^3 - 0.000504025587*BA22^2 + 1.22127801*BA22","v":1131.6123864000001},{"$f":" 0.0000182672053*BA22^2 - 0.165450041*BA22 + 1022.13715","v":690.19187469999997},false,2,3500,{"$f":" -0.0000000000067919258*BF22^4 + 0.0000000945983196*BF22^3 - 0.000504025587*BF22^2 + 1.22127801*BF22","v":1136.8491817374997},{"$f":" 0.0000182672053*BF22^2 - 0.165450041*BF22 + 1022.13715","v":666.83527142499997},false,2,4000,{"$f":" -0.0000000000067919258*BK22^4 + 0.0000000945983196*BK22^3 - 0.000504025587*BK22^2 + 1.22127801*BK22","v":1136.2620975999998},{"$f":" 0.0000182672053*BK22^2 - 0.165450041*BK22 + 1022.13715","v":652.61227080000003},false,2,4500,{"$f":" -0.0000000000067919258*BP22^4 + 0.0000000945983196*BP22^3 - 0.000504025587*BP22^2 + 1.22127801*BP22","v":1124.3907084374996},{"$f":" 0.0000182672053*BP22^2 - 0.165450041*BP22 + 1022.13715","v":647.52287282500015},false,2,5000,{"$f":" -0.0000000000067919258*BU22^4 + 0.0000000945983196*BU22^3 - 0.000504025587*BU22^2 + 1.22127801*BU22","v":1085.5866999999998},{"$f":" 0.0000182672053*BU22^2 - 0.165450041*BU22 + 1022.13715","v":651.5670775000001},false,2,6000,{"$f":" -0.0000000000067919258*BZ22^4 + 0.0000000945983196*BZ22^3 - 0.000504025587*BZ22^2 + 1.22127801*BZ22","v":813.64812479999819},{"$f":" 0.0000182672053*BZ22^2 - 0.165450041*BZ22 + 1022.13715","v":687.05629479999993},false,2,6200,{"$f":" -0.0000000000067919258*CE22^4 + 0.0000000945983196*CE22^3 - 0.000504025587*CE22^2 + 1.22127801*CE22","v":706.63064056191888},{"$f":" 0.0000182672053*CE22^2 - 0.165450041*CE22 + 1022.13715","v":698.53826753200008},false,2,6400,{"$f":" -0.0000000000067919258*CJ22^4 + 0.0000000945983196*CJ22^3 - 0.000504025587*CJ22^2 + 1.22127801*CJ22","v":574.71249344511853},{"$f":" 0.0000182672053*CJ22^2 - 0.165450041*CJ22 + 1022.13715","v":711.48161668799992},false,2,6600,{"$f":" -0.0000000000067919258*CO22^4 + 0.0000000945983196*CO22^3 - 0.000504025587*CO22^2 + 1.22127801*CO22","v":414.21888934272374},{"$f":" 0.0000182672053*CO22^2 - 0.165450041*CO22 + 1022.13715","v":725.88634226799991},false,2,6800,{"$f":" -0.0000000000067919258*CT22^4 + 0.0000000945983196*CT22^3 - 0.000504025587*CT22^2 + 1.22127801*CT22","v":221.21422419712326},{"$f":" 0.0000182672053*CT22^2 - 0.165450041*CT22 + 1022.13715","v":741.75244427200005},false,2,6993.1696523062756,{"$f":" -0.0000000000067919258*CY22^4 + 0.0000000945983196*CY22^3 - 0.000504025587*CY22^2 + 1.22127801*CY22","v":4.4159787648823112E-7},{"$f":" 0.0000182672053*CY22^2 - 0.165450041*CY22 + 1022.13715","v":758.46405714748335},true,2,7038.1816740976328,{"$f":" -0.0000000000069067777*DD22^4 + 0.0000000964451557*DD22^3 - 0.000510827416*DD22^2 + 1.21848117*DD22 + 51.4486088","v":-1.7573287180994157E-6},{"$f":" 0.0000185995137*DD22^2 - 0.167922431*DD22 + 1120.68543","v":860.16238787188445},true,0]
["Sole",3,0,{"$f":" -0.0000000000067919258*C23^4 + 0.0000000945983196*C23^3 - 0.000504025587*C23^2 + 1.22127801*C23","v":0},{"$f":" 0.0000182672053*C23^2 - 0.165450041*C23 + 1022.13715","v":1022.13715},true,3,150.26461315744879,{"$f":" -1.96836918E-12*H23^4 + 0.0000000223263403*H23^3 - 0.00015881897*H23^2 + 0.678982126*H23 - 98.516196","v":-5.07773295268521E-4},{"$f":" 0.0000325080672*H23^2 - 0.237650785*H23 + 321.043886","v":286.0673971323211},true,3,200,{"$f":" -1.96836918E-12*M23^4 + 0.0000000223263403*M23^3 - 0.00015881897*M23^2 + 0.678982126*M23 - 98.516196","v":31.10293173171199},{"$f":" 0.0000325080672*M23^2 - 0.237650785*M23 + 321.043886","v":274.81405168800001},false,3,400,{"$f":" -1.96836918E-12*R23^4 + 0.0000000223263403*R23^3 - 0.00015881897*R23^2 + 0.678982126*R23 - 98.516196","v":149.04411472819197},{"$f":" 0.0000325080672*R23^2 - 0.237650785*R23 + 321.043886","v":231.18486275199999},false,3,600,{"$f":" -1.96836918E-12*W23^4 + 0.0000000223263403*W23^3 - 0.00015881897*W23^2 + 0.678982126*W23 - 98.516196","v":256.26563925907197},{"$f":" 0.0000325080672*W23^2 - 0.237650785*W23 + 321.043886","v":190.15631919199998},false,3,800,{"$f":" -1.96836918E-12*AB23^4 + 0.0000000223263403*AB23^3 - 0.00015881897*AB23^2 + 0.678982126*AB23 - 98.516196","v":353.65020621747198},{"$f":" 0.0000325080672*AB23^2 - 0.237650785*AB23 + 321.043886","v":151.72842100799997},false,3,1000,{"$f":" -1.96836918E-12*AG23^4 + 0.0000000223263403*AG23^3 - 0.00015881897*AG23^2 + 0.678982126*AG23 - 98.516196","v":442.00493111999998},{"$f":" 0.0000325080672*AG23^2 - 0.237650785*AG23 + 321.043886","v":115.90116819999997},false,3,1500,{"$f":" -1.96836918E-12*AL23^4 + 0.0000000223263403*AL23^3 - 0.00015881897*AL23^2 + 0.678982126*AL23 - 98.516196","v":628.00084003874986},{"$f":" 0.0000325080672*AL23^2 - 0.237650785*AL23 + 321.043886","v":37.710859699999958},false,3,2000,{"$f":" -1.96836918E-12*AQ23^4 + 0.0000000223263403*AQ23^3 - 0.00015881897*AQ23^2 + 0.678982126*AQ23 - 98.516196","v":771.28899151999985},{"$f":" 0.0000325080672*AQ23^2 - 0.237650785*AQ23 + 321.043886","v":-24.225415200000043},false,3,2500,{"$f":" -1.96836918E-12*AV23^4 + 0.0000000223263403*AV23^3 - 0.00015881897*AV23^2 + 0.678982126*AV23 - 98.516196","v":878.28020259374989},{"$f":" 0.0000325080672*AV23^2 - 0.237650785*AV23 + 321.043886","v":-69.907656499999973},false,3,3000,{"$f":" -1.96836918E-12*BA23^4 + 0.0000000223263403*BA23^3 - 0.00015881897*BA23^2 + 0.678982126*BA23 - 98.516196","v":952.43273651999993},{"$f":" 0.0000325080672*BA23^2 - 0.237650785*BA23 + 321.043886","v":-99.335864200000003},false,3,3500,{"$f":" -1.96836918E-12*BF23^4 + 0.0000000223263403*BF23^3 - 0.00015881897*BF23^2 + 0.678982126*BF23 - 98.516196","v":994.25230278874983},{"$f":" 0.0000325080672*BF23^2 - 0.237650785*BF23 + 321.043886","v":-112.51003830000002},false,3,4000,{"$f":" -1.96836918E-12*BK23^4 + 0.0000000223263403*BK23^3 - 0.00015881897*BK23^2 + 0.678982126*BK23 - 98.516196","v":1001.2920571199998},{"$f":" 0.0000325080672*BK23^2 - 0.237650785*BK23 + 321.043886","v":-109.43017880000008},false,3,4500,{"$f":" -1.96836918E-12*BP23^4 + 0.0000000223263403*BP23^3 - 0.00015881897*BP23^2 + 0.678982126*BP23 - 98.516196","v":968.15260146374976},{"$f":" 0.0000325080672*BP23^2 - 0.237650785*BP23 + 321.043886","v":-90.096285700000124},false,3,5000,{"$f":" -1.96836918E-12*BU23^4 + 0.0000000223263403*BU23^3 - 0.00015881897*BU23^2 + 0.678982126*BU23 - 98.516196","v":886.48198400000001},{"$f":" 0.0000325080672*BU23^2 - 0.237650785*BU23 + 321.043886","v":-54.508358999999984},false,3,6000,{"$f":" -1.96836918E-12*BZ23^4 + 0.0000000223263403*BZ23^3 - 0.00015881897*BZ23^2 + 0.678982126*BZ23 - 98.516196","v":529.3766875199999},{"$f":" 0.0000325080672*BZ23^2 - 0.237650785*BZ23 + 321.043886","v":65.429595200000051},false,3,6200,{"$f":" -1.96836918E-12*CE23^4 + 0.0000000223263403*CE23^3 - 0.00015881897*CE23^2 + 0.678982126*CE23 - 98.516196","v":418.6353718459514},{"$f":" 0.0000325080672*CE23^2 - 0.237650785*CE23 + 321.043886","v":97.219122168000069},false,3,6400,{"$f":" -1.96836918E-12*CJ23^4 + 0.0000000223263403*CJ23^3 - 0.00015881897*CJ23^2 + 0.678982126*CJ23 - 98.516196","v":292.08506074291023},{"$f":" 0.0000325080672*CJ23^2 - 0.237650785*CJ23 + 321.043886","v":131.60929451199996},false,3,6600,{"$f":" -1.96836918E-12*CO23^4 + 0.0000000223263403*CO23^3 - 0.00015881897*CO23^2 + 0.678982126*CO23 - 98.516196","v":148.41647918515133},{"$f":" 0.0000325080672*CO23^2 - 0.237650785*CO23 + 321.043886","v":168.60011223199996},false,3,6783.9217119189834,{"$f":" -1.96836918E-12*CT23^4 + 0.0000000223263403*CT23^3 - 0.00015881897*CT23^2 + 0.678982126*CT23 - 98.516196","v":2.2616363537508732E-7},{"$f":" 0.0000325080672*CT23^2 - 0.237650785*CT23 + 321.043886","v":204.91262947234833},true,3,6993.1696523062756,{"$f":" -0.0000000000067919258*CY23^4 + 0.0000000945983196*CY23^3 - 0.000504025587*CY23^2 + 1.22127801*CY23","v":4.4159787648823112E-7},{"$f":" 0.0000182672053*CY23^2 - 0.165450041*CY23 + 1022.13715","v":758.46405714748335},true,3]
["Keel Side",4,null,null,null,null,null,150.26461315744879,0,286,true,5,200,0,237,false,5,400,0,42,false,5,150.26461315744879,{"$f":" -1.96836918E-12*W24^4 + 0.0000000223263403*W24^3 - 0.00015881897*W24^2 + 0.678982126*W24 - 98.516196","v":-5.07773295268521E-4},{"$f":" 0.0000325080672*W24^2 - 0.237650785*W24 + 321.043886","v":286.0673971323211},true,5,804.67869038425295,{"$f":" -8.20168948E-16*AB24^5 + 0.0000000000135889885*AB24^4 - 0.0000000840631515*AB24^3 + 0.000206462105*AB24^2 - 0.0717799351*AB24 - 37.5476442","v":-8.0980725471135884E-4},{"$f":" -0.0536796537*AB24- 309.948723","v":-353.14359643959619},true,5,1000,{"$f":" -8.20168948E-16*AG24^5 + 0.0000000000135889885*AG24^4 - 0.0000000840631515*AG24^3 + 0.000206462105*AG24^2 - 0.0717799351*AG24 - 37.5476442","v":25.840193751999969},{"$f":" -0.0536796537*AG24- 309.948723","v":-363.62837669999999},false,5,1500,{"$f":" -8.20168948E-16*AL24^5 + 0.0000000000135889885*AL24^4 - 0.0000000840631515*AL24^3 + 0.000206462105*AL24^2 - 0.0717799351*AL24 - 37.5476442","v":98.175149419874941},{"$f":" -0.0536796537*AL24- 309.948723","v":-390.46820355},false,5,2000,{"$f":" -8.20168948E-16*AQ24^5 + 0.0000000000135889885*AQ24^4 - 0.0000000840631515*AQ24^3 + 0.000206462105*AQ24^2 - 0.0717799351*AQ24 - 37.5476442","v":163.41410326399989},{"$f":" -0.0536796537*AQ24- 309.948723","v":-417.30803040000001},false,5,2500,{"$f":" -8.20168948E-16*AV24^5 + 0.0000000000135889885*AV24^4 - 0.0000000840631515*AV24^3 + 0.000206462105*AV24^2 - 0.0717799351*AV24 - 37.5476442","v":210.62917156562486},{"$f":" -0.0536796537*AV24- 309.948723","v":-444.14785725000002},false,5,3000,{"$f":" -8.20168948E-16*BA24^5 + 0.0000000000135889885*BA24^4 - 0.0000000840631515*BA24^3 + 0.000206462105*BA24^2 - 0.0717799351*BA24 - 37.5476442","v":236.97341913599965},{"$f":" -0.0536796537*BA24- 309.948723","v":-470.98768410000002},false,5,3500,{"$f":" -8.20168948E-16*BF24^5 + 0.0000000000135889885*BF24^4 - 0.0000000840631515*BF24^3 + 0.000206462105*BF24^2 - 0.0717799351*BF24 - 37.5476442","v":244.60522576137478},{"$f":" -0.0536796537*BF24- 309.948723","v":-497.82751094999998},false,5,4000,{"$f":" -8.20168948E-16*BK24^5 + 0.0000000000135889885*BK24^4 - 0.0000000840631515*BK24^3 + 0.000206462105*BK24^2 - 0.0717799351*BK24 - 37.5476442","v":237.61265264799917},{"$f":" -0.0536796537*BK24- 309.948723","v":-524.66733780000004},false,5,4500,{"$f":" -8.20168948E-16*BP24^5 + 0.0000000000135889885*BP24^4 - 0.0000000840631515*BP24^3 + 0.000206462105*BP24^2 - 0.0717799351*BP24 - 37.5476442","v":218.9378088671256},{"$f":" -0.0536796537*BP24- 309.948723","v":-551.50716465000005},false,5,5000,{"$f":" -8.20168948E-16*BU24^5 + 0.0000000000135889885*BU24^4 - 0.0000000840631515*BU24^3 + 0.000206462105*BU24^2 - 0.0717799351*BU24 - 37.5476442","v":187.30121779999874},{"$f":" -0.0536796537*BU24- 309.948723","v":-578.34699150000006},false,5,6000,{"$f":" -8.20168948E-16*BZ24^5 + 0.0000000000135889885*BZ24^4 - 0.0000000840631515*BZ24^3 + 0.000206462105*BZ24^2 - 0.0717799351*BZ24 - 37.5476442","v":40.463157551995302},{"$f":" -0.0536796537*BZ24- 309.948723","v":-632.02664520000008},false,5,6150.1064355037925,{"$f":" -8.20168948E-16*CE24^5 + 0.0000000000135889885*CE24^4 - 0.0000000840631515*CE24^3 + 0.000206462105*CE24^2 - 0.0717799351*CE24 - 37.5476442","v":-7.0294944278970206E-4},{"$f":" -0.0536796537*CE24- 309.948723","v":-640.08430667598498},true,5,6783.9217119189834,{"$f":" -1.96836918E-12*CJ24^4 + 0.0000000223263403*CJ24^3 - 0.00015881897*CJ24^2 + 0.678982126*CJ24 - 98.516196","v":2.2616363537508732E-7},{"$f":" 0.0000325080672*CJ24^2 - 0.237650785*CJ24 + 321.043886","v":204.91262947234833},true,5]
["Keel Floor",5,null,null,null,null,null,150.26461315744879,0,286,true,6,200,0,237,false,6,400,0,42,false,6,804.67869038425295,{"$f":" -8.20168948E-16*W25^5 + 0.0000000000135889885*W25^4 - 0.0000000840631515*W25^3 + 0.000206462105*W25^2 - 0.0717799351*W25 - 37.5476442","v":-8.0980725471135884E-4},{"$f":" -0.0536796537*W25- 309.948723","v":-353.14359643959619},true,6,804.67869038425295,{"$f":" -8.20168948E-16*AB25^5 + 0.0000000000135889885*AB25^4 - 0.0000000840631515*AB25^3 + 0.000206462105*AB25^2 - 0.0717799351*AB25 - 37.5476442","v":-8.0980725471135884E-4},{"$f":" -0.0536796537*AB25 - 386.148723","v":-429.34359643959624},true,6,1000,{"$f":" -8.20168948E-16*AG25^5 + 0.0000000000135889885*AG25^4 - 0.0000000840631515*AG25^3 + 0.000206462105*AG25^2 - 0.0717799351*AG25 - 37.5476442","v":25.840193751999969},{"$f":" -0.0536796537*AG25 - 386.148723","v":-439.82837670000004},false,6,1500,{"$f":" -8.20168948E-16*AL25^5 + 0.0000000000135889885*AL25^4 - 0.0000000840631515*AL25^3 + 0.000206462105*AL25^2 - 0.0717799351*AL25 - 37.5476442","v":98.175149419874941},{"$f":" -0.0536796537*AL25 - 386.148723","v":-466.66820355000004},false,6,2000,{"$f":" -8.20168948E-16*AQ25^5 + 0.0000000000135889885*AQ25^4 - 0.0000000840631515*AQ25^3 + 0.000206462105*AQ25^2 - 0.0717799351*AQ25 - 37.5476442","v":163.41410326399989},{"$f":" -0.0536796537*AQ25 - 386.148723","v":-493.50803040000005},false,6,2500,{"$f":" -8.20168948E-16*AV25^5 + 0.0000000000135889885*AV25^4 - 0.0000000840631515*AV25^3 + 0.000206462105*AV25^2 - 0.0717799351*AV25 - 37.5476442","v":210.62917156562486},{"$f":" -0.0536796537*AV25 - 386.148723","v":-520.34785725000006},false,6,3000,{"$f":" -8.20168948E-16*BA25^5 + 0.0000000000135889885*BA25^4 - 0.0000000840631515*BA25^3 + 0.000206462105*BA25^2 - 0.0717799351*BA25 - 37.5476442","v":236.97341913599965},{"$f":" -0.0536796537*BA25 - 386.148723","v":-547.18768410000007},false,6,3500,{"$f":" -8.20168948E-16*BF25^5 + 0.0000000000135889885*BF25^4 - 0.0000000840631515*BF25^3 + 0.000206462105*BF25^2 - 0.0717799351*BF25 - 37.5476442","v":244.60522576137478},{"$f":" -0.0536796537*BF25 - 386.148723","v":-574.02751095000008},false,6,4000,{"$f":" -8.20168948E-16*BK25^5 + 0.0000000000135889885*BK25^4 - 0.0000000840631515*BK25^3 + 0.000206462105*BK25^2 - 0.0717799351*BK25 - 37.5476442","v":237.61265264799917},{"$f":" -0.0536796537*BK25 - 386.148723","v":-600.86733780000009},false,6,4500,{"$f":" -8.20168948E-16*BP25^5 + 0.0000000000135889885*BP25^4 - 0.0000000840631515*BP25^3 + 0.000206462105*BP25^2 - 0.0717799351*BP25 - 37.5476442","v":218.9378088671256},{"$f":" -0.0536796537*BP25 - 386.148723","v":-627.7071646500001},false,6,5000,{"$f":" -8.20168948E-16*BU25^5 + 0.0000000000135889885*BU25^4 - 0.0000000840631515*BU25^3 + 0.000206462105*BU25^2 - 0.0717799351*BU25 - 37.5476442","v":187.30121779999874},{"$f":" -0.0536796537*BU25 - 386.148723","v":-654.5469915000001},false,6,6000,{"$f":" -8.20168948E-16*BZ25^5 + 0.0000000000135889885*BZ25^4 - 0.0000000840631515*BZ25^3 + 0.000206462105*BZ25^2 - 0.0717799351*BZ25 - 37.5476442","v":40.463157551995302},{"$f":" -0.0536796537*BZ25 - 386.148723","v":-708.22664520000012},false,6,6150.1064355037925,{"$f":" -8.20168948E-16*CE25^5 + 0.0000000000135889885*CE25^4 - 0.0000000840631515*CE25^3 + 0.000206462105*CE25^2 - 0.0717799351*CE25 - 37.5476442","v":-7.0294944278970206E-4},{"$f":" -0.0536796537*CE25 - 386.148723","v":-716.28430667598502},true,6,6150.1064355037925,{"$f":" -8.20168948E-16*CJ25^5 + 0.0000000000135889885*CJ25^4 - 0.0000000840631515*CJ25^3 + 0.000206462105*CJ25^2 - 0.0717799351*CJ25 - 37.5476442","v":-7.0294944278970206E-4},{"$f":" -0.0536796537*CJ25- 309.948723","v":-640.08430667598498},true,6,6783.9217119189834,0,204.91262947234833,true,6]
["Centreline",6,null,null,null,null,null,150.26461315744879,0,286,true,7,200,0,181,false,7,400,0,-158,false,7,600,0,-362,false,7,804.67869038425295,0,{"$f":" -0.0536796537*AB26 - 386.148723","v":-429.34359643959624},true,7,1000,0,{"$f":" -0.0536796537*AG26 - 386.148723","v":-439.82837670000004},false,7,1500,0,{"$f":" -0.0536796537*AL26 - 386.148723","v":-466.66820355000004},false,7,2000,0,{"$f":" -0.0536796537*AQ26 - 386.148723","v":-493.50803040000005},false,7,2500,0,{"$f":" -0.0536796537*AV26 - 386.148723","v":-520.34785725000006},false,7,3000,0,{"$f":" -0.0536796537*BA26 - 386.148723","v":-547.18768410000007},false,7,3500,0,{"$f":" -0.0536796537*BF26 - 386.148723","v":-574.02751095000008},false,7,4000,0,{"$f":" -0.0536796537*BK26 - 386.148723","v":-600.86733780000009},false,7,4500,0,{"$f":" -0.0536796537*BP26 - 386.148723","v":-627.7071646500001},false,7,5000,0,{"$f":" -0.0536796537*BU26 - 386.148723","v":-654.5469915000001},false,7,6000,0,{"$f":" -0.0536796537*BZ26 - 386.148723","v":-708.22664520000012},false,7,6150.1064355037925,0,{"$f":" -0.0536796537*CE26 - 386.148723","v":-716.28430667598502},true,7,6400,0,-716.28430667598502,true,7,6500,0,-546.1832651387449,true,7,6600,0,-281.63995510635868,true,7,6783.9217119189834,0,204.91262947234833,true,7]
[]
[]
["Offset Row",{"$f":"A25","v":"Keel Floor"},null,null,null,null,{"$f":"A24","v":"Keel Side"},null,null,null,null,{"$f":"A23","v":"Sole"},null,null,null,null,{"$f":"A22","v":"Side"},null,null,null,null,"Rail"]
[null,"X Lower","Y Lower","X Upper","Y Upper",null,"X Lower","Y Lower","X Upper","Y Upper",null,"X Lower","Y Lower","X Upper","Y Upper",null,"X Lower","Y Lower","X Upper","Y Upper",null,"X Lower","Y Lower","X Upper","Y Upper"]
[null,null,null,null,null,null,null,null,null,null,null,null,null,null,null,null,null,null,null,null,null,0,0,0,0]
[null,null,null,null,null,null,null,null,null,null,null,null,null,null,null,null,1.8904441010504473E-2,-4.6283289109474428E-2,9.8266951429521014E-3,1.853134414837164E-3,null,42.883564645295984,-88.728594456753996,46.337514304943866,22.391682601883133]
[null,null,null,null,null,null,null,null,null,null,null,null,null,null,null,null,189.04533380046684,-462.83251380996933,153.09993054827731,23.609966256899476,null,193.76312722671682,-53.66749780809338,197.06219903961463,57.083051345519706]
[null,null,null,null,null,null,null,null,null,null,null,null,null,null,null,null,284.06654628896371,-695.474178044626,227.44906810824622,34.550637289290634,null,267.15732391793227,-37.518676470256935,270.34373544154846,73.023730274188182]
[null,180.71490357803,-346.06381113851108,180.71425900675413,-346.05177450468915,null,null,null,null,null,null,302.03074669883648,114.86706712664139,302.03519963664047,114.87210664853605,null,284.07859545069647,-695.47397034881487,227.46369378352796,34.552754598564078,null,267.17176950711149,-37.515559046758149,270.35815663925405,73.026804974285994]
[null,235.98276024687925,-448.23265344065499,232.98820653498629,-392.31277640162807,null,null,null,null,null,null,363.88594712909367,82.399271733221028,359.48770007982591,131.16350340214964,null,343.78773707892992,-694.46509900824856,299.37517511788741,44.950192446567094,null,338.25701104269251,-22.473740761287392,341.31337915965969,87.850275576502412]
[null,453.82435160670269,-776.05278868835398,443.12951692135937,-576.33894212018743,null,null,null,null,null,null,611.71718283539121,-46.459870776302367,587.45778205669717,193.15762003658111,null,580.01895835051369,-691.56012562482147,573.62176885712938,82.757006517751762,null,610.22760941370473,29.22290312884909,612.63515500346318,138.57782979103609]
[null,560.0433168030961,-889.50925188407268,548.17166360387512,-667.81966103991147,null,null,null,null,null,null,735.38479216035842,-110.42898285782016,699.7183544784433,222.23276378967122,null,695.98352440732594,-691.42039740218581,703.06537215985225,98.193352134692731,null,738.88440439617568,50.231384912090391,740.90480260652328,159.04830262455303]
[null,664.44692955391952,-969.06607750254057,653.22309513419441,-759.47376390844602,null,null,null,null,null,null,859.1208842933188,-174.5561764105008,810.91864797901621,250.16313602554106,null,810.63703113180736,-691.84977325980446,828.11150625536311,111.40373056436108,null,863.31936005207365,68.314292902847654,864.92618982424926,176.56442677206749]
[null,867.76570134918154,-1025.6891121322326,863.43868430299813,-944.88700121754891,null,null,null,null,null,null,1107.5061594660624,-304.67306949179078,1030.379004050993,303.0555679348052,null,1036.3711502726576,-693.98628823036347,1067.0345094995632,131.35954105185897,null,1101.3980703185582,96.615592683747678,1102.1401554337533,203.66728462435802]
[null,872.43391554497907,-1025.36829714961,868.35918352986346,-949.27732160713867,null,68.257283310116975,-1303.3430411216225,68.257283310116975,-1303.3430411216225,null,1113.3383969627894,-307.76670706069962,1035.4698858456325,304.24868075387383,null,1041.599466801184,-694.05910253909224,1072.4716974169157,131.72070892630569,null,1106.8195035544943,97.164697728729479,1107.541321525588,204.18757764270978]
[null,872.44392994205862,-1025.368298436382,872.44390116696366,-1025.3677624116522,null,72.351255712857807,-1379.4329845436384,68.267375647896571,-1303.3430369968169,null,1113.3483688636086,-307.76515255340775,1035.4807648181559,304.25122878754496,null,1041.6106390889718,-694.05925907771439,1072.4833117247751,131.72147593950243,null,1106.8310843728716,97.165866104526216,1107.552859035254,204.18868440703582]
[null,1068.0364324289324,-1025.3677624116478,1068.0364324289324,-999.52756865811568,null,269.64328766761315,-1379.3434232139412,265.55921487873132,-1303.2529484522793,null,1308.1616119341929,-276.59019036653604,1245.7035733827395,355.26475064515114,null,1257.9042031568886,-697.67903750961557,1294.1631362246785,142.94875901179375,null,1327.9996680315853,115.93962646018598,1327.8908091768683,221.74091647134449]
[null,1568.7562905385741,-1025.3677624116481,1568.7562905385744,-927.19261299177276,null,775.56091522977351,-1379.0673096762341,771.47684244089169,-1302.9768349145725,null,1808.2307518230866,-199.88570909201511,1770.1872143394712,480.2652020307649,null,1796.9082218194421,-711.20199367513294,1828.1660620558318,142.69667372813043,null,1861.658525456186,135.10762675996847,1859.7839571636632,237.80748147261781]
[null,2069.4761486482143,-1025.3677624116478,2069.4761486482143,-861.95365914764773,null,1280.5128407655156,-1378.8430291357663,1276.4287679766337,-1302.752554374104,null,2309.367663427161,-137.93174850882127,2283.3092373189488,585.49535948028245,null,2320.4642357155053,-727.22375439820962,2338.4303413630291,117.42874985392172,null,2372.5299662948323,130.80952843033364,2369.644177360567,230.81696608277815]
[null,2570.1960067578543,-1025.3677624116478,2570.1960067578543,-814.73859084602282,null,1783.4538168689733,-1378.7266841007859,1779.3697440800913,-1302.636209339124,null,2810.4551210576255,-94.792453365043144,2789.6102903186002,670.30827210957011,null,2833.5963882916353,-742.36906422686991,2840.808897838514,85.020592958745794,null,2875.8106665449736,118.849620593639,2872.5089148856696,216.8359281266205]
[null,3070.9158648674947,-1025.3677624116476,3070.9158648674947,-788.39434327564788,null,2284.8662165051119,-1378.6923837313891,2280.7821437162302,-1302.6019089697274,null,3311.316235240789,-71.286284289941079,3291.8226625529492,734.70820123116084,null,3339.7945851595355,-753.68291343059286,3341.2667351740611,55.920217861524051,null,3377.0103277064522,108.66245057491726,3373.5935915227615,205.35349757649635]
[null,3571.6357229771343,-1025.3677624116474,3571.6357229771343,-780.76253665027252,null,2785.6442319746839,-1378.6921332364409,2781.5601591858021,-1302.6016584747788,null,3812.0519462690481,-64.777176921881747,3791.8832155848349,777.85768891720659,null,3841.6931232502543,-758.18762746399818,3841.363371251653,34.095701238493305,null,3877.5682671422487,104.82784371860274,3874.1360159669234,200.89692547682748]
[null,4072.3555810867751,-1025.3677624116476,4072.3555810867751,-787.75510976364831,null,3286.4129134874374,-1378.6923837313891,3282.3288406985557,-1302.601908969727,null,4312.7783225518988,-71.286284289941179,4291.5475103211147,797.72314237994397,null,4341.7318729757744,-753.68291343059286,4341.3734701574458,20.219844263783891,null,4377.7561660410738,108.66245057491732,4374.3237222160233,204.72904214586057]
[null,4573.0754391964147,-1025.3677624116478,4573.0754391964147,-806.42995354452239,null,3787.4808987404231,-1378.6765694263086,3783.3968259515414,-1302.5860946646465,null,4813.5577874005794,-88.287863082720563,4792.9771362989914,791.37073061101967,null,4843.0202514186758,-740.19274732038082,4841.4989439783094,13.790047388850324,null,4877.8150671432113,119.05125613273664,4874.3219824895377,215.74995356692776]
[null,5073.7952973060546,-1025.3677624116478,5073.7952973060555,-838.06654461164896,null,4289.1991938296806,-1378.6258504539232,4285.1151210407988,-1302.5353756922614,null,5314.4194897185653,-117.59324400186222,5299.6135813423352,755.92918948261627,null,5350.542441663677,-721.27670405992228,5343.0165147458465,12.295767060780102,null,5379.1639942919282,132.14170719833538,5375.3309089800132,230.20388825868579]
[null,5574.5151554156955,-1025.3677624116481,5574.5151301625556,-889.82912512639814,null,4792.5874097491305,-1378.4850285095733,4788.5036247588969,-1302.3950100609593,null,5815.41384216195,-166.63061952186877,5817.636488752677,690.61061828331401,null,5872.3923522782725,-704.33801648028646,5851.2729044709768,8.0052648521460981,null,5887.3732000972459,140.2884390801712,5882.47842382814,240.57728992689388]
[null,6075.2350135253355,-1025.3677624127774,6075.2350135254928,-984.90460486078177,null,5302.2534962230602,-1378.0067607330261,5298.1692097177283,-1301.9162974426611,null,6317.4609518089428,-254.42547900862218,6358.3605148721672,596.3440977863612,null,6421.2547789999053,-700.01530405470066,6383.0690949273421,-17.540500680440505,null,6419.6535128662117,128.56483216422538,6412.3790892758052,231.96123846689395]
[null,6225.5475453017789,-1025.3677624133625,6225.5477114787709,-1025.3672519873603,null,5457.9167579436898,-1377.7205283484452,5453.8316865617471,-1301.6295695665506,null,6468.6320626249117,-291.54938188474534,6527.4170901943889,562.03469109472837,null,6593.7339873059573,-702.87602936960911,6551.7903305659638,-32.856635591484356,null,6588.7505607628736,118.19045330711376,6580.4539367359457,222.67777891054837]
[null,6225.5572202384492,-1025.3703477085069,6249.1466222986364,-952.91360121308503,null,5453.8421149265014,-1301.6295473830085,5453.8421149265014,-1301.6295473830085,null,6468.6421411752835,-291.55206033681384,6527.428477030493,562.03228855864222,null,6593.7456218499492,-702.87629319193866,6551.8017675339333,-32.857806930564934,null,6588.7620276814287,118.18962502551729,6580.4653307196322,222.67702533409582]
[null,6272.9998101826941,-1040.8160085075617,6317.181230981997,-905.10921956501795,null,null,null,null,null,null,6533.2271217756743,-239.18081664076223,6584.4596515738285,549.85932806949074,null,6652.0437613413633,-704.31252740070136,6609.2182557526367,-38.961518191920014,null,6646.3364979405333,113.82055362372348,6637.667937946926,218.68381604847755]
[null,6463.1749977977261,-1102.7304495983708,6589.9002053624317,-713.48377790792517,null,null,null,null,null,null,6792.1736444323287,-29.317415159182801,6817.6983457707802,496.96909529038862,null,6891.0596072731223,-712.62460221099866,6847.2638930137491,-69.031476739525587,null,6885.2059671246388,91.208509978640137,6874.8917528116363,197.63526771108084]
[null,6610.9211461839559,-971.94268270449027,6726.2596925526486,-617.67105707937844,null,null,null,null,null,null,6921.7484998648088,75.488806311681415,6937.3603269659925,467.70390352807766,null,7014.1105527770833,-718.44748835357768,6971.9190481994774,-87.78632370811664,null,7010.388641636494,76.377798557668015,6999.1674299758306,183.61433661428239]
[null,6787.9039959163119,-751.35203516134118,6862.6191797428655,-521.85833625083114,null,null,null,null,null,null,7051.3564952918887,180.25404262946995,7059.2535341752437,436.37948058920364,null,7139.7689423356996,-725.45766451014129,7100.9959682310782,-109.24705123543158,null,7140.0673455270789,58.917905427871872,7127.8899857157003,166.97780135732322]
[null,7113.4138829470612,-345.63793986681168,7113.4138829470612,-345.63793986681168,null,null,null,null,null,null,7289.7783309965325,372.88488002641787,7289.7783309965325,372.88488002641787,null,7378.3309345730968,-741.62621762559945,7351.7468954985434,-156.20041418620991,null,7392.0720161653971,19.240559317596784,7378.030809491238,128.83689481235845]
[null,null,null,null,null,null,null,null,null,null,null,null,null,null,null,null,7400.1439735041404,-701.72826210230573,7374.5960002255633,-160.78349837506445,null,7415.033862921181,15.26062953525958,7400.8242849158651,124.99233670558473]
[null,null,null,null,null,null,null,null,null,null,null,null,null,null,null,null,7535.8211606672658,-453.58543273503801,7520.3792850914233,-191.11810649525427,null,7561.5253062175643,-11.445392950847321,7546.2515707087741,99.130570634213967]
[null,null,null,null,null,null,null,null,null,null,null,null,null,null,null,null,7662.2811756815854,-222.41899510095735,7662.2811756815854,-222.41899510095735,null,7704.1020357339085,-39.51260480012035,7687.8368271157451,71.839584163418465]
[null,null,null,null,null,null,null,null,null,null,null,null,null,null,null,null,null,null,null,null,null,7758.5008776803998,57.489449676864595,7758.5008776803998,57.489449676864595]

{"sheet":"Offset Table","index":3,"n_rows":16,"n_cols":35,"rows_kept":16,"cut":false,"hidden":false,"merged":[]}
["Offset Tables"]
["Height WL",0,0.01,100,150.26461315744879,150.27461315744878,200,400,500,600,800,804.67869038425295,804.68869038425294,1000,1500,2000,2500,3000,3500,4000,4500,5000,5500,6000,6150.0964355037922,6150.1064355037925,6200,6400,6500,6600,6783.9217119189834,6800,6900,6993.1696523062756,7038.1816740976328]
[6,1120.68543,1120.6837507775497,1104.079182037,1095.8725977287309,1095.8709744032558,1087.8449243479999,1056.4923797920001,1041.3740929249998,1026.6277963319999,998.25117396799999,997.6051582362478,997.60377834644419,971.36251270000002,910.65068932500003,859.23862280000003,817.12631312500002,784.31376030000001,760.80096432499988,746.58792519999997,741.67464292499994,746.06111749999991,759.74734892499987,782.73333719999994,791.44845469472,791.44906324832789,794.53166442799989,807.817952752,815.01908232499977,822.59220217199982,837.4920686779127,838.85441268800002,847.54350335700008,855.97384458742818,860.16238787188445]
[5,1120.68543,1022.13715,1005.7753350312047,997.68851967411831,997.68692002311911,989.77783001199998,958.87988644799998,943.97893082500002,929.44331930800001,901.46812859199997,900.83118550430311,900.82982499033665,874.95431430000008,815.06330042500008,764.30588920000002,722.68208062500003,690.19187469999997,666.83527142499997,652.61227080000003,647.52287282500015,651.5670775000001,664.74488482499987,687.05629479999993,695.53648298897099,695.53707539187155,698.53826753200008,711.48161668799992,718.50130742499994,725.88634226799991,740.42292668029404,741.75244427200005,750.23351143299999,758.46405714748335,860.16238787188445]
[4,1022.13715,1022.0881650968082,532.28811808160845,286.0673971323211,286.06511832396473,274.81405168800001,231.18486275199999,210.34551029999997,190.15631919199998,151.72842100799997,150.86059046194396,150.85873712832361,115.90116819999997,37.710859699999958,-24.225415200000043,-69.907656499999973,-99.335864200000003,-112.51003830000002,-109.43017880000008,-90.096285700000124,-54.508358999999984,-2.6663986999999523,65.429595200000051,89.043571912744966,89.045193963110052,97.219122168000069,131.60929451199996,149.77962269999995,168.60011223199996,204.91262947234833,247.44666495841207,511.98997499079735,758.46405714748335]
[3,null,null,null,286,286.0673971323211,237,42,-54.879950952973253,-151.95166387326435,-348.48575961180887,-353.14359643959619,-353.1441332361332,-363.62837669999999,-390.46820355,-417.30803040000001,-444.14785725000002,-470.98768410000002,-497.82751094999998,-524.66733780000004,-551.50716465000005,-578.34699150000006,-605.18681835000007,-632.02664520000008,-640.08376987944791,-640.08430667598498,-573.56664656014209,-306.9284105972701,-173.60929261583408,-40.290174634398056,204.91262947234833]
[2,null,null,null,286,285.99011931055071,237,42,-54.966873280212198,-152.10737893673669,-348.49643794723477,-353.14359643959619,-429.34359643959624,-439.82837670000004,-466.66820355000004,-493.50803040000005,-520.34785725000006,-547.18768410000007,-574.02751095000008,-600.86733780000009,-627.7071646500001,-654.5469915000001,-681.38634722543259,-708.22664520000012,-716.28430667598502,-640.08430667598498,-573.56664656014209,-306.9284105972701,-173.60929261583408,-40.290174634398056,204.91262947234833]
[1,null,null,null,286,285.97806543043293,181,-158,-276.97410478030139,-362,-429.41432351517835,-429.34359643959624,-429.34413323613325,-439.82837670000004,-466.66820355000004,-493.50803040000005,-520.34785725000006,-547.18768410000007,-574.02751095000008,-600.86733780000009,-627.7071646500001,-654.5469915000001,-681.38681835000011,-708.22664520000012,-716.28376987944796,-716.28430667598502,-716.28430667598514,-716.28430667598502,-546.1832651387449,-281.63995510635868,204.91262947234833]
[]
["Half Width",0,0.01,100,150.26461315744879,150.27461315744878,200,400,500,600,800,804.67869038425295,804.68869038425294,1000,1500,2000,2500,3000,3500,4000,4500,5000,5500,6000,6150.0964355037922,6150.1064355037925,6200,6400,6500,6600,6783.9217119189834,6800,6900,6993.1696523062756,7038.1816740976328]
[6,51.448608800000002,51.460793008171841,168.28420611793001,223.33336106383399,223.34407505181034,275.47225656128001,463.10436669568003,544.61252675617993,618.57647628127995,745.85490213247999,748.52619768691738,748.53189285686176,848.6407408,1020.34551618125,1106.1540872,1142.1397377062501,1154.0155850000003,1157.1345798312498,1156.4895064,1146.7129823562507,1112.0774588000002,1027.7039063787515,853.51838480000026,777.81869030792836,777.81321122002726,749.72026217887799,621.10589957248033,546.34511990617989,463.95022614847915,290.81456161319971,274.26295081088085,165.90047529113019,56.175692264491772,0]
[5,0,0,117.16746055921205,172.44462238995911,172.45538503334666,224.84049799552002,413.74752923392003,496.03901557071993,570.87059812991993,700.09839914752001,702.81825474542791,702.82405383656715,805.05881680000005,982.74464853749998,1074.569416,1115.8242484375,1131.6123864000001,1136.8491817374997,1136.2620975999998,1124.3907084374996,1085.5866999999998,995.20245635249864,813.64812479999819,735.54187792196535,735.53623652760143,706.63064056191888,574.71249344511853,498.28359877072114,414.21888934272374,238.03109914063251,221.21422419712326,111.20956022374199,4.4159787648823112E-7,0]
[4,0,0,0,0,6.3271216589971795E-3,31.10293173171199,149.04411472819197,203.939665496012,256.26563925907197,353.65020621747198,355.8175368516047,355.82216391041601,442.00493111999998,628.00084003874986,771.28899151999985,878.28020259374989,952.43273651999993,994.25230278874983,1001.2920571199998,968.15260146374976,886.48198400000001,745.32016374525028,529.3766875199999,447.70232679354086,447.69659956308146,418.6353718459514,292.08506074291023,222.47701260199051,148.41647918515133,2.2616363537508732E-7,2.4271726923509673E-7,3.4567371445238375E-7,4.4159787648823112E-7,0]
[3,0,0,0,0,0,0,0,0,0,0,0,1.2518579590341289E-3,25.840193751999969,98.175149419874941,163.41410326399989,210.62917156562486,236.97341913599965,244.60522576137478,237.61265264799917,218.9378088671256,187.30121779999874,135.53608404456048,40.463157551995302,2.9091463625060608E-3,0,1.780346790015179E-8,8.9169256574180274E-8,1.248521509111945E-7,1.6053504524820874E-7,2.2616363537508732E-7,0,0,0,0]
[2,0,0,0,0,0,0,0,0,0,0,0,0,25.840193751999969,98.175149419874941,163.41410326399989,210.62917156562486,236.97341913599965,244.60522576137478,237.61265264799917,218.9378088671256,187.30121779999874,135.53863728443343,40.463157551995302,0,0,0,0,0,0,0,0,0,0,0]
[1,0,0,0,0,0,0,0,0,0,0,0,0,0,0,0,0,0,0,0,0,0,0,0,0,0,0,0,0,0,0,0,0,0,0]

{"sheet":"Drawing","index":4,"n_rows":43,"n_cols":37,"rows_kept":43,"cut":false,"hidden":false,"merged":[]}
["  "]
[]
[]
[]
[]
[]
[]
[]
[]
[]
[]
[]
[]
[]
[]
[]
[]
[]
[]
[]
[]
[]
[]
[]
[]
[]
[]
[]
[]
[]
[]
[]
[]
[]
[]
[]
[]
[]
[]
[]
[]
[]
[null,null,null,null,null,null,null,null,null,null,null,null,null,null,null,null,null,null,null,null,null,null,null,null,null,null,null,null,null,null,null,null,null,null,null,null," "]

{"sheet":"Unfold Offset Table","index":5,"n_rows":73,"n_cols":25,"rows_kept":73,"cut":false,"hidden":false,"merged":[[4,1,4,4],[4,6,4,9],[4,11,4,14],[4,16,4,19],[4,21,4,24]]}
[null,null,null,"Xofs",0,null,null,null,"Xofs",800,null,null,null,"Xofs",-300,null,null,null,"Xofs",0,null,null,null,"Xofs",0]
["Offset",600,2400,"Yofs",25,null,null,null,"Yofs",283,null,null,null,"Yofs",-650,null,null,null,"Yofs",950,null,null,null,"Yofs",1062]
["Number of Lines",{"$f":"COUNT(A7:A107)","v":34},null,"Mirror",1,null,null,null,"Mirror",1,null,null,null,"Mirror",1,null,null,null,"Mirror",1,null,null,null,"Mirror",1]
["Number of Planks",{"$f":"'Hearts Desire II'!B4-1","v":5},null,"Rotation",0,null,null,null,"Rotation",-1.8749973225453968E-2,null,null,null,"Rotation",-9.2010955326990301E-2,null,null,null,"Rotation",0,null,null,null,"Rotation",-2.0406481420581382]
[null,{"$f":"'Hearts Desire II'!B29","v":"Keel Floor"},null,null,null,null,{"$f":"'Hearts Desire II'!G29","v":"Keel Side"},null,null,null,null,{"$f":"'Hearts Desire II'!L29","v":"Sole"},null,null,null,null,{"$f":"'Hearts Desire II'!Q29","v":"Side"},null,null,null,null,{"$f":"'Hearts Desire II'!V29","v":"Rail"}]
[null,"X Lower","Y Lower","X Upper","Y Upper",null,"X Lower","Y Lower","X Upper","Y Upper",null,"X Lower","Y Lower","X Upper","Y Upper",null,"X Lower","Y Lower","X Upper","Y Upper",null,"X Lower","Y Lower","X Upper","Y Upper"]
[1,{"$f":"IF('Hearts Desire II'!B31<>\"\",'Hearts Desire II'!B31*COS(RADIANS(E$4))-'Hearts Desire II'!C31*SIN(RADIANS(E$4))+E$1,\"\")","v":""},{"$f":"IF('Hearts Desire II'!C31<>\"\",('Hearts Desire II'!B31*SIN(RADIANS(E$4))+'Hearts Desire II'!C31*COS(RADIANS(E$4))*E$3)+E$2,\"\")","v":""},{"$f":"IF('Hearts Desire II'!D31<>\"\",'Hearts Desire II'!D31*COS(RADIANS(E$4))-'Hearts Desire II'!E31*SIN(RADIANS(E$4))+E$1,\"\")","v":""},{"$f":"IF('Hearts Desire II'!E31<>\"\",('Hearts Desire II'!D31*SIN(RADIANS(E$4))+'Hearts Desire II'!E31*COS(RADIANS(E$4))*E$3)+E$2,\"\")","v":""},null,{"$f":"IF('Hearts Desire II'!G31<>\"\",'Hearts Desire II'!G31*COS(RADIANS(J$4))-'Hearts Desire II'!H31*SIN(RADIANS(J$4))+J$1,\"\")","v":""},{"$f":"IF('Hearts Desire II'!H31<>\"\",('Hearts Desire II'!G31*SIN(RADIANS(J$4))+'Hearts Desire II'!H31*COS(RADIANS(J$4))*J$3)+J$2,\"\")","v":""},{"$f":"IF('Hearts Desire II'!I31<>\"\",'Hearts Desire II'!I31*COS(RADIANS(J$4))-'Hearts Desire II'!J31*SIN(RADIANS(J$4))+J$1,\"\")","v":""},{"$f":"IF('Hearts Desire II'!J31<>\"\",('Hearts Desire II'!I31*SIN(RADIANS(J$4))+'Hearts Desire II'!J31*COS(RADIANS(J$4))*J$3)+J$2,\"\")","v":""},null,{"$f":"IF('Hearts Desire II'!L31<>\"\",'Hearts Desire II'!L31*COS(RADIANS(O$4))-'Hearts Desire II'!M31*SIN(RADIANS(O$4))+O$1,\"\")","v":""},{"$f":"IF('Hearts Desire II'!M31<>\"\",('Hearts Desire II'!L31*SIN(RADIANS(O$4))+'Hearts Desire II'!M31*COS(RADIANS(O$4))*O$3)+O$2,\"\")","v":""},{"$f":"IF('Hearts Desire II'!N31<>\"\",'Hearts Desire II'!N31*COS(RADIANS(O$4))-'Hearts Desire II'!O31*SIN(RADIANS(O$4))+O$1,\"\")","v":""},{"$f":"IF('Hearts Desire II'!O31<>\"\",('Hearts Desire II'!N31*SIN(RADIANS(O$4))+'Hearts Desire II'!O31*COS(RADIANS(O$4))*O$3)+O$2,\"\")","v":""},null,{"$f":"IF('Hearts Desire II'!Q31<>\"\",'Hearts Desire II'!Q31*COS(RADIANS(T$4))-'Hearts Desire II'!R31*SIN(RADIANS(T$4))+T$1,\"\")","v":""},{"$f":"IF('Hearts Desire II'!R31<>\"\",('Hearts Desire II'!Q31*SIN(RADIANS(T$4))+'Hearts Desire II'!R31*COS(RADIANS(T$4))*T$3)+T$2,\"\")","v":""},{"$f":"IF('Hearts Desire II'!S31<>\"\",'Hearts Desire II'!S31*COS(RADIANS(T$4))-'Hearts Desire II'!T31*SIN(RADIANS(T$4))+T$1,\"\")","v":""},{"$f":"IF('Hearts Desire II'!T31<>\"\",('Hearts Desire II'!S31*SIN(RADIANS(T$4))+'Hearts Desire II'!T31*COS(RADIANS(T$4))*T$3)+T$2,\"\")","v":""},null,{"$f":"IF('Hearts Desire II'!V31<>\"\",'Hearts Desire II'!V31*COS(RADIANS(Y$4))-'Hearts Desire II'!W31*SIN(RADIANS(Y$4))+Y$1,\"\")","v":0},{"$f":"IF('Hearts Desire II'!W31<>\"\",('Hearts Desire II'!V31*SIN(RADIANS(Y$4))+'Hearts Desire II'!W31*COS(RADIANS(Y$4))*Y$3)+Y$2,\"\")","v":1062},{"$f":"IF('Hearts Desire II'!X31<>\"\",'Hearts Desire II'!X31*COS(RADIANS(Y$4))-'Hearts Desire II'!Y31*SIN(RADIANS(Y$4))+Y$1,\"\")","v":0},{"$f":"IF('Hearts Desire II'!Y31<>\"\",('Hearts Desire II'!X31*SIN(RADIANS(Y$4))+'Hearts Desire II'!Y31*COS(RADIANS(Y$4))*Y$3)+Y$2,\"\")","v":1062}]
[2,{"$f":"IF('Hearts Desire II'!B32<>\"\",'Hearts Desire II'!B32*COS(RADIANS(E$4))-'Hearts Desire II'!C32*SIN(RADIANS(E$4))+E$1,\"\")","v":""},{"$f":"IF('Hearts Desire II'!C32<>\"\",('Hearts Desire II'!B32*SIN(RADIANS(E$4))+'Hearts Desire II'!C32*COS(RADIANS(E$4))*E$3)+E$2,\"\")","v":""},{"$f":"IF('Hearts Desire II'!D32<>\"\",'Hearts Desire II'!D32*COS(RADIANS(E$4))-'Hearts Desire II'!E32*SIN(RADIANS(E$4))+E$1,\"\")","v":""},{"$f":"IF('Hearts Desire II'!E32<>\"\",('Hearts Desire II'!D32*SIN(RADIANS(E$4))+'Hearts Desire II'!E32*COS(RADIANS(E$4))*E$3)+E$2,\"\")","v":""},null,{"$f":"IF('Hearts Desire II'!G32<>\"\",'Hearts Desire II'!G32*COS(RADIANS(J$4))-'Hearts Desire II'!H32*SIN(RADIANS(J$4))+J$1,\"\")","v":""},{"$f":"IF('Hearts Desire II'!H32<>\"\",('Hearts Desire II'!G32*SIN(RADIANS(J$4))+'Hearts Desire II'!H32*COS(RADIANS(J$4))*J$3)+J$2,\"\")","v":""},{"$f":"IF('Hearts Desire II'!I32<>\"\",'Hearts Desire II'!I32*COS(RADIANS(J$4))-'Hearts Desire II'!J32*SIN(RADIANS(J$4))+J$1,\"\")","v":""},{"$f":"IF('Hearts Desire II'!J32<>\"\",('Hearts Desire II'!I32*SIN(RADIANS(J$4))+'Hearts Desire II'!J32*COS(RADIANS(J$4))*J$3)+J$2,\"\")","v":""},null,{"$f":"IF('Hearts Desire II'!L32<>\"\",'Hearts Desire II'!L32*COS(RADIANS(O$4))-'Hearts Desire II'!M32*SIN(RADIANS(O$4))+O$1,\"\")","v":""},{"$f":"IF('Hearts Desire II'!M32<>\"\",('Hearts Desire II'!L32*SIN(RADIANS(O$4))+'Hearts Desire II'!M32*COS(RADIANS(O$4))*O$3)+O$2,\"\")","v":""},{"$f":"IF('Hearts Desire II'!N32<>\"\",'Hearts Desire II'!N32*COS(RADIANS(O$4))-'Hearts Desire II'!O32*SIN(RADIANS(O$4))+O$1,\"\")","v":""},{"$f":"IF('Hearts Desire II'!O32<>\"\",('Hearts Desire II'!N32*SIN(RADIANS(O$4))+'Hearts Desire II'!O32*COS(RADIANS(O$4))*O$3)+O$2,\"\")","v":""},null,{"$f":"IF('Hearts Desire II'!Q32<>\"\",'Hearts Desire II'!Q32*COS(RADIANS(T$4))-'Hearts Desire II'!R32*SIN(RADIANS(T$4))+T$1,\"\")","v":1.8904441010504473E-2},{"$f":"IF('Hearts Desire II'!R32<>\"\",('Hearts Desire II'!Q32*SIN(RADIANS(T$4))+'Hearts Desire II'!R32*COS(RADIANS(T$4))*T$3)+T$2,\"\")","v":949.95371671089049},{"$f":"IF('Hearts Desire II'!S32<>\"\",'Hearts Desire II'!S32*COS(RADIANS(T$4))-'Hearts Desire II'!T32*SIN(RADIANS(T$4))+T$1,\"\")","v":9.8266951429521014E-3},{"$f":"IF('Hearts Desire II'!T32<>\"\",('Hearts Desire II'!S32*SIN(RADIANS(T$4))+'Hearts Desire II'!T32*COS(RADIANS(T$4))*T$3)+T$2,\"\")","v":950.00185313441489},null,{"$f":"IF('Hearts Desire II'!V32<>\"\",'Hearts Desire II'!V32*COS(RADIANS(Y$4))-'Hearts Desire II'!W32*SIN(RADIANS(Y$4))+Y$1,\"\")","v":39.696876466671391},{"$f":"IF('Hearts Desire II'!W32<>\"\",('Hearts Desire II'!V32*SIN(RADIANS(Y$4))+'Hearts Desire II'!W32*COS(RADIANS(Y$4))*Y$3)+Y$2,\"\")","v":971.80065637850669},{"$f":"IF('Hearts Desire II'!X32<>\"\",'Hearts Desire II'!X32*COS(RADIANS(Y$4))-'Hearts Desire II'!Y32*SIN(RADIANS(Y$4))+Y$1,\"\")","v":47.105462028887921},{"$f":"IF('Hearts Desire II'!Y32<>\"\",('Hearts Desire II'!X32*SIN(RADIANS(Y$4))+'Hearts Desire II'!Y32*COS(RADIANS(Y$4))*Y$3)+Y$2,\"\")","v":1082.7274728017999}]
[3,{"$f":"IF('Hearts Desire II'!B33<>\"\",'Hearts Desire II'!B33*COS(RADIANS(E$4))-'Hearts Desire II'!C33*SIN(RADIANS(E$4))+E$1,\"\")","v":""},{"$f":"IF('Hearts Desire II'!C33<>\"\",('Hearts Desire II'!B33*SIN(RADIANS(E$4))+'Hearts Desire II'!C33*COS(RADIANS(E$4))*E$3)+E$2,\"\")","v":""},{"$f":"IF('Hearts Desire II'!D33<>\"\",'Hearts Desire II'!D33*COS(RADIANS(E$4))-'Hearts Desire II'!E33*SIN(RADIANS(E$4))+E$1,\"\")","v":""},{"$f":"IF('Hearts Desire II'!E33<>\"\",('Hearts Desire II'!D33*SIN(RADIANS(E$4))+'Hearts Desire II'!E33*COS(RADIANS(E$4))*E$3)+E$2,\"\")","v":""},null,{"$f":"IF('Hearts Desire II'!G33<>\"\",'Hearts Desire II'!G33*COS(RADIANS(J$4))-'Hearts Desire II'!H33*SIN(RADIANS(J$4))+J$1,\"\")","v":""},{"$f":"IF('Hearts Desire II'!H33<>\"\",('Hearts Desire II'!G33*SIN(RADIANS(J$4))+'Hearts Desire II'!H33*COS(RADIANS(J$4))*J$3)+J$2,\"\")","v":""},{"$f":"IF('Hearts Desire II'!I33<>\"\",'Hearts Desire II'!I33*COS(RADIANS(J$4))-'Hearts Desire II'!J33*SIN(RADIANS(J$4))+J$1,\"\")","v":""},{"$f":"IF('Hearts Desire II'!J33<>\"\",('Hearts Desire II'!I33*SIN(RADIANS(J$4))+'Hearts Desire II'!J33*COS(RADIANS(J$4))*J$3)+J$2,\"\")","v":""},null,{"$f":"IF('Hearts Desire II'!L33<>\"\",'Hearts Desire II'!L33*COS(RADIANS(O$4))-'Hearts Desire II'!M33*SIN(RADIANS(O$4))+O$1,\"\")","v":""},{"$f":"IF('Hearts Desire II'!M33<>\"\",('Hearts Desire II'!L33*SIN(RADIANS(O$4))+'Hearts Desire II'!M33*COS(RADIANS(O$4))*O$3)+O$2,\"\")","v":""},{"$f":"IF('Hearts Desire II'!N33<>\"\",'Hearts Desire II'!N33*COS(RADIANS(O$4))-'Hearts Desire II'!O33*SIN(RADIANS(O$4))+O$1,\"\")","v":""},{"$f":"IF('Hearts Desire II'!O33<>\"\",('Hearts Desire II'!N33*SIN(RADIANS(O$4))+'Hearts Desire II'!O33*COS(RADIANS(O$4))*O$3)+O$2,\"\")","v":""},null,{"$f":"IF('Hearts Desire II'!Q33<>\"\",'Hearts Desire II'!Q33*COS(RADIANS(T$4))-'Hearts Desire II'!R33*SIN(RADIANS(T$4))+T$1,\"\")","v":189.04533380046684},{"$f":"IF('Hearts Desire II'!R33<>\"\",('Hearts Desire II'!Q33*SIN(RADIANS(T$4))+'Hearts Desire II'!R33*COS(RADIANS(T$4))*T$3)+T$2,\"\")","v":487.16748619003067},{"$f":"IF('Hearts Desire II'!S33<>\"\",'Hearts Desire II'!S33*COS(RADIANS(T$4))-'Hearts Desire II'!T33*SIN(RADIANS(T$4))+T$1,\"\")","v":153.09993054827731},{"$f":"IF('Hearts Desire II'!T33<>\"\",('Hearts Desire II'!S33*SIN(RADIANS(T$4))+'Hearts Desire II'!T33*COS(RADIANS(T$4))*T$3)+T$2,\"\")","v":973.6099662568995},null,{"$f":"IF('Hearts Desire II'!V33<>\"\",'Hearts Desire II'!V33*COS(RADIANS(Y$4))-'Hearts Desire II'!W33*SIN(RADIANS(Y$4))+Y$1,\"\")","v":191.72922673236025},{"$f":"IF('Hearts Desire II'!W33<>\"\",('Hearts Desire II'!V33*SIN(RADIANS(Y$4))+'Hearts Desire II'!W33*COS(RADIANS(Y$4))*Y$3)+Y$2,\"\")","v":1001.4669230067581},{"$f":"IF('Hearts Desire II'!X33<>\"\",'Hearts Desire II'!X33*COS(RADIANS(Y$4))-'Hearts Desire II'!Y33*SIN(RADIANS(Y$4))+Y$1,\"\")","v":198.96986721287698},{"$f":"IF('Hearts Desire II'!Y33<>\"\",('Hearts Desire II'!X33*SIN(RADIANS(Y$4))+'Hearts Desire II'!Y33*COS(RADIANS(Y$4))*Y$3)+Y$2,\"\")","v":1112.0297609681882}]
[4,{"$f":"IF('Hearts Desire II'!B34<>\"\",'Hearts Desire II'!B34*COS(RADIANS(E$4))-'Hearts Desire II'!C34*SIN(RADIANS(E$4))+E$1,\"\")","v":""},{"$f":"IF('Hearts Desire II'!C34<>\"\",('Hearts Desire II'!B34*SIN(RADIANS(E$4))+'Hearts Desire II'!C34*COS(RADIANS(E$4))*E$3)+E$2,\"\")","v":""},{"$f":"IF('Hearts Desire II'!D34<>\"\",'Hearts Desire II'!D34*COS(RADIANS(E$4))-'Hearts Desire II'!E34*SIN(RADIANS(E$4))+E$1,\"\")","v":""},{"$f":"IF('Hearts Desire II'!E34<>\"\",('Hearts Desire II'!D34*SIN(RADIANS(E$4))+'Hearts Desire II'!E34*COS(RADIANS(E$4))*E$3)+E$2,\"\")","v":""},null,{"$f":"IF('Hearts Desire II'!G34<>\"\",'Hearts Desire II'!G34*COS(RADIANS(J$4))-'Hearts Desire II'!H34*SIN(RADIANS(J$4))+J$1,\"\")","v":""},{"$f":"IF('Hearts Desire II'!H34<>\"\",('Hearts Desire II'!G34*SIN(RADIANS(J$4))+'Hearts Desire II'!H34*COS(RADIANS(J$4))*J$3)+J$2,\"\")","v":""},{"$f":"IF('Hearts Desire II'!I34<>\"\",'Hearts Desire II'!I34*COS(RADIANS(J$4))-'Hearts Desire II'!J34*SIN(RADIANS(J$4))+J$1,\"\")","v":""},{"$f":"IF('Hearts Desire II'!J34<>\"\",('Hearts Desire II'!I34*SIN(RADIANS(J$4))+'Hearts Desire II'!J34*COS(RADIANS(J$4))*J$3)+J$2,\"\")","v":""},null,{"$f":"IF('Hearts Desire II'!L34<>\"\",'Hearts Desire II'!L34*COS(RADIANS(O$4))-'Hearts Desire II'!M34*SIN(RADIANS(O$4))+O$1,\"\")","v":""},{"$f":"IF('Hearts Desire II'!M34<>\"\",('Hearts Desire II'!L34*SIN(RADIANS(O$4))+'Hearts Desire II'!M34*COS(RADIANS(O$4))*O$3)+O$2,\"\")","v":""},{"$f":"IF('Hearts Desire II'!N34<>\"\",'Hearts Desire II'!N34*COS(RADIANS(O$4))-'Hearts Desire II'!O34*SIN(RADIANS(O$4))+O$1,\"\")","v":""},{"$f":"IF('Hearts Desire II'!O34<>\"\",('Hearts Desire II'!N34*SIN(RADIANS(O$4))+'Hearts Desire II'!O34*COS(RADIANS(O$4))*O$3)+O$2,\"\")","v":""},null,{"$f":"IF('Hearts Desire II'!Q34<>\"\",'Hearts Desire II'!Q34*COS(RADIANS(T$4))-'Hearts Desire II'!R34*SIN(RADIANS(T$4))+T$1,\"\")","v":284.06654628896371},{"$f":"IF('Hearts Desire II'!R34<>\"\",('Hearts Desire II'!Q34*SIN(RADIANS(T$4))+'Hearts Desire II'!R34*COS(RADIANS(T$4))*T$3)+T$2,\"\")","v":254.525821955374},{"$f":"IF('Hearts Desire II'!S34<>\"\",'Hearts Desire II'!S34*COS(RADIANS(T$4))-'Hearts Desire II'!T34*SIN(RADIANS(T$4))+T$1,\"\")","v":227.44906810824622},{"$f":"IF('Hearts Desire II'!T34<>\"\",('Hearts Desire II'!S34*SIN(RADIANS(T$4))+'Hearts Desire II'!T34*COS(RADIANS(T$4))*T$3)+T$2,\"\")","v":984.55063728929065},null,{"$f":"IF('Hearts Desire II'!V34<>\"\",'Hearts Desire II'!V34*COS(RADIANS(Y$4))-'Hearts Desire II'!W34*SIN(RADIANS(Y$4))+Y$1,\"\")","v":265.65191331730722},{"$f":"IF('Hearts Desire II'!W34<>\"\",('Hearts Desire II'!V34*SIN(RADIANS(Y$4))+'Hearts Desire II'!W34*COS(RADIANS(Y$4))*Y$3)+Y$2,\"\")","v":1014.9920458015382},{"$f":"IF('Hearts Desire II'!X34<>\"\",'Hearts Desire II'!X34*COS(RADIANS(Y$4))-'Hearts Desire II'!Y34*SIN(RADIANS(Y$4))+Y$1,\"\")","v":272.77255331696966},{"$f":"IF('Hearts Desire II'!Y34<>\"\",('Hearts Desire II'!X34*SIN(RADIANS(Y$4))+'Hearts Desire II'!Y34*COS(RADIANS(Y$4))*Y$3)+Y$2,\"\")","v":1125.3508850181927}]
[5,{"$f":"IF('Hearts Desire II'!B35<>\"\",'Hearts Desire II'!B35*COS(RADIANS(E$4))-'Hearts Desire II'!C35*SIN(RADIANS(E$4))+E$1,\"\")","v":180.71490357803},{"$f":"IF('Hearts Desire II'!C35<>\"\",('Hearts Desire II'!B35*SIN(RADIANS(E$4))+'Hearts Desire II'!C35*COS(RADIANS(E$4))*E$3)+E$2,\"\")","v":-321.06381113851108},{"$f":"IF('Hearts Desire II'!D35<>\"\",'Hearts Desire II'!D35*COS(RADIANS(E$4))-'Hearts Desire II'!E35*SIN(RADIANS(E$4))+E$1,\"\")","v":180.71425900675413},{"$f":"IF('Hearts Desire II'!E35<>\"\",('Hearts Desire II'!D35*SIN(RADIANS(E$4))+'Hearts Desire II'!E35*COS(RADIANS(E$4))*E$3)+E$2,\"\")","v":-321.05177450468915},null,{"$f":"IF('Hearts Desire II'!G35<>\"\",'Hearts Desire II'!G35*COS(RADIANS(J$4))-'Hearts Desire II'!H35*SIN(RADIANS(J$4))+J$1,\"\")","v":""},{"$f":"IF('Hearts Desire II'!H35<>\"\",('Hearts Desire II'!G35*SIN(RADIANS(J$4))+'Hearts Desire II'!H35*COS(RADIANS(J$4))*J$3)+J$2,\"\")","v":""},{"$f":"IF('Hearts Desire II'!I35<>\"\",'Hearts Desire II'!I35*COS(RADIANS(J$4))-'Hearts Desire II'!J35*SIN(RADIANS(J$4))+J$1,\"\")","v":""},{"$f":"IF('Hearts Desire II'!J35<>\"\",('Hearts Desire II'!I35*SIN(RADIANS(J$4))+'Hearts Desire II'!J35*COS(RADIANS(J$4))*J$3)+J$2,\"\")","v":""},null,{"$f":"IF('Hearts Desire II'!L35<>\"\",'Hearts Desire II'!L35*COS(RADIANS(O$4))-'Hearts Desire II'!M35*SIN(RADIANS(O$4))+O$1,\"\")","v":2.2148215141964442},{"$f":"IF('Hearts Desire II'!M35<>\"\",('Hearts Desire II'!L35*SIN(RADIANS(O$4))+'Hearts Desire II'!M35*COS(RADIANS(O$4))*O$3)+O$2,\"\")","v":-535.61811017964669},{"$f":"IF('Hearts Desire II'!N35<>\"\",'Hearts Desire II'!N35*COS(RADIANS(O$4))-'Hearts Desire II'!O35*SIN(RADIANS(O$4))+O$1,\"\")","v":2.2192825391936708},{"$f":"IF('Hearts Desire II'!O35<>\"\",('Hearts Desire II'!N35*SIN(RADIANS(O$4))+'Hearts Desire II'!O35*COS(RADIANS(O$4))*O$3)+O$2,\"\")","v":-535.61307781519383},null,{"$f":"IF('Hearts Desire II'!Q35<>\"\",'Hearts Desire II'!Q35*COS(RADIANS(T$4))-'Hearts Desire II'!R35*SIN(RADIANS(T$4))+T$1,\"\")","v":284.07859545069647},{"$f":"IF('Hearts Desire II'!R35<>\"\",('Hearts Desire II'!Q35*SIN(RADIANS(T$4))+'Hearts Desire II'!R35*COS(RADIANS(T$4))*T$3)+T$2,\"\")","v":254.52602965118513},{"$f":"IF('Hearts Desire II'!S35<>\"\",'Hearts Desire II'!S35*COS(RADIANS(T$4))-'Hearts Desire II'!T35*SIN(RADIANS(T$4))+T$1,\"\")","v":227.46369378352796},{"$f":"IF('Hearts Desire II'!T35<>\"\",('Hearts Desire II'!S35*SIN(RADIANS(T$4))+'Hearts Desire II'!T35*COS(RADIANS(T$4))*T$3)+T$2,\"\")","v":984.55275459856409},null,{"$f":"IF('Hearts Desire II'!V35<>\"\",'Hearts Desire II'!V35*COS(RADIANS(Y$4))-'Hearts Desire II'!W35*SIN(RADIANS(Y$4))+Y$1,\"\")","v":265.66646075210241},{"$f":"IF('Hearts Desire II'!W35<>\"\",('Hearts Desire II'!V35*SIN(RADIANS(Y$4))+'Hearts Desire II'!W35*COS(RADIANS(Y$4))*Y$3)+Y$2,\"\")","v":1014.9946468622613},{"$f":"IF('Hearts Desire II'!X35<>\"\",'Hearts Desire II'!X35*COS(RADIANS(Y$4))-'Hearts Desire II'!Y35*SIN(RADIANS(Y$4))+Y$1,\"\")","v":272.78707485444369},{"$f":"IF('Hearts Desire II'!Y35<>\"\",('Hearts Desire II'!X35*SIN(RADIANS(Y$4))+'Hearts Desire II'!Y35*COS(RADIANS(Y$4))*Y$3)+Y$2,\"\")","v":1125.353444251153}]
[6,{"$f":"IF('Hearts Desire II'!B36<>\"\",'Hearts Desire II'!B36*COS(RADIANS(E$4))-'Hearts Desire II'!C36*SIN(RADIANS(E$4))+E$1,\"\")","v":235.98276024687925},{"$f":"IF('Hearts Desire II'!C36<>\"\",('Hearts Desire II'!B36*SIN(RADIANS(E$4))+'Hearts Desire II'!C36*COS(RADIANS(E$4))*E$3)+E$2,\"\")","v":-423.23265344065499},{"$f":"IF('Hearts Desire II'!D36<>\"\",'Hearts Desire II'!D36*COS(RADIANS(E$4))-'Hearts Desire II'!E36*SIN(RADIANS(E$4))+E$1,\"\")","v":232.98820653498629},{"$f":"IF('Hearts Desire II'!E36<>\"\",('Hearts Desire II'!D36*SIN(RADIANS(E$4))+'Hearts Desire II'!E36*COS(RADIANS(E$4))*E$3)+E$2,\"\")","v":-367.31277640162807},null,{"$f":"IF('Hearts Desire II'!G36<>\"\",'Hearts Desire II'!G36*COS(RADIANS(J$4))-'Hearts Desire II'!H36*SIN(RADIANS(J$4))+J$1,\"\")","v":""},{"$f":"IF('Hearts Desire II'!H36<>\"\",('Hearts Desire II'!G36*SIN(RADIANS(J$4))+'Hearts Desire II'!H36*COS(RADIANS(J$4))*J$3)+J$2,\"\")","v":""},{"$f":"IF('Hearts Desire II'!I36<>\"\",'Hearts Desire II'!I36*COS(RADIANS(J$4))-'Hearts Desire II'!J36*SIN(RADIANS(J$4))+J$1,\"\")","v":""},{"$f":"IF('Hearts Desire II'!J36<>\"\",('Hearts Desire II'!I36*SIN(RADIANS(J$4))+'Hearts Desire II'!J36*COS(RADIANS(J$4))*J$3)+J$2,\"\")","v":""},null,{"$f":"IF('Hearts Desire II'!L36<>\"\",'Hearts Desire II'!L36*COS(RADIANS(O$4))-'Hearts Desire II'!M36*SIN(RADIANS(O$4))+O$1,\"\")","v":64.017802366160879},{"$f":"IF('Hearts Desire II'!M36<>\"\",('Hearts Desire II'!L36*SIN(RADIANS(O$4))+'Hearts Desire II'!M36*COS(RADIANS(O$4))*O$3)+O$2,\"\")","v":-568.18519656740966},{"$f":"IF('Hearts Desire II'!N36<>\"\",'Hearts Desire II'!N36*COS(RADIANS(O$4))-'Hearts Desire II'!O36*SIN(RADIANS(O$4))+O$1,\"\")","v":59.697871147367152},{"$f":"IF('Hearts Desire II'!O36<>\"\",('Hearts Desire II'!N36*SIN(RADIANS(O$4))+'Hearts Desire II'!O36*COS(RADIANS(O$4))*O$3)+O$2,\"\")","v":-519.41396466137496},null,{"$f":"IF('Hearts Desire II'!Q36<>\"\",'Hearts Desire II'!Q36*COS(RADIANS(T$4))-'Hearts Desire II'!R36*SIN(RADIANS(T$4))+T$1,\"\")","v":343.78773707892992},{"$f":"IF('Hearts Desire II'!R36<>\"\",('Hearts Desire II'!Q36*SIN(RADIANS(T$4))+'Hearts Desire II'!R36*COS(RADIANS(T$4))*T$3)+T$2,\"\")","v":255.53490099175144},{"$f":"IF('Hearts Desire II'!S36<>\"\",'Hearts Desire II'!S36*COS(RADIANS(T$4))-'Hearts Desire II'!T36*SIN(RADIANS(T$4))+T$1,\"\")","v":299.37517511788741},{"$f":"IF('Hearts Desire II'!T36<>\"\",('Hearts Desire II'!S36*SIN(RADIANS(T$4))+'Hearts Desire II'!T36*COS(RADIANS(T$4))*T$3)+T$2,\"\")","v":994.95019244656714},null,{"$f":"IF('Hearts Desire II'!V36<>\"\",'Hearts Desire II'!V36*COS(RADIANS(Y$4))-'Hearts Desire II'!W36*SIN(RADIANS(Y$4))+Y$1,\"\")","v":337.24223776542914},{"$f":"IF('Hearts Desire II'!W36<>\"\",('Hearts Desire II'!V36*SIN(RADIANS(Y$4))+'Hearts Desire II'!W36*COS(RADIANS(Y$4))*Y$3)+Y$2,\"\")","v":1027.4956870767214},{"$f":"IF('Hearts Desire II'!X36<>\"\",'Hearts Desire II'!X36*COS(RADIANS(Y$4))-'Hearts Desire II'!Y36*SIN(RADIANS(Y$4))+Y$1,\"\")","v":344.22514027514541},{"$f":"IF('Hearts Desire II'!Y36<>\"\",('Hearts Desire II'!X36*SIN(RADIANS(Y$4))+'Hearts Desire II'!Y36*COS(RADIANS(Y$4))*Y$3)+Y$2,\"\")","v":1137.6409050369539}]
[7,{"$f":"IF('Hearts Desire II'!B37<>\"\",'Hearts Desire II'!B37*COS(RADIANS(E$4))-'Hearts Desire II'!C37*SIN(RADIANS(E$4))+E$1,\"\")","v":453.82435160670269},{"$f":"IF('Hearts Desire II'!C37<>\"\",('Hearts Desire II'!B37*SIN(RADIANS(E$4))+'Hearts Desire II'!C37*COS(RADIANS(E$4))*E$3)+E$2,\"\")","v":-751.05278868835398},{"$f":"IF('Hearts Desire II'!D37<>\"\",'Hearts Desire II'!D37*COS(RADIANS(E$4))-'Hearts Desire II'!E37*SIN(RADIANS(E$4))+E$1,\"\")","v":443.12951692135937},{"$f":"IF('Hearts Desire II'!E37<>\"\",('Hearts Desire II'!D37*SIN(RADIANS(E$4))+'Hearts Desire II'!E37*COS(RADIANS(E$4))*E$3)+E$2,\"\")","v":-551.33894212018743},null,{"$f":"IF('Hearts Desire II'!G37<>\"\",'Hearts Desire II'!G37*COS(RADIANS(J$4))-'Hearts Desire II'!H37*SIN(RADIANS(J$4))+J$1,\"\")","v":""},{"$f":"IF('Hearts Desire II'!H37<>\"\",('Hearts Desire II'!G37*SIN(RADIANS(J$4))+'Hearts Desire II'!H37*COS(RADIANS(J$4))*J$3)+J$2,\"\")","v":""},{"$f":"IF('Hearts Desire II'!I37<>\"\",'Hearts Desire II'!I37*COS(RADIANS(J$4))-'Hearts Desire II'!J37*SIN(RADIANS(J$4))+J$1,\"\")","v":""},{"$f":"IF('Hearts Desire II'!J37<>\"\",('Hearts Desire II'!I37*SIN(RADIANS(J$4))+'Hearts Desire II'!J37*COS(RADIANS(J$4))*J$3)+J$2,\"\")","v":""},null,{"$f":"IF('Hearts Desire II'!L37<>\"\",'Hearts Desire II'!L37*COS(RADIANS(O$4))-'Hearts Desire II'!M37*SIN(RADIANS(O$4))+O$1,\"\")","v":311.64178445693631},{"$f":"IF('Hearts Desire II'!M37<>\"\",('Hearts Desire II'!L37*SIN(RADIANS(O$4))+'Hearts Desire II'!M37*COS(RADIANS(O$4))*O$3)+O$2,\"\")","v":-697.44216347251461},{"$f":"IF('Hearts Desire II'!N37<>\"\",'Hearts Desire II'!N37*COS(RADIANS(O$4))-'Hearts Desire II'!O37*SIN(RADIANS(O$4))+O$1,\"\")","v":287.76721511323001},{"$f":"IF('Hearts Desire II'!O37<>\"\",('Hearts Desire II'!N37*SIN(RADIANS(O$4))+'Hearts Desire II'!O37*COS(RADIANS(O$4))*O$3)+O$2,\"\")","v":-457.78602362156869},null,{"$f":"IF('Hearts Desire II'!Q37<>\"\",'Hearts Desire II'!Q37*COS(RADIANS(T$4))-'Hearts Desire II'!R37*SIN(RADIANS(T$4))+T$1,\"\")","v":580.01895835051369},{"$f":"IF('Hearts Desire II'!R37<>\"\",('Hearts Desire II'!Q37*SIN(RADIANS(T$4))+'Hearts Desire II'!R37*COS(RADIANS(T$4))*T$3)+T$2,\"\")","v":258.43987437517853},{"$f":"IF('Hearts Desire II'!S37<>\"\",'Hearts Desire II'!S37*COS(RADIANS(T$4))-'Hearts Desire II'!T37*SIN(RADIANS(T$4))+T$1,\"\")","v":573.62176885712938},{"$f":"IF('Hearts Desire II'!T37<>\"\",('Hearts Desire II'!S37*SIN(RADIANS(T$4))+'Hearts Desire II'!T37*COS(RADIANS(T$4))*T$3)+T$2,\"\")","v":1032.7570065177517},null,{"$f":"IF('Hearts Desire II'!V37<>\"\",'Hearts Desire II'!V37*COS(RADIANS(Y$4))-'Hearts Desire II'!W37*SIN(RADIANS(Y$4))+Y$1,\"\")","v":610.88119673490712},{"$f":"IF('Hearts Desire II'!W37<>\"\",('Hearts Desire II'!V37*SIN(RADIANS(Y$4))+'Hearts Desire II'!W37*COS(RADIANS(Y$4))*Y$3)+Y$2,\"\")","v":1069.475080853792},{"$f":"IF('Hearts Desire II'!X37<>\"\",'Hearts Desire II'!X37*COS(RADIANS(Y$4))-'Hearts Desire II'!Y37*SIN(RADIANS(Y$4))+Y$1,\"\")","v":617.18118036077021},{"$f":"IF('Hearts Desire II'!Y37<>\"\",('Hearts Desire II'!X37*SIN(RADIANS(Y$4))+'Hearts Desire II'!Y37*COS(RADIANS(Y$4))*Y$3)+Y$2,\"\")","v":1178.6749273160142}]
[8,{"$f":"IF('Hearts Desire II'!B38<>\"\",'Hearts Desire II'!B38*COS(RADIANS(E$4))-'Hearts Desire II'!C38*SIN(RADIANS(E$4))+E$1,\"\")","v":560.0433168030961},{"$f":"IF('Hearts Desire II'!C38<>\"\",('Hearts Desire II'!B38*SIN(RADIANS(E$4))+'Hearts Desire II'!C38*COS(RADIANS(E$4))*E$3)+E$2,\"\")","v":-864.50925188407268},{"$f":"IF('Hearts Desire II'!D38<>\"\",'Hearts Desire II'!D38*COS(RADIANS(E$4))-'Hearts Desire II'!E38*SIN(RADIANS(E$4))+E$1,\"\")","v":548.17166360387512},{"$f":"IF('Hearts Desire II'!E38<>\"\",('Hearts Desire II'!D38*SIN(RADIANS(E$4))+'Hearts Desire II'!E38*COS(RADIANS(E$4))*E$3)+E$2,\"\")","v":-642.81966103991147},null,{"$f":"IF('Hearts Desire II'!G38<>\"\",'Hearts Desire II'!G38*COS(RADIANS(J$4))-'Hearts Desire II'!H38*SIN(RADIANS(J$4))+J$1,\"\")","v":""},{"$f":"IF('Hearts Desire II'!H38<>\"\",('Hearts Desire II'!G38*SIN(RADIANS(J$4))+'Hearts Desire II'!H38*COS(RADIANS(J$4))*J$3)+J$2,\"\")","v":""},{"$f":"IF('Hearts Desire II'!I38<>\"\",'Hearts Desire II'!I38*COS(RADIANS(J$4))-'Hearts Desire II'!J38*SIN(RADIANS(J$4))+J$1,\"\")","v":""},{"$f":"IF('Hearts Desire II'!J38<>\"\",('Hearts Desire II'!I38*SIN(RADIANS(J$4))+'Hearts Desire II'!J38*COS(RADIANS(J$4))*J$3)+J$2,\"\")","v":""},null,{"$f":"IF('Hearts Desire II'!L38<>\"\",'Hearts Desire II'!L38*COS(RADIANS(O$4))-'Hearts Desire II'!M38*SIN(RADIANS(O$4))+O$1,\"\")","v":435.20650674229671},{"$f":"IF('Hearts Desire II'!M38<>\"\",('Hearts Desire II'!L38*SIN(RADIANS(O$4))+'Hearts Desire II'!M38*COS(RADIANS(O$4))*O$3)+O$2,\"\")","v":-761.60979007029573},{"$f":"IF('Hearts Desire II'!N38<>\"\",'Hearts Desire II'!N38*COS(RADIANS(O$4))-'Hearts Desire II'!O38*SIN(RADIANS(O$4))+O$1,\"\")","v":400.07433436311601},{"$f":"IF('Hearts Desire II'!O38<>\"\",('Hearts Desire II'!N38*SIN(RADIANS(O$4))+'Hearts Desire II'!O38*COS(RADIANS(O$4))*O$3)+O$2,\"\")","v":-428.8911958748447},null,{"$f":"IF('Hearts Desire II'!Q38<>\"\",'Hearts Desire II'!Q38*COS(RADIANS(T$4))-'Hearts Desire II'!R38*SIN(RADIANS(T$4))+T$1,\"\")","v":695.98352440732594},{"$f":"IF('Hearts Desire II'!R38<>\"\",('Hearts Desire II'!Q38*SIN(RADIANS(T$4))+'Hearts Desire II'!R38*COS(RADIANS(T$4))*T$3)+T$2,\"\")","v":258.57960259781419},{"$f":"IF('Hearts Desire II'!S38<>\"\",'Hearts Desire II'!S38*COS(RADIANS(T$4))-'Hearts Desire II'!T38*SIN(RADIANS(T$4))+T$1,\"\")","v":703.06537215985225},{"$f":"IF('Hearts Desire II'!T38<>\"\",('Hearts Desire II'!S38*SIN(RADIANS(T$4))+'Hearts Desire II'!T38*COS(RADIANS(T$4))*T$3)+T$2,\"\")","v":1048.1933521346928},null,{"$f":"IF('Hearts Desire II'!V38<>\"\",'Hearts Desire II'!V38*COS(RADIANS(Y$4))-'Hearts Desire II'!W38*SIN(RADIANS(Y$4))+Y$1,\"\")","v":740.20448018817535},{"$f":"IF('Hearts Desire II'!W38<>\"\",('Hearts Desire II'!V38*SIN(RADIANS(Y$4))+'Hearts Desire II'!W38*COS(RADIANS(Y$4))*Y$3)+Y$2,\"\")","v":1085.8889639673034},{"$f":"IF('Hearts Desire II'!X38<>\"\",'Hearts Desire II'!X38*COS(RADIANS(Y$4))-'Hearts Desire II'!Y38*SIN(RADIANS(Y$4))+Y$1,\"\")","v":746.09840426572021},{"$f":"IF('Hearts Desire II'!Y38<>\"\",('Hearts Desire II'!X38*SIN(RADIANS(Y$4))+'Hearts Desire II'!Y38*COS(RADIANS(Y$4))*Y$3)+Y$2,\"\")","v":1194.5649284136214}]
[9,{"$f":"IF('Hearts Desire II'!B39<>\"\",'Hearts Desire II'!B39*COS(RADIANS(E$4))-'Hearts Desire II'!C39*SIN(RADIANS(E$4))+E$1,\"\")","v":664.44692955391952},{"$f":"IF('Hearts Desire II'!C39<>\"\",('Hearts Desire II'!B39*SIN(RADIANS(E$4))+'Hearts Desire II'!C39*COS(RADIANS(E$4))*E$3)+E$2,\"\")","v":-944.06607750254057},{"$f":"IF('Hearts Desire II'!D39<>\"\",'Hearts Desire II'!D39*COS(RADIANS(E$4))-'Hearts Desire II'!E39*SIN(RADIANS(E$4))+E$1,\"\")","v":653.22309513419441},{"$f":"IF('Hearts Desire II'!E39<>\"\",('Hearts Desire II'!D39*SIN(RADIANS(E$4))+'Hearts Desire II'!E39*COS(RADIANS(E$4))*E$3)+E$2,\"\")","v":-734.47376390844602},null,{"$f":"IF('Hearts Desire II'!G39<>\"\",'Hearts Desire II'!G39*COS(RADIANS(J$4))-'Hearts Desire II'!H39*SIN(RADIANS(J$4))+J$1,\"\")","v":""},{"$f":"IF('Hearts Desire II'!H39<>\"\",('Hearts Desire II'!G39*SIN(RADIANS(J$4))+'Hearts Desire II'!H39*COS(RADIANS(J$4))*J$3)+J$2,\"\")","v":""},{"$f":"IF('Hearts Desire II'!I39<>\"\",'Hearts Desire II'!I39*COS(RADIANS(J$4))-'Hearts Desire II'!J39*SIN(RADIANS(J$4))+J$1,\"\")","v":""},{"$f":"IF('Hearts Desire II'!J39<>\"\",('Hearts Desire II'!I39*SIN(RADIANS(J$4))+'Hearts Desire II'!J39*COS(RADIANS(J$4))*J$3)+J$2,\"\")","v":""},null,{"$f":"IF('Hearts Desire II'!L39<>\"\",'Hearts Desire II'!L39*COS(RADIANS(O$4))-'Hearts Desire II'!M39*SIN(RADIANS(O$4))+O$1,\"\")","v":558.83945788534959},{"$f":"IF('Hearts Desire II'!M39<>\"\",('Hearts Desire II'!L39*SIN(RADIANS(O$4))+'Hearts Desire II'!M39*COS(RADIANS(O$4))*O$3)+O$2,\"\")","v":-825.93560791149309},{"$f":"IF('Hearts Desire II'!N39<>\"\",'Hearts Desire II'!N39*COS(RADIANS(O$4))-'Hearts Desire II'!O39*SIN(RADIANS(O$4))+O$1,\"\")","v":511.31933767794681},{"$f":"IF('Hearts Desire II'!O39<>\"\",('Hearts Desire II'!N39*SIN(RADIANS(O$4))+'Hearts Desire II'!O39*COS(RADIANS(O$4))*O$3)+O$2,\"\")","v":-401.13943547426646},null,{"$f":"IF('Hearts Desire II'!Q39<>\"\",'Hearts Desire II'!Q39*COS(RADIANS(T$4))-'Hearts Desire II'!R39*SIN(RADIANS(T$4))+T$1,\"\")","v":810.63703113180736},{"$f":"IF('Hearts Desire II'!R39<>\"\",('Hearts Desire II'!Q39*SIN(RADIANS(T$4))+'Hearts Desire II'!R39*COS(RADIANS(T$4))*T$3)+T$2,\"\")","v":258.15022674019554},{"$f":"IF('Hearts Desire II'!S39<>\"\",'Hearts Desire II'!S39*COS(RADIANS(T$4))-'Hearts Desire II'!T39*SIN(RADIANS(T$4))+T$1,\"\")","v":828.11150625536311},{"$f":"IF('Hearts Desire II'!T39<>\"\",('Hearts Desire II'!S39*SIN(RADIANS(T$4))+'Hearts Desire II'!T39*COS(RADIANS(T$4))*T$3)+T$2,\"\")","v":1061.403730564361},null,{"$f":"IF('Hearts Desire II'!V39<>\"\",'Hearts Desire II'!V39*COS(RADIANS(Y$4))-'Hearts Desire II'!W39*SIN(RADIANS(Y$4))+Y$1,\"\")","v":865.20442644340494},{"$f":"IF('Hearts Desire II'!W39<>\"\",('Hearts Desire II'!V39*SIN(RADIANS(Y$4))+'Hearts Desire II'!W39*COS(RADIANS(Y$4))*Y$3)+Y$2,\"\")","v":1099.5294620035627},{"$f":"IF('Hearts Desire II'!X39<>\"\",'Hearts Desire II'!X39*COS(RADIANS(Y$4))-'Hearts Desire II'!Y39*SIN(RADIANS(Y$4))+Y$1,\"\")","v":870.66486203889156},{"$f":"IF('Hearts Desire II'!Y39<>\"\",('Hearts Desire II'!X39*SIN(RADIANS(Y$4))+'Hearts Desire II'!Y39*COS(RADIANS(Y$4))*Y$3)+Y$2,\"\")","v":1207.6537286032874}]
[10,{"$f":"IF('Hearts Desire II'!B40<>\"\",'Hearts Desire II'!B40*COS(RADIANS(E$4))-'Hearts Desire II'!C40*SIN(RADIANS(E$4))+E$1,\"\")","v":867.76570134918154},{"$f":"IF('Hearts Desire II'!C40<>\"\",('Hearts Desire II'!B40*SIN(RADIANS(E$4))+'Hearts Desire II'!C40*COS(RADIANS(E$4))*E$3)+E$2,\"\")","v":-1000.6891121322326},{"$f":"IF('Hearts Desire II'!D40<>\"\",'Hearts Desire II'!D40*COS(RADIANS(E$4))-'Hearts Desire II'!E40*SIN(RADIANS(E$4))+E$1,\"\")","v":863.43868430299813},{"$f":"IF('Hearts Desire II'!E40<>\"\",('Hearts Desire II'!D40*SIN(RADIANS(E$4))+'Hearts Desire II'!E40*COS(RADIANS(E$4))*E$3)+E$2,\"\")","v":-919.88700121754891},null,{"$f":"IF('Hearts Desire II'!G40<>\"\",'Hearts Desire II'!G40*COS(RADIANS(J$4))-'Hearts Desire II'!H40*SIN(RADIANS(J$4))+J$1,\"\")","v":""},{"$f":"IF('Hearts Desire II'!H40<>\"\",('Hearts Desire II'!G40*SIN(RADIANS(J$4))+'Hearts Desire II'!H40*COS(RADIANS(J$4))*J$3)+J$2,\"\")","v":""},{"$f":"IF('Hearts Desire II'!I40<>\"\",'Hearts Desire II'!I40*COS(RADIANS(J$4))-'Hearts Desire II'!J40*SIN(RADIANS(J$4))+J$1,\"\")","v":""},{"$f":"IF('Hearts Desire II'!J40<>\"\",('Hearts Desire II'!I40*SIN(RADIANS(J$4))+'Hearts Desire II'!J40*COS(RADIANS(J$4))*J$3)+J$2,\"\")","v":""},null,{"$f":"IF('Hearts Desire II'!L40<>\"\",'Hearts Desire II'!L40*COS(RADIANS(O$4))-'Hearts Desire II'!M40*SIN(RADIANS(O$4))+O$1,\"\")","v":807.01545891478895},{"$f":"IF('Hearts Desire II'!M40<>\"\",('Hearts Desire II'!L40*SIN(RADIANS(O$4))+'Hearts Desire II'!M40*COS(RADIANS(O$4))*O$3)+O$2,\"\")","v":-956.45121349489909},{"$f":"IF('Hearts Desire II'!N40<>\"\",'Hearts Desire II'!N40*COS(RADIANS(O$4))-'Hearts Desire II'!O40*SIN(RADIANS(O$4))+O$1,\"\")","v":730.86435037607635},{"$f":"IF('Hearts Desire II'!O40<>\"\",('Hearts Desire II'!N40*SIN(RADIANS(O$4))+'Hearts Desire II'!O40*COS(RADIANS(O$4))*O$3)+O$2,\"\")","v":-348.59950171057551},null,{"$f":"IF('Hearts Desire II'!Q40<>\"\",'Hearts Desire II'!Q40*COS(RADIANS(T$4))-'Hearts Desire II'!R40*SIN(RADIANS(T$4))+T$1,\"\")","v":1036.3711502726576},{"$f":"IF('Hearts Desire II'!R40<>\"\",('Hearts Desire II'!Q40*SIN(RADIANS(T$4))+'Hearts Desire II'!R40*COS(RADIANS(T$4))*T$3)+T$2,\"\")","v":256.01371176963653},{"$f":"IF('Hearts Desire II'!S40<>\"\",'Hearts Desire II'!S40*COS(RADIANS(T$4))-'Hearts Desire II'!T40*SIN(RADIANS(T$4))+T$1,\"\")","v":1067.0345094995632},{"$f":"IF('Hearts Desire II'!T40<>\"\",('Hearts Desire II'!S40*SIN(RADIANS(T$4))+'Hearts Desire II'!T40*COS(RADIANS(T$4))*T$3)+T$2,\"\")","v":1081.359541051859},null,{"$f":"IF('Hearts Desire II'!V40<>\"\",'Hearts Desire II'!V40*COS(RADIANS(Y$4))-'Hearts Desire II'!W40*SIN(RADIANS(Y$4))+Y$1,\"\")","v":1104.1399178905517},{"$f":"IF('Hearts Desire II'!W40<>\"\",('Hearts Desire II'!V40*SIN(RADIANS(Y$4))+'Hearts Desire II'!W40*COS(RADIANS(Y$4))*Y$3)+Y$2,\"\")","v":1119.3351879016848},{"$f":"IF('Hearts Desire II'!X40<>\"\",'Hearts Desire II'!X40*COS(RADIANS(Y$4))-'Hearts Desire II'!Y40*SIN(RADIANS(Y$4))+Y$1,\"\")","v":1108.6934825171024},{"$f":"IF('Hearts Desire II'!Y40<>\"\",('Hearts Desire II'!X40*SIN(RADIANS(Y$4))+'Hearts Desire II'!Y40*COS(RADIANS(Y$4))*Y$3)+Y$2,\"\")","v":1226.2925648649282}]
[11,{"$f":"IF('Hearts Desire II'!B41<>\"\",'Hearts Desire II'!B41*COS(RADIANS(E$4))-'Hearts Desire II'!C41*SIN(RADIANS(E$4))+E$1,\"\")","v":872.43391554497907},{"$f":"IF('Hearts Desire II'!C41<>\"\",('Hearts Desire II'!B41*SIN(RADIANS(E$4))+'Hearts Desire II'!C41*COS(RADIANS(E$4))*E$3)+E$2,\"\")","v":-1000.36829714961},{"$f":"IF('Hearts Desire II'!D41<>\"\",'Hearts Desire II'!D41*COS(RADIANS(E$4))-'Hearts Desire II'!E41*SIN(RADIANS(E$4))+E$1,\"\")","v":868.35918352986346},{"$f":"IF('Hearts Desire II'!E41<>\"\",('Hearts Desire II'!D41*SIN(RADIANS(E$4))+'Hearts Desire II'!E41*COS(RADIANS(E$4))*E$3)+E$2,\"\")","v":-924.27732160713867},null,{"$f":"IF('Hearts Desire II'!G41<>\"\",'Hearts Desire II'!G41*COS(RADIANS(J$4))-'Hearts Desire II'!H41*SIN(RADIANS(J$4))+J$1,\"\")","v":867.83076225906859},{"$f":"IF('Hearts Desire II'!H41<>\"\",('Hearts Desire II'!G41*SIN(RADIANS(J$4))+'Hearts Desire II'!H41*COS(RADIANS(J$4))*J$3)+J$2,\"\")","v":-1020.3653084444095},{"$f":"IF('Hearts Desire II'!I41<>\"\",'Hearts Desire II'!I41*COS(RADIANS(J$4))-'Hearts Desire II'!J41*SIN(RADIANS(J$4))+J$1,\"\")","v":867.83076225906859},{"$f":"IF('Hearts Desire II'!J41<>\"\",('Hearts Desire II'!I41*SIN(RADIANS(J$4))+'Hearts Desire II'!J41*COS(RADIANS(J$4))*J$3)+J$2,\"\")","v":-1020.3653084444095},null,{"$f":"IF('Hearts Desire II'!L41<>\"\",'Hearts Desire II'!L41*COS(RADIANS(O$4))-'Hearts Desire II'!M41*SIN(RADIANS(O$4))+O$1,\"\")","v":812.84272083890983},{"$f":"IF('Hearts Desire II'!M41<>\"\",('Hearts Desire II'!L41*SIN(RADIANS(O$4))+'Hearts Desire II'!M41*COS(RADIANS(O$4))*O$3)+O$2,\"\")","v":-959.55421302659147},{"$f":"IF('Hearts Desire II'!N41<>\"\",'Hearts Desire II'!N41*COS(RADIANS(O$4))-'Hearts Desire II'!O41*SIN(RADIANS(O$4))+O$1,\"\")","v":735.95714161832529},{"$f":"IF('Hearts Desire II'!O41<>\"\",('Hearts Desire II'!N41*SIN(RADIANS(O$4))+'Hearts Desire II'!O41*COS(RADIANS(O$4))*O$3)+O$2,\"\")","v":-347.41456584358076},null,{"$f":"IF('Hearts Desire II'!Q41<>\"\",'Hearts Desire II'!Q41*COS(RADIANS(T$4))-'Hearts Desire II'!R41*SIN(RADIANS(T$4))+T$1,\"\")","v":1041.599466801184},{"$f":"IF('Hearts Desire II'!R41<>\"\",('Hearts Desire II'!Q41*SIN(RADIANS(T$4))+'Hearts Desire II'!R41*COS(RADIANS(T$4))*T$3)+T$2,\"\")","v":255.94089746090776},{"$f":"IF('Hearts Desire II'!S41<>\"\",'Hearts Desire II'!S41*COS(RADIANS(T$4))-'Hearts Desire II'!T41*SIN(RADIANS(T$4))+T$1,\"\")","v":1072.4716974169157},{"$f":"IF('Hearts Desire II'!T41<>\"\",('Hearts Desire II'!S41*SIN(RADIANS(T$4))+'Hearts Desire II'!T41*COS(RADIANS(T$4))*T$3)+T$2,\"\")","v":1081.7207089263056},null,{"$f":"IF('Hearts Desire II'!V41<>\"\",'Hearts Desire II'!V41*COS(RADIANS(Y$4))-'Hearts Desire II'!W41*SIN(RADIANS(Y$4))+Y$1,\"\")","v":1109.5774657485845},{"$f":"IF('Hearts Desire II'!W41<>\"\",('Hearts Desire II'!V41*SIN(RADIANS(Y$4))+'Hearts Desire II'!W41*COS(RADIANS(Y$4))*Y$3)+Y$2,\"\")","v":1119.6908956099749},{"$f":"IF('Hearts Desire II'!X41<>\"\",'Hearts Desire II'!X41*COS(RADIANS(Y$4))-'Hearts Desire II'!Y41*SIN(RADIANS(Y$4))+Y$1,\"\")","v":1114.1097501310883},{"$f":"IF('Hearts Desire II'!Y41<>\"\",('Hearts Desire II'!X41*SIN(RADIANS(Y$4))+'Hearts Desire II'!Y41*COS(RADIANS(Y$4))*Y$3)+Y$2,\"\")","v":1226.6202005012992}]
[12,{"$f":"IF('Hearts Desire II'!B42<>\"\",'Hearts Desire II'!B42*COS(RADIANS(E$4))-'Hearts Desire II'!C42*SIN(RADIANS(E$4))+E$1,\"\")","v":872.44392994205862},{"$f":"IF('Hearts Desire II'!C42<>\"\",('Hearts Desire II'!B42*SIN(RADIANS(E$4))+'Hearts Desire II'!C42*COS(RADIANS(E$4))*E$3)+E$2,\"\")","v":-1000.368298436382},{"$f":"IF('Hearts Desire II'!D42<>\"\",'Hearts Desire II'!D42*COS(RADIANS(E$4))-'Hearts Desire II'!E42*SIN(RADIANS(E$4))+E$1,\"\")","v":872.44390116696366},{"$f":"IF('Hearts Desire II'!E42<>\"\",('Hearts Desire II'!D42*SIN(RADIANS(E$4))+'Hearts Desire II'!E42*COS(RADIANS(E$4))*E$3)+E$2,\"\")","v":-1000.3677624116522},null,{"$f":"IF('Hearts Desire II'!G42<>\"\",'Hearts Desire II'!G42*COS(RADIANS(J$4))-'Hearts Desire II'!H42*SIN(RADIANS(J$4))+J$1,\"\")","v":871.89983410283867},{"$f":"IF('Hearts Desire II'!H42<>\"\",('Hearts Desire II'!G42*SIN(RADIANS(J$4))+'Hearts Desire II'!H42*COS(RADIANS(J$4))*J$3)+J$2,\"\")","v":-1096.4565875395215},{"$f":"IF('Hearts Desire II'!I42<>\"\",'Hearts Desire II'!I42*COS(RADIANS(J$4))-'Hearts Desire II'!J42*SIN(RADIANS(J$4))+J$1,\"\")","v":867.84085459765765},{"$f":"IF('Hearts Desire II'!J42<>\"\",('Hearts Desire II'!I42*SIN(RADIANS(J$4))+'Hearts Desire II'!J42*COS(RADIANS(J$4))*J$3)+J$2,\"\")","v":-1020.365307622309},null,{"$f":"IF('Hearts Desire II'!L42<>\"\",'Hearts Desire II'!L42*COS(RADIANS(O$4))-'Hearts Desire II'!M42*SIN(RADIANS(O$4))+O$1,\"\")","v":812.8526952232437},{"$f":"IF('Hearts Desire II'!M42<>\"\",('Hearts Desire II'!L42*SIN(RADIANS(O$4))+'Hearts Desire II'!M42*COS(RADIANS(O$4))*O$3)+O$2,\"\")","v":-959.55267453511397},{"$f":"IF('Hearts Desire II'!N42<>\"\",'Hearts Desire II'!N42*COS(RADIANS(O$4))-'Hearts Desire II'!O42*SIN(RADIANS(O$4))+O$1,\"\")","v":735.96802466869144},{"$f":"IF('Hearts Desire II'!O42<>\"\",('Hearts Desire II'!N42*SIN(RADIANS(O$4))+'Hearts Desire II'!O42*COS(RADIANS(O$4))*O$3)+O$2,\"\")","v":-347.41203528366566},null,{"$f":"IF('Hearts Desire II'!Q42<>\"\",'Hearts Desire II'!Q42*COS(RADIANS(T$4))-'Hearts Desire II'!R42*SIN(RADIANS(T$4))+T$1,\"\")","v":1041.6106390889718},{"$f":"IF('Hearts Desire II'!R42<>\"\",('Hearts Desire II'!Q42*SIN(RADIANS(T$4))+'Hearts Desire II'!R42*COS(RADIANS(T$4))*T$3)+T$2,\"\")","v":255.94074092228561},{"$f":"IF('Hearts Desire II'!S42<>\"\",'Hearts Desire II'!S42*COS(RADIANS(T$4))-'Hearts Desire II'!T42*SIN(RADIANS(T$4))+T$1,\"\")","v":1072.4833117247751},{"$f":"IF('Hearts Desire II'!T42<>\"\",('Hearts Desire II'!S42*SIN(RADIANS(T$4))+'Hearts Desire II'!T42*COS(RADIANS(T$4))*T$3)+T$2,\"\")","v":1081.7214759395024},null,{"$f":"IF('Hearts Desire II'!V42<>\"\",'Hearts Desire II'!V42*COS(RADIANS(Y$4))-'Hearts Desire II'!W42*SIN(RADIANS(Y$4))+Y$1,\"\")","v":1109.5890808267045},{"$f":"IF('Hearts Desire II'!W42<>\"\",('Hearts Desire II'!V42*SIN(RADIANS(Y$4))+'Hearts Desire II'!W42*COS(RADIANS(Y$4))*Y$3)+Y$2,\"\")","v":1119.6916508692402},{"$f":"IF('Hearts Desire II'!X42<>\"\",'Hearts Desire II'!X42*COS(RADIANS(Y$4))-'Hearts Desire II'!Y42*SIN(RADIANS(Y$4))+Y$1,\"\")","v":1114.1213197340705},{"$f":"IF('Hearts Desire II'!Y42<>\"\",('Hearts Desire II'!X42*SIN(RADIANS(Y$4))+'Hearts Desire II'!Y42*COS(RADIANS(Y$4))*Y$3)+Y$2,\"\")","v":1226.6208957303249}]
[13,{"$f":"IF('Hearts Desire II'!B43<>\"\",'Hearts Desire II'!B43*COS(RADIANS(E$4))-'Hearts Desire II'!C43*SIN(RADIANS(E$4))+E$1,\"\")","v":1068.0364324289324},{"$f":"IF('Hearts Desire II'!C43<>\"\",('Hearts Desire II'!B43*SIN(RADIANS(E$4))+'Hearts Desire II'!C43*COS(RADIANS(E$4))*E$3)+E$2,\"\")","v":-1000.3677624116478},{"$f":"IF('Hearts Desire II'!D43<>\"\",'Hearts Desire II'!D43*COS(RADIANS(E$4))-'Hearts Desire II'!E43*SIN(RADIANS(E$4))+E$1,\"\")","v":1068.0364324289324},{"$f":"IF('Hearts Desire II'!E43<>\"\",('Hearts Desire II'!D43*SIN(RADIANS(E$4))+'Hearts Desire II'!E43*COS(RADIANS(E$4))*E$3)+E$2,\"\")","v":-974.52756865811568},null,{"$f":"IF('Hearts Desire II'!G43<>\"\",'Hearts Desire II'!G43*COS(RADIANS(J$4))-'Hearts Desire II'!H43*SIN(RADIANS(J$4))+J$1,\"\")","v":1069.1918848022533},{"$f":"IF('Hearts Desire II'!H43<>\"\",('Hearts Desire II'!G43*SIN(RADIANS(J$4))+'Hearts Desire II'!H43*COS(RADIANS(J$4))*J$3)+J$2,\"\")","v":-1096.4315897877514},{"$f":"IF('Hearts Desire II'!I43<>\"\",'Hearts Desire II'!I43*COS(RADIANS(J$4))-'Hearts Desire II'!J43*SIN(RADIANS(J$4))+J$1,\"\")","v":1065.1327127456925},{"$f":"IF('Hearts Desire II'!J43<>\"\",('Hearts Desire II'!I43*SIN(RADIANS(J$4))+'Hearts Desire II'!J43*COS(RADIANS(J$4))*J$3)+J$2,\"\")","v":-1020.3397825926581},null,{"$f":"IF('Hearts Desire II'!L43<>\"\",'Hearts Desire II'!L43*COS(RADIANS(O$4))-'Hearts Desire II'!M43*SIN(RADIANS(O$4))+O$1,\"\")","v":1007.715750759241},{"$f":"IF('Hearts Desire II'!M43<>\"\",('Hearts Desire II'!L43*SIN(RADIANS(O$4))+'Hearts Desire II'!M43*COS(RADIANS(O$4))*O$3)+O$2,\"\")","v":-928.69060185348326},{"$f":"IF('Hearts Desire II'!N43<>\"\",'Hearts Desire II'!N43*COS(RADIANS(O$4))-'Hearts Desire II'!O43*SIN(RADIANS(O$4))+O$1,\"\")","v":946.27248444145835},{"$f":"IF('Hearts Desire II'!O43<>\"\",('Hearts Desire II'!N43*SIN(RADIANS(O$4))+'Hearts Desire II'!O43*COS(RADIANS(O$4))*O$3)+O$2,\"\")","v":-296.73617463204238},null,{"$f":"IF('Hearts Desire II'!Q43<>\"\",'Hearts Desire II'!Q43*COS(RADIANS(T$4))-'Hearts Desire II'!R43*SIN(RADIANS(T$4))+T$1,\"\")","v":1257.9042031568886},{"$f":"IF('Hearts Desire II'!R43<>\"\",('Hearts Desire II'!Q43*SIN(RADIANS(T$4))+'Hearts Desire II'!R43*COS(RADIANS(T$4))*T$3)+T$2,\"\")","v":252.32096249038443},{"$f":"IF('Hearts Desire II'!S43<>\"\",'Hearts Desire II'!S43*COS(RADIANS(T$4))-'Hearts Desire II'!T43*SIN(RADIANS(T$4))+T$1,\"\")","v":1294.1631362246785},{"$f":"IF('Hearts Desire II'!T43<>\"\",('Hearts Desire II'!S43*SIN(RADIANS(T$4))+'Hearts Desire II'!T43*COS(RADIANS(T$4))*T$3)+T$2,\"\")","v":1092.9487590117938},null,{"$f":"IF('Hearts Desire II'!V43<>\"\",'Hearts Desire II'!V43*COS(RADIANS(Y$4))-'Hearts Desire II'!W43*SIN(RADIANS(Y$4))+Y$1,\"\")","v":1331.2859084092038},{"$f":"IF('Hearts Desire II'!W43<>\"\",('Hearts Desire II'!V43*SIN(RADIANS(Y$4))+'Hearts Desire II'!W43*COS(RADIANS(Y$4))*Y$3)+Y$2,\"\")","v":1130.5780237890322},{"$f":"IF('Hearts Desire II'!X43<>\"\",'Hearts Desire II'!X43*COS(RADIANS(Y$4))-'Hearts Desire II'!Y43*SIN(RADIANS(Y$4))+Y$1,\"\")","v":1334.944543784047},{"$f":"IF('Hearts Desire II'!Y43<>\"\",('Hearts Desire II'!X43*SIN(RADIANS(Y$4))+'Hearts Desire II'!Y43*COS(RADIANS(Y$4))*Y$3)+Y$2,\"\")","v":1236.3160926453786}]
[14,{"$f":"IF('Hearts Desire II'!B44<>\"\",'Hearts Desire II'!B44*COS(RADIANS(E$4))-'Hearts Desire II'!C44*SIN(RADIANS(E$4))+E$1,\"\")","v":1568.7562905385741},{"$f":"IF('Hearts Desire II'!C44<>\"\",('Hearts Desire II'!B44*SIN(RADIANS(E$4))+'Hearts Desire II'!C44*COS(RADIANS(E$4))*E$3)+E$2,\"\")","v":-1000.3677624116481},{"$f":"IF('Hearts Desire II'!D44<>\"\",'Hearts Desire II'!D44*COS(RADIANS(E$4))-'Hearts Desire II'!E44*SIN(RADIANS(E$4))+E$1,\"\")","v":1568.7562905385744},{"$f":"IF('Hearts Desire II'!E44<>\"\",('Hearts Desire II'!D44*SIN(RADIANS(E$4))+'Hearts Desire II'!E44*COS(RADIANS(E$4))*E$3)+E$2,\"\")","v":-902.19261299177276},null,{"$f":"IF('Hearts Desire II'!G44<>\"\",'Hearts Desire II'!G44*COS(RADIANS(J$4))-'Hearts Desire II'!H44*SIN(RADIANS(J$4))+J$1,\"\")","v":1575.1095756324237},{"$f":"IF('Hearts Desire II'!H44<>\"\",('Hearts Desire II'!G44*SIN(RADIANS(J$4))+'Hearts Desire II'!H44*COS(RADIANS(J$4))*J$3)+J$2,\"\")","v":-1096.3210371819223},{"$f":"IF('Hearts Desire II'!I44<>\"\",'Hearts Desire II'!I44*COS(RADIANS(J$4))-'Hearts Desire II'!J44*SIN(RADIANS(J$4))+J$1,\"\")","v":1571.0504035758627},{"$f":"IF('Hearts Desire II'!J44<>\"\",('Hearts Desire II'!I44*SIN(RADIANS(J$4))+'Hearts Desire II'!J44*COS(RADIANS(J$4))*J$3)+J$2,\"\")","v":-1020.2292299868295},null,{"$f":"IF('Hearts Desire II'!L44<>\"\",'Hearts Desire II'!L44*COS(RADIANS(O$4))-'Hearts Desire II'!M44*SIN(RADIANS(O$4))+O$1,\"\")","v":1507.9074250575275},{"$f":"IF('Hearts Desire II'!M44<>\"\",('Hearts Desire II'!L44*SIN(RADIANS(O$4))+'Hearts Desire II'!M44*COS(RADIANS(O$4))*O$3)+O$2,\"\")","v":-852.78927723073241},{"$f":"IF('Hearts Desire II'!N44<>\"\",'Hearts Desire II'!N44*COS(RADIANS(O$4))-'Hearts Desire II'!O44*SIN(RADIANS(O$4))+O$1,\"\")","v":1470.956186507367},{"$f":"IF('Hearts Desire II'!O44<>\"\",('Hearts Desire II'!N44*SIN(RADIANS(O$4))+'Hearts Desire II'!O44*COS(RADIANS(O$4))*O$3)+O$2,\"\")","v":-172.57814926014117},null,{"$f":"IF('Hearts Desire II'!Q44<>\"\",'Hearts Desire II'!Q44*COS(RADIANS(T$4))-'Hearts Desire II'!R44*SIN(RADIANS(T$4))+T$1,\"\")","v":1796.9082218194421},{"$f":"IF('Hearts Desire II'!R44<>\"\",('Hearts Desire II'!Q44*SIN(RADIANS(T$4))+'Hearts Desire II'!R44*COS(RADIANS(T$4))*T$3)+T$2,\"\")","v":238.79800632486706},{"$f":"IF('Hearts Desire II'!S44<>\"\",'Hearts Desire II'!S44*COS(RADIANS(T$4))-'Hearts Desire II'!T44*SIN(RADIANS(T$4))+T$1,\"\")","v":1828.1660620558318},{"$f":"IF('Hearts Desire II'!T44<>\"\",('Hearts Desire II'!S44*SIN(RADIANS(T$4))+'Hearts Desire II'!T44*COS(RADIANS(T$4))*T$3)+T$2,\"\")","v":1092.6966737281305},null,{"$f":"IF('Hearts Desire II'!V44<>\"\",'Hearts Desire II'!V44*COS(RADIANS(Y$4))-'Hearts Desire II'!W44*SIN(RADIANS(Y$4))+Y$1,\"\")","v":1865.2888718073343},{"$f":"IF('Hearts Desire II'!W44<>\"\",('Hearts Desire II'!V44*SIN(RADIANS(Y$4))+'Hearts Desire II'!W44*COS(RADIANS(Y$4))*Y$3)+Y$2,\"\")","v":1130.7310768439818},{"$f":"IF('Hearts Desire II'!X44<>\"\",'Hearts Desire II'!X44*COS(RADIANS(Y$4))-'Hearts Desire II'!Y44*SIN(RADIANS(Y$4))+Y$1,\"\")","v":1867.0724800709586},{"$f":"IF('Hearts Desire II'!Y44<>\"\",('Hearts Desire II'!X44*SIN(RADIANS(Y$4))+'Hearts Desire II'!Y44*COS(RADIANS(Y$4))*Y$3)+Y$2,\"\")","v":1233.4325515453927}]
[15,{"$f":"IF('Hearts Desire II'!B45<>\"\",'Hearts Desire II'!B45*COS(RADIANS(E$4))-'Hearts Desire II'!C45*SIN(RADIANS(E$4))+E$1,\"\")","v":2069.4761486482143},{"$f":"IF('Hearts Desire II'!C45<>\"\",('Hearts Desire II'!B45*SIN(RADIANS(E$4))+'Hearts Desire II'!C45*COS(RADIANS(E$4))*E$3)+E$2,\"\")","v":-1000.3677624116478},{"$f":"IF('Hearts Desire II'!D45<>\"\",'Hearts Desire II'!D45*COS(RADIANS(E$4))-'Hearts Desire II'!E45*SIN(RADIANS(E$4))+E$1,\"\")","v":2069.4761486482143},{"$f":"IF('Hearts Desire II'!E45<>\"\",('Hearts Desire II'!D45*SIN(RADIANS(E$4))+'Hearts Desire II'!E45*COS(RADIANS(E$4))*E$3)+E$2,\"\")","v":-836.95365914764773},null,{"$f":"IF('Hearts Desire II'!G45<>\"\",'Hearts Desire II'!G45*COS(RADIANS(J$4))-'Hearts Desire II'!H45*SIN(RADIANS(J$4))+J$1,\"\")","v":2080.0615475256009},{"$f":"IF('Hearts Desire II'!H45<>\"\",('Hearts Desire II'!G45*SIN(RADIANS(J$4))+'Hearts Desire II'!H45*COS(RADIANS(J$4))*J$3)+J$2,\"\")","v":-1096.2620015457651},{"$f":"IF('Hearts Desire II'!I45<>\"\",'Hearts Desire II'!I45*COS(RADIANS(J$4))-'Hearts Desire II'!J45*SIN(RADIANS(J$4))+J$1,\"\")","v":2076.0023754690401},{"$f":"IF('Hearts Desire II'!J45<>\"\",('Hearts Desire II'!I45*SIN(RADIANS(J$4))+'Hearts Desire II'!J45*COS(RADIANS(J$4))*J$3)+J$2,\"\")","v":-1020.1701943506714},null,{"$f":"IF('Hearts Desire II'!L45<>\"\",'Hearts Desire II'!L45*COS(RADIANS(O$4))-'Hearts Desire II'!M45*SIN(RADIANS(O$4))+O$1,\"\")","v":2009.1431819299191},{"$f":"IF('Hearts Desire II'!M45<>\"\",('Hearts Desire II'!L45*SIN(RADIANS(O$4))+'Hearts Desire II'!M45*COS(RADIANS(O$4))*O$3)+O$2,\"\")","v":-791.6401690068642},{"$f":"IF('Hearts Desire II'!N45<>\"\",'Hearts Desire II'!N45*COS(RADIANS(O$4))-'Hearts Desire II'!O45*SIN(RADIANS(O$4))+O$1,\"\")","v":1984.2465362611297},{"$f":"IF('Hearts Desire II'!O45<>\"\",('Hearts Desire II'!N45*SIN(RADIANS(O$4))+'Hearts Desire II'!O45*COS(RADIANS(O$4))*O$3)+O$2,\"\")","v":-68.172146783933954},null,{"$f":"IF('Hearts Desire II'!Q45<>\"\",'Hearts Desire II'!Q45*COS(RADIANS(T$4))-'Hearts Desire II'!R45*SIN(RADIANS(T$4))+T$1,\"\")","v":2320.4642357155053},{"$f":"IF('Hearts Desire II'!R45<>\"\",('Hearts Desire II'!Q45*SIN(RADIANS(T$4))+'Hearts Desire II'!R45*COS(RADIANS(T$4))*T$3)+T$2,\"\")","v":222.77624560179038},{"$f":"IF('Hearts Desire II'!S45<>\"\",'Hearts Desire II'!S45*COS(RADIANS(T$4))-'Hearts Desire II'!T45*SIN(RADIANS(T$4))+T$1,\"\")","v":2338.4303413630291},{"$f":"IF('Hearts Desire II'!T45<>\"\",('Hearts Desire II'!S45*SIN(RADIANS(T$4))+'Hearts Desire II'!T45*COS(RADIANS(T$4))*T$3)+T$2,\"\")","v":1067.4287498539218},null,{"$f":"IF('Hearts Desire II'!V45<>\"\",'Hearts Desire II'!V45*COS(RADIANS(Y$4))-'Hearts Desire II'!W45*SIN(RADIANS(Y$4))+Y$1,\"\")","v":2375.6832774643872},{"$f":"IF('Hearts Desire II'!W45<>\"\",('Hearts Desire II'!V45*SIN(RADIANS(Y$4))+'Hearts Desire II'!W45*COS(RADIANS(Y$4))*Y$3)+Y$2,\"\")","v":1108.2443388015388},{"$f":"IF('Hearts Desire II'!X45<>\"\",'Hearts Desire II'!X45*COS(RADIANS(Y$4))-'Hearts Desire II'!Y45*SIN(RADIANS(Y$4))+Y$1,\"\")","v":2376.3604334541219},{"$f":"IF('Hearts Desire II'!Y45<>\"\",('Hearts Desire II'!X45*SIN(RADIANS(Y$4))+'Hearts Desire II'!Y45*COS(RADIANS(Y$4))*Y$3)+Y$2,\"\")","v":1208.2911119796192}]
[16,{"$f":"IF('Hearts Desire II'!B46<>\"\",'Hearts Desire II'!B46*COS(RADIANS(E$4))-'Hearts Desire II'!C46*SIN(RADIANS(E$4))+E$1,\"\")","v":2570.1960067578543},{"$f":"IF('Hearts Desire II'!C46<>\"\",('Hearts Desire II'!B46*SIN(RADIANS(E$4))+'Hearts Desire II'!C46*COS(RADIANS(E$4))*E$3)+E$2,\"\")","v":-1000.3677624116478},{"$f":"IF('Hearts Desire II'!D46<>\"\",'Hearts Desire II'!D46*COS(RADIANS(E$4))-'Hearts Desire II'!E46*SIN(RADIANS(E$4))+E$1,\"\")","v":2570.1960067578543},{"$f":"IF('Hearts Desire II'!E46<>\"\",('Hearts Desire II'!D46*SIN(RADIANS(E$4))+'Hearts Desire II'!E46*COS(RADIANS(E$4))*E$3)+E$2,\"\")","v":-789.73859084602282},null,{"$f":"IF('Hearts Desire II'!G46<>\"\",'Hearts Desire II'!G46*COS(RADIANS(J$4))-'Hearts Desire II'!H46*SIN(RADIANS(J$4))+J$1,\"\")","v":2583.0025347724113},{"$f":"IF('Hearts Desire II'!H46<>\"\",('Hearts Desire II'!G46*SIN(RADIANS(J$4))+'Hearts Desire II'!H46*COS(RADIANS(J$4))*J$3)+J$2,\"\")","v":-1096.3102433286042},{"$f":"IF('Hearts Desire II'!I46<>\"\",'Hearts Desire II'!I46*COS(RADIANS(J$4))-'Hearts Desire II'!J46*SIN(RADIANS(J$4))+J$1,\"\")","v":2578.9433627158505},{"$f":"IF('Hearts Desire II'!J46<>\"\",('Hearts Desire II'!I46*SIN(RADIANS(J$4))+'Hearts Desire II'!J46*COS(RADIANS(J$4))*J$3)+J$2,\"\")","v":-1020.2184361335112},null,{"$f":"IF('Hearts Desire II'!L46<>\"\",'Hearts Desire II'!L46*COS(RADIANS(O$4))-'Hearts Desire II'!M46*SIN(RADIANS(O$4))+O$1,\"\")","v":2510.2992705448883},{"$f":"IF('Hearts Desire II'!M46<>\"\",('Hearts Desire II'!L46*SIN(RADIANS(O$4))+'Hearts Desire II'!M46*COS(RADIANS(O$4))*O$3)+O$2,\"\")","v":-749.30562254407357},{"$f":"IF('Hearts Desire II'!N46<>\"\",'Hearts Desire II'!N46*COS(RADIANS(O$4))-'Hearts Desire II'!O46*SIN(RADIANS(O$4))+O$1,\"\")","v":2490.6831369110728},{"$f":"IF('Hearts Desire II'!O46<>\"\",('Hearts Desire II'!N46*SIN(RADIANS(O$4))+'Hearts Desire II'!O46*COS(RADIANS(O$4))*O$3)+O$2,\"\")","v":15.82759094987648},null,{"$f":"IF('Hearts Desire II'!Q46<>\"\",'Hearts Desire II'!Q46*COS(RADIANS(T$4))-'Hearts Desire II'!R46*SIN(RADIANS(T$4))+T$1,\"\")","v":2833.5963882916353},{"$f":"IF('Hearts Desire II'!R46<>\"\",('Hearts Desire II'!Q46*SIN(RADIANS(T$4))+'Hearts Desire II'!R46*COS(RADIANS(T$4))*T$3)+T$2,\"\")","v":207.63093577313009},{"$f":"IF('Hearts Desire II'!S46<>\"\",'Hearts Desire II'!S46*COS(RADIANS(T$4))-'Hearts Desire II'!T46*SIN(RADIANS(T$4))+T$1,\"\")","v":2840.808897838514},{"$f":"IF('Hearts Desire II'!T46<>\"\",('Hearts Desire II'!S46*SIN(RADIANS(T$4))+'Hearts Desire II'!T46*COS(RADIANS(T$4))*T$3)+T$2,\"\")","v":1035.0205929587457},null,{"$f":"IF('Hearts Desire II'!V46<>\"\",'Hearts Desire II'!V46*COS(RADIANS(Y$4))-'Hearts Desire II'!W46*SIN(RADIANS(Y$4))+Y$1,\"\")","v":2878.2189309162436},{"$f":"IF('Hearts Desire II'!W46<>\"\",('Hearts Desire II'!V46*SIN(RADIANS(Y$4))+'Hearts Desire II'!W46*COS(RADIANS(Y$4))*Y$3)+Y$2,\"\")","v":1078.3709451300733},{"$f":"IF('Hearts Desire II'!X46<>\"\",'Hearts Desire II'!X46*COS(RADIANS(Y$4))-'Hearts Desire II'!Y46*SIN(RADIANS(Y$4))+Y$1,\"\")","v":2878.4084185666761},{"$f":"IF('Hearts Desire II'!Y46<>\"\",('Hearts Desire II'!X46*SIN(RADIANS(Y$4))+'Hearts Desire II'!Y46*COS(RADIANS(Y$4))*Y$3)+Y$2,\"\")","v":1176.4126817650294}]
[17,{"$f":"IF('Hearts Desire II'!B47<>\"\",'Hearts Desire II'!B47*COS(RADIANS(E$4))-'Hearts Desire II'!C47*SIN(RADIANS(E$4))+E$1,\"\")","v":3070.9158648674947},{"$f":"IF('Hearts Desire II'!C47<>\"\",('Hearts Desire II'!B47*SIN(RADIANS(E$4))+'Hearts Desire II'!C47*COS(RADIANS(E$4))*E$3)+E$2,\"\")","v":-1000.3677624116476},{"$f":"IF('Hearts Desire II'!D47<>\"\",'Hearts Desire II'!D47*COS(RADIANS(E$4))-'Hearts Desire II'!E47*SIN(RADIANS(E$4))+E$1,\"\")","v":3070.9158648674947},{"$f":"IF('Hearts Desire II'!E47<>\"\",('Hearts Desire II'!D47*SIN(RADIANS(E$4))+'Hearts Desire II'!E47*COS(RADIANS(E$4))*E$3)+E$2,\"\")","v":-763.39434327564788},null,{"$f":"IF('Hearts Desire II'!G47<>\"\",'Hearts Desire II'!G47*COS(RADIANS(J$4))-'Hearts Desire II'!H47*SIN(RADIANS(J$4))+J$1,\"\")","v":3084.4149187847365},{"$f":"IF('Hearts Desire II'!H47<>\"\",('Hearts Desire II'!G47*SIN(RADIANS(J$4))+'Hearts Desire II'!H47*COS(RADIANS(J$4))*J$3)+J$2,\"\")","v":-1096.4400295478779},{"$f":"IF('Hearts Desire II'!I47<>\"\",'Hearts Desire II'!I47*COS(RADIANS(J$4))-'Hearts Desire II'!J47*SIN(RADIANS(J$4))+J$1,\"\")","v":3080.3557467281757},{"$f":"IF('Hearts Desire II'!J47<>\"\",('Hearts Desire II'!I47*SIN(RADIANS(J$4))+'Hearts Desire II'!J47*COS(RADIANS(J$4))*J$3)+J$2,\"\")","v":-1020.3482223527851},null,{"$f":"IF('Hearts Desire II'!L47<>\"\",'Hearts Desire II'!L47*COS(RADIANS(O$4))-'Hearts Desire II'!M47*SIN(RADIANS(O$4))+O$1,\"\")","v":3011.1974872962865},{"$f":"IF('Hearts Desire II'!M47<>\"\",('Hearts Desire II'!L47*SIN(RADIANS(O$4))+'Hearts Desire II'!M47*COS(RADIANS(O$4))*O$3)+O$2,\"\")","v":-726.60381335061561},{"$f":"IF('Hearts Desire II'!N47<>\"\",'Hearts Desire II'!N47*COS(RADIANS(O$4))-'Hearts Desire II'!O47*SIN(RADIANS(O$4))+O$1,\"\")","v":2992.9982809917901},{"$f":"IF('Hearts Desire II'!O47<>\"\",('Hearts Desire II'!N47*SIN(RADIANS(O$4))+'Hearts Desire II'!O47*COS(RADIANS(O$4))*O$3)+O$2,\"\")","v":79.420937483034777},null,{"$f":"IF('Hearts Desire II'!Q47<>\"\",'Hearts Desire II'!Q47*COS(RADIANS(T$4))-'Hearts Desire II'!R47*SIN(RADIANS(T$4))+T$1,\"\")","v":3339.7945851595355},{"$f":"IF('Hearts Desire II'!R47<>\"\",('Hearts Desire II'!Q47*SIN(RADIANS(T$4))+'Hearts Desire II'!R47*COS(RADIANS(T$4))*T$3)+T$2,\"\")","v":196.31708656940714},{"$f":"IF('Hearts Desire II'!S47<>\"\",'Hearts Desire II'!S47*COS(RADIANS(T$4))-'Hearts Desire II'!T47*SIN(RADIANS(T$4))+T$1,\"\")","v":3341.2667351740611},{"$f":"IF('Hearts Desire II'!T47<>\"\",('Hearts Desire II'!S47*SIN(RADIANS(T$4))+'Hearts Desire II'!T47*COS(RADIANS(T$4))*T$3)+T$2,\"\")","v":1005.9202178615241},null,{"$f":"IF('Hearts Desire II'!V47<>\"\",'Hearts Desire II'!V47*COS(RADIANS(Y$4))-'Hearts Desire II'!W47*SIN(RADIANS(Y$4))+Y$1,\"\")","v":3378.7379895744234},{"$f":"IF('Hearts Desire II'!W47<>\"\",('Hearts Desire II'!V47*SIN(RADIANS(Y$4))+'Hearts Desire II'!W47*COS(RADIANS(Y$4))*Y$3)+Y$2,\"\")","v":1050.3432677146795},{"$f":"IF('Hearts Desire II'!X47<>\"\",'Hearts Desire II'!X47*COS(RADIANS(Y$4))-'Hearts Desire II'!Y47*SIN(RADIANS(Y$4))+Y$1,\"\")","v":3378.7664433376672},{"$f":"IF('Hearts Desire II'!Y47<>\"\",('Hearts Desire II'!X47*SIN(RADIANS(Y$4))+'Hearts Desire II'!Y47*COS(RADIANS(Y$4))*Y$3)+Y$2,\"\")","v":1147.0946596777612}]
[18,{"$f":"IF('Hearts Desire II'!B48<>\"\",'Hearts Desire II'!B48*COS(RADIANS(E$4))-'Hearts Desire II'!C48*SIN(RADIANS(E$4))+E$1,\"\")","v":3571.6357229771343},{"$f":"IF('Hearts Desire II'!C48<>\"\",('Hearts Desire II'!B48*SIN(RADIANS(E$4))+'Hearts Desire II'!C48*COS(RADIANS(E$4))*E$3)+E$2,\"\")","v":-1000.3677624116474},{"$f":"IF('Hearts Desire II'!D48<>\"\",'Hearts Desire II'!D48*COS(RADIANS(E$4))-'Hearts Desire II'!E48*SIN(RADIANS(E$4))+E$1,\"\")","v":3571.6357229771343},{"$f":"IF('Hearts Desire II'!E48<>\"\",('Hearts Desire II'!D48*SIN(RADIANS(E$4))+'Hearts Desire II'!E48*COS(RADIANS(E$4))*E$3)+E$2,\"\")","v":-755.76253665027252},null,{"$f":"IF('Hearts Desire II'!G48<>\"\",'Hearts Desire II'!G48*COS(RADIANS(J$4))-'Hearts Desire II'!H48*SIN(RADIANS(J$4))+J$1,\"\")","v":3585.1929075216844},{"$f":"IF('Hearts Desire II'!H48<>\"\",('Hearts Desire II'!G48*SIN(RADIANS(J$4))+'Hearts Desire II'!H48*COS(RADIANS(J$4))*J$3)+J$2,\"\")","v":-1096.6036580383441},{"$f":"IF('Hearts Desire II'!I48<>\"\",'Hearts Desire II'!I48*COS(RADIANS(J$4))-'Hearts Desire II'!J48*SIN(RADIANS(J$4))+J$1,\"\")","v":3581.1337354651237},{"$f":"IF('Hearts Desire II'!J48<>\"\",('Hearts Desire II'!I48*SIN(RADIANS(J$4))+'Hearts Desire II'!J48*COS(RADIANS(J$4))*J$3)+J$2,\"\")","v":-1020.5118508432506},null,{"$f":"IF('Hearts Desire II'!L48<>\"\",'Hearts Desire II'!L48*COS(RADIANS(O$4))-'Hearts Desire II'!M48*SIN(RADIANS(O$4))+O$1,\"\")","v":3511.9430055847888},{"$f":"IF('Hearts Desire II'!M48<>\"\",('Hearts Desire II'!L48*SIN(RADIANS(O$4))+'Hearts Desire II'!M48*COS(RADIANS(O$4))*O$3)+O$2,\"\")","v":-720.89884256327616},{"$f":"IF('Hearts Desire II'!N48<>\"\",'Hearts Desire II'!N48*COS(RADIANS(O$4))-'Hearts Desire II'!O48*SIN(RADIANS(O$4))+O$1,\"\")","v":3493.1274827004563},{"$f":"IF('Hearts Desire II'!O48<>\"\",('Hearts Desire II'!N48*SIN(RADIANS(O$4))+'Hearts Desire II'!O48*COS(RADIANS(O$4))*O$3)+O$2,\"\")","v":121.76732557429648},null,{"$f":"IF('Hearts Desire II'!Q48<>\"\",'Hearts Desire II'!Q48*COS(RADIANS(T$4))-'Hearts Desire II'!R48*SIN(RADIANS(T$4))+T$1,\"\")","v":3841.6931232502543},{"$f":"IF('Hearts Desire II'!R48<>\"\",('Hearts Desire II'!Q48*SIN(RADIANS(T$4))+'Hearts Desire II'!R48*COS(RADIANS(T$4))*T$3)+T$2,\"\")","v":191.81237253600182},{"$f":"IF('Hearts Desire II'!S48<>\"\",'Hearts Desire II'!S48*COS(RADIANS(T$4))-'Hearts Desire II'!T48*SIN(RADIANS(T$4))+T$1,\"\")","v":3841.363371251653},{"$f":"IF('Hearts Desire II'!T48<>\"\",('Hearts Desire II'!S48*SIN(RADIANS(T$4))+'Hearts Desire II'!T48*COS(RADIANS(T$4))*T$3)+T$2,\"\")","v":984.09570123849335},null,{"$f":"IF('Hearts Desire II'!V48<>\"\",'Hearts Desire II'!V48*COS(RADIANS(Y$4))-'Hearts Desire II'!W48*SIN(RADIANS(Y$4))+Y$1,\"\")","v":3878.8419387192171},{"$f":"IF('Hearts Desire II'!W48<>\"\",('Hearts Desire II'!V48*SIN(RADIANS(Y$4))+'Hearts Desire II'!W48*COS(RADIANS(Y$4))*Y$3)+Y$2,\"\")","v":1028.6869755173902},{"$f":"IF('Hearts Desire II'!X48<>\"\",'Hearts Desire II'!X48*COS(RADIANS(Y$4))-'Hearts Desire II'!Y48*SIN(RADIANS(Y$4))+Y$1,\"\")","v":3878.8327400810626},{"$f":"IF('Hearts Desire II'!Y48<>\"\",('Hearts Desire II'!X48*SIN(RADIANS(Y$4))+'Hearts Desire II'!Y48*COS(RADIANS(Y$4))*Y$3)+Y$2,\"\")","v":1124.8173491429204}]
[19,{"$f":"IF('Hearts Desire II'!B49<>\"\",'Hearts Desire II'!B49*COS(RADIANS(E$4))-'Hearts Desire II'!C49*SIN(RADIANS(E$4))+E$1,\"\")","v":4072.3555810867751},{"$f":"IF('Hearts Desire II'!C49<>\"\",('Hearts Desire II'!B49*SIN(RADIANS(E$4))+'Hearts Desire II'!C49*COS(RADIANS(E$4))*E$3)+E$2,\"\")","v":-1000.3677624116476},{"$f":"IF('Hearts Desire II'!D49<>\"\",'Hearts Desire II'!D49*COS(RADIANS(E$4))-'Hearts Desire II'!E49*SIN(RADIANS(E$4))+E$1,\"\")","v":4072.3555810867751},{"$f":"IF('Hearts Desire II'!E49<>\"\",('Hearts Desire II'!D49*SIN(RADIANS(E$4))+'Hearts Desire II'!E49*COS(RADIANS(E$4))*E$3)+E$2,\"\")","v":-762.75510976364831},null,{"$f":"IF('Hearts Desire II'!G49<>\"\",'Hearts Desire II'!G49*COS(RADIANS(J$4))-'Hearts Desire II'!H49*SIN(RADIANS(J$4))+J$1,\"\")","v":4085.9615621383655},{"$f":"IF('Hearts Desire II'!H49<>\"\",('Hearts Desire II'!G49*SIN(RADIANS(J$4))+'Hearts Desire II'!H49*COS(RADIANS(J$4))*J$3)+J$2,\"\")","v":-1096.7677844641539},{"$f":"IF('Hearts Desire II'!I49<>\"\",'Hearts Desire II'!I49*COS(RADIANS(J$4))-'Hearts Desire II'!J49*SIN(RADIANS(J$4))+J$1,\"\")","v":4081.9023900818047},{"$f":"IF('Hearts Desire II'!J49<>\"\",('Hearts Desire II'!I49*SIN(RADIANS(J$4))+'Hearts Desire II'!J49*COS(RADIANS(J$4))*J$3)+J$2,\"\")","v":-1020.6759772690607},null,{"$f":"IF('Hearts Desire II'!L49<>\"\",'Hearts Desire II'!L49*COS(RADIANS(O$4))-'Hearts Desire II'!M49*SIN(RADIANS(O$4))+O$1,\"\")","v":4012.6582832744289},{"$f":"IF('Hearts Desire II'!M49<>\"\",('Hearts Desire II'!L49*SIN(RADIANS(O$4))+'Hearts Desire II'!M49*COS(RADIANS(O$4))*O$3)+O$2,\"\")","v":-728.21205473514249},{"$f":"IF('Hearts Desire II'!N49<>\"\",'Hearts Desire II'!N49*COS(RADIANS(O$4))-'Hearts Desire II'!O49*SIN(RADIANS(O$4))+O$1,\"\")","v":3992.8230349469322},{"$f":"IF('Hearts Desire II'!O49<>\"\",('Hearts Desire II'!N49*SIN(RADIANS(O$4))+'Hearts Desire II'!O49*COS(RADIANS(O$4))*O$3)+O$2,\"\")","v":140.83034581438642},null,{"$f":"IF('Hearts Desire II'!Q49<>\"\",'Hearts Desire II'!Q49*COS(RADIANS(T$4))-'Hearts Desire II'!R49*SIN(RADIANS(T$4))+T$1,\"\")","v":4341.7318729757744},{"$f":"IF('Hearts Desire II'!R49<>\"\",('Hearts Desire II'!Q49*SIN(RADIANS(T$4))+'Hearts Desire II'!R49*COS(RADIANS(T$4))*T$3)+T$2,\"\")","v":196.31708656940714},{"$f":"IF('Hearts Desire II'!S49<>\"\",'Hearts Desire II'!S49*COS(RADIANS(T$4))-'Hearts Desire II'!T49*SIN(RADIANS(T$4))+T$1,\"\")","v":4341.3734701574458},{"$f":"IF('Hearts Desire II'!T49<>\"\",('Hearts Desire II'!S49*SIN(RADIANS(T$4))+'Hearts Desire II'!T49*COS(RADIANS(T$4))*T$3)+T$2,\"\")","v":970.2198442637839},null,{"$f":"IF('Hearts Desire II'!V49<>\"\",'Hearts Desire II'!V49*COS(RADIANS(Y$4))-'Hearts Desire II'!W49*SIN(RADIANS(Y$4))+Y$1,\"\")","v":4378.8491711941406},{"$f":"IF('Hearts Desire II'!W49<>\"\",('Hearts Desire II'!V49*SIN(RADIANS(Y$4))+'Hearts Desire II'!W49*COS(RADIANS(Y$4))*Y$3)+Y$2,\"\")","v":1014.7082099305889},{"$f":"IF('Hearts Desire II'!X49<>\"\",'Hearts Desire II'!X49*COS(RADIANS(Y$4))-'Hearts Desire II'!Y49*SIN(RADIANS(Y$4))+Y$1,\"\")","v":4378.8396913566039},{"$f":"IF('Hearts Desire II'!Y49<>\"\",('Hearts Desire II'!X49*SIN(RADIANS(Y$4))+'Hearts Desire II'!Y49*COS(RADIANS(Y$4))*Y$3)+Y$2,\"\")","v":1110.8361018080416}]
[20,{"$f":"IF('Hearts Desire II'!B50<>\"\",'Hearts Desire II'!B50*COS(RADIANS(E$4))-'Hearts Desire II'!C50*SIN(RADIANS(E$4))+E$1,\"\")","v":4573.0754391964147},{"$f":"IF('Hearts Desire II'!C50<>\"\",('Hearts Desire II'!B50*SIN(RADIANS(E$4))+'Hearts Desire II'!C50*COS(RADIANS(E$4))*E$3)+E$2,\"\")","v":-1000.3677624116478},{"$f":"IF('Hearts Desire II'!D50<>\"\",'Hearts Desire II'!D50*COS(RADIANS(E$4))-'Hearts Desire II'!E50*SIN(RADIANS(E$4))+E$1,\"\")","v":4573.0754391964147},{"$f":"IF('Hearts Desire II'!E50<>\"\",('Hearts Desire II'!D50*SIN(RADIANS(E$4))+'Hearts Desire II'!E50*COS(RADIANS(E$4))*E$3)+E$2,\"\")","v":-781.42995354452239},null,{"$f":"IF('Hearts Desire II'!G50<>\"\",'Hearts Desire II'!G50*COS(RADIANS(J$4))-'Hearts Desire II'!H50*SIN(RADIANS(J$4))+J$1,\"\")","v":4587.0295257364378},{"$f":"IF('Hearts Desire II'!H50<>\"\",('Hearts Desire II'!G50*SIN(RADIANS(J$4))+'Hearts Desire II'!H50*COS(RADIANS(J$4))*J$3)+J$2,\"\")","v":-1096.9159440375736},{"$f":"IF('Hearts Desire II'!I50<>\"\",'Hearts Desire II'!I50*COS(RADIANS(J$4))-'Hearts Desire II'!J50*SIN(RADIANS(J$4))+J$1,\"\")","v":4582.970353679877},{"$f":"IF('Hearts Desire II'!J50<>\"\",('Hearts Desire II'!I50*SIN(RADIANS(J$4))+'Hearts Desire II'!J50*COS(RADIANS(J$4))*J$3)+J$2,\"\")","v":-1020.8241368424804},null,{"$f":"IF('Hearts Desire II'!L50<>\"\",'Hearts Desire II'!L50*COS(RADIANS(O$4))-'Hearts Desire II'!M50*SIN(RADIANS(O$4))+O$1,\"\")","v":4513.4097996705377},{"$f":"IF('Hearts Desire II'!M50<>\"\",('Hearts Desire II'!L50*SIN(RADIANS(O$4))+'Hearts Desire II'!M50*COS(RADIANS(O$4))*O$3)+O$2,\"\")","v":-746.01781005681471},{"$f":"IF('Hearts Desire II'!N50<>\"\",'Hearts Desire II'!N50*COS(RADIANS(O$4))-'Hearts Desire II'!O50*SIN(RADIANS(O$4))+O$1,\"\")","v":4494.2418130612268},{"$f":"IF('Hearts Desire II'!O50<>\"\",('Hearts Desire II'!N50*SIN(RADIANS(O$4))+'Hearts Desire II'!O50*COS(RADIANS(O$4))*O$3)+O$2,\"\")","v":133.67269969554093},null,{"$f":"IF('Hearts Desire II'!Q50<>\"\",'Hearts Desire II'!Q50*COS(RADIANS(T$4))-'Hearts Desire II'!R50*SIN(RADIANS(T$4))+T$1,\"\")","v":4843.0202514186758},{"$f":"IF('Hearts Desire II'!R50<>\"\",('Hearts Desire II'!Q50*SIN(RADIANS(T$4))+'Hearts Desire II'!R50*COS(RADIANS(T$4))*T$3)+T$2,\"\")","v":209.80725267961918},{"$f":"IF('Hearts Desire II'!S50<>\"\",'Hearts Desire II'!S50*COS(RADIANS(T$4))-'Hearts Desire II'!T50*SIN(RADIANS(T$4))+T$1,\"\")","v":4841.4989439783094},{"$f":"IF('Hearts Desire II'!T50<>\"\",('Hearts Desire II'!S50*SIN(RADIANS(T$4))+'Hearts Desire II'!T50*COS(RADIANS(T$4))*T$3)+T$2,\"\")","v":963.79004738885033},null,{"$f":"IF('Hearts Desire II'!V50<>\"\",'Hearts Desire II'!V50*COS(RADIANS(Y$4))-'Hearts Desire II'!W50*SIN(RADIANS(Y$4))+Y$1,\"\")","v":4878.9608728625208},{"$f":"IF('Hearts Desire II'!W50<>\"\",('Hearts Desire II'!V50*SIN(RADIANS(Y$4))+'Hearts Desire II'!W50*COS(RADIANS(Y$4))*Y$3)+Y$2,\"\")","v":1007.2840798971937},{"$f":"IF('Hearts Desire II'!X50<>\"\",'Hearts Desire II'!X50*COS(RADIANS(Y$4))-'Hearts Desire II'!Y50*SIN(RADIANS(Y$4))+Y$1,\"\")","v":4878.9132989951659},{"$f":"IF('Hearts Desire II'!Y50<>\"\",('Hearts Desire II'!X50*SIN(RADIANS(Y$4))+'Hearts Desire II'!Y50*COS(RADIANS(Y$4))*Y$3)+Y$2,\"\")","v":1104.0458360955704}]
[21,{"$f":"IF('Hearts Desire II'!B51<>\"\",'Hearts Desire II'!B51*COS(RADIANS(E$4))-'Hearts Desire II'!C51*SIN(RADIANS(E$4))+E$1,\"\")","v":5073.7952973060546},{"$f":"IF('Hearts Desire II'!C51<>\"\",('Hearts Desire II'!B51*SIN(RADIANS(E$4))+'Hearts Desire II'!C51*COS(RADIANS(E$4))*E$3)+E$2,\"\")","v":-1000.3677624116478},{"$f":"IF('Hearts Desire II'!D51<>\"\",'Hearts Desire II'!D51*COS(RADIANS(E$4))-'Hearts Desire II'!E51*SIN(RADIANS(E$4))+E$1,\"\")","v":5073.7952973060555},{"$f":"IF('Hearts Desire II'!E51<>\"\",('Hearts Desire II'!D51*SIN(RADIANS(E$4))+'Hearts Desire II'!E51*COS(RADIANS(E$4))*E$3)+E$2,\"\")","v":-813.06654461164896},null,{"$f":"IF('Hearts Desire II'!G51<>\"\",'Hearts Desire II'!G51*COS(RADIANS(J$4))-'Hearts Desire II'!H51*SIN(RADIANS(J$4))+J$1,\"\")","v":5088.7478105584696},{"$f":"IF('Hearts Desire II'!H51<>\"\",('Hearts Desire II'!G51*SIN(RADIANS(J$4))+'Hearts Desire II'!H51*COS(RADIANS(J$4))*J$3)+J$2,\"\")","v":-1097.0294117586463},{"$f":"IF('Hearts Desire II'!I51<>\"\",'Hearts Desire II'!I51*COS(RADIANS(J$4))-'Hearts Desire II'!J51*SIN(RADIANS(J$4))+J$1,\"\")","v":5084.6886385019088},{"$f":"IF('Hearts Desire II'!J51<>\"\",('Hearts Desire II'!I51*SIN(RADIANS(J$4))+'Hearts Desire II'!J51*COS(RADIANS(J$4))*J$3)+J$2,\"\")","v":-1020.9376045635531},null,{"$f":"IF('Hearts Desire II'!L51<>\"\",'Hearts Desire II'!L51*COS(RADIANS(O$4))-'Hearts Desire II'!M51*SIN(RADIANS(O$4))+O$1,\"\")","v":5014.2237948349357},{"$f":"IF('Hearts Desire II'!M51<>\"\",('Hearts Desire II'!L51*SIN(RADIANS(O$4))+'Hearts Desire II'!M51*COS(RADIANS(O$4))*O$3)+O$2,\"\")","v":-776.12748370435156},{"$f":"IF('Hearts Desire II'!N51<>\"\",'Hearts Desire II'!N51*COS(RADIANS(O$4))-'Hearts Desire II'!O51*SIN(RADIANS(O$4))+O$1,\"\")","v":5000.8206894854002},{"$f":"IF('Hearts Desire II'!O51<>\"\",('Hearts Desire II'!N51*SIN(RADIANS(O$4))+'Hearts Desire II'!O51*COS(RADIANS(O$4))*O$3)+O$2,\"\")","v":97.417600129608218},null,{"$f":"IF('Hearts Desire II'!Q51<>\"\",'Hearts Desire II'!Q51*COS(RADIANS(T$4))-'Hearts Desire II'!R51*SIN(RADIANS(T$4))+T$1,\"\")","v":5350.542441663677},{"$f":"IF('Hearts Desire II'!R51<>\"\",('Hearts Desire II'!Q51*SIN(RADIANS(T$4))+'Hearts Desire II'!R51*COS(RADIANS(T$4))*T$3)+T$2,\"\")","v":228.72329594007772},{"$f":"IF('Hearts Desire II'!S51<>\"\",'Hearts Desire II'!S51*COS(RADIANS(T$4))-'Hearts Desire II'!T51*SIN(RADIANS(T$4))+T$1,\"\")","v":5343.0165147458465},{"$f":"IF('Hearts Desire II'!T51<>\"\",('Hearts Desire II'!S51*SIN(RADIANS(T$4))+'Hearts Desire II'!T51*COS(RADIANS(T$4))*T$3)+T$2,\"\")","v":962.29576706078012},null,{"$f":"IF('Hearts Desire II'!V51<>\"\",'Hearts Desire II'!V51*COS(RADIANS(Y$4))-'Hearts Desire II'!W51*SIN(RADIANS(Y$4))+Y$1,\"\")","v":5380.4579840069509},{"$f":"IF('Hearts Desire II'!W51<>\"\",('Hearts Desire II'!V51*SIN(RADIANS(Y$4))+'Hearts Desire II'!W51*COS(RADIANS(Y$4))*Y$3)+Y$2,\"\")","v":1002.5139461400258},{"$f":"IF('Hearts Desire II'!X51<>\"\",'Hearts Desire II'!X51*COS(RADIANS(Y$4))-'Hearts Desire II'!Y51*SIN(RADIANS(Y$4))+Y$1,\"\")","v":5380.1191767103928},{"$f":"IF('Hearts Desire II'!Y51<>\"\",('Hearts Desire II'!X51*SIN(RADIANS(Y$4))+'Hearts Desire II'!Y51*COS(RADIANS(Y$4))*Y$3)+Y$2,\"\")","v":1100.6504281787516}]
[22,{"$f":"IF('Hearts Desire II'!B52<>\"\",'Hearts Desire II'!B52*COS(RADIANS(E$4))-'Hearts Desire II'!C52*SIN(RADIANS(E$4))+E$1,\"\")","v":5574.5151554156955},{"$f":"IF('Hearts Desire II'!C52<>\"\",('Hearts Desire II'!B52*SIN(RADIANS(E$4))+'Hearts Desire II'!C52*COS(RADIANS(E$4))*E$3)+E$2,\"\")","v":-1000.3677624116481},{"$f":"IF('Hearts Desire II'!D52<>\"\",'Hearts Desire II'!D52*COS(RADIANS(E$4))-'Hearts Desire II'!E52*SIN(RADIANS(E$4))+E$1,\"\")","v":5574.5151301625556},{"$f":"IF('Hearts Desire II'!E52<>\"\",('Hearts Desire II'!D52*SIN(RADIANS(E$4))+'Hearts Desire II'!E52*COS(RADIANS(E$4))*E$3)+E$2,\"\")","v":-864.82912512639814},null,{"$f":"IF('Hearts Desire II'!G52<>\"\",'Hearts Desire II'!G52*COS(RADIANS(J$4))-'Hearts Desire II'!H52*SIN(RADIANS(J$4))+J$1,\"\")","v":5592.1360456073635},{"$f":"IF('Hearts Desire II'!H52<>\"\",('Hearts Desire II'!G52*SIN(RADIANS(J$4))+'Hearts Desire II'!H52*COS(RADIANS(J$4))*J$3)+J$2,\"\")","v":-1097.0533229921025},{"$f":"IF('Hearts Desire II'!I52<>\"\",'Hearts Desire II'!I52*COS(RADIANS(J$4))-'Hearts Desire II'!J52*SIN(RADIANS(J$4))+J$1,\"\")","v":5588.0771612001072},{"$f":"IF('Hearts Desire II'!J52<>\"\",('Hearts Desire II'!I52*SIN(RADIANS(J$4))+'Hearts Desire II'!J52*COS(RADIANS(J$4))*J$3)+J$2,\"\")","v":-1020.9619722042146},null,{"$f":"IF('Hearts Desire II'!L52<>\"\",'Hearts Desire II'!L52*COS(RADIANS(O$4))-'Hearts Desire II'!M52*SIN(RADIANS(O$4))+O$1,\"\")","v":5515.1387524732336},{"$f":"IF('Hearts Desire II'!M52<>\"\",('Hearts Desire II'!L52*SIN(RADIANS(O$4))+'Hearts Desire II'!M52*COS(RADIANS(O$4))*O$3)+O$2,\"\")","v":-825.96933953134317},{"$f":"IF('Hearts Desire II'!N52<>\"\",'Hearts Desire II'!N52*COS(RADIANS(O$4))-'Hearts Desire II'!O52*SIN(RADIANS(O$4))+O$1,\"\")","v":5518.7380342680808},{"$f":"IF('Hearts Desire II'!O52<>\"\",('Hearts Desire II'!N52*SIN(RADIANS(O$4))+'Hearts Desire II'!O52*COS(RADIANS(O$4))*O$3)+O$2,\"\")","v":31.267223572558919},null,{"$f":"IF('Hearts Desire II'!Q52<>\"\",'Hearts Desire II'!Q52*COS(RADIANS(T$4))-'Hearts Desire II'!R52*SIN(RADIANS(T$4))+T$1,\"\")","v":5872.3923522782725},{"$f":"IF('Hearts Desire II'!R52<>\"\",('Hearts Desire II'!Q52*SIN(RADIANS(T$4))+'Hearts Desire II'!R52*COS(RADIANS(T$4))*T$3)+T$2,\"\")","v":245.66198351971354},{"$f":"IF('Hearts Desire II'!S52<>\"\",'Hearts Desire II'!S52*COS(RADIANS(T$4))-'Hearts Desire II'!T52*SIN(RADIANS(T$4))+T$1,\"\")","v":5851.2729044709768},{"$f":"IF('Hearts Desire II'!T52<>\"\",('Hearts Desire II'!S52*SIN(RADIANS(T$4))+'Hearts Desire II'!T52*COS(RADIANS(T$4))*T$3)+T$2,\"\")","v":958.00526485214607},null,{"$f":"IF('Hearts Desire II'!V52<>\"\",'Hearts Desire II'!V52*COS(RADIANS(Y$4))-'Hearts Desire II'!W52*SIN(RADIANS(Y$4))+Y$1,\"\")","v":5888.6349847083911},{"$f":"IF('Hearts Desire II'!W52<>\"\",('Hearts Desire II'!V52*SIN(RADIANS(Y$4))+'Hearts Desire II'!W52*COS(RADIANS(Y$4))*Y$3)+Y$2,\"\")","v":992.55894419549986},{"$f":"IF('Hearts Desire II'!X52<>\"\",'Hearts Desire II'!X52*COS(RADIANS(Y$4))-'Hearts Desire II'!Y52*SIN(RADIANS(Y$4))+Y$1,\"\")","v":5887.3144481319559},{"$f":"IF('Hearts Desire II'!Y52<>\"\",('Hearts Desire II'!X52*SIN(RADIANS(Y$4))+'Hearts Desire II'!Y52*COS(RADIANS(Y$4))*Y$3)+Y$2,\"\")","v":1092.9584891249021}]
[23,{"$f":"IF('Hearts Desire II'!B53<>\"\",'Hearts Desire II'!B53*COS(RADIANS(E$4))-'Hearts Desire II'!C53*SIN(RADIANS(E$4))+E$1,\"\")","v":6075.2350135253355},{"$f":"IF('Hearts Desire II'!C53<>\"\",('Hearts Desire II'!B53*SIN(RADIANS(E$4))+'Hearts Desire II'!C53*COS(RADIANS(E$4))*E$3)+E$2,\"\")","v":-1000.3677624127774},{"$f":"IF('Hearts Desire II'!D53<>\"\",'Hearts Desire II'!D53*COS(RADIANS(E$4))-'Hearts Desire II'!E53*SIN(RADIANS(E$4))+E$1,\"\")","v":6075.2350135254928},{"$f":"IF('Hearts Desire II'!E53<>\"\",('Hearts Desire II'!D53*SIN(RADIANS(E$4))+'Hearts Desire II'!E53*COS(RADIANS(E$4))*E$3)+E$2,\"\")","v":-959.90460486078177},null,{"$f":"IF('Hearts Desire II'!G53<>\"\",'Hearts Desire II'!G53*COS(RADIANS(J$4))-'Hearts Desire II'!H53*SIN(RADIANS(J$4))+J$1,\"\")","v":6101.8022613033127},{"$f":"IF('Hearts Desire II'!H53<>\"\",('Hearts Desire II'!G53*SIN(RADIANS(J$4))+'Hearts Desire II'!H53*COS(RADIANS(J$4))*J$3)+J$2,\"\")","v":-1096.7418428367946},{"$f":"IF('Hearts Desire II'!I53<>\"\",'Hearts Desire II'!I53*COS(RADIANS(J$4))-'Hearts Desire II'!J53*SIN(RADIANS(J$4))+J$1,\"\")","v":6097.7428755265591},{"$f":"IF('Hearts Desire II'!J53<>\"\",('Hearts Desire II'!I53*SIN(RADIANS(J$4))+'Hearts Desire II'!J53*COS(RADIANS(J$4))*J$3)+J$2,\"\")","v":-1020.6500470430592},null,{"$f":"IF('Hearts Desire II'!L53<>\"\",'Hearts Desire II'!L53*COS(RADIANS(O$4))-'Hearts Desire II'!M53*SIN(RADIANS(O$4))+O$1,\"\")","v":6017.0442255688722},{"$f":"IF('Hearts Desire II'!M53<>\"\",('Hearts Desire II'!L53*SIN(RADIANS(O$4))+'Hearts Desire II'!M53*COS(RADIANS(O$4))*O$3)+O$2,\"\")","v":-914.57031996520845},{"$f":"IF('Hearts Desire II'!N53<>\"\",'Hearts Desire II'!N53*COS(RADIANS(O$4))-'Hearts Desire II'!O53*SIN(RADIANS(O$4))+O$1,\"\")","v":6059.3099811664706},{"$f":"IF('Hearts Desire II'!O53<>\"\",('Hearts Desire II'!N53*SIN(RADIANS(O$4))+'Hearts Desire II'!O53*COS(RADIANS(O$4))*O$3)+O$2,\"\")","v":-63.867520532620688},null,{"$f":"IF('Hearts Desire II'!Q53<>\"\",'Hearts Desire II'!Q53*COS(RADIANS(T$4))-'Hearts Desire II'!R53*SIN(RADIANS(T$4))+T$1,\"\")","v":6421.2547789999053},{"$f":"IF('Hearts Desire II'!R53<>\"\",('Hearts Desire II'!Q53*SIN(RADIANS(T$4))+'Hearts Desire II'!R53*COS(RADIANS(T$4))*T$3)+T$2,\"\")","v":249.98469594529934},{"$f":"IF('Hearts Desire II'!S53<>\"\",'Hearts Desire II'!S53*COS(RADIANS(T$4))-'Hearts Desire II'!T53*SIN(RADIANS(T$4))+T$1,\"\")","v":6383.0690949273421},{"$f":"IF('Hearts Desire II'!T53<>\"\",('Hearts Desire II'!S53*SIN(RADIANS(T$4))+'Hearts Desire II'!T53*COS(RADIANS(T$4))*T$3)+T$2,\"\")","v":932.45949931955954},null,{"$f":"IF('Hearts Desire II'!V53<>\"\",'Hearts Desire II'!V53*COS(RADIANS(Y$4))-'Hearts Desire II'!W53*SIN(RADIANS(Y$4))+Y$1,\"\")","v":6420.1602739182736},{"$f":"IF('Hearts Desire II'!W53<>\"\",('Hearts Desire II'!V53*SIN(RADIANS(Y$4))+'Hearts Desire II'!W53*COS(RADIANS(Y$4))*Y$3)+Y$2,\"\")","v":961.8890688958088},{"$f":"IF('Hearts Desire II'!X53<>\"\",'Hearts Desire II'!X53*COS(RADIANS(Y$4))-'Hearts Desire II'!Y53*SIN(RADIANS(Y$4))+Y$1,\"\")","v":6416.5722545413291},{"$f":"IF('Hearts Desire II'!Y53<>\"\",('Hearts Desire II'!X53*SIN(RADIANS(Y$4))+'Hearts Desire II'!Y53*COS(RADIANS(Y$4))*Y$3)+Y$2,\"\")","v":1065.4789341907781}]
[24,{"$f":"IF('Hearts Desire II'!B54<>\"\",'Hearts Desire II'!B54*COS(RADIANS(E$4))-'Hearts Desire II'!C54*SIN(RADIANS(E$4))+E$1,\"\")","v":6225.5475453017789},{"$f":"IF('Hearts Desire II'!C54<>\"\",('Hearts Desire II'!B54*SIN(RADIANS(E$4))+'Hearts Desire II'!C54*COS(RADIANS(E$4))*E$3)+E$2,\"\")","v":-1000.3677624133625},{"$f":"IF('Hearts Desire II'!D54<>\"\",'Hearts Desire II'!D54*COS(RADIANS(E$4))-'Hearts Desire II'!E54*SIN(RADIANS(E$4))+E$1,\"\")","v":6225.5477114787709},{"$f":"IF('Hearts Desire II'!E54<>\"\",('Hearts Desire II'!D54*SIN(RADIANS(E$4))+'Hearts Desire II'!E54*COS(RADIANS(E$4))*E$3)+E$2,\"\")","v":-1000.3672519873603},null,{"$f":"IF('Hearts Desire II'!G54<>\"\",'Hearts Desire II'!G54*COS(RADIANS(J$4))-'Hearts Desire II'!H54*SIN(RADIANS(J$4))+J$1,\"\")","v":6257.4656083580103},{"$f":"IF('Hearts Desire II'!H54<>\"\",('Hearts Desire II'!G54*SIN(RADIANS(J$4))+'Hearts Desire II'!H54*COS(RADIANS(J$4))*J$3)+J$2,\"\")","v":-1096.5065510771656},{"$f":"IF('Hearts Desire II'!I54<>\"\",'Hearts Desire II'!I54*COS(RADIANS(J$4))-'Hearts Desire II'!J54*SIN(RADIANS(J$4))+J$1,\"\")","v":6253.4054378668361},{"$f":"IF('Hearts Desire II'!J54<>\"\",('Hearts Desire II'!I54*SIN(RADIANS(J$4))+'Hearts Desire II'!J54*COS(RADIANS(J$4))*J$3)+J$2,\"\")","v":-1020.4142595350772},null,{"$f":"IF('Hearts Desire II'!L54<>\"\",'Hearts Desire II'!L54*COS(RADIANS(O$4))-'Hearts Desire II'!M54*SIN(RADIANS(O$4))+O$1,\"\")","v":6168.1555244259462},{"$f":"IF('Hearts Desire II'!M54<>\"\",('Hearts Desire II'!L54*SIN(RADIANS(O$4))+'Hearts Desire II'!M54*COS(RADIANS(O$4))*O$3)+O$2,\"\")","v":-951.9369396653824},{"$f":"IF('Hearts Desire II'!N54<>\"\",'Hearts Desire II'!N54*COS(RADIANS(O$4))-'Hearts Desire II'!O54*SIN(RADIANS(O$4))+O$1,\"\")","v":6228.3112412483542},{"$f":"IF('Hearts Desire II'!O54<>\"\",('Hearts Desire II'!N54*SIN(RADIANS(O$4))+'Hearts Desire II'!O54*COS(RADIANS(O$4))*O$3)+O$2,\"\")","v":-98.448369827359443},null,{"$f":"IF('Hearts Desire II'!Q54<>\"\",'Hearts Desire II'!Q54*COS(RADIANS(T$4))-'Hearts Desire II'!R54*SIN(RADIANS(T$4))+T$1,\"\")","v":6593.7339873059573},{"$f":"IF('Hearts Desire II'!R54<>\"\",('Hearts Desire II'!Q54*SIN(RADIANS(T$4))+'Hearts Desire II'!R54*COS(RADIANS(T$4))*T$3)+T$2,\"\")","v":247.12397063039089},{"$f":"IF('Hearts Desire II'!S54<>\"\",'Hearts Desire II'!S54*COS(RADIANS(T$4))-'Hearts Desire II'!T54*SIN(RADIANS(T$4))+T$1,\"\")","v":6551.7903305659638},{"$f":"IF('Hearts Desire II'!T54<>\"\",('Hearts Desire II'!S54*SIN(RADIANS(T$4))+'Hearts Desire II'!T54*COS(RADIANS(T$4))*T$3)+T$2,\"\")","v":917.14336440851559},null,{"$f":"IF('Hearts Desire II'!V54<>\"\",'Hearts Desire II'!V54*COS(RADIANS(Y$4))-'Hearts Desire II'!W54*SIN(RADIANS(Y$4))+Y$1,\"\")","v":6588.7806671552871},{"$f":"IF('Hearts Desire II'!W54<>\"\",('Hearts Desire II'!V54*SIN(RADIANS(Y$4))+'Hearts Desire II'!W54*COS(RADIANS(Y$4))*Y$3)+Y$2,\"\")","v":945.49997713843788},{"$f":"IF('Hearts Desire II'!X54<>\"\",'Hearts Desire II'!X54*COS(RADIANS(Y$4))-'Hearts Desire II'!Y54*SIN(RADIANS(Y$4))+Y$1,\"\")","v":6584.2099416041783},{"$f":"IF('Hearts Desire II'!Y54<>\"\",('Hearts Desire II'!X54*SIN(RADIANS(Y$4))+'Hearts Desire II'!Y54*COS(RADIANS(Y$4))*Y$3)+Y$2,\"\")","v":1050.2164689147517}]
[25,{"$f":"IF('Hearts Desire II'!B55<>\"\",'Hearts Desire II'!B55*COS(RADIANS(E$4))-'Hearts Desire II'!C55*SIN(RADIANS(E$4))+E$1,\"\")","v":6225.5572202384492},{"$f":"IF('Hearts Desire II'!C55<>\"\",('Hearts Desire II'!B55*SIN(RADIANS(E$4))+'Hearts Desire II'!C55*COS(RADIANS(E$4))*E$3)+E$2,\"\")","v":-1000.3703477085069},{"$f":"IF('Hearts Desire II'!D55<>\"\",'Hearts Desire II'!D55*COS(RADIANS(E$4))-'Hearts Desire II'!E55*SIN(RADIANS(E$4))+E$1,\"\")","v":6249.1466222986364},{"$f":"IF('Hearts Desire II'!E55<>\"\",('Hearts Desire II'!D55*SIN(RADIANS(E$4))+'Hearts Desire II'!E55*COS(RADIANS(E$4))*E$3)+E$2,\"\")","v":-927.91360121308503},null,{"$f":"IF('Hearts Desire II'!G55<>\"\",'Hearts Desire II'!G55*COS(RADIANS(J$4))-'Hearts Desire II'!H55*SIN(RADIANS(J$4))+J$1,\"\")","v":6253.4158662382915},{"$f":"IF('Hearts Desire II'!H55<>\"\",('Hearts Desire II'!G55*SIN(RADIANS(J$4))+'Hearts Desire II'!H55*COS(RADIANS(J$4))*J$3)+J$2,\"\")","v":-1020.4142407642057},{"$f":"IF('Hearts Desire II'!I55<>\"\",'Hearts Desire II'!I55*COS(RADIANS(J$4))-'Hearts Desire II'!J55*SIN(RADIANS(J$4))+J$1,\"\")","v":6253.4158662382915},{"$f":"IF('Hearts Desire II'!J55<>\"\",('Hearts Desire II'!I55*SIN(RADIANS(J$4))+'Hearts Desire II'!J55*COS(RADIANS(J$4))*J$3)+J$2,\"\")","v":-1020.4142407642057},null,{"$f":"IF('Hearts Desire II'!L55<>\"\",'Hearts Desire II'!L55*COS(RADIANS(O$4))-'Hearts Desire II'!M55*SIN(RADIANS(O$4))+O$1,\"\")","v":6168.1655986620144},{"$f":"IF('Hearts Desire II'!M55<>\"\",('Hearts Desire II'!L55*SIN(RADIANS(O$4))+'Hearts Desire II'!M55*COS(RADIANS(O$4))*O$3)+O$2,\"\")","v":-951.93963429907512},{"$f":"IF('Hearts Desire II'!N55<>\"\",'Hearts Desire II'!N55*COS(RADIANS(O$4))-'Hearts Desire II'!O55*SIN(RADIANS(O$4))+O$1,\"\")","v":6228.3226242115588},{"$f":"IF('Hearts Desire II'!O55<>\"\",('Hearts Desire II'!N55*SIN(RADIANS(O$4))+'Hearts Desire II'!O55*COS(RADIANS(O$4))*O$3)+O$2,\"\")","v":-98.450790646392875},null,{"$f":"IF('Hearts Desire II'!Q55<>\"\",'Hearts Desire II'!Q55*COS(RADIANS(T$4))-'Hearts Desire II'!R55*SIN(RADIANS(T$4))+T$1,\"\")","v":6593.7456218499492},{"$f":"IF('Hearts Desire II'!R55<>\"\",('Hearts Desire II'!Q55*SIN(RADIANS(T$4))+'Hearts Desire II'!R55*COS(RADIANS(T$4))*T$3)+T$2,\"\")","v":247.12370680806134},{"$f":"IF('Hearts Desire II'!S55<>\"\",'Hearts Desire II'!S55*COS(RADIANS(T$4))-'Hearts Desire II'!T55*SIN(RADIANS(T$4))+T$1,\"\")","v":6551.8017675339333},{"$f":"IF('Hearts Desire II'!T55<>\"\",('Hearts Desire II'!S55*SIN(RADIANS(T$4))+'Hearts Desire II'!T55*COS(RADIANS(T$4))*T$3)+T$2,\"\")","v":917.14219306943505},null,{"$f":"IF('Hearts Desire II'!V55<>\"\",'Hearts Desire II'!V55*COS(RADIANS(Y$4))-'Hearts Desire II'!W55*SIN(RADIANS(Y$4))+Y$1,\"\")","v":6588.7920973078444},{"$f":"IF('Hearts Desire II'!W55<>\"\",('Hearts Desire II'!V55*SIN(RADIANS(Y$4))+'Hearts Desire II'!W55*COS(RADIANS(Y$4))*Y$3)+Y$2,\"\")","v":945.49874106235927},{"$f":"IF('Hearts Desire II'!X55<>\"\",'Hearts Desire II'!X55*COS(RADIANS(Y$4))-'Hearts Desire II'!Y55*SIN(RADIANS(Y$4))+Y$1,\"\")","v":6584.2213015282596},{"$f":"IF('Hearts Desire II'!Y55<>\"\",('Hearts Desire II'!X55*SIN(RADIANS(Y$4))+'Hearts Desire II'!Y55*COS(RADIANS(Y$4))*Y$3)+Y$2,\"\")","v":1050.2153100935416}]
[26,{"$f":"IF('Hearts Desire II'!B56<>\"\",'Hearts Desire II'!B56*COS(RADIANS(E$4))-'Hearts Desire II'!C56*SIN(RADIANS(E$4))+E$1,\"\")","v":6272.9998101826941},{"$f":"IF('Hearts Desire II'!C56<>\"\",('Hearts Desire II'!B56*SIN(RADIANS(E$4))+'Hearts Desire II'!C56*COS(RADIANS(E$4))*E$3)+E$2,\"\")","v":-1015.8160085075617},{"$f":"IF('Hearts Desire II'!D56<>\"\",'Hearts Desire II'!D56*COS(RADIANS(E$4))-'Hearts Desire II'!E56*SIN(RADIANS(E$4))+E$1,\"\")","v":6317.181230981997},{"$f":"IF('Hearts Desire II'!E56<>\"\",('Hearts Desire II'!D56*SIN(RADIANS(E$4))+'Hearts Desire II'!E56*COS(RADIANS(E$4))*E$3)+E$2,\"\")","v":-880.10921956501795},null,{"$f":"IF('Hearts Desire II'!G56<>\"\",'Hearts Desire II'!G56*COS(RADIANS(J$4))-'Hearts Desire II'!H56*SIN(RADIANS(J$4))+J$1,\"\")","v":""},{"$f":"IF('Hearts Desire II'!H56<>\"\",('Hearts Desire II'!G56*SIN(RADIANS(J$4))+'Hearts Desire II'!H56*COS(RADIANS(J$4))*J$3)+J$2,\"\")","v":""},{"$f":"IF('Hearts Desire II'!I56<>\"\",'Hearts Desire II'!I56*COS(RADIANS(J$4))-'Hearts Desire II'!J56*SIN(RADIANS(J$4))+J$1,\"\")","v":""},{"$f":"IF('Hearts Desire II'!J56<>\"\",('Hearts Desire II'!I56*SIN(RADIANS(J$4))+'Hearts Desire II'!J56*COS(RADIANS(J$4))*J$3)+J$2,\"\")","v":""},null,{"$f":"IF('Hearts Desire II'!L56<>\"\",'Hearts Desire II'!L56*COS(RADIANS(O$4))-'Hearts Desire II'!M56*SIN(RADIANS(O$4))+O$1,\"\")","v":6232.8345986195254},{"$f":"IF('Hearts Desire II'!M56<>\"\",('Hearts Desire II'!L56*SIN(RADIANS(O$4))+'Hearts Desire II'!M56*COS(RADIANS(O$4))*O$3)+O$2,\"\")","v":-899.67217472890388},{"$f":"IF('Hearts Desire II'!N56<>\"\",'Hearts Desire II'!N56*COS(RADIANS(O$4))-'Hearts Desire II'!O56*SIN(RADIANS(O$4))+O$1,\"\")","v":6285.3341767389284},{"$f":"IF('Hearts Desire II'!O56<>\"\",('Hearts Desire II'!N56*SIN(RADIANS(O$4))+'Hearts Desire II'!O56*COS(RADIANS(O$4))*O$3)+O$2,\"\")","v":-110.71532142754597},null,{"$f":"IF('Hearts Desire II'!Q56<>\"\",'Hearts Desire II'!Q56*COS(RADIANS(T$4))-'Hearts Desire II'!R56*SIN(RADIANS(T$4))+T$1,\"\")","v":6652.0437613413633},{"$f":"IF('Hearts Desire II'!R56<>\"\",('Hearts Desire II'!Q56*SIN(RADIANS(T$4))+'Hearts Desire II'!R56*COS(RADIANS(T$4))*T$3)+T$2,\"\")","v":245.68747259929864},{"$f":"IF('Hearts Desire II'!S56<>\"\",'Hearts Desire II'!S56*COS(RADIANS(T$4))-'Hearts Desire II'!T56*SIN(RADIANS(T$4))+T$1,\"\")","v":6609.2182557526367},{"$f":"IF('Hearts Desire II'!T56<>\"\",('Hearts Desire II'!S56*SIN(RADIANS(T$4))+'Hearts Desire II'!T56*COS(RADIANS(T$4))*T$3)+T$2,\"\")","v":911.03848180807995},null,{"$f":"IF('Hearts Desire II'!V56<>\"\",'Hearts Desire II'!V56*COS(RADIANS(Y$4))-'Hearts Desire II'!W56*SIN(RADIANS(Y$4))+Y$1,\"\")","v":6646.174478698169},{"$f":"IF('Hearts Desire II'!W56<>\"\",('Hearts Desire II'!V56*SIN(RADIANS(Y$4))+'Hearts Desire II'!W56*COS(RADIANS(Y$4))*Y$3)+Y$2,\"\")","v":939.08229995330976},{"$f":"IF('Hearts Desire II'!X56<>\"\",'Hearts Desire II'!X56*COS(RADIANS(Y$4))-'Hearts Desire II'!Y56*SIN(RADIANS(Y$4))+Y$1,\"\")","v":6641.2454396022658},{"$f":"IF('Hearts Desire II'!Y56<>\"\",('Hearts Desire II'!X56*SIN(RADIANS(Y$4))+'Hearts Desire II'!Y56*COS(RADIANS(Y$4))*Y$3)+Y$2,\"\")","v":1044.1877342196533}]
[27,{"$f":"IF('Hearts Desire II'!B57<>\"\",'Hearts Desire II'!B57*COS(RADIANS(E$4))-'Hearts Desire II'!C57*SIN(RADIANS(E$4))+E$1,\"\")","v":6463.1749977977261},{"$f":"IF('Hearts Desire II'!C57<>\"\",('Hearts Desire II'!B57*SIN(RADIANS(E$4))+'Hearts Desire II'!C57*COS(RADIANS(E$4))*E$3)+E$2,\"\")","v":-1077.7304495983708},{"$f":"IF('Hearts Desire II'!D57<>\"\",'Hearts Desire II'!D57*COS(RADIANS(E$4))-'Hearts Desire II'!E57*SIN(RADIANS(E$4))+E$1,\"\")","v":6589.9002053624317},{"$f":"IF('Hearts Desire II'!E57<>\"\",('Hearts Desire II'!D57*SIN(RADIANS(E$4))+'Hearts Desire II'!E57*COS(RADIANS(E$4))*E$3)+E$2,\"\")","v":-688.48377790792517},null,{"$f":"IF('Hearts Desire II'!G57<>\"\",'Hearts Desire II'!G57*COS(RADIANS(J$4))-'Hearts Desire II'!H57*SIN(RADIANS(J$4))+J$1,\"\")","v":""},{"$f":"IF('Hearts Desire II'!H57<>\"\",('Hearts Desire II'!G57*SIN(RADIANS(J$4))+'Hearts Desire II'!H57*COS(RADIANS(J$4))*J$3)+J$2,\"\")","v":""},{"$f":"IF('Hearts Desire II'!I57<>\"\",'Hearts Desire II'!I57*COS(RADIANS(J$4))-'Hearts Desire II'!J57*SIN(RADIANS(J$4))+J$1,\"\")","v":""},{"$f":"IF('Hearts Desire II'!J57<>\"\",('Hearts Desire II'!I57*SIN(RADIANS(J$4))+'Hearts Desire II'!J57*COS(RADIANS(J$4))*J$3)+J$2,\"\")","v":""},null,{"$f":"IF('Hearts Desire II'!L57<>\"\",'Hearts Desire II'!L57*COS(RADIANS(O$4))-'Hearts Desire II'!M57*SIN(RADIANS(O$4))+O$1,\"\")","v":6492.1178056354292},{"$f":"IF('Hearts Desire II'!M57<>\"\",('Hearts Desire II'!L57*SIN(RADIANS(O$4))+'Hearts Desire II'!M57*COS(RADIANS(O$4))*O$3)+O$2,\"\")","v":-690.22488437417064},{"$f":"IF('Hearts Desire II'!N57<>\"\",'Hearts Desire II'!N57*COS(RADIANS(O$4))-'Hearts Desire II'!O57*SIN(RADIANS(O$4))+O$1,\"\")","v":6518.4876341095542},{"$f":"IF('Hearts Desire II'!O57<>\"\",('Hearts Desire II'!N57*SIN(RADIANS(O$4))+'Hearts Desire II'!O57*COS(RADIANS(O$4))*O$3)+O$2,\"\")","v":-163.98004249365471},null,{"$f":"IF('Hearts Desire II'!Q57<>\"\",'Hearts Desire II'!Q57*COS(RADIANS(T$4))-'Hearts Desire II'!R57*SIN(RADIANS(T$4))+T$1,\"\")","v":6891.0596072731223},{"$f":"IF('Hearts Desire II'!R57<>\"\",('Hearts Desire II'!Q57*SIN(RADIANS(T$4))+'Hearts Desire II'!R57*COS(RADIANS(T$4))*T$3)+T$2,\"\")","v":237.37539778900134},{"$f":"IF('Hearts Desire II'!S57<>\"\",'Hearts Desire II'!S57*COS(RADIANS(T$4))-'Hearts Desire II'!T57*SIN(RADIANS(T$4))+T$1,\"\")","v":6847.2638930137491},{"$f":"IF('Hearts Desire II'!T57<>\"\",('Hearts Desire II'!S57*SIN(RADIANS(T$4))+'Hearts Desire II'!T57*COS(RADIANS(T$4))*T$3)+T$2,\"\")","v":880.9685232604744},null,{"$f":"IF('Hearts Desire II'!V57<>\"\",'Hearts Desire II'!V57*COS(RADIANS(Y$4))-'Hearts Desire II'!W57*SIN(RADIANS(Y$4))+Y$1,\"\")","v":6884.0872798074852},{"$f":"IF('Hearts Desire II'!W57<>\"\",('Hearts Desire II'!V57*SIN(RADIANS(Y$4))+'Hearts Desire II'!W57*COS(RADIANS(Y$4))*Y$3)+Y$2,\"\")","v":907.97881310019363},{"$f":"IF('Hearts Desire II'!X57<>\"\",'Hearts Desire II'!X57*COS(RADIANS(Y$4))-'Hearts Desire II'!Y57*SIN(RADIANS(Y$4))+Y$1,\"\")","v":6877.5693037613974},{"$f":"IF('Hearts Desire II'!Y57<>\"\",('Hearts Desire II'!X57*SIN(RADIANS(Y$4))+'Hearts Desire II'!Y57*COS(RADIANS(Y$4))*Y$3)+Y$2,\"\")","v":1014.705350412133}]
[28,{"$f":"IF('Hearts Desire II'!B58<>\"\",'Hearts Desire II'!B58*COS(RADIANS(E$4))-'Hearts Desire II'!C58*SIN(RADIANS(E$4))+E$1,\"\")","v":6610.9211461839559},{"$f":"IF('Hearts Desire II'!C58<>\"\",('Hearts Desire II'!B58*SIN(RADIANS(E$4))+'Hearts Desire II'!C58*COS(RADIANS(E$4))*E$3)+E$2,\"\")","v":-946.94268270449027},{"$f":"IF('Hearts Desire II'!D58<>\"\",'Hearts Desire II'!D58*COS(RADIANS(E$4))-'Hearts Desire II'!E58*SIN(RADIANS(E$4))+E$1,\"\")","v":6726.2596925526486},{"$f":"IF('Hearts Desire II'!E58<>\"\",('Hearts Desire II'!D58*SIN(RADIANS(E$4))+'Hearts Desire II'!E58*COS(RADIANS(E$4))*E$3)+E$2,\"\")","v":-592.67105707937844},null,{"$f":"IF('Hearts Desire II'!G58<>\"\",'Hearts Desire II'!G58*COS(RADIANS(J$4))-'Hearts Desire II'!H58*SIN(RADIANS(J$4))+J$1,\"\")","v":""},{"$f":"IF('Hearts Desire II'!H58<>\"\",('Hearts Desire II'!G58*SIN(RADIANS(J$4))+'Hearts Desire II'!H58*COS(RADIANS(J$4))*J$3)+J$2,\"\")","v":""},{"$f":"IF('Hearts Desire II'!I58<>\"\",'Hearts Desire II'!I58*COS(RADIANS(J$4))-'Hearts Desire II'!J58*SIN(RADIANS(J$4))+J$1,\"\")","v":""},{"$f":"IF('Hearts Desire II'!J58<>\"\",('Hearts Desire II'!I58*SIN(RADIANS(J$4))+'Hearts Desire II'!J58*COS(RADIANS(J$4))*J$3)+J$2,\"\")","v":""},null,{"$f":"IF('Hearts Desire II'!L58<>\"\",'Hearts Desire II'!L58*COS(RADIANS(O$4))-'Hearts Desire II'!M58*SIN(RADIANS(O$4))+O$1,\"\")","v":6621.860801610198},{"$f":"IF('Hearts Desire II'!M58<>\"\",('Hearts Desire II'!L58*SIN(RADIANS(O$4))+'Hearts Desire II'!M58*COS(RADIANS(O$4))*O$3)+O$2,\"\")","v":-585.62688145423476},{"$f":"IF('Hearts Desire II'!N58<>\"\",'Hearts Desire II'!N58*COS(RADIANS(O$4))-'Hearts Desire II'!O58*SIN(RADIANS(O$4))+O$1,\"\")","v":6638.102464227778},{"$f":"IF('Hearts Desire II'!O58<>\"\",('Hearts Desire II'!N58*SIN(RADIANS(O$4))+'Hearts Desire II'!O58*COS(RADIANS(O$4))*O$3)+O$2,\"\")","v":-193.43736090922948},null,{"$f":"IF('Hearts Desire II'!Q58<>\"\",'Hearts Desire II'!Q58*COS(RADIANS(T$4))-'Hearts Desire II'!R58*SIN(RADIANS(T$4))+T$1,\"\")","v":7014.1105527770833},{"$f":"IF('Hearts Desire II'!R58<>\"\",('Hearts Desire II'!Q58*SIN(RADIANS(T$4))+'Hearts Desire II'!R58*COS(RADIANS(T$4))*T$3)+T$2,\"\")","v":231.55251164642232},{"$f":"IF('Hearts Desire II'!S58<>\"\",'Hearts Desire II'!S58*COS(RADIANS(T$4))-'Hearts Desire II'!T58*SIN(RADIANS(T$4))+T$1,\"\")","v":6971.9190481994774},{"$f":"IF('Hearts Desire II'!T58<>\"\",('Hearts Desire II'!S58*SIN(RADIANS(T$4))+'Hearts Desire II'!T58*COS(RADIANS(T$4))*T$3)+T$2,\"\")","v":862.2136762918833},null,{"$f":"IF('Hearts Desire II'!V58<>\"\",'Hearts Desire II'!V58*COS(RADIANS(Y$4))-'Hearts Desire II'!W58*SIN(RADIANS(Y$4))+Y$1,\"\")","v":7008.6624661238911},{"$f":"IF('Hearts Desire II'!W58<>\"\",('Hearts Desire II'!V58*SIN(RADIANS(Y$4))+'Hearts Desire II'!W58*COS(RADIANS(Y$4))*Y$3)+Y$2,\"\")","v":888.69993985961833},{"$f":"IF('Hearts Desire II'!X58<>\"\",'Hearts Desire II'!X58*COS(RADIANS(Y$4))-'Hearts Desire II'!Y58*SIN(RADIANS(Y$4))+Y$1,\"\")","v":7001.2669029954404},{"$f":"IF('Hearts Desire II'!Y58<>\"\",('Hearts Desire II'!X58*SIN(RADIANS(Y$4))+'Hearts Desire II'!Y58*COS(RADIANS(Y$4))*Y$3)+Y$2,\"\")","v":996.26804076092742}]
[29,{"$f":"IF('Hearts Desire II'!B59<>\"\",'Hearts Desire II'!B59*COS(RADIANS(E$4))-'Hearts Desire II'!C59*SIN(RADIANS(E$4))+E$1,\"\")","v":6787.9039959163119},{"$f":"IF('Hearts Desire II'!C59<>\"\",('Hearts Desire II'!B59*SIN(RADIANS(E$4))+'Hearts Desire II'!C59*COS(RADIANS(E$4))*E$3)+E$2,\"\")","v":-726.35203516134118},{"$f":"IF('Hearts Desire II'!D59<>\"\",'Hearts Desire II'!D59*COS(RADIANS(E$4))-'Hearts Desire II'!E59*SIN(RADIANS(E$4))+E$1,\"\")","v":6862.6191797428655},{"$f":"IF('Hearts Desire II'!E59<>\"\",('Hearts Desire II'!D59*SIN(RADIANS(E$4))+'Hearts Desire II'!E59*COS(RADIANS(E$4))*E$3)+E$2,\"\")","v":-496.85833625083114},null,{"$f":"IF('Hearts Desire II'!G59<>\"\",'Hearts Desire II'!G59*COS(RADIANS(J$4))-'Hearts Desire II'!H59*SIN(RADIANS(J$4))+J$1,\"\")","v":""},{"$f":"IF('Hearts Desire II'!H59<>\"\",('Hearts Desire II'!G59*SIN(RADIANS(J$4))+'Hearts Desire II'!H59*COS(RADIANS(J$4))*J$3)+J$2,\"\")","v":""},{"$f":"IF('Hearts Desire II'!I59<>\"\",'Hearts Desire II'!I59*COS(RADIANS(J$4))-'Hearts Desire II'!J59*SIN(RADIANS(J$4))+J$1,\"\")","v":""},{"$f":"IF('Hearts Desire II'!J59<>\"\",('Hearts Desire II'!I59*SIN(RADIANS(J$4))+'Hearts Desire II'!J59*COS(RADIANS(J$4))*J$3)+J$2,\"\")","v":""},null,{"$f":"IF('Hearts Desire II'!L59<>\"\",'Hearts Desire II'!L59*COS(RADIANS(O$4))-'Hearts Desire II'!M59*SIN(RADIANS(O$4))+O$1,\"\")","v":6751.6368717190471},{"$f":"IF('Hearts Desire II'!M59<>\"\",('Hearts Desire II'!L59*SIN(RADIANS(O$4))+'Hearts Desire II'!M59*COS(RADIANS(O$4))*O$3)+O$2,\"\")","v":-481.06991685382593},{"$f":"IF('Hearts Desire II'!N59<>\"\",'Hearts Desire II'!N59*COS(RADIANS(O$4))-'Hearts Desire II'!O59*SIN(RADIANS(O$4))+O$1,\"\")","v":6759.9452105771788},{"$f":"IF('Hearts Desire II'!O59<>\"\",('Hearts Desire II'!N59*SIN(RADIANS(O$4))+'Hearts Desire II'!O59*COS(RADIANS(O$4))*O$3)+O$2,\"\")","v":-224.95749095728905},null,{"$f":"IF('Hearts Desire II'!Q59<>\"\",'Hearts Desire II'!Q59*COS(RADIANS(T$4))-'Hearts Desire II'!R59*SIN(RADIANS(T$4))+T$1,\"\")","v":7139.7689423356996},{"$f":"IF('Hearts Desire II'!R59<>\"\",('Hearts Desire II'!Q59*SIN(RADIANS(T$4))+'Hearts Desire II'!R59*COS(RADIANS(T$4))*T$3)+T$2,\"\")","v":224.54233548985871},{"$f":"IF('Hearts Desire II'!S59<>\"\",'Hearts Desire II'!S59*COS(RADIANS(T$4))-'Hearts Desire II'!T59*SIN(RADIANS(T$4))+T$1,\"\")","v":7100.9959682310782},{"$f":"IF('Hearts Desire II'!T59<>\"\",('Hearts Desire II'!S59*SIN(RADIANS(T$4))+'Hearts Desire II'!T59*COS(RADIANS(T$4))*T$3)+T$2,\"\")","v":840.75294876456837},null,{"$f":"IF('Hearts Desire II'!V59<>\"\",'Hearts Desire II'!V59*COS(RADIANS(Y$4))-'Hearts Desire II'!W59*SIN(RADIANS(Y$4))+Y$1,\"\")","v":7137.6372092945785},{"$f":"IF('Hearts Desire II'!W59<>\"\",('Hearts Desire II'!V59*SIN(RADIANS(Y$4))+'Hearts Desire II'!W59*COS(RADIANS(Y$4))*Y$3)+Y$2,\"\")","v":866.63345543411174},{"$f":"IF('Hearts Desire II'!X59<>\"\",'Hearts Desire II'!X59*COS(RADIANS(Y$4))-'Hearts Desire II'!Y59*SIN(RADIANS(Y$4))+Y$1,\"\")","v":7129.3154229274869},{"$f":"IF('Hearts Desire II'!Y59<>\"\",('Hearts Desire II'!X59*SIN(RADIANS(Y$4))+'Hearts Desire II'!Y59*COS(RADIANS(Y$4))*Y$3)+Y$2,\"\")","v":975.05843904914445}]
[30,{"$f":"IF('Hearts Desire II'!B60<>\"\",'Hearts Desire II'!B60*COS(RADIANS(E$4))-'Hearts Desire II'!C60*SIN(RADIANS(E$4))+E$1,\"\")","v":7113.4138829470612},{"$f":"IF('Hearts Desire II'!C60<>\"\",('Hearts Desire II'!B60*SIN(RADIANS(E$4))+'Hearts Desire II'!C60*COS(RADIANS(E$4))*E$3)+E$2,\"\")","v":-320.63793986681168},{"$f":"IF('Hearts Desire II'!D60<>\"\",'Hearts Desire II'!D60*COS(RADIANS(E$4))-'Hearts Desire II'!E60*SIN(RADIANS(E$4))+E$1,\"\")","v":7113.4138829470612},{"$f":"IF('Hearts Desire II'!E60<>\"\",('Hearts Desire II'!D60*SIN(RADIANS(E$4))+'Hearts Desire II'!E60*COS(RADIANS(E$4))*E$3)+E$2,\"\")","v":-320.63793986681168},null,{"$f":"IF('Hearts Desire II'!G60<>\"\",'Hearts Desire II'!G60*COS(RADIANS(J$4))-'Hearts Desire II'!H60*SIN(RADIANS(J$4))+J$1,\"\")","v":""},{"$f":"IF('Hearts Desire II'!H60<>\"\",('Hearts Desire II'!G60*SIN(RADIANS(J$4))+'Hearts Desire II'!H60*COS(RADIANS(J$4))*J$3)+J$2,\"\")","v":""},{"$f":"IF('Hearts Desire II'!I60<>\"\",'Hearts Desire II'!I60*COS(RADIANS(J$4))-'Hearts Desire II'!J60*SIN(RADIANS(J$4))+J$1,\"\")","v":""},{"$f":"IF('Hearts Desire II'!J60<>\"\",('Hearts Desire II'!I60*SIN(RADIANS(J$4))+'Hearts Desire II'!J60*COS(RADIANS(J$4))*J$3)+J$2,\"\")","v":""},null,{"$f":"IF('Hearts Desire II'!L60<>\"\",'Hearts Desire II'!L60*COS(RADIANS(O$4))-'Hearts Desire II'!M60*SIN(RADIANS(O$4))+O$1,\"\")","v":6990.3677445870371},{"$f":"IF('Hearts Desire II'!M60<>\"\",('Hearts Desire II'!L60*SIN(RADIANS(O$4))+'Hearts Desire II'!M60*COS(RADIANS(O$4))*O$3)+O$2,\"\")","v":-288.82220790334384},{"$f":"IF('Hearts Desire II'!N60<>\"\",'Hearts Desire II'!N60*COS(RADIANS(O$4))-'Hearts Desire II'!O60*SIN(RADIANS(O$4))+O$1,\"\")","v":6990.3677445870371},{"$f":"IF('Hearts Desire II'!O60<>\"\",('Hearts Desire II'!N60*SIN(RADIANS(O$4))+'Hearts Desire II'!O60*COS(RADIANS(O$4))*O$3)+O$2,\"\")","v":-288.82220790334384},null,{"$f":"IF('Hearts Desire II'!Q60<>\"\",'Hearts Desire II'!Q60*COS(RADIANS(T$4))-'Hearts Desire II'!R60*SIN(RADIANS(T$4))+T$1,\"\")","v":7378.3309345730968},{"$f":"IF('Hearts Desire II'!R60<>\"\",('Hearts Desire II'!Q60*SIN(RADIANS(T$4))+'Hearts Desire II'!R60*COS(RADIANS(T$4))*T$3)+T$2,\"\")","v":208.37378237440055},{"$f":"IF('Hearts Desire II'!S60<>\"\",'Hearts Desire II'!S60*COS(RADIANS(T$4))-'Hearts Desire II'!T60*SIN(RADIANS(T$4))+T$1,\"\")","v":7351.7468954985434},{"$f":"IF('Hearts Desire II'!T60<>\"\",('Hearts Desire II'!S60*SIN(RADIANS(T$4))+'Hearts Desire II'!T60*COS(RADIANS(T$4))*T$3)+T$2,\"\")","v":793.79958581379015},null,{"$f":"IF('Hearts Desire II'!V60<>\"\",'Hearts Desire II'!V60*COS(RADIANS(Y$4))-'Hearts Desire II'!W60*SIN(RADIANS(Y$4))+Y$1,\"\")","v":7388.0692119112282},{"$f":"IF('Hearts Desire II'!W60<>\"\",('Hearts Desire II'!V60*SIN(RADIANS(Y$4))+'Hearts Desire II'!W60*COS(RADIANS(Y$4))*Y$3)+Y$2,\"\")","v":818.0077638370135},{"$f":"IF('Hearts Desire II'!X60<>\"\",'Hearts Desire II'!X60*COS(RADIANS(Y$4))-'Hearts Desire II'!Y60*SIN(RADIANS(Y$4))+Y$1,\"\")","v":7377.9394710103325},{"$f":"IF('Hearts Desire II'!Y60<>\"\",('Hearts Desire II'!X60*SIN(RADIANS(Y$4))+'Hearts Desire II'!Y60*COS(RADIANS(Y$4))*Y$3)+Y$2,\"\")","v":928.03458142267084}]
[31,{"$f":"IF('Hearts Desire II'!B61<>\"\",'Hearts Desire II'!B61*COS(RADIANS(E$4))-'Hearts Desire II'!C61*SIN(RADIANS(E$4))+E$1,\"\")","v":""},{"$f":"IF('Hearts Desire II'!C61<>\"\",('Hearts Desire II'!B61*SIN(RADIANS(E$4))+'Hearts Desire II'!C61*COS(RADIANS(E$4))*E$3)+E$2,\"\")","v":""},{"$f":"IF('Hearts Desire II'!D61<>\"\",'Hearts Desire II'!D61*COS(RADIANS(E$4))-'Hearts Desire II'!E61*SIN(RADIANS(E$4))+E$1,\"\")","v":""},{"$f":"IF('Hearts Desire II'!E61<>\"\",('Hearts Desire II'!D61*SIN(RADIANS(E$4))+'Hearts Desire II'!E61*COS(RADIANS(E$4))*E$3)+E$2,\"\")","v":""},null,{"$f":"IF('Hearts Desire II'!G61<>\"\",'Hearts Desire II'!G61*COS(RADIANS(J$4))-'Hearts Desire II'!H61*SIN(RADIANS(J$4))+J$1,\"\")","v":""},{"$f":"IF('Hearts Desire II'!H61<>\"\",('Hearts Desire II'!G61*SIN(RADIANS(J$4))+'Hearts Desire II'!H61*COS(RADIANS(J$4))*J$3)+J$2,\"\")","v":""},{"$f":"IF('Hearts Desire II'!I61<>\"\",'Hearts Desire II'!I61*COS(RADIANS(J$4))-'Hearts Desire II'!J61*SIN(RADIANS(J$4))+J$1,\"\")","v":""},{"$f":"IF('Hearts Desire II'!J61<>\"\",('Hearts Desire II'!I61*SIN(RADIANS(J$4))+'Hearts Desire II'!J61*COS(RADIANS(J$4))*J$3)+J$2,\"\")","v":""},null,{"$f":"IF('Hearts Desire II'!L61<>\"\",'Hearts Desire II'!L61*COS(RADIANS(O$4))-'Hearts Desire II'!M61*SIN(RADIANS(O$4))+O$1,\"\")","v":""},{"$f":"IF('Hearts Desire II'!M61<>\"\",('Hearts Desire II'!L61*SIN(RADIANS(O$4))+'Hearts Desire II'!M61*COS(RADIANS(O$4))*O$3)+O$2,\"\")","v":""},{"$f":"IF('Hearts Desire II'!N61<>\"\",'Hearts Desire II'!N61*COS(RADIANS(O$4))-'Hearts Desire II'!O61*SIN(RADIANS(O$4))+O$1,\"\")","v":""},{"$f":"IF('Hearts Desire II'!O61<>\"\",('Hearts Desire II'!N61*SIN(RADIANS(O$4))+'Hearts Desire II'!O61*COS(RADIANS(O$4))*O$3)+O$2,\"\")","v":""},null,{"$f":"IF('Hearts Desire II'!Q61<>\"\",'Hearts Desire II'!Q61*COS(RADIANS(T$4))-'Hearts Desire II'!R61*SIN(RADIANS(T$4))+T$1,\"\")","v":7400.1439735041404},{"$f":"IF('Hearts Desire II'!R61<>\"\",('Hearts Desire II'!Q61*SIN(RADIANS(T$4))+'Hearts Desire II'!R61*COS(RADIANS(T$4))*T$3)+T$2,\"\")","v":248.27173789769427},{"$f":"IF('Hearts Desire II'!S61<>\"\",'Hearts Desire II'!S61*COS(RADIANS(T$4))-'Hearts Desire II'!T61*SIN(RADIANS(T$4))+T$1,\"\")","v":7374.5960002255633},{"$f":"IF('Hearts Desire II'!T61<>\"\",('Hearts Desire II'!S61*SIN(RADIANS(T$4))+'Hearts Desire II'!T61*COS(RADIANS(T$4))*T$3)+T$2,\"\")","v":789.21650162493552},null,{"$f":"IF('Hearts Desire II'!V61<>\"\",'Hearts Desire II'!V61*COS(RADIANS(Y$4))-'Hearts Desire II'!W61*SIN(RADIANS(Y$4))+Y$1,\"\")","v":7410.8747773096393},{"$f":"IF('Hearts Desire II'!W61<>\"\",('Hearts Desire II'!V61*SIN(RADIANS(Y$4))+'Hearts Desire II'!W61*COS(RADIANS(Y$4))*Y$3)+Y$2,\"\")","v":813.21272115031684},{"$f":"IF('Hearts Desire II'!X61<>\"\",'Hearts Desire II'!X61*COS(RADIANS(Y$4))-'Hearts Desire II'!Y61*SIN(RADIANS(Y$4))+Y$1,\"\")","v":7400.581592238198},{"$f":"IF('Hearts Desire II'!Y61<>\"\",('Hearts Desire II'!X61*SIN(RADIANS(Y$4))+'Hearts Desire II'!Y61*COS(RADIANS(Y$4))*Y$3)+Y$2,\"\")","v":923.3808200115036}]
[32,{"$f":"IF('Hearts Desire II'!B62<>\"\",'Hearts Desire II'!B62*COS(RADIANS(E$4))-'Hearts Desire II'!C62*SIN(RADIANS(E$4))+E$1,\"\")","v":""},{"$f":"IF('Hearts Desire II'!C62<>\"\",('Hearts Desire II'!B62*SIN(RADIANS(E$4))+'Hearts Desire II'!C62*COS(RADIANS(E$4))*E$3)+E$2,\"\")","v":""},{"$f":"IF('Hearts Desire II'!D62<>\"\",'Hearts Desire II'!D62*COS(RADIANS(E$4))-'Hearts Desire II'!E62*SIN(RADIANS(E$4))+E$1,\"\")","v":""},{"$f":"IF('Hearts Desire II'!E62<>\"\",('Hearts Desire II'!D62*SIN(RADIANS(E$4))+'Hearts Desire II'!E62*COS(RADIANS(E$4))*E$3)+E$2,\"\")","v":""},null,{"$f":"IF('Hearts Desire II'!G62<>\"\",'Hearts Desire II'!G62*COS(RADIANS(J$4))-'Hearts Desire II'!H62*SIN(RADIANS(J$4))+J$1,\"\")","v":""},{"$f":"IF('Hearts Desire II'!H62<>\"\",('Hearts Desire II'!G62*SIN(RADIANS(J$4))+'Hearts Desire II'!H62*COS(RADIANS(J$4))*J$3)+J$2,\"\")","v":""},{"$f":"IF('Hearts Desire II'!I62<>\"\",'Hearts Desire II'!I62*COS(RADIANS(J$4))-'Hearts Desire II'!J62*SIN(RADIANS(J$4))+J$1,\"\")","v":""},{"$f":"IF('Hearts Desire II'!J62<>\"\",('Hearts Desire II'!I62*SIN(RADIANS(J$4))+'Hearts Desire II'!J62*COS(RADIANS(J$4))*J$3)+J$2,\"\")","v":""},null,{"$f":"IF('Hearts Desire II'!L62<>\"\",'Hearts Desire II'!L62*COS(RADIANS(O$4))-'Hearts Desire II'!M62*SIN(RADIANS(O$4))+O$1,\"\")","v":""},{"$f":"IF('Hearts Desire II'!M62<>\"\",('Hearts Desire II'!L62*SIN(RADIANS(O$4))+'Hearts Desire II'!M62*COS(RADIANS(O$4))*O$3)+O$2,\"\")","v":""},{"$f":"IF('Hearts Desire II'!N62<>\"\",'Hearts Desire II'!N62*COS(RADIANS(O$4))-'Hearts Desire II'!O62*SIN(RADIANS(O$4))+O$1,\"\")","v":""},{"$f":"IF('Hearts Desire II'!O62<>\"\",('Hearts Desire II'!N62*SIN(RADIANS(O$4))+'Hearts Desire II'!O62*COS(RADIANS(O$4))*O$3)+O$2,\"\")","v":""},null,{"$f":"IF('Hearts Desire II'!Q62<>\"\",'Hearts Desire II'!Q62*COS(RADIANS(T$4))-'Hearts Desire II'!R62*SIN(RADIANS(T$4))+T$1,\"\")","v":7535.8211606672658},{"$f":"IF('Hearts Desire II'!R62<>\"\",('Hearts Desire II'!Q62*SIN(RADIANS(T$4))+'Hearts Desire II'!R62*COS(RADIANS(T$4))*T$3)+T$2,\"\")","v":496.41456726496199},{"$f":"IF('Hearts Desire II'!S62<>\"\",'Hearts Desire II'!S62*COS(RADIANS(T$4))-'Hearts Desire II'!T62*SIN(RADIANS(T$4))+T$1,\"\")","v":7520.3792850914233},{"$f":"IF('Hearts Desire II'!T62<>\"\",('Hearts Desire II'!S62*SIN(RADIANS(T$4))+'Hearts Desire II'!T62*COS(RADIANS(T$4))*T$3)+T$2,\"\")","v":758.88189350474568},null,{"$f":"IF('Hearts Desire II'!V62<>\"\",'Hearts Desire II'!V62*COS(RADIANS(Y$4))-'Hearts Desire II'!W62*SIN(RADIANS(Y$4))+Y$1,\"\")","v":7556.3223567270798},{"$f":"IF('Hearts Desire II'!W62<>\"\",('Hearts Desire II'!V62*SIN(RADIANS(Y$4))+'Hearts Desire II'!W62*COS(RADIANS(Y$4))*Y$3)+Y$2,\"\")","v":781.30729468876962},{"$f":"IF('Hearts Desire II'!X62<>\"\",'Hearts Desire II'!X62*COS(RADIANS(Y$4))-'Hearts Desire II'!Y62*SIN(RADIANS(Y$4))+Y$1,\"\")","v":7544.9957517277307},{"$f":"IF('Hearts Desire II'!Y62<>\"\",('Hearts Desire II'!X62*SIN(RADIANS(Y$4))+'Hearts Desire II'!Y62*COS(RADIANS(Y$4))*Y$3)+Y$2,\"\")","v":892.35700760305872}]
[33,{"$f":"IF('Hearts Desire II'!B63<>\"\",'Hearts Desire II'!B63*COS(RADIANS(E$4))-'Hearts Desire II'!C63*SIN(RADIANS(E$4))+E$1,\"\")","v":""},{"$f":"IF('Hearts Desire II'!C63<>\"\",('Hearts Desire II'!B63*SIN(RADIANS(E$4))+'Hearts Desire II'!C63*COS(RADIANS(E$4))*E$3)+E$2,\"\")","v":""},{"$f":"IF('Hearts Desire II'!D63<>\"\",'Hearts Desire II'!D63*COS(RADIANS(E$4))-'Hearts Desire II'!E63*SIN(RADIANS(E$4))+E$1,\"\")","v":""},{"$f":"IF('Hearts Desire II'!E63<>\"\",('Hearts Desire II'!D63*SIN(RADIANS(E$4))+'Hearts Desire II'!E63*COS(RADIANS(E$4))*E$3)+E$2,\"\")","v":""},null,{"$f":"IF('Hearts Desire II'!G63<>\"\",'Hearts Desire II'!G63*COS(RADIANS(J$4))-'Hearts Desire II'!H63*SIN(RADIANS(J$4))+J$1,\"\")","v":""},{"$f":"IF('Hearts Desire II'!H63<>\"\",('Hearts Desire II'!G63*SIN(RADIANS(J$4))+'Hearts Desire II'!H63*COS(RADIANS(J$4))*J$3)+J$2,\"\")","v":""},{"$f":"IF('Hearts Desire II'!I63<>\"\",'Hearts Desire II'!I63*COS(RADIANS(J$4))-'Hearts Desire II'!J63*SIN(RADIANS(J$4))+J$1,\"\")","v":""},{"$f":"IF('Hearts Desire II'!J63<>\"\",('Hearts Desire II'!I63*SIN(RADIANS(J$4))+'Hearts Desire II'!J63*COS(RADIANS(J$4))*J$3)+J$2,\"\")","v":""},null,{"$f":"IF('Hearts Desire II'!L63<>\"\",'Hearts Desire II'!L63*COS(RADIANS(O$4))-'Hearts Desire II'!M63*SIN(RADIANS(O$4))+O$1,\"\")","v":""},{"$f":"IF('Hearts Desire II'!M63<>\"\",('Hearts Desire II'!L63*SIN(RADIANS(O$4))+'Hearts Desire II'!M63*COS(RADIANS(O$4))*O$3)+O$2,\"\")","v":""},{"$f":"IF('Hearts Desire II'!N63<>\"\",'Hearts Desire II'!N63*COS(RADIANS(O$4))-'Hearts Desire II'!O63*SIN(RADIANS(O$4))+O$1,\"\")","v":""},{"$f":"IF('Hearts Desire II'!O63<>\"\",('Hearts Desire II'!N63*SIN(RADIANS(O$4))+'Hearts Desire II'!O63*COS(RADIANS(O$4))*O$3)+O$2,\"\")","v":""},null,{"$f":"IF('Hearts Desire II'!Q63<>\"\",'Hearts Desire II'!Q63*COS(RADIANS(T$4))-'Hearts Desire II'!R63*SIN(RADIANS(T$4))+T$1,\"\")","v":7662.2811756815854},{"$f":"IF('Hearts Desire II'!R63<>\"\",('Hearts Desire II'!Q63*SIN(RADIANS(T$4))+'Hearts Desire II'!R63*COS(RADIANS(T$4))*T$3)+T$2,\"\")","v":727.58100489904268},{"$f":"IF('Hearts Desire II'!S63<>\"\",'Hearts Desire II'!S63*COS(RADIANS(T$4))-'Hearts Desire II'!T63*SIN(RADIANS(T$4))+T$1,\"\")","v":7662.2811756815854},{"$f":"IF('Hearts Desire II'!T63<>\"\",('Hearts Desire II'!S63*SIN(RADIANS(T$4))+'Hearts Desire II'!T63*COS(RADIANS(T$4))*T$3)+T$2,\"\")","v":727.58100489904268},null,{"$f":"IF('Hearts Desire II'!V63<>\"\",'Hearts Desire II'!V63*COS(RADIANS(Y$4))-'Hearts Desire II'!W63*SIN(RADIANS(Y$4))+Y$1,\"\")","v":7697.8092351013211},{"$f":"IF('Hearts Desire II'!W63<>\"\",('Hearts Desire II'!V63*SIN(RADIANS(Y$4))+'Hearts Desire II'!W63*COS(RADIANS(Y$4))*Y$3)+Y$2,\"\")","v":748.18093919225635},{"$f":"IF('Hearts Desire II'!X63<>\"\",'Hearts Desire II'!X63*COS(RADIANS(Y$4))-'Hearts Desire II'!Y63*SIN(RADIANS(Y$4))+Y$1,\"\")","v":7685.5194259897798},{"$f":"IF('Hearts Desire II'!Y63<>\"\",('Hearts Desire II'!X63*SIN(RADIANS(Y$4))+'Hearts Desire II'!Y63*COS(RADIANS(Y$4))*Y$3)+Y$2,\"\")","v":860.0416900853462}]
[34,{"$f":"IF('Hearts Desire II'!B64<>\"\",'Hearts Desire II'!B64*COS(RADIANS(E$4))-'Hearts Desire II'!C64*SIN(RADIANS(E$4))+E$1,\"\")","v":""},{"$f":"IF('Hearts Desire II'!C64<>\"\",('Hearts Desire II'!B64*SIN(RADIANS(E$4))+'Hearts Desire II'!C64*COS(RADIANS(E$4))*E$3)+E$2,\"\")","v":""},{"$f":"IF('Hearts Desire II'!D64<>\"\",'Hearts Desire II'!D64*COS(RADIANS(E$4))-'Hearts Desire II'!E64*SIN(RADIANS(E$4))+E$1,\"\")","v":""},{"$f":"IF('Hearts Desire II'!E64<>\"\",('Hearts Desire II'!D64*SIN(RADIANS(E$4))+'Hearts Desire II'!E64*COS(RADIANS(E$4))*E$3)+E$2,\"\")","v":""},null,{"$f":"IF('Hearts Desire II'!G64<>\"\",'Hearts Desire II'!G64*COS(RADIANS(J$4))-'Hearts Desire II'!H64*SIN(RADIANS(J$4))+J$1,\"\")","v":""},{"$f":"IF('Hearts Desire II'!H64<>\"\",('Hearts Desire II'!G64*SIN(RADIANS(J$4))+'Hearts Desire II'!H64*COS(RADIANS(J$4))*J$3)+J$2,\"\")","v":""},{"$f":"IF('Hearts Desire II'!I64<>\"\",'Hearts Desire II'!I64*COS(RADIANS(J$4))-'Hearts Desire II'!J64*SIN(RADIANS(J$4))+J$1,\"\")","v":""},{"$f":"IF('Hearts Desire II'!J64<>\"\",('Hearts Desire II'!I64*SIN(RADIANS(J$4))+'Hearts Desire II'!J64*COS(RADIANS(J$4))*J$3)+J$2,\"\")","v":""},null,{"$f":"IF('Hearts Desire II'!L64<>\"\",'Hearts Desire II'!L64*COS(RADIANS(O$4))-'Hearts Desire II'!M64*SIN(RADIANS(O$4))+O$1,\"\")","v":""},{"$f":"IF('Hearts Desire II'!M64<>\"\",('Hearts Desire II'!L64*SIN(RADIANS(O$4))+'Hearts Desire II'!M64*COS(RADIANS(O$4))*O$3)+O$2,\"\")","v":""},{"$f":"IF('Hearts Desire II'!N64<>\"\",'Hearts Desire II'!N64*COS(RADIANS(O$4))-'Hearts Desire II'!O64*SIN(RADIANS(O$4))+O$1,\"\")","v":""},{"$f":"IF('Hearts Desire II'!O64<>\"\",('Hearts Desire II'!N64*SIN(RADIANS(O$4))+'Hearts Desire II'!O64*COS(RADIANS(O$4))*O$3)+O$2,\"\")","v":""},null,{"$f":"IF('Hearts Desire II'!Q64<>\"\",'Hearts Desire II'!Q64*COS(RADIANS(T$4))-'Hearts Desire II'!R64*SIN(RADIANS(T$4))+T$1,\"\")","v":""},{"$f":"IF('Hearts Desire II'!R64<>\"\",('Hearts Desire II'!Q64*SIN(RADIANS(T$4))+'Hearts Desire II'!R64*COS(RADIANS(T$4))*T$3)+T$2,\"\")","v":""},{"$f":"IF('Hearts Desire II'!S64<>\"\",'Hearts Desire II'!S64*COS(RADIANS(T$4))-'Hearts Desire II'!T64*SIN(RADIANS(T$4))+T$1,\"\")","v":""},{"$f":"IF('Hearts Desire II'!T64<>\"\",('Hearts Desire II'!S64*SIN(RADIANS(T$4))+'Hearts Desire II'!T64*COS(RADIANS(T$4))*T$3)+T$2,\"\")","v":""},null,{"$f":"IF('Hearts Desire II'!V64<>\"\",'Hearts Desire II'!V64*COS(RADIANS(Y$4))-'Hearts Desire II'!W64*SIN(RADIANS(Y$4))+Y$1,\"\")","v":7755.6276758061076},{"$f":"IF('Hearts Desire II'!W64<>\"\",('Hearts Desire II'!V64*SIN(RADIANS(Y$4))+'Hearts Desire II'!W64*COS(RADIANS(Y$4))*Y$3)+Y$2,\"\")","v":843.18441540414199},{"$f":"IF('Hearts Desire II'!X64<>\"\",'Hearts Desire II'!X64*COS(RADIANS(Y$4))-'Hearts Desire II'!Y64*SIN(RADIANS(Y$4))+Y$1,\"\")","v":7755.6276758061076},{"$f":"IF('Hearts Desire II'!Y64<>\"\",('Hearts Desire II'!X64*SIN(RADIANS(Y$4))+'Hearts Desire II'!Y64*COS(RADIANS(Y$4))*Y$3)+Y$2,\"\")","v":843.18441540414199}]
[null,{"$f":"IF('Hearts Desire II'!B65<>\"\",'Hearts Desire II'!B65*COS(RADIANS(E$4))-'Hearts Desire II'!C65*SIN(RADIANS(E$4))+E$1,\"\")","v":""},{"$f":"IF('Hearts Desire II'!C65<>\"\",('Hearts Desire II'!B65*SIN(RADIANS(E$4))+'Hearts Desire II'!C65*COS(RADIANS(E$4))*E$3)+E$2,\"\")","v":""},{"$f":"IF('Hearts Desire II'!D65<>\"\",'Hearts Desire II'!D65*COS(RADIANS(E$4))-'Hearts Desire II'!E65*SIN(RADIANS(E$4))+E$1,\"\")","v":""},{"$f":"IF('Hearts Desire II'!E65<>\"\",('Hearts Desire II'!D65*SIN(RADIANS(E$4))+'Hearts Desire II'!E65*COS(RADIANS(E$4))*E$3)+E$2,\"\")","v":""},null,{"$f":"IF('Hearts Desire II'!G65<>\"\",'Hearts Desire II'!G65*COS(RADIANS(J$4))-'Hearts Desire II'!H65*SIN(RADIANS(J$4))+J$1,\"\")","v":""},{"$f":"IF('Hearts Desire II'!H65<>\"\",('Hearts Desire II'!G65*SIN(RADIANS(J$4))+'Hearts Desire II'!H65*COS(RADIANS(J$4))*J$3)+J$2,\"\")","v":""},{"$f":"IF('Hearts Desire II'!I65<>\"\",'Hearts Desire II'!I65*COS(RADIANS(J$4))-'Hearts Desire II'!J65*SIN(RADIANS(J$4))+J$1,\"\")","v":""},{"$f":"IF('Hearts Desire II'!J65<>\"\",('Hearts Desire II'!I65*SIN(RADIANS(J$4))+'Hearts Desire II'!J65*COS(RADIANS(J$4))*J$3)+J$2,\"\")","v":""},null,{"$f":"IF('Hearts Desire II'!L65<>\"\",'Hearts Desire II'!L65*COS(RADIANS(O$4))-'Hearts Desire II'!M65*SIN(RADIANS(O$4))+O$1,\"\")","v":""},{"$f":"IF('Hearts Desire II'!M65<>\"\",('Hearts Desire II'!L65*SIN(RADIANS(O$4))+'Hearts Desire II'!M65*COS(RADIANS(O$4))*O$3)+O$2,\"\")","v":""},{"$f":"IF('Hearts Desire II'!N65<>\"\",'Hearts Desire II'!N65*COS(RADIANS(O$4))-'Hearts Desire II'!O65*SIN(RADIANS(O$4))+O$1,\"\")","v":""},{"$f":"IF('Hearts Desire II'!O65<>\"\",('Hearts Desire II'!N65*SIN(RADIANS(O$4))+'Hearts Desire II'!O65*COS(RADIANS(O$4))*O$3)+O$2,\"\")","v":""},null,{"$f":"IF('Hearts Desire II'!Q65<>\"\",'Hearts Desire II'!Q65*COS(RADIANS(T$4))-'Hearts Desire II'!R65*SIN(RADIANS(T$4))+T$1,\"\")","v":""},{"$f":"IF('Hearts Desire II'!R65<>\"\",('Hearts Desire II'!Q65*SIN(RADIANS(T$4))+'Hearts Desire II'!R65*COS(RADIANS(T$4))*T$3)+T$2,\"\")","v":""},{"$f":"IF('Hearts Desire II'!S65<>\"\",'Hearts Desire II'!S65*COS(RADIANS(T$4))-'Hearts Desire II'!T65*SIN(RADIANS(T$4))+T$1,\"\")","v":""},{"$f":"IF('Hearts Desire II'!T65<>\"\",('Hearts Desire II'!S65*SIN(RADIANS(T$4))+'Hearts Desire II'!T65*COS(RADIANS(T$4))*T$3)+T$2,\"\")","v":""},null,{"$f":"IF('Hearts Desire II'!V65<>\"\",'Hearts Desire II'!V65*COS(RADIANS(Y$4))-'Hearts Desire II'!W65*SIN(RADIANS(Y$4))+Y$1,\"\")","v":""},{"$f":"IF('Hearts Desire II'!W65<>\"\",('Hearts Desire II'!V65*SIN(RADIANS(Y$4))+'Hearts Desire II'!W65*COS(RADIANS(Y$4))*Y$3)+Y$2,\"\")","v":""},{"$f":"IF('Hearts Desire II'!X65<>\"\",'Hearts Desire II'!X65*COS(RADIANS(Y$4))-'Hearts Desire II'!Y65*SIN(RADIANS(Y$4))+Y$1,\"\")","v":""},{"$f":"IF('Hearts Desire II'!Y65<>\"\",('Hearts Desire II'!X65*SIN(RADIANS(Y$4))+'Hearts Desire II'!Y65*COS(RADIANS(Y$4))*Y$3)+Y$2,\"\")","v":""}]
[null,{"$f":"IF('Hearts Desire II'!B66<>\"\",'Hearts Desire II'!B66*COS(RADIANS(E$4))-'Hearts Desire II'!C66*SIN(RADIANS(E$4))+E$1,\"\")","v":""},{"$f":"IF('Hearts Desire II'!C66<>\"\",('Hearts Desire II'!B66*SIN(RADIANS(E$4))+'Hearts Desire II'!C66*COS(RADIANS(E$4))*E$3)+E$2,\"\")","v":""},{"$f":"IF('Hearts Desire II'!D66<>\"\",'Hearts Desire II'!D66*COS(RADIANS(E$4))-'Hearts Desire II'!E66*SIN(RADIANS(E$4))+E$1,\"\")","v":""},{"$f":"IF('Hearts Desire II'!E66<>\"\",('Hearts Desire II'!D66*SIN(RADIANS(E$4))+'Hearts Desire II'!E66*COS(RADIANS(E$4))*E$3)+E$2,\"\")","v":""},null,{"$f":"IF('Hearts Desire II'!G66<>\"\",'Hearts Desire II'!G66*COS(RADIANS(J$4))-'Hearts Desire II'!H66*SIN(RADIANS(J$4))+J$1,\"\")","v":""},{"$f":"IF('Hearts Desire II'!H66<>\"\",('Hearts Desire II'!G66*SIN(RADIANS(J$4))+'Hearts Desire II'!H66*COS(RADIANS(J$4))*J$3)+J$2,\"\")","v":""},{"$f":"IF('Hearts Desire II'!I66<>\"\",'Hearts Desire II'!I66*COS(RADIANS(J$4))-'Hearts Desire II'!J66*SIN(RADIANS(J$4))+J$1,\"\")","v":""},{"$f":"IF('Hearts Desire II'!J66<>\"\",('Hearts Desire II'!I66*SIN(RADIANS(J$4))+'Hearts Desire II'!J66*COS(RADIANS(J$4))*J$3)+J$2,\"\")","v":""},null,{"$f":"IF('Hearts Desire II'!L66<>\"\",'Hearts Desire II'!L66*COS(RADIANS(O$4))-'Hearts Desire II'!M66*SIN(RADIANS(O$4))+O$1,\"\")","v":""},{"$f":"IF('Hearts Desire II'!M66<>\"\",('Hearts Desire II'!L66*SIN(RADIANS(O$4))+'Hearts Desire II'!M66*COS(RADIANS(O$4))*O$3)+O$2,\"\")","v":""},{"$f":"IF('Hearts Desire II'!N66<>\"\",'Hearts Desire II'!N66*COS(RADIANS(O$4))-'Hearts Desire II'!O66*SIN(RADIANS(O$4))+O$1,\"\")","v":""},{"$f":"IF('Hearts Desire II'!O66<>\"\",('Hearts Desire II'!N66*SIN(RADIANS(O$4))+'Hearts Desire II'!O66*COS(RADIANS(O$4))*O$3)+O$2,\"\")","v":""},null,{"$f":"IF('Hearts Desire II'!Q66<>\"\",'Hearts Desire II'!Q66*COS(RADIANS(T$4))-'Hearts Desire II'!R66*SIN(RADIANS(T$4))+T$1,\"\")","v":""},{"$f":"IF('Hearts Desire II'!R66<>\"\",('Hearts Desire II'!Q66*SIN(RADIANS(T$4))+'Hearts Desire II'!R66*COS(RADIANS(T$4))*T$3)+T$2,\"\")","v":""},{"$f":"IF('Hearts Desire II'!S66<>\"\",'Hearts Desire II'!S66*COS(RADIANS(T$4))-'Hearts Desire II'!T66*SIN(RADIANS(T$4))+T$1,\"\")","v":""},{"$f":"IF('Hearts Desire II'!T66<>\"\",('Hearts Desire II'!S66*SIN(RADIANS(T$4))+'Hearts Desire II'!T66*COS(RADIANS(T$4))*T$3)+T$2,\"\")","v":""},null,{"$f":"IF('Hearts Desire II'!V66<>\"\",'Hearts Desire II'!V66*COS(RADIANS(Y$4))-'Hearts Desire II'!W66*SIN(RADIANS(Y$4))+Y$1,\"\")","v":""},{"$f":"IF('Hearts Desire II'!W66<>\"\",('Hearts Desire II'!V66*SIN(RADIANS(Y$4))+'Hearts Desire II'!W66*COS(RADIANS(Y$4))*Y$3)+Y$2,\"\")","v":""},{"$f":"IF('Hearts Desire II'!X66<>\"\",'Hearts Desire II'!X66*COS(RADIANS(Y$4))-'Hearts Desire II'!Y66*SIN(RADIANS(Y$4))+Y$1,\"\")","v":""},{"$f":"IF('Hearts Desire II'!Y66<>\"\",('Hearts Desire II'!X66*SIN(RADIANS(Y$4))+'Hearts Desire II'!Y66*COS(RADIANS(Y$4))*Y$3)+Y$2,\"\")","v":""}]
[null,{"$f":"IF('Hearts Desire II'!B67<>\"\",'Hearts Desire II'!B67*COS(RADIANS(E$4))-'Hearts Desire II'!C67*SIN(RADIANS(E$4))+E$1,\"\")","v":""},{"$f":"IF('Hearts Desire II'!C67<>\"\",('Hearts Desire II'!B67*SIN(RADIANS(E$4))+'Hearts Desire II'!C67*COS(RADIANS(E$4))*E$3)+E$2,\"\")","v":""},{"$f":"IF('Hearts Desire II'!D67<>\"\",'Hearts Desire II'!D67*COS(RADIANS(E$4))-'Hearts Desire II'!E67*SIN(RADIANS(E$4))+E$1,\"\")","v":""},{"$f":"IF('Hearts Desire II'!E67<>\"\",('Hearts Desire II'!D67*SIN(RADIANS(E$4))+'Hearts Desire II'!E67*COS(RADIANS(E$4))*E$3)+E$2,\"\")","v":""},null,{"$f":"IF('Hearts Desire II'!G67<>\"\",'Hearts Desire II'!G67*COS(RADIANS(J$4))-'Hearts Desire II'!H67*SIN(RADIANS(J$4))+J$1,\"\")","v":""},{"$f":"IF('Hearts Desire II'!H67<>\"\",('Hearts Desire II'!G67*SIN(RADIANS(J$4))+'Hearts Desire II'!H67*COS(RADIANS(J$4))*J$3)+J$2,\"\")","v":""},{"$f":"IF('Hearts Desire II'!I67<>\"\",'Hearts Desire II'!I67*COS(RADIANS(J$4))-'Hearts Desire II'!J67*SIN(RADIANS(J$4))+J$1,\"\")","v":""},{"$f":"IF('Hearts Desire II'!J67<>\"\",('Hearts Desire II'!I67*SIN(RADIANS(J$4))+'Hearts Desire II'!J67*COS(RADIANS(J$4))*J$3)+J$2,\"\")","v":""},null,{"$f":"IF('Hearts Desire II'!L67<>\"\",'Hearts Desire II'!L67*COS(RADIANS(O$4))-'Hearts Desire II'!M67*SIN(RADIANS(O$4))+O$1,\"\")","v":""},{"$f":"IF('Hearts Desire II'!M67<>\"\",('Hearts Desire II'!L67*SIN(RADIANS(O$4))+'Hearts Desire II'!M67*COS(RADIANS(O$4))*O$3)+O$2,\"\")","v":""},{"$f":"IF('Hearts Desire II'!N67<>\"\",'Hearts Desire II'!N67*COS(RADIANS(O$4))-'Hearts Desire II'!O67*SIN(RADIANS(O$4))+O$1,\"\")","v":""},{"$f":"IF('Hearts Desire II'!O67<>\"\",('Hearts Desire II'!N67*SIN(RADIANS(O$4))+'Hearts Desire II'!O67*COS(RADIANS(O$4))*O$3)+O$2,\"\")","v":""},null,{"$f":"IF('Hearts Desire II'!Q67<>\"\",'Hearts Desire II'!Q67*COS(RADIANS(T$4))-'Hearts Desire II'!R67*SIN(RADIANS(T$4))+T$1,\"\")","v":""},{"$f":"IF('Hearts Desire II'!R67<>\"\",('Hearts Desire II'!Q67*SIN(RADIANS(T$4))+'Hearts Desire II'!R67*COS(RADIANS(T$4))*T$3)+T$2,\"\")","v":""},{"$f":"IF('Hearts Desire II'!S67<>\"\",'Hearts Desire II'!S67*COS(RADIANS(T$4))-'Hearts Desire II'!T67*SIN(RADIANS(T$4))+T$1,\"\")","v":""},{"$f":"IF('Hearts Desire II'!T67<>\"\",('Hearts Desire II'!S67*SIN(RADIANS(T$4))+'Hearts Desire II'!T67*COS(RADIANS(T$4))*T$3)+T$2,\"\")","v":""},null,{"$f":"IF('Hearts Desire II'!V67<>\"\",'Hearts Desire II'!V67*COS(RADIANS(Y$4))-'Hearts Desire II'!W67*SIN(RADIANS(Y$4))+Y$1,\"\")","v":""},{"$f":"IF('Hearts Desire II'!W67<>\"\",('Hearts Desire II'!V67*SIN(RADIANS(Y$4))+'Hearts Desire II'!W67*COS(RADIANS(Y$4))*Y$3)+Y$2,\"\")","v":""},{"$f":"IF('Hearts Desire II'!X67<>\"\",'Hearts Desire II'!X67*COS(RADIANS(Y$4))-'Hearts Desire II'!Y67*SIN(RADIANS(Y$4))+Y$1,\"\")","v":""},{"$f":"IF('Hearts Desire II'!Y67<>\"\",('Hearts Desire II'!X67*SIN(RADIANS(Y$4))+'Hearts Desire II'!Y67*COS(RADIANS(Y$4))*Y$3)+Y$2,\"\")","v":""}]
[null,{"$f":"IF('Hearts Desire II'!B68<>\"\",'Hearts Desire II'!B68*COS(RADIANS(E$4))-'Hearts Desire II'!C68*SIN(RADIANS(E$4))+E$1,\"\")","v":""},{"$f":"IF('Hearts Desire II'!C68<>\"\",('Hearts Desire II'!B68*SIN(RADIANS(E$4))+'Hearts Desire II'!C68*COS(RADIANS(E$4))*E$3)+E$2,\"\")","v":""},{"$f":"IF('Hearts Desire II'!D68<>\"\",'Hearts Desire II'!D68*COS(RADIANS(E$4))-'Hearts Desire II'!E68*SIN(RADIANS(E$4))+E$1,\"\")","v":""},{"$f":"IF('Hearts Desire II'!E68<>\"\",('Hearts Desire II'!D68*SIN(RADIANS(E$4))+'Hearts Desire II'!E68*COS(RADIANS(E$4))*E$3)+E$2,\"\")","v":""},null,{"$f":"IF('Hearts Desire II'!G68<>\"\",'Hearts Desire II'!G68*COS(RADIANS(J$4))-'Hearts Desire II'!H68*SIN(RADIANS(J$4))+J$1,\"\")","v":""},{"$f":"IF('Hearts Desire II'!H68<>\"\",('Hearts Desire II'!G68*SIN(RADIANS(J$4))+'Hearts Desire II'!H68*COS(RADIANS(J$4))*J$3)+J$2,\"\")","v":""},{"$f":"IF('Hearts Desire II'!I68<>\"\",'Hearts Desire II'!I68*COS(RADIANS(J$4))-'Hearts Desire II'!J68*SIN(RADIANS(J$4))+J$1,\"\")","v":""},{"$f":"IF('Hearts Desire II'!J68<>\"\",('Hearts Desire II'!I68*SIN(RADIANS(J$4))+'Hearts Desire II'!J68*COS(RADIANS(J$4))*J$3)+J$2,\"\")","v":""},null,{"$f":"IF('Hearts Desire II'!L68<>\"\",'Hearts Desire II'!L68*COS(RADIANS(O$4))-'Hearts Desire II'!M68*SIN(RADIANS(O$4))+O$1,\"\")","v":""},{"$f":"IF('Hearts Desire II'!M68<>\"\",('Hearts Desire II'!L68*SIN(RADIANS(O$4))+'Hearts Desire II'!M68*COS(RADIANS(O$4))*O$3)+O$2,\"\")","v":""},{"$f":"IF('Hearts Desire II'!N68<>\"\",'Hearts Desire II'!N68*COS(RADIANS(O$4))-'Hearts Desire II'!O68*SIN(RADIANS(O$4))+O$1,\"\")","v":""},{"$f":"IF('Hearts Desire II'!O68<>\"\",('Hearts Desire II'!N68*SIN(RADIANS(O$4))+'Hearts Desire II'!O68*COS(RADIANS(O$4))*O$3)+O$2,\"\")","v":""},null,{"$f":"IF('Hearts Desire II'!Q68<>\"\",'Hearts Desire II'!Q68*COS(RADIANS(T$4))-'Hearts Desire II'!R68*SIN(RADIANS(T$4))+T$1,\"\")","v":""},{"$f":"IF('Hearts Desire II'!R68<>\"\",('Hearts Desire II'!Q68*SIN(RADIANS(T$4))+'Hearts Desire II'!R68*COS(RADIANS(T$4))*T$3)+T$2,\"\")","v":""},{"$f":"IF('Hearts Desire II'!S68<>\"\",'Hearts Desire II'!S68*COS(RADIANS(T$4))-'Hearts Desire II'!T68*SIN(RADIANS(T$4))+T$1,\"\")","v":""},{"$f":"IF('Hearts Desire II'!T68<>\"\",('Hearts Desire II'!S68*SIN(RADIANS(T$4))+'Hearts Desire II'!T68*COS(RADIANS(T$4))*T$3)+T$2,\"\")","v":""},null,{"$f":"IF('Hearts Desire II'!V68<>\"\",'Hearts Desire II'!V68*COS(RADIANS(Y$4))-'Hearts Desire II'!W68*SIN(RADIANS(Y$4))+Y$1,\"\")","v":""},{"$f":"IF('Hearts Desire II'!W68<>\"\",('Hearts Desire II'!V68*SIN(RADIANS(Y$4))+'Hearts Desire II'!W68*COS(RADIANS(Y$4))*Y$3)+Y$2,\"\")","v":""},{"$f":"IF('Hearts Desire II'!X68<>\"\",'Hearts Desire II'!X68*COS(RADIANS(Y$4))-'Hearts Desire II'!Y68*SIN(RADIANS(Y$4))+Y$1,\"\")","v":""},{"$f":"IF('Hearts Desire II'!Y68<>\"\",('Hearts Desire II'!X68*SIN(RADIANS(Y$4))+'Hearts Desire II'!Y68*COS(RADIANS(Y$4))*Y$3)+Y$2,\"\")","v":""}]
[null,{"$f":"IF('Hearts Desire II'!B69<>\"\",'Hearts Desire II'!B69*COS(RADIANS(E$4))-'Hearts Desire II'!C69*SIN(RADIANS(E$4))+E$1,\"\")","v":""},{"$f":"IF('Hearts Desire II'!C69<>\"\",('Hearts Desire II'!B69*SIN(RADIANS(E$4))+'Hearts Desire II'!C69*COS(RADIANS(E$4))*E$3)+E$2,\"\")","v":""},{"$f":"IF('Hearts Desire II'!D69<>\"\",'Hearts Desire II'!D69*COS(RADIANS(E$4))-'Hearts Desire II'!E69*SIN(RADIANS(E$4))+E$1,\"\")","v":""},{"$f":"IF('Hearts Desire II'!E69<>\"\",('Hearts Desire II'!D69*SIN(RADIANS(E$4))+'Hearts Desire II'!E69*COS(RADIANS(E$4))*E$3)+E$2,\"\")","v":""},null,{"$f":"IF('Hearts Desire II'!G69<>\"\",'Hearts Desire II'!G69*COS(RADIANS(J$4))-'Hearts Desire II'!H69*SIN(RADIANS(J$4))+J$1,\"\")","v":""},{"$f":"IF('Hearts Desire II'!H69<>\"\",('Hearts Desire II'!G69*SIN(RADIANS(J$4))+'Hearts Desire II'!H69*COS(RADIANS(J$4))*J$3)+J$2,\"\")","v":""},{"$f":"IF('Hearts Desire II'!I69<>\"\",'Hearts Desire II'!I69*COS(RADIANS(J$4))-'Hearts Desire II'!J69*SIN(RADIANS(J$4))+J$1,\"\")","v":""},{"$f":"IF('Hearts Desire II'!J69<>\"\",('Hearts Desire II'!I69*SIN(RADIANS(J$4))+'Hearts Desire II'!J69*COS(RADIANS(J$4))*J$3)+J$2,\"\")","v":""},null,{"$f":"IF('Hearts Desire II'!L69<>\"\",'Hearts Desire II'!L69*COS(RADIANS(O$4))-'Hearts Desire II'!M69*SIN(RADIANS(O$4))+O$1,\"\")","v":""},{"$f":"IF('Hearts Desire II'!M69<>\"\",('Hearts Desire II'!L69*SIN(RADIANS(O$4))+'Hearts Desire II'!M69*COS(RADIANS(O$4))*O$3)+O$2,\"\")","v":""},{"$f":"IF('Hearts Desire II'!N69<>\"\",'Hearts Desire II'!N69*COS(RADIANS(O$4))-'Hearts Desire II'!O69*SIN(RADIANS(O$4))+O$1,\"\")","v":""},{"$f":"IF('Hearts Desire II'!O69<>\"\",('Hearts Desire II'!N69*SIN(RADIANS(O$4))+'Hearts Desire II'!O69*COS(RADIANS(O$4))*O$3)+O$2,\"\")","v":""},null,{"$f":"IF('Hearts Desire II'!Q69<>\"\",'Hearts Desire II'!Q69*COS(RADIANS(T$4))-'Hearts Desire II'!R69*SIN(RADIANS(T$4))+T$1,\"\")","v":""},{"$f":"IF('Hearts Desire II'!R69<>\"\",('Hearts Desire II'!Q69*SIN(RADIANS(T$4))+'Hearts Desire II'!R69*COS(RADIANS(T$4))*T$3)+T$2,\"\")","v":""},{"$f":"IF('Hearts Desire II'!S69<>\"\",'Hearts Desire II'!S69*COS(RADIANS(T$4))-'Hearts Desire II'!T69*SIN(RADIANS(T$4))+T$1,\"\")","v":""},{"$f":"IF('Hearts Desire II'!T69<>\"\",('Hearts Desire II'!S69*SIN(RADIANS(T$4))+'Hearts Desire II'!T69*COS(RADIANS(T$4))*T$3)+T$2,\"\")","v":""},null,{"$f":"IF('Hearts Desire II'!V69<>\"\",'Hearts Desire II'!V69*COS(RADIANS(Y$4))-'Hearts Desire II'!W69*SIN(RADIANS(Y$4))+Y$1,\"\")","v":""},{"$f":"IF('Hearts Desire II'!W69<>\"\",('Hearts Desire II'!V69*SIN(RADIANS(Y$4))+'Hearts Desire II'!W69*COS(RADIANS(Y$4))*Y$3)+Y$2,\"\")","v":""},{"$f":"IF('Hearts Desire II'!X69<>\"\",'Hearts Desire II'!X69*COS(RADIANS(Y$4))-'Hearts Desire II'!Y69*SIN(RADIANS(Y$4))+Y$1,\"\")","v":""},{"$f":"IF('Hearts Desire II'!Y69<>\"\",('Hearts Desire II'!X69*SIN(RADIANS(Y$4))+'Hearts Desire II'!Y69*COS(RADIANS(Y$4))*Y$3)+Y$2,\"\")","v":""}]
[null,{"$f":"IF('Hearts Desire II'!B70<>\"\",'Hearts Desire II'!B70*COS(RADIANS(E$4))-'Hearts Desire II'!C70*SIN(RADIANS(E$4))+E$1,\"\")","v":""},{"$f":"IF('Hearts Desire II'!C70<>\"\",('Hearts Desire II'!B70*SIN(RADIANS(E$4))+'Hearts Desire II'!C70*COS(RADIANS(E$4))*E$3)+E$2,\"\")","v":""},{"$f":"IF('Hearts Desire II'!D70<>\"\",'Hearts Desire II'!D70*COS(RADIANS(E$4))-'Hearts Desire II'!E70*SIN(RADIANS(E$4))+E$1,\"\")","v":""},{"$f":"IF('Hearts Desire II'!E70<>\"\",('Hearts Desire II'!D70*SIN(RADIANS(E$4))+'Hearts Desire II'!E70*COS(RADIANS(E$4))*E$3)+E$2,\"\")","v":""},null,{"$f":"IF('Hearts Desire II'!G70<>\"\",'Hearts Desire II'!G70*COS(RADIANS(J$4))-'Hearts Desire II'!H70*SIN(RADIANS(J$4))+J$1,\"\")","v":""},{"$f":"IF('Hearts Desire II'!H70<>\"\",('Hearts Desire II'!G70*SIN(RADIANS(J$4))+'Hearts Desire II'!H70*COS(RADIANS(J$4))*J$3)+J$2,\"\")","v":""},{"$f":"IF('Hearts Desire II'!I70<>\"\",'Hearts Desire II'!I70*COS(RADIANS(J$4))-'Hearts Desire II'!J70*SIN(RADIANS(J$4))+J$1,\"\")","v":""},{"$f":"IF('Hearts Desire II'!J70<>\"\",('Hearts Desire II'!I70*SIN(RADIANS(J$4))+'Hearts Desire II'!J70*COS(RADIANS(J$4))*J$3)+J$2,\"\")","v":""},null,{"$f":"IF('Hearts Desire II'!L70<>\"\",'Hearts Desire II'!L70*COS(RADIANS(O$4))-'Hearts Desire II'!M70*SIN(RADIANS(O$4))+O$1,\"\")","v":""},{"$f":"IF('Hearts Desire II'!M70<>\"\",('Hearts Desire II'!L70*SIN(RADIANS(O$4))+'Hearts Desire II'!M70*COS(RADIANS(O$4))*O$3)+O$2,\"\")","v":""},{"$f":"IF('Hearts Desire II'!N70<>\"\",'Hearts Desire II'!N70*COS(RADIANS(O$4))-'Hearts Desire II'!O70*SIN(RADIANS(O$4))+O$1,\"\")","v":""},{"$f":"IF('Hearts Desire II'!O70<>\"\",('Hearts Desire II'!N70*SIN(RADIANS(O$4))+'Hearts Desire II'!O70*COS(RADIANS(O$4))*O$3)+O$2,\"\")","v":""},null,{"$f":"IF('Hearts Desire II'!Q70<>\"\",'Hearts Desire II'!Q70*COS(RADIANS(T$4))-'Hearts Desire II'!R70*SIN(RADIANS(T$4))+T$1,\"\")","v":""},{"$f":"IF('Hearts Desire II'!R70<>\"\",('Hearts Desire II'!Q70*SIN(RADIANS(T$4))+'Hearts Desire II'!R70*COS(RADIANS(T$4))*T$3)+T$2,\"\")","v":""},{"$f":"IF('Hearts Desire II'!S70<>\"\",'Hearts Desire II'!S70*COS(RADIANS(T$4))-'Hearts Desire II'!T70*SIN(RADIANS(T$4))+T$1,\"\")","v":""},{"$f":"IF('Hearts Desire II'!T70<>\"\",('Hearts Desire II'!S70*SIN(RADIANS(T$4))+'Hearts Desire II'!T70*COS(RADIANS(T$4))*T$3)+T$2,\"\")","v":""},null,{"$f":"IF('Hearts Desire II'!V70<>\"\",'Hearts Desire II'!V70*COS(RADIANS(Y$4))-'Hearts Desire II'!W70*SIN(RADIANS(Y$4))+Y$1,\"\")","v":""},{"$f":"IF('Hearts Desire II'!W70<>\"\",('Hearts Desire II'!V70*SIN(RADIANS(Y$4))+'Hearts Desire II'!W70*COS(RADIANS(Y$4))*Y$3)+Y$2,\"\")","v":""},{"$f":"IF('Hearts Desire II'!X70<>\"\",'Hearts Desire II'!X70*COS(RADIANS(Y$4))-'Hearts Desire II'!Y70*SIN(RADIANS(Y$4))+Y$1,\"\")","v":""},{"$f":"IF('Hearts Desire II'!Y70<>\"\",('Hearts Desire II'!X70*SIN(RADIANS(Y$4))+'Hearts Desire II'!Y70*COS(RADIANS(Y$4))*Y$3)+Y$2,\"\")","v":""}]
[null,{"$f":"IF('Hearts Desire II'!B71<>\"\",'Hearts Desire II'!B71*COS(RADIANS(E$4))-'Hearts Desire II'!C71*SIN(RADIANS(E$4))+E$1,\"\")","v":""},{"$f":"IF('Hearts Desire II'!C71<>\"\",('Hearts Desire II'!B71*SIN(RADIANS(E$4))+'Hearts Desire II'!C71*COS(RADIANS(E$4))*E$3)+E$2,\"\")","v":""},{"$f":"IF('Hearts Desire II'!D71<>\"\",'Hearts Desire II'!D71*COS(RADIANS(E$4))-'Hearts Desire II'!E71*SIN(RADIANS(E$4))+E$1,\"\")","v":""},{"$f":"IF('Hearts Desire II'!E71<>\"\",('Hearts Desire II'!D71*SIN(RADIANS(E$4))+'Hearts Desire II'!E71*COS(RADIANS(E$4))*E$3)+E$2,\"\")","v":""},null,{"$f":"IF('Hearts Desire II'!G71<>\"\",'Hearts Desire II'!G71*COS(RADIANS(J$4))-'Hearts Desire II'!H71*SIN(RADIANS(J$4))+J$1,\"\")","v":""},{"$f":"IF('Hearts Desire II'!H71<>\"\",('Hearts Desire II'!G71*SIN(RADIANS(J$4))+'Hearts Desire II'!H71*COS(RADIANS(J$4))*J$3)+J$2,\"\")","v":""},{"$f":"IF('Hearts Desire II'!I71<>\"\",'Hearts Desire II'!I71*COS(RADIANS(J$4))-'Hearts Desire II'!J71*SIN(RADIANS(J$4))+J$1,\"\")","v":""},{"$f":"IF('Hearts Desire II'!J71<>\"\",('Hearts Desire II'!I71*SIN(RADIANS(J$4))+'Hearts Desire II'!J71*COS(RADIANS(J$4))*J$3)+J$2,\"\")","v":""},null,{"$f":"IF('Hearts Desire II'!L71<>\"\",'Hearts Desire II'!L71*COS(RADIANS(O$4))-'Hearts Desire II'!M71*SIN(RADIANS(O$4))+O$1,\"\")","v":""},{"$f":"IF('Hearts Desire II'!M71<>\"\",('Hearts Desire II'!L71*SIN(RADIANS(O$4))+'Hearts Desire II'!M71*COS(RADIANS(O$4))*O$3)+O$2,\"\")","v":""},{"$f":"IF('Hearts Desire II'!N71<>\"\",'Hearts Desire II'!N71*COS(RADIANS(O$4))-'Hearts Desire II'!O71*SIN(RADIANS(O$4))+O$1,\"\")","v":""},{"$f":"IF('Hearts Desire II'!O71<>\"\",('Hearts Desire II'!N71*SIN(RADIANS(O$4))+'Hearts Desire II'!O71*COS(RADIANS(O$4))*O$3)+O$2,\"\")","v":""},null,{"$f":"IF('Hearts Desire II'!Q71<>\"\",'Hearts Desire II'!Q71*COS(RADIANS(T$4))-'Hearts Desire II'!R71*SIN(RADIANS(T$4))+T$1,\"\")","v":""},{"$f":"IF('Hearts Desire II'!R71<>\"\",('Hearts Desire II'!Q71*SIN(RADIANS(T$4))+'Hearts Desire II'!R71*COS(RADIANS(T$4))*T$3)+T$2,\"\")","v":""},{"$f":"IF('Hearts Desire II'!S71<>\"\",'Hearts Desire II'!S71*COS(RADIANS(T$4))-'Hearts Desire II'!T71*SIN(RADIANS(T$4))+T$1,\"\")","v":""},{"$f":"IF('Hearts Desire II'!T71<>\"\",('Hearts Desire II'!S71*SIN(RADIANS(T$4))+'Hearts Desire II'!T71*COS(RADIANS(T$4))*T$3)+T$2,\"\")","v":""},null,{"$f":"IF('Hearts Desire II'!V71<>\"\",'Hearts Desire II'!V71*COS(RADIANS(Y$4))-'Hearts Desire II'!W71*SIN(RADIANS(Y$4))+Y$1,\"\")","v":""},{"$f":"IF('Hearts Desire II'!W71<>\"\",('Hearts Desire II'!V71*SIN(RADIANS(Y$4))+'Hearts Desire II'!W71*COS(RADIANS(Y$4))*Y$3)+Y$2,\"\")","v":""},{"$f":"IF('Hearts Desire II'!X71<>\"\",'Hearts Desire II'!X71*COS(RADIANS(Y$4))-'Hearts Desire II'!Y71*SIN(RADIANS(Y$4))+Y$1,\"\")","v":""},{"$f":"IF('Hearts Desire II'!Y71<>\"\",('Hearts Desire II'!X71*SIN(RADIANS(Y$4))+'Hearts Desire II'!Y71*COS(RADIANS(Y$4))*Y$3)+Y$2,\"\")","v":""}]
[null,{"$f":"IF('Hearts Desire II'!B72<>\"\",'Hearts Desire II'!B72*COS(RADIANS(E$4))-'Hearts Desire II'!C72*SIN(RADIANS(E$4))+E$1,\"\")","v":""},{"$f":"IF('Hearts Desire II'!C72<>\"\",('Hearts Desire II'!B72*SIN(RADIANS(E$4))+'Hearts Desire II'!C72*COS(RADIANS(E$4))*E$3)+E$2,\"\")","v":""},{"$f":"IF('Hearts Desire II'!D72<>\"\",'Hearts Desire II'!D72*COS(RADIANS(E$4))-'Hearts Desire II'!E72*SIN(RADIANS(E$4))+E$1,\"\")","v":""},{"$f":"IF('Hearts Desire II'!E72<>\"\",('Hearts Desire II'!D72*SIN(RADIANS(E$4))+'Hearts Desire II'!E72*COS(RADIANS(E$4))*E$3)+E$2,\"\")","v":""},null,{"$f":"IF('Hearts Desire II'!G72<>\"\",'Hearts Desire II'!G72*COS(RADIANS(J$4))-'Hearts Desire II'!H72*SIN(RADIANS(J$4))+J$1,\"\")","v":""},{"$f":"IF('Hearts Desire II'!H72<>\"\",('Hearts Desire II'!G72*SIN(RADIANS(J$4))+'Hearts Desire II'!H72*COS(RADIANS(J$4))*J$3)+J$2,\"\")","v":""},{"$f":"IF('Hearts Desire II'!I72<>\"\",'Hearts Desire II'!I72*COS(RADIANS(J$4))-'Hearts Desire II'!J72*SIN(RADIANS(J$4))+J$1,\"\")","v":""},{"$f":"IF('Hearts Desire II'!J72<>\"\",('Hearts Desire II'!I72*SIN(RADIANS(J$4))+'Hearts Desire II'!J72*COS(RADIANS(J$4))*J$3)+J$2,\"\")","v":""},null,{"$f":"IF('Hearts Desire II'!L72<>\"\",'Hearts Desire II'!L72*COS(RADIANS(O$4))-'Hearts Desire II'!M72*SIN(RADIANS(O$4))+O$1,\"\")","v":""},{"$f":"IF('Hearts Desire II'!M72<>\"\",('Hearts Desire II'!L72*SIN(RADIANS(O$4))+'Hearts Desire II'!M72*COS(RADIANS(O$4))*O$3)+O$2,\"\")","v":""},{"$f":"IF('Hearts Desire II'!N72<>\"\",'Hearts Desire II'!N72*COS(RADIANS(O$4))-'Hearts Desire II'!O72*SIN(RADIANS(O$4))+O$1,\"\")","v":""},{"$f":"IF('Hearts Desire II'!O72<>\"\",('Hearts Desire II'!N72*SIN(RADIANS(O$4))+'Hearts Desire II'!O72*COS(RADIANS(O$4))*O$3)+O$2,\"\")","v":""},null,{"$f":"IF('Hearts Desire II'!Q72<>\"\",'Hearts Desire II'!Q72*COS(RADIANS(T$4))-'Hearts Desire II'!R72*SIN(RADIANS(T$4))+T$1,\"\")","v":""},{"$f":"IF('Hearts Desire II'!R72<>\"\",('Hearts Desire II'!Q72*SIN(RADIANS(T$4))+'Hearts Desire II'!R72*COS(RADIANS(T$4))*T$3)+T$2,\"\")","v":""},{"$f":"IF('Hearts Desire II'!S72<>\"\",'Hearts Desire II'!S72*COS(RADIANS(T$4))-'Hearts Desire II'!T72*SIN(RADIANS(T$4))+T$1,\"\")","v":""},{"$f":"IF('Hearts Desire II'!T72<>\"\",('Hearts Desire II'!S72*SIN(RADIANS(T$4))+'Hearts Desire II'!T72*COS(RADIANS(T$4))*T$3)+T$2,\"\")","v":""},null,{"$f":"IF('Hearts Desire II'!V72<>\"\",'Hearts Desire II'!V72*COS(RADIANS(Y$4))-'Hearts Desire II'!W72*SIN(RADIANS(Y$4))+Y$1,\"\")","v":""},{"$f":"IF('Hearts Desire II'!W72<>\"\",('Hearts Desire II'!V72*SIN(RADIANS(Y$4))+'Hearts Desire II'!W72*COS(RADIANS(Y$4))*Y$3)+Y$2,\"\")","v":""},{"$f":"IF('Hearts Desire II'!X72<>\"\",'Hearts Desire II'!X72*COS(RADIANS(Y$4))-'Hearts Desire II'!Y72*SIN(RADIANS(Y$4))+Y$1,\"\")","v":""},{"$f":"IF('Hearts Desire II'!Y72<>\"\",('Hearts Desire II'!X72*SIN(RADIANS(Y$4))+'Hearts Desire II'!Y72*COS(RADIANS(Y$4))*Y$3)+Y$2,\"\")","v":""}]
[null,{"$f":"IF('Hearts Desire II'!B73<>\"\",'Hearts Desire II'!B73*COS(RADIANS(E$4))-'Hearts Desire II'!C73*SIN(RADIANS(E$4))+E$1,\"\")","v":""},{"$f":"IF('Hearts Desire II'!C73<>\"\",('Hearts Desire II'!B73*SIN(RADIANS(E$4))+'Hearts Desire II'!C73*COS(RADIANS(E$4))*E$3)+E$2,\"\")","v":""},{"$f":"IF('Hearts Desire II'!D73<>\"\",'Hearts Desire II'!D73*COS(RADIANS(E$4))-'Hearts Desire II'!E73*SIN(RADIANS(E$4))+E$1,\"\")","v":""},{"$f":"IF('Hearts Desire II'!E73<>\"\",('Hearts Desire II'!D73*SIN(RADIANS(E$4))+'Hearts Desire II'!E73*COS(RADIANS(E$4))*E$3)+E$2,\"\")","v":""},null,{"$f":"IF('Hearts Desire II'!G73<>\"\",'Hearts Desire II'!G73*COS(RADIANS(J$4))-'Hearts Desire II'!H73*SIN(RADIANS(J$4))+J$1,\"\")","v":""},{"$f":"IF('Hearts Desire II'!H73<>\"\",('Hearts Desire II'!G73*SIN(RADIANS(J$4))+'Hearts Desire II'!H73*COS(RADIANS(J$4))*J$3)+J$2,\"\")","v":""},{"$f":"IF('Hearts Desire II'!I73<>\"\",'Hearts Desire II'!I73*COS(RADIANS(J$4))-'Hearts Desire II'!J73*SIN(RADIANS(J$4))+J$1,\"\")","v":""},{"$f":"IF('Hearts Desire II'!J73<>\"\",('Hearts Desire II'!I73*SIN(RADIANS(J$4))+'Hearts Desire II'!J73*COS(RADIANS(J$4))*J$3)+J$2,\"\")","v":""},null,{"$f":"IF('Hearts Desire II'!L73<>\"\",'Hearts Desire II'!L73*COS(RADIANS(O$4))-'Hearts Desire II'!M73*SIN(RADIANS(O$4))+O$1,\"\")","v":""},{"$f":"IF('Hearts Desire II'!M73<>\"\",('Hearts Desire II'!L73*SIN(RADIANS(O$4))+'Hearts Desire II'!M73*COS(RADIANS(O$4))*O$3)+O$2,\"\")","v":""},{"$f":"IF('Hearts Desire II'!N73<>\"\",'Hearts Desire II'!N73*COS(RADIANS(O$4))-'Hearts Desire II'!O73*SIN(RADIANS(O$4))+O$1,\"\")","v":""},{"$f":"IF('Hearts Desire II'!O73<>\"\",('Hearts Desire II'!N73*SIN(RADIANS(O$4))+'Hearts Desire II'!O73*COS(RADIANS(O$4))*O$3)+O$2,\"\")","v":""},null,{"$f":"IF('Hearts Desire II'!Q73<>\"\",'Hearts Desire II'!Q73*COS(RADIANS(T$4))-'Hearts Desire II'!R73*SIN(RADIANS(T$4))+T$1,\"\")","v":""},{"$f":"IF('Hearts Desire II'!R73<>\"\",('Hearts Desire II'!Q73*SIN(RADIANS(T$4))+'Hearts Desire II'!R73*COS(RADIANS(T$4))*T$3)+T$2,\"\")","v":""},{"$f":"IF('Hearts Desire II'!S73<>\"\",'Hearts Desire II'!S73*COS(RADIANS(T$4))-'Hearts Desire II'!T73*SIN(RADIANS(T$4))+T$1,\"\")","v":""},{"$f":"IF('Hearts Desire II'!T73<>\"\",('Hearts Desire II'!S73*SIN(RADIANS(T$4))+'Hearts Desire II'!T73*COS(RADIANS(T$4))*T$3)+T$2,\"\")","v":""},null,{"$f":"IF('Hearts Desire II'!V73<>\"\",'Hearts Desire II'!V73*COS(RADIANS(Y$4))-'Hearts Desire II'!W73*SIN(RADIANS(Y$4))+Y$1,\"\")","v":""},{"$f":"IF('Hearts Desire II'!W73<>\"\",('Hearts Desire II'!V73*SIN(RADIANS(Y$4))+'Hearts Desire II'!W73*COS(RADIANS(Y$4))*Y$3)+Y$2,\"\")","v":""},{"$f":"IF('Hearts Desire II'!X73<>\"\",'Hearts Desire II'!X73*COS(RADIANS(Y$4))-'Hearts Desire II'!Y73*SIN(RADIANS(Y$4))+Y$1,\"\")","v":""},{"$f":"IF('Hearts Desire II'!Y73<>\"\",('Hearts Desire II'!X73*SIN(RADIANS(Y$4))+'Hearts Desire II'!Y73*COS(RADIANS(Y$4))*Y$3)+Y$2,\"\")","v":""}]
[null,{"$f":"IF('Hearts Desire II'!B74<>\"\",'Hearts Desire II'!B74*COS(RADIANS(E$4))-'Hearts Desire II'!C74*SIN(RADIANS(E$4))+E$1,\"\")","v":""},{"$f":"IF('Hearts Desire II'!C74<>\"\",('Hearts Desire II'!B74*SIN(RADIANS(E$4))+'Hearts Desire II'!C74*COS(RADIANS(E$4))*E$3)+E$2,\"\")","v":""},{"$f":"IF('Hearts Desire II'!D74<>\"\",'Hearts Desire II'!D74*COS(RADIANS(E$4))-'Hearts Desire II'!E74*SIN(RADIANS(E$4))+E$1,\"\")","v":""},{"$f":"IF('Hearts Desire II'!E74<>\"\",('Hearts Desire II'!D74*SIN(RADIANS(E$4))+'Hearts Desire II'!E74*COS(RADIANS(E$4))*E$3)+E$2,\"\")","v":""},null,{"$f":"IF('Hearts Desire II'!G74<>\"\",'Hearts Desire II'!G74*COS(RADIANS(J$4))-'Hearts Desire II'!H74*SIN(RADIANS(J$4))+J$1,\"\")","v":""},{"$f":"IF('Hearts Desire II'!H74<>\"\",('Hearts Desire II'!G74*SIN(RADIANS(J$4))+'Hearts Desire II'!H74*COS(RADIANS(J$4))*J$3)+J$2,\"\")","v":""},{"$f":"IF('Hearts Desire II'!I74<>\"\",'Hearts Desire II'!I74*COS(RADIANS(J$4))-'Hearts Desire II'!J74*SIN(RADIANS(J$4))+J$1,\"\")","v":""},{"$f":"IF('Hearts Desire II'!J74<>\"\",('Hearts Desire II'!I74*SIN(RADIANS(J$4))+'Hearts Desire II'!J74*COS(RADIANS(J$4))*J$3)+J$2,\"\")","v":""},null,{"$f":"IF('Hearts Desire II'!L74<>\"\",'Hearts Desire II'!L74*COS(RADIANS(O$4))-'Hearts Desire II'!M74*SIN(RADIANS(O$4))+O$1,\"\")","v":""},{"$f":"IF('Hearts Desire II'!M74<>\"\",('Hearts Desire II'!L74*SIN(RADIANS(O$4))+'Hearts Desire II'!M74*COS(RADIANS(O$4))*O$3)+O$2,\"\")","v":""},{"$f":"IF('Hearts Desire II'!N74<>\"\",'Hearts Desire II'!N74*COS(RADIANS(O$4))-'Hearts Desire II'!O74*SIN(RADIANS(O$4))+O$1,\"\")","v":""},{"$f":"IF('Hearts Desire II'!O74<>\"\",('Hearts Desire II'!N74*SIN(RADIANS(O$4))+'Hearts Desire II'!O74*COS(RADIANS(O$4))*O$3)+O$2,\"\")","v":""},null,{"$f":"IF('Hearts Desire II'!Q74<>\"\",'Hearts Desire II'!Q74*COS(RADIANS(T$4))-'Hearts Desire II'!R74*SIN(RADIANS(T$4))+T$1,\"\")","v":""},{"$f":"IF('Hearts Desire II'!R74<>\"\",('Hearts Desire II'!Q74*SIN(RADIANS(T$4))+'Hearts Desire II'!R74*COS(RADIANS(T$4))*T$3)+T$2,\"\")","v":""},{"$f":"IF('Hearts Desire II'!S74<>\"\",'Hearts Desire II'!S74*COS(RADIANS(T$4))-'Hearts Desire II'!T74*SIN(RADIANS(T$4))+T$1,\"\")","v":""},{"$f":"IF('Hearts Desire II'!T74<>\"\",('Hearts Desire II'!S74*SIN(RADIANS(T$4))+'Hearts Desire II'!T74*COS(RADIANS(T$4))*T$3)+T$2,\"\")","v":""},null,{"$f":"IF('Hearts Desire II'!V74<>\"\",'Hearts Desire II'!V74*COS(RADIANS(Y$4))-'Hearts Desire II'!W74*SIN(RADIANS(Y$4))+Y$1,\"\")","v":""},{"$f":"IF('Hearts Desire II'!W74<>\"\",('Hearts Desire II'!V74*SIN(RADIANS(Y$4))+'Hearts Desire II'!W74*COS(RADIANS(Y$4))*Y$3)+Y$2,\"\")","v":""},{"$f":"IF('Hearts Desire II'!X74<>\"\",'Hearts Desire II'!X74*COS(RADIANS(Y$4))-'Hearts Desire II'!Y74*SIN(RADIANS(Y$4))+Y$1,\"\")","v":""},{"$f":"IF('Hearts Desire II'!Y74<>\"\",('Hearts Desire II'!X74*SIN(RADIANS(Y$4))+'Hearts Desire II'!Y74*COS(RADIANS(Y$4))*Y$3)+Y$2,\"\")","v":""}]
[null,{"$f":"IF('Hearts Desire II'!B75<>\"\",'Hearts Desire II'!B75*COS(RADIANS(E$4))-'Hearts Desire II'!C75*SIN(RADIANS(E$4))+E$1,\"\")","v":""},{"$f":"IF('Hearts Desire II'!C75<>\"\",('Hearts Desire II'!B75*SIN(RADIANS(E$4))+'Hearts Desire II'!C75*COS(RADIANS(E$4))*E$3)+E$2,\"\")","v":""},{"$f":"IF('Hearts Desire II'!D75<>\"\",'Hearts Desire II'!D75*COS(RADIANS(E$4))-'Hearts Desire II'!E75*SIN(RADIANS(E$4))+E$1,\"\")","v":""},{"$f":"IF('Hearts Desire II'!E75<>\"\",('Hearts Desire II'!D75*SIN(RADIANS(E$4))+'Hearts Desire II'!E75*COS(RADIANS(E$4))*E$3)+E$2,\"\")","v":""},null,{"$f":"IF('Hearts Desire II'!G75<>\"\",'Hearts Desire II'!G75*COS(RADIANS(J$4))-'Hearts Desire II'!H75*SIN(RADIANS(J$4))+J$1,\"\")","v":""},{"$f":"IF('Hearts Desire II'!H75<>\"\",('Hearts Desire II'!G75*SIN(RADIANS(J$4))+'Hearts Desire II'!H75*COS(RADIANS(J$4))*J$3)+J$2,\"\")","v":""},{"$f":"IF('Hearts Desire II'!I75<>\"\",'Hearts Desire II'!I75*COS(RADIANS(J$4))-'Hearts Desire II'!J75*SIN(RADIANS(J$4))+J$1,\"\")","v":""},{"$f":"IF('Hearts Desire II'!J75<>\"\",('Hearts Desire II'!I75*SIN(RADIANS(J$4))+'Hearts Desire II'!J75*COS(RADIANS(J$4))*J$3)+J$2,\"\")","v":""},null,{"$f":"IF('Hearts Desire II'!L75<>\"\",'Hearts Desire II'!L75*COS(RADIANS(O$4))-'Hearts Desire II'!M75*SIN(RADIANS(O$4))+O$1,\"\")","v":""},{"$f":"IF('Hearts Desire II'!M75<>\"\",('Hearts Desire II'!L75*SIN(RADIANS(O$4))+'Hearts Desire II'!M75*COS(RADIANS(O$4))*O$3)+O$2,\"\")","v":""},{"$f":"IF('Hearts Desire II'!N75<>\"\",'Hearts Desire II'!N75*COS(RADIANS(O$4))-'Hearts Desire II'!O75*SIN(RADIANS(O$4))+O$1,\"\")","v":""},{"$f":"IF('Hearts Desire II'!O75<>\"\",('Hearts Desire II'!N75*SIN(RADIANS(O$4))+'Hearts Desire II'!O75*COS(RADIANS(O$4))*O$3)+O$2,\"\")","v":""},null,{"$f":"IF('Hearts Desire II'!Q75<>\"\",'Hearts Desire II'!Q75*COS(RADIANS(T$4))-'Hearts Desire II'!R75*SIN(RADIANS(T$4))+T$1,\"\")","v":""},{"$f":"IF('Hearts Desire II'!R75<>\"\",('Hearts Desire II'!Q75*SIN(RADIANS(T$4))+'Hearts Desire II'!R75*COS(RADIANS(T$4))*T$3)+T$2,\"\")","v":""},{"$f":"IF('Hearts Desire II'!S75<>\"\",'Hearts Desire II'!S75*COS(RADIANS(T$4))-'Hearts Desire II'!T75*SIN(RADIANS(T$4))+T$1,\"\")","v":""},{"$f":"IF('Hearts Desire II'!T75<>\"\",('Hearts Desire II'!S75*SIN(RADIANS(T$4))+'Hearts Desire II'!T75*COS(RADIANS(T$4))*T$3)+T$2,\"\")","v":""},null,{"$f":"IF('Hearts Desire II'!V75<>\"\",'Hearts Desire II'!V75*COS(RADIANS(Y$4))-'Hearts Desire II'!W75*SIN(RADIANS(Y$4))+Y$1,\"\")","v":""},{"$f":"IF('Hearts Desire II'!W75<>\"\",('Hearts Desire II'!V75*SIN(RADIANS(Y$4))+'Hearts Desire II'!W75*COS(RADIANS(Y$4))*Y$3)+Y$2,\"\")","v":""},{"$f":"IF('Hearts Desire II'!X75<>\"\",'Hearts Desire II'!X75*COS(RADIANS(Y$4))-'Hearts Desire II'!Y75*SIN(RADIANS(Y$4))+Y$1,\"\")","v":""},{"$f":"IF('Hearts Desire II'!Y75<>\"\",('Hearts Desire II'!X75*SIN(RADIANS(Y$4))+'Hearts Desire II'!Y75*COS(RADIANS(Y$4))*Y$3)+Y$2,\"\")","v":""}]
[null,{"$f":"IF('Hearts Desire II'!B76<>\"\",'Hearts Desire II'!B76*COS(RADIANS(E$4))-'Hearts Desire II'!C76*SIN(RADIANS(E$4))+E$1,\"\")","v":""},{"$f":"IF('Hearts Desire II'!C76<>\"\",('Hearts Desire II'!B76*SIN(RADIANS(E$4))+'Hearts Desire II'!C76*COS(RADIANS(E$4))*E$3)+E$2,\"\")","v":""},{"$f":"IF('Hearts Desire II'!D76<>\"\",'Hearts Desire II'!D76*COS(RADIANS(E$4))-'Hearts Desire II'!E76*SIN(RADIANS(E$4))+E$1,\"\")","v":""},{"$f":"IF('Hearts Desire II'!E76<>\"\",('Hearts Desire II'!D76*SIN(RADIANS(E$4))+'Hearts Desire II'!E76*COS(RADIANS(E$4))*E$3)+E$2,\"\")","v":""},null,{"$f":"IF('Hearts Desire II'!G76<>\"\",'Hearts Desire II'!G76*COS(RADIANS(J$4))-'Hearts Desire II'!H76*SIN(RADIANS(J$4))+J$1,\"\")","v":""},{"$f":"IF('Hearts Desire II'!H76<>\"\",('Hearts Desire II'!G76*SIN(RADIANS(J$4))+'Hearts Desire II'!H76*COS(RADIANS(J$4))*J$3)+J$2,\"\")","v":""},{"$f":"IF('Hearts Desire II'!I76<>\"\",'Hearts Desire II'!I76*COS(RADIANS(J$4))-'Hearts Desire II'!J76*SIN(RADIANS(J$4))+J$1,\"\")","v":""},{"$f":"IF('Hearts Desire II'!J76<>\"\",('Hearts Desire II'!I76*SIN(RADIANS(J$4))+'Hearts Desire II'!J76*COS(RADIANS(J$4))*J$3)+J$2,\"\")","v":""},null,{"$f":"IF('Hearts Desire II'!L76<>\"\",'Hearts Desire II'!L76*COS(RADIANS(O$4))-'Hearts Desire II'!M76*SIN(RADIANS(O$4))+O$1,\"\")","v":""},{"$f":"IF('Hearts Desire II'!M76<>\"\",('Hearts Desire II'!L76*SIN(RADIANS(O$4))+'Hearts Desire II'!M76*COS(RADIANS(O$4))*O$3)+O$2,\"\")","v":""},{"$f":"IF('Hearts Desire II'!N76<>\"\",'Hearts Desire II'!N76*COS(RADIANS(O$4))-'Hearts Desire II'!O76*SIN(RADIANS(O$4))+O$1,\"\")","v":""},{"$f":"IF('Hearts Desire II'!O76<>\"\",('Hearts Desire II'!N76*SIN(RADIANS(O$4))+'Hearts Desire II'!O76*COS(RADIANS(O$4))*O$3)+O$2,\"\")","v":""},null,{"$f":"IF('Hearts Desire II'!Q76<>\"\",'Hearts Desire II'!Q76*COS(RADIANS(T$4))-'Hearts Desire II'!R76*SIN(RADIANS(T$4))+T$1,\"\")","v":""},{"$f":"IF('Hearts Desire II'!R76<>\"\",('Hearts Desire II'!Q76*SIN(RADIANS(T$4))+'Hearts Desire II'!R76*COS(RADIANS(T$4))*T$3)+T$2,\"\")","v":""},{"$f":"IF('Hearts Desire II'!S76<>\"\",'Hearts Desire II'!S76*COS(RADIANS(T$4))-'Hearts Desire II'!T76*SIN(RADIANS(T$4))+T$1,\"\")","v":""},{"$f":"IF('Hearts Desire II'!T76<>\"\",('Hearts Desire II'!S76*SIN(RADIANS(T$4))+'Hearts Desire II'!T76*COS(RADIANS(T$4))*T$3)+T$2,\"\")","v":""},null,{"$f":"IF('Hearts Desire II'!V76<>\"\",'Hearts Desire II'!V76*COS(RADIANS(Y$4))-'Hearts Desire II'!W76*SIN(RADIANS(Y$4))+Y$1,\"\")","v":""},{"$f":"IF('Hearts Desire II'!W76<>\"\",('Hearts Desire II'!V76*SIN(RADIANS(Y$4))+'Hearts Desire II'!W76*COS(RADIANS(Y$4))*Y$3)+Y$2,\"\")","v":""},{"$f":"IF('Hearts Desire II'!X76<>\"\",'Hearts Desire II'!X76*COS(RADIANS(Y$4))-'Hearts Desire II'!Y76*SIN(RADIANS(Y$4))+Y$1,\"\")","v":""},{"$f":"IF('Hearts Desire II'!Y76<>\"\",('Hearts Desire II'!X76*SIN(RADIANS(Y$4))+'Hearts Desire II'!Y76*COS(RADIANS(Y$4))*Y$3)+Y$2,\"\")","v":""}]
[null,{"$f":"IF('Hearts Desire II'!B77<>\"\",'Hearts Desire II'!B77*COS(RADIANS(E$4))-'Hearts Desire II'!C77*SIN(RADIANS(E$4))+E$1,\"\")","v":""},{"$f":"IF('Hearts Desire II'!C77<>\"\",('Hearts Desire II'!B77*SIN(RADIANS(E$4))+'Hearts Desire II'!C77*COS(RADIANS(E$4))*E$3)+E$2,\"\")","v":""},{"$f":"IF('Hearts Desire II'!D77<>\"\",'Hearts Desire II'!D77*COS(RADIANS(E$4))-'Hearts Desire II'!E77*SIN(RADIANS(E$4))+E$1,\"\")","v":""},{"$f":"IF('Hearts Desire II'!E77<>\"\",('Hearts Desire II'!D77*SIN(RADIANS(E$4))+'Hearts Desire II'!E77*COS(RADIANS(E$4))*E$3)+E$2,\"\")","v":""},null,{"$f":"IF('Hearts Desire II'!G77<>\"\",'Hearts Desire II'!G77*COS(RADIANS(J$4))-'Hearts Desire II'!H77*SIN(RADIANS(J$4))+J$1,\"\")","v":""},{"$f":"IF('Hearts Desire II'!H77<>\"\",('Hearts Desire II'!G77*SIN(RADIANS(J$4))+'Hearts Desire II'!H77*COS(RADIANS(J$4))*J$3)+J$2,\"\")","v":""},{"$f":"IF('Hearts Desire II'!I77<>\"\",'Hearts Desire II'!I77*COS(RADIANS(J$4))-'Hearts Desire II'!J77*SIN(RADIANS(J$4))+J$1,\"\")","v":""},{"$f":"IF('Hearts Desire II'!J77<>\"\",('Hearts Desire II'!I77*SIN(RADIANS(J$4))+'Hearts Desire II'!J77*COS(RADIANS(J$4))*J$3)+J$2,\"\")","v":""},null,{"$f":"IF('Hearts Desire II'!L77<>\"\",'Hearts Desire II'!L77*COS(RADIANS(O$4))-'Hearts Desire II'!M77*SIN(RADIANS(O$4))+O$1,\"\")","v":""},{"$f":"IF('Hearts Desire II'!M77<>\"\",('Hearts Desire II'!L77*SIN(RADIANS(O$4))+'Hearts Desire II'!M77*COS(RADIANS(O$4))*O$3)+O$2,\"\")","v":""},{"$f":"IF('Hearts Desire II'!N77<>\"\",'Hearts Desire II'!N77*COS(RADIANS(O$4))-'Hearts Desire II'!O77*SIN(RADIANS(O$4))+O$1,\"\")","v":""},{"$f":"IF('Hearts Desire II'!O77<>\"\",('Hearts Desire II'!N77*SIN(RADIANS(O$4))+'Hearts Desire II'!O77*COS(RADIANS(O$4))*O$3)+O$2,\"\")","v":""},null,{"$f":"IF('Hearts Desire II'!Q77<>\"\",'Hearts Desire II'!Q77*COS(RADIANS(T$4))-'Hearts Desire II'!R77*SIN(RADIANS(T$4))+T$1,\"\")","v":""},{"$f":"IF('Hearts Desire II'!R77<>\"\",('Hearts Desire II'!Q77*SIN(RADIANS(T$4))+'Hearts Desire II'!R77*COS(RADIANS(T$4))*T$3)+T$2,\"\")","v":""},{"$f":"IF('Hearts Desire II'!S77<>\"\",'Hearts Desire II'!S77*COS(RADIANS(T$4))-'Hearts Desire II'!T77*SIN(RADIANS(T$4))+T$1,\"\")","v":""},{"$f":"IF('Hearts Desire II'!T77<>\"\",('Hearts Desire II'!S77*SIN(RADIANS(T$4))+'Hearts Desire II'!T77*COS(RADIANS(T$4))*T$3)+T$2,\"\")","v":""},null,{"$f":"IF('Hearts Desire II'!V77<>\"\",'Hearts Desire II'!V77*COS(RADIANS(Y$4))-'Hearts Desire II'!W77*SIN(RADIANS(Y$4))+Y$1,\"\")","v":""},{"$f":"IF('Hearts Desire II'!W77<>\"\",('Hearts Desire II'!V77*SIN(RADIANS(Y$4))+'Hearts Desire II'!W77*COS(RADIANS(Y$4))*Y$3)+Y$2,\"\")","v":""},{"$f":"IF('Hearts Desire II'!X77<>\"\",'Hearts Desire II'!X77*COS(RADIANS(Y$4))-'Hearts Desire II'!Y77*SIN(RADIANS(Y$4))+Y$1,\"\")","v":""},{"$f":"IF('Hearts Desire II'!Y77<>\"\",('Hearts Desire II'!X77*SIN(RADIANS(Y$4))+'Hearts Desire II'!Y77*COS(RADIANS(Y$4))*Y$3)+Y$2,\"\")","v":""}]
[null,{"$f":"IF('Hearts Desire II'!B78<>\"\",'Hearts Desire II'!B78*COS(RADIANS(E$4))-'Hearts Desire II'!C78*SIN(RADIANS(E$4))+E$1,\"\")","v":""},{"$f":"IF('Hearts Desire II'!C78<>\"\",('Hearts Desire II'!B78*SIN(RADIANS(E$4))+'Hearts Desire II'!C78*COS(RADIANS(E$4))*E$3)+E$2,\"\")","v":""},{"$f":"IF('Hearts Desire II'!D78<>\"\",'Hearts Desire II'!D78*COS(RADIANS(E$4))-'Hearts Desire II'!E78*SIN(RADIANS(E$4))+E$1,\"\")","v":""},{"$f":"IF('Hearts Desire II'!E78<>\"\",('Hearts Desire II'!D78*SIN(RADIANS(E$4))+'Hearts Desire II'!E78*COS(RADIANS(E$4))*E$3)+E$2,\"\")","v":""},null,{"$f":"IF('Hearts Desire II'!G78<>\"\",'Hearts Desire II'!G78*COS(RADIANS(J$4))-'Hearts Desire II'!H78*SIN(RADIANS(J$4))+J$1,\"\")","v":""},{"$f":"IF('Hearts Desire II'!H78<>\"\",('Hearts Desire II'!G78*SIN(RADIANS(J$4))+'Hearts Desire II'!H78*COS(RADIANS(J$4))*J$3)+J$2,\"\")","v":""},{"$f":"IF('Hearts Desire II'!I78<>\"\",'Hearts Desire II'!I78*COS(RADIANS(J$4))-'Hearts Desire II'!J78*SIN(RADIANS(J$4))+J$1,\"\")","v":""},{"$f":"IF('Hearts Desire II'!J78<>\"\",('Hearts Desire II'!I78*SIN(RADIANS(J$4))+'Hearts Desire II'!J78*COS(RADIANS(J$4))*J$3)+J$2,\"\")","v":""},null,{"$f":"IF('Hearts Desire II'!L78<>\"\",'Hearts Desire II'!L78*COS(RADIANS(O$4))-'Hearts Desire II'!M78*SIN(RADIANS(O$4))+O$1,\"\")","v":""},{"$f":"IF('Hearts Desire II'!M78<>\"\",('Hearts Desire II'!L78*SIN(RADIANS(O$4))+'Hearts Desire II'!M78*COS(RADIANS(O$4))*O$3)+O$2,\"\")","v":""},{"$f":"IF('Hearts Desire II'!N78<>\"\",'Hearts Desire II'!N78*COS(RADIANS(O$4))-'Hearts Desire II'!O78*SIN(RADIANS(O$4))+O$1,\"\")","v":""},{"$f":"IF('Hearts Desire II'!O78<>\"\",('Hearts Desire II'!N78*SIN(RADIANS(O$4))+'Hearts Desire II'!O78*COS(RADIANS(O$4))*O$3)+O$2,\"\")","v":""},null,{"$f":"IF('Hearts Desire II'!Q78<>\"\",'Hearts Desire II'!Q78*COS(RADIANS(T$4))-'Hearts Desire II'!R78*SIN(RADIANS(T$4))+T$1,\"\")","v":""},{"$f":"IF('Hearts Desire II'!R78<>\"\",('Hearts Desire II'!Q78*SIN(RADIANS(T$4))+'Hearts Desire II'!R78*COS(RADIANS(T$4))*T$3)+T$2,\"\")","v":""},{"$f":"IF('Hearts Desire II'!S78<>\"\",'Hearts Desire II'!S78*COS(RADIANS(T$4))-'Hearts Desire II'!T78*SIN(RADIANS(T$4))+T$1,\"\")","v":""},{"$f":"IF('Hearts Desire II'!T78<>\"\",('Hearts Desire II'!S78*SIN(RADIANS(T$4))+'Hearts Desire II'!T78*COS(RADIANS(T$4))*T$3)+T$2,\"\")","v":""},null,{"$f":"IF('Hearts Desire II'!V78<>\"\",'Hearts Desire II'!V78*COS(RADIANS(Y$4))-'Hearts Desire II'!W78*SIN(RADIANS(Y$4))+Y$1,\"\")","v":""},{"$f":"IF('Hearts Desire II'!W78<>\"\",('Hearts Desire II'!V78*SIN(RADIANS(Y$4))+'Hearts Desire II'!W78*COS(RADIANS(Y$4))*Y$3)+Y$2,\"\")","v":""},{"$f":"IF('Hearts Desire II'!X78<>\"\",'Hearts Desire II'!X78*COS(RADIANS(Y$4))-'Hearts Desire II'!Y78*SIN(RADIANS(Y$4))+Y$1,\"\")","v":""},{"$f":"IF('Hearts Desire II'!Y78<>\"\",('Hearts Desire II'!X78*SIN(RADIANS(Y$4))+'Hearts Desire II'!Y78*COS(RADIANS(Y$4))*Y$3)+Y$2,\"\")","v":""}]
[null,{"$f":"IF('Hearts Desire II'!B79<>\"\",'Hearts Desire II'!B79*COS(RADIANS(E$4))-'Hearts Desire II'!C79*SIN(RADIANS(E$4))+E$1,\"\")","v":""},{"$f":"IF('Hearts Desire II'!C79<>\"\",('Hearts Desire II'!B79*SIN(RADIANS(E$4))+'Hearts Desire II'!C79*COS(RADIANS(E$4))*E$3)+E$2,\"\")","v":""},{"$f":"IF('Hearts Desire II'!D79<>\"\",'Hearts Desire II'!D79*COS(RADIANS(E$4))-'Hearts Desire II'!E79*SIN(RADIANS(E$4))+E$1,\"\")","v":""},{"$f":"IF('Hearts Desire II'!E79<>\"\",('Hearts Desire II'!D79*SIN(RADIANS(E$4))+'Hearts Desire II'!E79*COS(RADIANS(E$4))*E$3)+E$2,\"\")","v":""},null,{"$f":"IF('Hearts Desire II'!G79<>\"\",'Hearts Desire II'!G79*COS(RADIANS(J$4))-'Hearts Desire II'!H79*SIN(RADIANS(J$4))+J$1,\"\")","v":""},{"$f":"IF('Hearts Desire II'!H79<>\"\",('Hearts Desire II'!G79*SIN(RADIANS(J$4))+'Hearts Desire II'!H79*COS(RADIANS(J$4))*J$3)+J$2,\"\")","v":""},{"$f":"IF('Hearts Desire II'!I79<>\"\",'Hearts Desire II'!I79*COS(RADIANS(J$4))-'Hearts Desire II'!J79*SIN(RADIANS(J$4))+J$1,\"\")","v":""},{"$f":"IF('Hearts Desire II'!J79<>\"\",('Hearts Desire II'!I79*SIN(RADIANS(J$4))+'Hearts Desire II'!J79*COS(RADIANS(J$4))*J$3)+J$2,\"\")","v":""},null,{"$f":"IF('Hearts Desire II'!L79<>\"\",'Hearts Desire II'!L79*COS(RADIANS(O$4))-'Hearts Desire II'!M79*SIN(RADIANS(O$4))+O$1,\"\")","v":""},{"$f":"IF('Hearts Desire II'!M79<>\"\",('Hearts Desire II'!L79*SIN(RADIANS(O$4))+'Hearts Desire II'!M79*COS(RADIANS(O$4))*O$3)+O$2,\"\")","v":""},{"$f":"IF('Hearts Desire II'!N79<>\"\",'Hearts Desire II'!N79*COS(RADIANS(O$4))-'Hearts Desire II'!O79*SIN(RADIANS(O$4))+O$1,\"\")","v":""},{"$f":"IF('Hearts Desire II'!O79<>\"\",('Hearts Desire II'!N79*SIN(RADIANS(O$4))+'Hearts Desire II'!O79*COS(RADIANS(O$4))*O$3)+O$2,\"\")","v":""},null,{"$f":"IF('Hearts Desire II'!Q79<>\"\",'Hearts Desire II'!Q79*COS(RADIANS(T$4))-'Hearts Desire II'!R79*SIN(RADIANS(T$4))+T$1,\"\")","v":""},{"$f":"IF('Hearts Desire II'!R79<>\"\",('Hearts Desire II'!Q79*SIN(RADIANS(T$4))+'Hearts Desire II'!R79*COS(RADIANS(T$4))*T$3)+T$2,\"\")","v":""},{"$f":"IF('Hearts Desire II'!S79<>\"\",'Hearts Desire II'!S79*COS(RADIANS(T$4))-'Hearts Desire II'!T79*SIN(RADIANS(T$4))+T$1,\"\")","v":""},{"$f":"IF('Hearts Desire II'!T79<>\"\",('Hearts Desire II'!S79*SIN(RADIANS(T$4))+'Hearts Desire II'!T79*COS(RADIANS(T$4))*T$3)+T$2,\"\")","v":""},null,{"$f":"IF('Hearts Desire II'!V79<>\"\",'Hearts Desire II'!V79*COS(RADIANS(Y$4))-'Hearts Desire II'!W79*SIN(RADIANS(Y$4))+Y$1,\"\")","v":""},{"$f":"IF('Hearts Desire II'!W79<>\"\",('Hearts Desire II'!V79*SIN(RADIANS(Y$4))+'Hearts Desire II'!W79*COS(RADIANS(Y$4))*Y$3)+Y$2,\"\")","v":""},{"$f":"IF('Hearts Desire II'!X79<>\"\",'Hearts Desire II'!X79*COS(RADIANS(Y$4))-'Hearts Desire II'!Y79*SIN(RADIANS(Y$4))+Y$1,\"\")","v":""},{"$f":"IF('Hearts Desire II'!Y79<>\"\",('Hearts Desire II'!X79*SIN(RADIANS(Y$4))+'Hearts Desire II'!Y79*COS(RADIANS(Y$4))*Y$3)+Y$2,\"\")","v":""}]
[null,{"$f":"IF('Hearts Desire II'!B80<>\"\",'Hearts Desire II'!B80*COS(RADIANS(E$4))-'Hearts Desire II'!C80*SIN(RADIANS(E$4))+E$1,\"\")","v":""},{"$f":"IF('Hearts Desire II'!C80<>\"\",('Hearts Desire II'!B80*SIN(RADIANS(E$4))+'Hearts Desire II'!C80*COS(RADIANS(E$4))*E$3)+E$2,\"\")","v":""},{"$f":"IF('Hearts Desire II'!D80<>\"\",'Hearts Desire II'!D80*COS(RADIANS(E$4))-'Hearts Desire II'!E80*SIN(RADIANS(E$4))+E$1,\"\")","v":""},{"$f":"IF('Hearts Desire II'!E80<>\"\",('Hearts Desire II'!D80*SIN(RADIANS(E$4))+'Hearts Desire II'!E80*COS(RADIANS(E$4))*E$3)+E$2,\"\")","v":""},null,{"$f":"IF('Hearts Desire II'!G80<>\"\",'Hearts Desire II'!G80*COS(RADIANS(J$4))-'Hearts Desire II'!H80*SIN(RADIANS(J$4))+J$1,\"\")","v":""},{"$f":"IF('Hearts Desire II'!H80<>\"\",('Hearts Desire II'!G80*SIN(RADIANS(J$4))+'Hearts Desire II'!H80*COS(RADIANS(J$4))*J$3)+J$2,\"\")","v":""},{"$f":"IF('Hearts Desire II'!I80<>\"\",'Hearts Desire II'!I80*COS(RADIANS(J$4))-'Hearts Desire II'!J80*SIN(RADIANS(J$4))+J$1,\"\")","v":""},{"$f":"IF('Hearts Desire II'!J80<>\"\",('Hearts Desire II'!I80*SIN(RADIANS(J$4))+'Hearts Desire II'!J80*COS(RADIANS(J$4))*J$3)+J$2,\"\")","v":""},null,{"$f":"IF('Hearts Desire II'!L80<>\"\",'Hearts Desire II'!L80*COS(RADIANS(O$4))-'Hearts Desire II'!M80*SIN(RADIANS(O$4))+O$1,\"\")","v":""},{"$f":"IF('Hearts Desire II'!M80<>\"\",('Hearts Desire II'!L80*SIN(RADIANS(O$4))+'Hearts Desire II'!M80*COS(RADIANS(O$4))*O$3)+O$2,\"\")","v":""},{"$f":"IF('Hearts Desire II'!N80<>\"\",'Hearts Desire II'!N80*COS(RADIANS(O$4))-'Hearts Desire II'!O80*SIN(RADIANS(O$4))+O$1,\"\")","v":""},{"$f":"IF('Hearts Desire II'!O80<>\"\",('Hearts Desire II'!N80*SIN(RADIANS(O$4))+'Hearts Desire II'!O80*COS(RADIANS(O$4))*O$3)+O$2,\"\")","v":""},null,{"$f":"IF('Hearts Desire II'!Q80<>\"\",'Hearts Desire II'!Q80*COS(RADIANS(T$4))-'Hearts Desire II'!R80*SIN(RADIANS(T$4))+T$1,\"\")","v":""},{"$f":"IF('Hearts Desire II'!R80<>\"\",('Hearts Desire II'!Q80*SIN(RADIANS(T$4))+'Hearts Desire II'!R80*COS(RADIANS(T$4))*T$3)+T$2,\"\")","v":""},{"$f":"IF('Hearts Desire II'!S80<>\"\",'Hearts Desire II'!S80*COS(RADIANS(T$4))-'Hearts Desire II'!T80*SIN(RADIANS(T$4))+T$1,\"\")","v":""},{"$f":"IF('Hearts Desire II'!T80<>\"\",('Hearts Desire II'!S80*SIN(RADIANS(T$4))+'Hearts Desire II'!T80*COS(RADIANS(T$4))*T$3)+T$2,\"\")","v":""},null,{"$f":"IF('Hearts Desire II'!V80<>\"\",'Hearts Desire II'!V80*COS(RADIANS(Y$4))-'Hearts Desire II'!W80*SIN(RADIANS(Y$4))+Y$1,\"\")","v":""},{"$f":"IF('Hearts Desire II'!W80<>\"\",('Hearts Desire II'!V80*SIN(RADIANS(Y$4))+'Hearts Desire II'!W80*COS(RADIANS(Y$4))*Y$3)+Y$2,\"\")","v":""},{"$f":"IF('Hearts Desire II'!X80<>\"\",'Hearts Desire II'!X80*COS(RADIANS(Y$4))-'Hearts Desire II'!Y80*SIN(RADIANS(Y$4))+Y$1,\"\")","v":""},{"$f":"IF('Hearts Desire II'!Y80<>\"\",('Hearts Desire II'!X80*SIN(RADIANS(Y$4))+'Hearts Desire II'!Y80*COS(RADIANS(Y$4))*Y$3)+Y$2,\"\")","v":""}]
[null,{"$f":"IF('Hearts Desire II'!B81<>\"\",'Hearts Desire II'!B81*COS(RADIANS(E$4))-'Hearts Desire II'!C81*SIN(RADIANS(E$4))+E$1,\"\")","v":""},{"$f":"IF('Hearts Desire II'!C81<>\"\",('Hearts Desire II'!B81*SIN(RADIANS(E$4))+'Hearts Desire II'!C81*COS(RADIANS(E$4))*E$3)+E$2,\"\")","v":""},{"$f":"IF('Hearts Desire II'!D81<>\"\",'Hearts Desire II'!D81*COS(RADIANS(E$4))-'Hearts Desire II'!E81*SIN(RADIANS(E$4))+E$1,\"\")","v":""},{"$f":"IF('Hearts Desire II'!E81<>\"\",('Hearts Desire II'!D81*SIN(RADIANS(E$4))+'Hearts Desire II'!E81*COS(RADIANS(E$4))*E$3)+E$2,\"\")","v":""},null,{"$f":"IF('Hearts Desire II'!G81<>\"\",'Hearts Desire II'!G81*COS(RADIANS(J$4))-'Hearts Desire II'!H81*SIN(RADIANS(J$4))+J$1,\"\")","v":""},{"$f":"IF('Hearts Desire II'!H81<>\"\",('Hearts Desire II'!G81*SIN(RADIANS(J$4))+'Hearts Desire II'!H81*COS(RADIANS(J$4))*J$3)+J$2,\"\")","v":""},{"$f":"IF('Hearts Desire II'!I81<>\"\",'Hearts Desire II'!I81*COS(RADIANS(J$4))-'Hearts Desire II'!J81*SIN(RADIANS(J$4))+J$1,\"\")","v":""},{"$f":"IF('Hearts Desire II'!J81<>\"\",('Hearts Desire II'!I81*SIN(RADIANS(J$4))+'Hearts Desire II'!J81*COS(RADIANS(J$4))*J$3)+J$2,\"\")","v":""},null,{"$f":"IF('Hearts Desire II'!L81<>\"\",'Hearts Desire II'!L81*COS(RADIANS(O$4))-'Hearts Desire II'!M81*SIN(RADIANS(O$4))+O$1,\"\")","v":""},{"$f":"IF('Hearts Desire II'!M81<>\"\",('Hearts Desire II'!L81*SIN(RADIANS(O$4))+'Hearts Desire II'!M81*COS(RADIANS(O$4))*O$3)+O$2,\"\")","v":""},{"$f":"IF('Hearts Desire II'!N81<>\"\",'Hearts Desire II'!N81*COS(RADIANS(O$4))-'Hearts Desire II'!O81*SIN(RADIANS(O$4))+O$1,\"\")","v":""},{"$f":"IF('Hearts Desire II'!O81<>\"\",('Hearts Desire II'!N81*SIN(RADIANS(O$4))+'Hearts Desire II'!O81*COS(RADIANS(O$4))*O$3)+O$2,\"\")","v":""},null,{"$f":"IF('Hearts Desire II'!Q81<>\"\",'Hearts Desire II'!Q81*COS(RADIANS(T$4))-'Hearts Desire II'!R81*SIN(RADIANS(T$4))+T$1,\"\")","v":""},{"$f":"IF('Hearts Desire II'!R81<>\"\",('Hearts Desire II'!Q81*SIN(RADIANS(T$4))+'Hearts Desire II'!R81*COS(RADIANS(T$4))*T$3)+T$2,\"\")","v":""},{"$f":"IF('Hearts Desire II'!S81<>\"\",'Hearts Desire II'!S81*COS(RADIANS(T$4))-'Hearts Desire II'!T81*SIN(RADIANS(T$4))+T$1,\"\")","v":""},{"$f":"IF('Hearts Desire II'!T81<>\"\",('Hearts Desire II'!S81*SIN(RADIANS(T$4))+'Hearts Desire II'!T81*COS(RADIANS(T$4))*T$3)+T$2,\"\")","v":""},null,{"$f":"IF('Hearts Desire II'!V81<>\"\",'Hearts Desire II'!V81*COS(RADIANS(Y$4))-'Hearts Desire II'!W81*SIN(RADIANS(Y$4))+Y$1,\"\")","v":""},{"$f":"IF('Hearts Desire II'!W81<>\"\",('Hearts Desire II'!V81*SIN(RADIANS(Y$4))+'Hearts Desire II'!W81*COS(RADIANS(Y$4))*Y$3)+Y$2,\"\")","v":""},{"$f":"IF('Hearts Desire II'!X81<>\"\",'Hearts Desire II'!X81*COS(RADIANS(Y$4))-'Hearts Desire II'!Y81*SIN(RADIANS(Y$4))+Y$1,\"\")","v":""},{"$f":"IF('Hearts Desire II'!Y81<>\"\",('Hearts Desire II'!X81*SIN(RADIANS(Y$4))+'Hearts Desire II'!Y81*COS(RADIANS(Y$4))*Y$3)+Y$2,\"\")","v":""}]
[null,{"$f":"IF('Hearts Desire II'!B82<>\"\",'Hearts Desire II'!B82*COS(RADIANS(E$4))-'Hearts Desire II'!C82*SIN(RADIANS(E$4))+E$1,\"\")","v":""},{"$f":"IF('Hearts Desire II'!C82<>\"\",('Hearts Desire II'!B82*SIN(RADIANS(E$4))+'Hearts Desire II'!C82*COS(RADIANS(E$4))*E$3)+E$2,\"\")","v":""},{"$f":"IF('Hearts Desire II'!D82<>\"\",'Hearts Desire II'!D82*COS(RADIANS(E$4))-'Hearts Desire II'!E82*SIN(RADIANS(E$4))+E$1,\"\")","v":""},{"$f":"IF('Hearts Desire II'!E82<>\"\",('Hearts Desire II'!D82*SIN(RADIANS(E$4))+'Hearts Desire II'!E82*COS(RADIANS(E$4))*E$3)+E$2,\"\")","v":""},null,{"$f":"IF('Hearts Desire II'!G82<>\"\",'Hearts Desire II'!G82*COS(RADIANS(J$4))-'Hearts Desire II'!H82*SIN(RADIANS(J$4))+J$1,\"\")","v":""},{"$f":"IF('Hearts Desire II'!H82<>\"\",('Hearts Desire II'!G82*SIN(RADIANS(J$4))+'Hearts Desire II'!H82*COS(RADIANS(J$4))*J$3)+J$2,\"\")","v":""},{"$f":"IF('Hearts Desire II'!I82<>\"\",'Hearts Desire II'!I82*COS(RADIANS(J$4))-'Hearts Desire II'!J82*SIN(RADIANS(J$4))+J$1,\"\")","v":""},{"$f":"IF('Hearts Desire II'!J82<>\"\",('Hearts Desire II'!I82*SIN(RADIANS(J$4))+'Hearts Desire II'!J82*COS(RADIANS(J$4))*J$3)+J$2,\"\")","v":""},null,{"$f":"IF('Hearts Desire II'!L82<>\"\",'Hearts Desire II'!L82*COS(RADIANS(O$4))-'Hearts Desire II'!M82*SIN(RADIANS(O$4))+O$1,\"\")","v":""},{"$f":"IF('Hearts Desire II'!M82<>\"\",('Hearts Desire II'!L82*SIN(RADIANS(O$4))+'Hearts Desire II'!M82*COS(RADIANS(O$4))*O$3)+O$2,\"\")","v":""},{"$f":"IF('Hearts Desire II'!N82<>\"\",'Hearts Desire II'!N82*COS(RADIANS(O$4))-'Hearts Desire II'!O82*SIN(RADIANS(O$4))+O$1,\"\")","v":""},{"$f":"IF('Hearts Desire II'!O82<>\"\",('Hearts Desire II'!N82*SIN(RADIANS(O$4))+'Hearts Desire II'!O82*COS(RADIANS(O$4))*O$3)+O$2,\"\")","v":""},null,{"$f":"IF('Hearts Desire II'!Q82<>\"\",'Hearts Desire II'!Q82*COS(RADIANS(T$4))-'Hearts Desire II'!R82*SIN(RADIANS(T$4))+T$1,\"\")","v":""},{"$f":"IF('Hearts Desire II'!R82<>\"\",('Hearts Desire II'!Q82*SIN(RADIANS(T$4))+'Hearts Desire II'!R82*COS(RADIANS(T$4))*T$3)+T$2,\"\")","v":""},{"$f":"IF('Hearts Desire II'!S82<>\"\",'Hearts Desire II'!S82*COS(RADIANS(T$4))-'Hearts Desire II'!T82*SIN(RADIANS(T$4))+T$1,\"\")","v":""},{"$f":"IF('Hearts Desire II'!T82<>\"\",('Hearts Desire II'!S82*SIN(RADIANS(T$4))+'Hearts Desire II'!T82*COS(RADIANS(T$4))*T$3)+T$2,\"\")","v":""},null,{"$f":"IF('Hearts Desire II'!V82<>\"\",'Hearts Desire II'!V82*COS(RADIANS(Y$4))-'Hearts Desire II'!W82*SIN(RADIANS(Y$4))+Y$1,\"\")","v":""},{"$f":"IF('Hearts Desire II'!W82<>\"\",('Hearts Desire II'!V82*SIN(RADIANS(Y$4))+'Hearts Desire II'!W82*COS(RADIANS(Y$4))*Y$3)+Y$2,\"\")","v":""},{"$f":"IF('Hearts Desire II'!X82<>\"\",'Hearts Desire II'!X82*COS(RADIANS(Y$4))-'Hearts Desire II'!Y82*SIN(RADIANS(Y$4))+Y$1,\"\")","v":""},{"$f":"IF('Hearts Desire II'!Y82<>\"\",('Hearts Desire II'!X82*SIN(RADIANS(Y$4))+'Hearts Desire II'!Y82*COS(RADIANS(Y$4))*Y$3)+Y$2,\"\")","v":""}]
[null,{"$f":"IF('Hearts Desire II'!B83<>\"\",'Hearts Desire II'!B83*COS(RADIANS(E$4))-'Hearts Desire II'!C83*SIN(RADIANS(E$4))+E$1,\"\")","v":""},{"$f":"IF('Hearts Desire II'!C83<>\"\",('Hearts Desire II'!B83*SIN(RADIANS(E$4))+'Hearts Desire II'!C83*COS(RADIANS(E$4))*E$3)+E$2,\"\")","v":""},{"$f":"IF('Hearts Desire II'!D83<>\"\",'Hearts Desire II'!D83*COS(RADIANS(E$4))-'Hearts Desire II'!E83*SIN(RADIANS(E$4))+E$1,\"\")","v":""},{"$f":"IF('Hearts Desire II'!E83<>\"\",('Hearts Desire II'!D83*SIN(RADIANS(E$4))+'Hearts Desire II'!E83*COS(RADIANS(E$4))*E$3)+E$2,\"\")","v":""},null,{"$f":"IF('Hearts Desire II'!G83<>\"\",'Hearts Desire II'!G83*COS(RADIANS(J$4))-'Hearts Desire II'!H83*SIN(RADIANS(J$4))+J$1,\"\")","v":""},{"$f":"IF('Hearts Desire II'!H83<>\"\",('Hearts Desire II'!G83*SIN(RADIANS(J$4))+'Hearts Desire II'!H83*COS(RADIANS(J$4))*J$3)+J$2,\"\")","v":""},{"$f":"IF('Hearts Desire II'!I83<>\"\",'Hearts Desire II'!I83*COS(RADIANS(J$4))-'Hearts Desire II'!J83*SIN(RADIANS(J$4))+J$1,\"\")","v":""},{"$f":"IF('Hearts Desire II'!J83<>\"\",('Hearts Desire II'!I83*SIN(RADIANS(J$4))+'Hearts Desire II'!J83*COS(RADIANS(J$4))*J$3)+J$2,\"\")","v":""},null,{"$f":"IF('Hearts Desire II'!L83<>\"\",'Hearts Desire II'!L83*COS(RADIANS(O$4))-'Hearts Desire II'!M83*SIN(RADIANS(O$4))+O$1,\"\")","v":""},{"$f":"IF('Hearts Desire II'!M83<>\"\",('Hearts Desire II'!L83*SIN(RADIANS(O$4))+'Hearts Desire II'!M83*COS(RADIANS(O$4))*O$3)+O$2,\"\")","v":""},{"$f":"IF('Hearts Desire II'!N83<>\"\",'Hearts Desire II'!N83*COS(RADIANS(O$4))-'Hearts Desire II'!O83*SIN(RADIANS(O$4))+O$1,\"\")","v":""},{"$f":"IF('Hearts Desire II'!O83<>\"\",('Hearts Desire II'!N83*SIN(RADIANS(O$4))+'Hearts Desire II'!O83*COS(RADIANS(O$4))*O$3)+O$2,\"\")","v":""},null,{"$f":"IF('Hearts Desire II'!Q83<>\"\",'Hearts Desire II'!Q83*COS(RADIANS(T$4))-'Hearts Desire II'!R83*SIN(RADIANS(T$4))+T$1,\"\")","v":""},{"$f":"IF('Hearts Desire II'!R83<>\"\",('Hearts Desire II'!Q83*SIN(RADIANS(T$4))+'Hearts Desire II'!R83*COS(RADIANS(T$4))*T$3)+T$2,\"\")","v":""},{"$f":"IF('Hearts Desire II'!S83<>\"\",'Hearts Desire II'!S83*COS(RADIANS(T$4))-'Hearts Desire II'!T83*SIN(RADIANS(T$4))+T$1,\"\")","v":""},{"$f":"IF('Hearts Desire II'!T83<>\"\",('Hearts Desire II'!S83*SIN(RADIANS(T$4))+'Hearts Desire II'!T83*COS(RADIANS(T$4))*T$3)+T$2,\"\")","v":""},null,{"$f":"IF('Hearts Desire II'!V83<>\"\",'Hearts Desire II'!V83*COS(RADIANS(Y$4))-'Hearts Desire II'!W83*SIN(RADIANS(Y$4))+Y$1,\"\")","v":""},{"$f":"IF('Hearts Desire II'!W83<>\"\",('Hearts Desire II'!V83*SIN(RADIANS(Y$4))+'Hearts Desire II'!W83*COS(RADIANS(Y$4))*Y$3)+Y$2,\"\")","v":""},{"$f":"IF('Hearts Desire II'!X83<>\"\",'Hearts Desire II'!X83*COS(RADIANS(Y$4))-'Hearts Desire II'!Y83*SIN(RADIANS(Y$4))+Y$1,\"\")","v":""},{"$f":"IF('Hearts Desire II'!Y83<>\"\",('Hearts Desire II'!X83*SIN(RADIANS(Y$4))+'Hearts Desire II'!Y83*COS(RADIANS(Y$4))*Y$3)+Y$2,\"\")","v":""}]
[null,{"$f":"IF('Hearts Desire II'!B84<>\"\",'Hearts Desire II'!B84*COS(RADIANS(E$4))-'Hearts Desire II'!C84*SIN(RADIANS(E$4))+E$1,\"\")","v":""},{"$f":"IF('Hearts Desire II'!C84<>\"\",('Hearts Desire II'!B84*SIN(RADIANS(E$4))+'Hearts Desire II'!C84*COS(RADIANS(E$4))*E$3)+E$2,\"\")","v":""},{"$f":"IF('Hearts Desire II'!D84<>\"\",'Hearts Desire II'!D84*COS(RADIANS(E$4))-'Hearts Desire II'!E84*SIN(RADIANS(E$4))+E$1,\"\")","v":""},{"$f":"IF('Hearts Desire II'!E84<>\"\",('Hearts Desire II'!D84*SIN(RADIANS(E$4))+'Hearts Desire II'!E84*COS(RADIANS(E$4))*E$3)+E$2,\"\")","v":""},null,{"$f":"IF('Hearts Desire II'!G84<>\"\",'Hearts Desire II'!G84*COS(RADIANS(J$4))-'Hearts Desire II'!H84*SIN(RADIANS(J$4))+J$1,\"\")","v":""},{"$f":"IF('Hearts Desire II'!H84<>\"\",('Hearts Desire II'!G84*SIN(RADIANS(J$4))+'Hearts Desire II'!H84*COS(RADIANS(J$4))*J$3)+J$2,\"\")","v":""},{"$f":"IF('Hearts Desire II'!I84<>\"\",'Hearts Desire II'!I84*COS(RADIANS(J$4))-'Hearts Desire II'!J84*SIN(RADIANS(J$4))+J$1,\"\")","v":""},{"$f":"IF('Hearts Desire II'!J84<>\"\",('Hearts Desire II'!I84*SIN(RADIANS(J$4))+'Hearts Desire II'!J84*COS(RADIANS(J$4))*J$3)+J$2,\"\")","v":""},null,{"$f":"IF('Hearts Desire II'!L84<>\"\",'Hearts Desire II'!L84*COS(RADIANS(O$4))-'Hearts Desire II'!M84*SIN(RADIANS(O$4))+O$1,\"\")","v":""},{"$f":"IF('Hearts Desire II'!M84<>\"\",('Hearts Desire II'!L84*SIN(RADIANS(O$4))+'Hearts Desire II'!M84*COS(RADIANS(O$4))*O$3)+O$2,\"\")","v":""},{"$f":"IF('Hearts Desire II'!N84<>\"\",'Hearts Desire II'!N84*COS(RADIANS(O$4))-'Hearts Desire II'!O84*SIN(RADIANS(O$4))+O$1,\"\")","v":""},{"$f":"IF('Hearts Desire II'!O84<>\"\",('Hearts Desire II'!N84*SIN(RADIANS(O$4))+'Hearts Desire II'!O84*COS(RADIANS(O$4))*O$3)+O$2,\"\")","v":""},null,{"$f":"IF('Hearts Desire II'!Q84<>\"\",'Hearts Desire II'!Q84*COS(RADIANS(T$4))-'Hearts Desire II'!R84*SIN(RADIANS(T$4))+T$1,\"\")","v":""},{"$f":"IF('Hearts Desire II'!R84<>\"\",('Hearts Desire II'!Q84*SIN(RADIANS(T$4))+'Hearts Desire II'!R84*COS(RADIANS(T$4))*T$3)+T$2,\"\")","v":""},{"$f":"IF('Hearts Desire II'!S84<>\"\",'Hearts Desire II'!S84*COS(RADIANS(T$4))-'Hearts Desire II'!T84*SIN(RADIANS(T$4))+T$1,\"\")","v":""},{"$f":"IF('Hearts Desire II'!T84<>\"\",('Hearts Desire II'!S84*SIN(RADIANS(T$4))+'Hearts Desire II'!T84*COS(RADIANS(T$4))*T$3)+T$2,\"\")","v":""},null,{"$f":"IF('Hearts Desire II'!V84<>\"\",'Hearts Desire II'!V84*COS(RADIANS(Y$4))-'Hearts Desire II'!W84*SIN(RADIANS(Y$4))+Y$1,\"\")","v":""},{"$f":"IF('Hearts Desire II'!W84<>\"\",('Hearts Desire II'!V84*SIN(RADIANS(Y$4))+'Hearts Desire II'!W84*COS(RADIANS(Y$4))*Y$3)+Y$2,\"\")","v":""},{"$f":"IF('Hearts Desire II'!X84<>\"\",'Hearts Desire II'!X84*COS(RADIANS(Y$4))-'Hearts Desire II'!Y84*SIN(RADIANS(Y$4))+Y$1,\"\")","v":""},{"$f":"IF('Hearts Desire II'!Y84<>\"\",('Hearts Desire II'!X84*SIN(RADIANS(Y$4))+'Hearts Desire II'!Y84*COS(RADIANS(Y$4))*Y$3)+Y$2,\"\")","v":""}]
[null,{"$f":"IF('Hearts Desire II'!B85<>\"\",'Hearts Desire II'!B85*COS(RADIANS(E$4))-'Hearts Desire II'!C85*SIN(RADIANS(E$4))+E$1,\"\")","v":""},{"$f":"IF('Hearts Desire II'!C85<>\"\",('Hearts Desire II'!B85*SIN(RADIANS(E$4))+'Hearts Desire II'!C85*COS(RADIANS(E$4))*E$3)+E$2,\"\")","v":""},{"$f":"IF('Hearts Desire II'!D85<>\"\",'Hearts Desire II'!D85*COS(RADIANS(E$4))-'Hearts Desire II'!E85*SIN(RADIANS(E$4))+E$1,\"\")","v":""},{"$f":"IF('Hearts Desire II'!E85<>\"\",('Hearts Desire II'!D85*SIN(RADIANS(E$4))+'Hearts Desire II'!E85*COS(RADIANS(E$4))*E$3)+E$2,\"\")","v":""},null,{"$f":"IF('Hearts Desire II'!G85<>\"\",'Hearts Desire II'!G85*COS(RADIANS(J$4))-'Hearts Desire II'!H85*SIN(RADIANS(J$4))+J$1,\"\")","v":""},{"$f":"IF('Hearts Desire II'!H85<>\"\",('Hearts Desire II'!G85*SIN(RADIANS(J$4))+'Hearts Desire II'!H85*COS(RADIANS(J$4))*J$3)+J$2,\"\")","v":""},{"$f":"IF('Hearts Desire II'!I85<>\"\",'Hearts Desire II'!I85*COS(RADIANS(J$4))-'Hearts Desire II'!J85*SIN(RADIANS(J$4))+J$1,\"\")","v":""},{"$f":"IF('Hearts Desire II'!J85<>\"\",('Hearts Desire II'!I85*SIN(RADIANS(J$4))+'Hearts Desire II'!J85*COS(RADIANS(J$4))*J$3)+J$2,\"\")","v":""},null,{"$f":"IF('Hearts Desire II'!L85<>\"\",'Hearts Desire II'!L85*COS(RADIANS(O$4))-'Hearts Desire II'!M85*SIN(RADIANS(O$4))+O$1,\"\")","v":""},{"$f":"IF('Hearts Desire II'!M85<>\"\",('Hearts Desire II'!L85*SIN(RADIANS(O$4))+'Hearts Desire II'!M85*COS(RADIANS(O$4))*O$3)+O$2,\"\")","v":""},{"$f":"IF('Hearts Desire II'!N85<>\"\",'Hearts Desire II'!N85*COS(RADIANS(O$4))-'Hearts Desire II'!O85*SIN(RADIANS(O$4))+O$1,\"\")","v":""},{"$f":"IF('Hearts Desire II'!O85<>\"\",('Hearts Desire II'!N85*SIN(RADIANS(O$4))+'Hearts Desire II'!O85*COS(RADIANS(O$4))*O$3)+O$2,\"\")","v":""},null,{"$f":"IF('Hearts Desire II'!Q85<>\"\",'Hearts Desire II'!Q85*COS(RADIANS(T$4))-'Hearts Desire II'!R85*SIN(RADIANS(T$4))+T$1,\"\")","v":""},{"$f":"IF('Hearts Desire II'!R85<>\"\",('Hearts Desire II'!Q85*SIN(RADIANS(T$4))+'Hearts Desire II'!R85*COS(RADIANS(T$4))*T$3)+T$2,\"\")","v":""},{"$f":"IF('Hearts Desire II'!S85<>\"\",'Hearts Desire II'!S85*COS(RADIANS(T$4))-'Hearts Desire II'!T85*SIN(RADIANS(T$4))+T$1,\"\")","v":""},{"$f":"IF('Hearts Desire II'!T85<>\"\",('Hearts Desire II'!S85*SIN(RADIANS(T$4))+'Hearts Desire II'!T85*COS(RADIANS(T$4))*T$3)+T$2,\"\")","v":""},null,{"$f":"IF('Hearts Desire II'!V85<>\"\",'Hearts Desire II'!V85*COS(RADIANS(Y$4))-'Hearts Desire II'!W85*SIN(RADIANS(Y$4))+Y$1,\"\")","v":""},{"$f":"IF('Hearts Desire II'!W85<>\"\",('Hearts Desire II'!V85*SIN(RADIANS(Y$4))+'Hearts Desire II'!W85*COS(RADIANS(Y$4))*Y$3)+Y$2,\"\")","v":""},{"$f":"IF('Hearts Desire II'!X85<>\"\",'Hearts Desire II'!X85*COS(RADIANS(Y$4))-'Hearts Desire II'!Y85*SIN(RADIANS(Y$4))+Y$1,\"\")","v":""},{"$f":"IF('Hearts Desire II'!Y85<>\"\",('Hearts Desire II'!X85*SIN(RADIANS(Y$4))+'Hearts Desire II'!Y85*COS(RADIANS(Y$4))*Y$3)+Y$2,\"\")","v":""}]
[null,{"$f":"IF('Hearts Desire II'!B86<>\"\",'Hearts Desire II'!B86*COS(RADIANS(E$4))-'Hearts Desire II'!C86*SIN(RADIANS(E$4))+E$1,\"\")","v":""},{"$f":"IF('Hearts Desire II'!C86<>\"\",('Hearts Desire II'!B86*SIN(RADIANS(E$4))+'Hearts Desire II'!C86*COS(RADIANS(E$4))*E$3)+E$2,\"\")","v":""},{"$f":"IF('Hearts Desire II'!D86<>\"\",'Hearts Desire II'!D86*COS(RADIANS(E$4))-'Hearts Desire II'!E86*SIN(RADIANS(E$4))+E$1,\"\")","v":""},{"$f":"IF('Hearts Desire II'!E86<>\"\",('Hearts Desire II'!D86*SIN(RADIANS(E$4))+'Hearts Desire II'!E86*COS(RADIANS(E$4))*E$3)+E$2,\"\")","v":""},null,{"$f":"IF('Hearts Desire II'!G86<>\"\",'Hearts Desire II'!G86*COS(RADIANS(J$4))-'Hearts Desire II'!H86*SIN(RADIANS(J$4))+J$1,\"\")","v":""},{"$f":"IF('Hearts Desire II'!H86<>\"\",('Hearts Desire II'!G86*SIN(RADIANS(J$4))+'Hearts Desire II'!H86*COS(RADIANS(J$4))*J$3)+J$2,\"\")","v":""},{"$f":"IF('Hearts Desire II'!I86<>\"\",'Hearts Desire II'!I86*COS(RADIANS(J$4))-'Hearts Desire II'!J86*SIN(RADIANS(J$4))+J$1,\"\")","v":""},{"$f":"IF('Hearts Desire II'!J86<>\"\",('Hearts Desire II'!I86*SIN(RADIANS(J$4))+'Hearts Desire II'!J86*COS(RADIANS(J$4))*J$3)+J$2,\"\")","v":""},null,{"$f":"IF('Hearts Desire II'!L86<>\"\",'Hearts Desire II'!L86*COS(RADIANS(O$4))-'Hearts Desire II'!M86*SIN(RADIANS(O$4))+O$1,\"\")","v":""},{"$f":"IF('Hearts Desire II'!M86<>\"\",('Hearts Desire II'!L86*SIN(RADIANS(O$4))+'Hearts Desire II'!M86*COS(RADIANS(O$4))*O$3)+O$2,\"\")","v":""},{"$f":"IF('Hearts Desire II'!N86<>\"\",'Hearts Desire II'!N86*COS(RADIANS(O$4))-'Hearts Desire II'!O86*SIN(RADIANS(O$4))+O$1,\"\")","v":""},{"$f":"IF('Hearts Desire II'!O86<>\"\",('Hearts Desire II'!N86*SIN(RADIANS(O$4))+'Hearts Desire II'!O86*COS(RADIANS(O$4))*O$3)+O$2,\"\")","v":""},null,{"$f":"IF('Hearts Desire II'!Q86<>\"\",'Hearts Desire II'!Q86*COS(RADIANS(T$4))-'Hearts Desire II'!R86*SIN(RADIANS(T$4))+T$1,\"\")","v":""},{"$f":"IF('Hearts Desire II'!R86<>\"\",('Hearts Desire II'!Q86*SIN(RADIANS(T$4))+'Hearts Desire II'!R86*COS(RADIANS(T$4))*T$3)+T$2,\"\")","v":""},{"$f":"IF('Hearts Desire II'!S86<>\"\",'Hearts Desire II'!S86*COS(RADIANS(T$4))-'Hearts Desire II'!T86*SIN(RADIANS(T$4))+T$1,\"\")","v":""},{"$f":"IF('Hearts Desire II'!T86<>\"\",('Hearts Desire II'!S86*SIN(RADIANS(T$4))+'Hearts Desire II'!T86*COS(RADIANS(T$4))*T$3)+T$2,\"\")","v":""},null,{"$f":"IF('Hearts Desire II'!V86<>\"\",'Hearts Desire II'!V86*COS(RADIANS(Y$4))-'Hearts Desire II'!W86*SIN(RADIANS(Y$4))+Y$1,\"\")","v":""},{"$f":"IF('Hearts Desire II'!W86<>\"\",('Hearts Desire II'!V86*SIN(RADIANS(Y$4))+'Hearts Desire II'!W86*COS(RADIANS(Y$4))*Y$3)+Y$2,\"\")","v":""},{"$f":"IF('Hearts Desire II'!X86<>\"\",'Hearts Desire II'!X86*COS(RADIANS(Y$4))-'Hearts Desire II'!Y86*SIN(RADIANS(Y$4))+Y$1,\"\")","v":""},{"$f":"IF('Hearts Desire II'!Y86<>\"\",('Hearts Desire II'!X86*SIN(RADIANS(Y$4))+'Hearts Desire II'!Y86*COS(RADIANS(Y$4))*Y$3)+Y$2,\"\")","v":""}]
[null,{"$f":"IF('Hearts Desire II'!B87<>\"\",'Hearts Desire II'!B87*COS(RADIANS(E$4))-'Hearts Desire II'!C87*SIN(RADIANS(E$4))+E$1,\"\")","v":""},{"$f":"IF('Hearts Desire II'!C87<>\"\",('Hearts Desire II'!B87*SIN(RADIANS(E$4))+'Hearts Desire II'!C87*COS(RADIANS(E$4))*E$3)+E$2,\"\")","v":""},{"$f":"IF('Hearts Desire II'!D87<>\"\",'Hearts Desire II'!D87*COS(RADIANS(E$4))-'Hearts Desire II'!E87*SIN(RADIANS(E$4))+E$1,\"\")","v":""},{"$f":"IF('Hearts Desire II'!E87<>\"\",('Hearts Desire II'!D87*SIN(RADIANS(E$4))+'Hearts Desire II'!E87*COS(RADIANS(E$4))*E$3)+E$2,\"\")","v":""},null,{"$f":"IF('Hearts Desire II'!G87<>\"\",'Hearts Desire II'!G87*COS(RADIANS(J$4))-'Hearts Desire II'!H87*SIN(RADIANS(J$4))+J$1,\"\")","v":""},{"$f":"IF('Hearts Desire II'!H87<>\"\",('Hearts Desire II'!G87*SIN(RADIANS(J$4))+'Hearts Desire II'!H87*COS(RADIANS(J$4))*J$3)+J$2,\"\")","v":""},{"$f":"IF('Hearts Desire II'!I87<>\"\",'Hearts Desire II'!I87*COS(RADIANS(J$4))-'Hearts Desire II'!J87*SIN(RADIANS(J$4))+J$1,\"\")","v":""},{"$f":"IF('Hearts Desire II'!J87<>\"\",('Hearts Desire II'!I87*SIN(RADIANS(J$4))+'Hearts Desire II'!J87*COS(RADIANS(J$4))*J$3)+J$2,\"\")","v":""},null,{"$f":"IF('Hearts Desire II'!L87<>\"\",'Hearts Desire II'!L87*COS(RADIANS(O$4))-'Hearts Desire II'!M87*SIN(RADIANS(O$4))+O$1,\"\")","v":""},{"$f":"IF('Hearts Desire II'!M87<>\"\",('Hearts Desire II'!L87*SIN(RADIANS(O$4))+'Hearts Desire II'!M87*COS(RADIANS(O$4))*O$3)+O$2,\"\")","v":""},{"$f":"IF('Hearts Desire II'!N87<>\"\",'Hearts Desire II'!N87*COS(RADIANS(O$4))-'Hearts Desire II'!O87*SIN(RADIANS(O$4))+O$1,\"\")","v":""},{"$f":"IF('Hearts Desire II'!O87<>\"\",('Hearts Desire II'!N87*SIN(RADIANS(O$4))+'Hearts Desire II'!O87*COS(RADIANS(O$4))*O$3)+O$2,\"\")","v":""},null,{"$f":"IF('Hearts Desire II'!Q87<>\"\",'Hearts Desire II'!Q87*COS(RADIANS(T$4))-'Hearts Desire II'!R87*SIN(RADIANS(T$4))+T$1,\"\")","v":""},{"$f":"IF('Hearts Desire II'!R87<>\"\",('Hearts Desire II'!Q87*SIN(RADIANS(T$4))+'Hearts Desire II'!R87*COS(RADIANS(T$4))*T$3)+T$2,\"\")","v":""},{"$f":"IF('Hearts Desire II'!S87<>\"\",'Hearts Desire II'!S87*COS(RADIANS(T$4))-'Hearts Desire II'!T87*SIN(RADIANS(T$4))+T$1,\"\")","v":""},{"$f":"IF('Hearts Desire II'!T87<>\"\",('Hearts Desire II'!S87*SIN(RADIANS(T$4))+'Hearts Desire II'!T87*COS(RADIANS(T$4))*T$3)+T$2,\"\")","v":""},null,{"$f":"IF('Hearts Desire II'!V87<>\"\",'Hearts Desire II'!V87*COS(RADIANS(Y$4))-'Hearts Desire II'!W87*SIN(RADIANS(Y$4))+Y$1,\"\")","v":""},{"$f":"IF('Hearts Desire II'!W87<>\"\",('Hearts Desire II'!V87*SIN(RADIANS(Y$4))+'Hearts Desire II'!W87*COS(RADIANS(Y$4))*Y$3)+Y$2,\"\")","v":""},{"$f":"IF('Hearts Desire II'!X87<>\"\",'Hearts Desire II'!X87*COS(RADIANS(Y$4))-'Hearts Desire II'!Y87*SIN(RADIANS(Y$4))+Y$1,\"\")","v":""},{"$f":"IF('Hearts Desire II'!Y87<>\"\",('Hearts Desire II'!X87*SIN(RADIANS(Y$4))+'Hearts Desire II'!Y87*COS(RADIANS(Y$4))*Y$3)+Y$2,\"\")","v":""}]
[null,{"$f":"IF('Hearts Desire II'!B88<>\"\",'Hearts Desire II'!B88*COS(RADIANS(E$4))-'Hearts Desire II'!C88*SIN(RADIANS(E$4))+E$1,\"\")","v":""},{"$f":"IF('Hearts Desire II'!C88<>\"\",('Hearts Desire II'!B88*SIN(RADIANS(E$4))+'Hearts Desire II'!C88*COS(RADIANS(E$4))*E$3)+E$2,\"\")","v":""},{"$f":"IF('Hearts Desire II'!D88<>\"\",'Hearts Desire II'!D88*COS(RADIANS(E$4))-'Hearts Desire II'!E88*SIN(RADIANS(E$4))+E$1,\"\")","v":""},{"$f":"IF('Hearts Desire II'!E88<>\"\",('Hearts Desire II'!D88*SIN(RADIANS(E$4))+'Hearts Desire II'!E88*COS(RADIANS(E$4))*E$3)+E$2,\"\")","v":""},null,{"$f":"IF('Hearts Desire II'!G88<>\"\",'Hearts Desire II'!G88*COS(RADIANS(J$4))-'Hearts Desire II'!H88*SIN(RADIANS(J$4))+J$1,\"\")","v":""},{"$f":"IF('Hearts Desire II'!H88<>\"\",('Hearts Desire II'!G88*SIN(RADIANS(J$4))+'Hearts Desire II'!H88*COS(RADIANS(J$4))*J$3)+J$2,\"\")","v":""},{"$f":"IF('Hearts Desire II'!I88<>\"\",'Hearts Desire II'!I88*COS(RADIANS(J$4))-'Hearts Desire II'!J88*SIN(RADIANS(J$4))+J$1,\"\")","v":""},{"$f":"IF('Hearts Desire II'!J88<>\"\",('Hearts Desire II'!I88*SIN(RADIANS(J$4))+'Hearts Desire II'!J88*COS(RADIANS(J$4))*J$3)+J$2,\"\")","v":""},null,{"$f":"IF('Hearts Desire II'!L88<>\"\",'Hearts Desire II'!L88*COS(RADIANS(O$4))-'Hearts Desire II'!M88*SIN(RADIANS(O$4))+O$1,\"\")","v":""},{"$f":"IF('Hearts Desire II'!M88<>\"\",('Hearts Desire II'!L88*SIN(RADIANS(O$4))+'Hearts Desire II'!M88*COS(RADIANS(O$4))*O$3)+O$2,\"\")","v":""},{"$f":"IF('Hearts Desire II'!N88<>\"\",'Hearts Desire II'!N88*COS(RADIANS(O$4))-'Hearts Desire II'!O88*SIN(RADIANS(O$4))+O$1,\"\")","v":""},{"$f":"IF('Hearts Desire II'!O88<>\"\",('Hearts Desire II'!N88*SIN(RADIANS(O$4))+'Hearts Desire II'!O88*COS(RADIANS(O$4))*O$3)+O$2,\"\")","v":""},null,{"$f":"IF('Hearts Desire II'!Q88<>\"\",'Hearts Desire II'!Q88*COS(RADIANS(T$4))-'Hearts Desire II'!R88*SIN(RADIANS(T$4))+T$1,\"\")","v":""},{"$f":"IF('Hearts Desire II'!R88<>\"\",('Hearts Desire II'!Q88*SIN(RADIANS(T$4))+'Hearts Desire II'!R88*COS(RADIANS(T$4))*T$3)+T$2,\"\")","v":""},{"$f":"IF('Hearts Desire II'!S88<>\"\",'Hearts Desire II'!S88*COS(RADIANS(T$4))-'Hearts Desire II'!T88*SIN(RADIANS(T$4))+T$1,\"\")","v":""},{"$f":"IF('Hearts Desire II'!T88<>\"\",('Hearts Desire II'!S88*SIN(RADIANS(T$4))+'Hearts Desire II'!T88*COS(RADIANS(T$4))*T$3)+T$2,\"\")","v":""},null,{"$f":"IF('Hearts Desire II'!V88<>\"\",'Hearts Desire II'!V88*COS(RADIANS(Y$4))-'Hearts Desire II'!W88*SIN(RADIANS(Y$4))+Y$1,\"\")","v":""},{"$f":"IF('Hearts Desire II'!W88<>\"\",('Hearts Desire II'!V88*SIN(RADIANS(Y$4))+'Hearts Desire II'!W88*COS(RADIANS(Y$4))*Y$3)+Y$2,\"\")","v":""},{"$f":"IF('Hearts Desire II'!X88<>\"\",'Hearts Desire II'!X88*COS(RADIANS(Y$4))-'Hearts Desire II'!Y88*SIN(RADIANS(Y$4))+Y$1,\"\")","v":""},{"$f":"IF('Hearts Desire II'!Y88<>\"\",('Hearts Desire II'!X88*SIN(RADIANS(Y$4))+'Hearts Desire II'!Y88*COS(RADIANS(Y$4))*Y$3)+Y$2,\"\")","v":""}]
[null,{"$f":"IF('Hearts Desire II'!B89<>\"\",'Hearts Desire II'!B89*COS(RADIANS(E$4))-'Hearts Desire II'!C89*SIN(RADIANS(E$4))+E$1,\"\")","v":""},{"$f":"IF('Hearts Desire II'!C89<>\"\",('Hearts Desire II'!B89*SIN(RADIANS(E$4))+'Hearts Desire II'!C89*COS(RADIANS(E$4))*E$3)+E$2,\"\")","v":""},{"$f":"IF('Hearts Desire II'!D89<>\"\",'Hearts Desire II'!D89*COS(RADIANS(E$4))-'Hearts Desire II'!E89*SIN(RADIANS(E$4))+E$1,\"\")","v":""},{"$f":"IF('Hearts Desire II'!E89<>\"\",('Hearts Desire II'!D89*SIN(RADIANS(E$4))+'Hearts Desire II'!E89*COS(RADIANS(E$4))*E$3)+E$2,\"\")","v":""},null,{"$f":"IF('Hearts Desire II'!G89<>\"\",'Hearts Desire II'!G89*COS(RADIANS(J$4))-'Hearts Desire II'!H89*SIN(RADIANS(J$4))+J$1,\"\")","v":""},{"$f":"IF('Hearts Desire II'!H89<>\"\",('Hearts Desire II'!G89*SIN(RADIANS(J$4))+'Hearts Desire II'!H89*COS(RADIANS(J$4))*J$3)+J$2,\"\")","v":""},{"$f":"IF('Hearts Desire II'!I89<>\"\",'Hearts Desire II'!I89*COS(RADIANS(J$4))-'Hearts Desire II'!J89*SIN(RADIANS(J$4))+J$1,\"\")","v":""},{"$f":"IF('Hearts Desire II'!J89<>\"\",('Hearts Desire II'!I89*SIN(RADIANS(J$4))+'Hearts Desire II'!J89*COS(RADIANS(J$4))*J$3)+J$2,\"\")","v":""},null,{"$f":"IF('Hearts Desire II'!L89<>\"\",'Hearts Desire II'!L89*COS(RADIANS(O$4))-'Hearts Desire II'!M89*SIN(RADIANS(O$4))+O$1,\"\")","v":""},{"$f":"IF('Hearts Desire II'!M89<>\"\",('Hearts Desire II'!L89*SIN(RADIANS(O$4))+'Hearts Desire II'!M89*COS(RADIANS(O$4))*O$3)+O$2,\"\")","v":""},{"$f":"IF('Hearts Desire II'!N89<>\"\",'Hearts Desire II'!N89*COS(RADIANS(O$4))-'Hearts Desire II'!O89*SIN(RADIANS(O$4))+O$1,\"\")","v":""},{"$f":"IF('Hearts Desire II'!O89<>\"\",('Hearts Desire II'!N89*SIN(RADIANS(O$4))+'Hearts Desire II'!O89*COS(RADIANS(O$4))*O$3)+O$2,\"\")","v":""},null,{"$f":"IF('Hearts Desire II'!Q89<>\"\",'Hearts Desire II'!Q89*COS(RADIANS(T$4))-'Hearts Desire II'!R89*SIN(RADIANS(T$4))+T$1,\"\")","v":""},{"$f":"IF('Hearts Desire II'!R89<>\"\",('Hearts Desire II'!Q89*SIN(RADIANS(T$4))+'Hearts Desire II'!R89*COS(RADIANS(T$4))*T$3)+T$2,\"\")","v":""},{"$f":"IF('Hearts Desire II'!S89<>\"\",'Hearts Desire II'!S89*COS(RADIANS(T$4))-'Hearts Desire II'!T89*SIN(RADIANS(T$4))+T$1,\"\")","v":""},{"$f":"IF('Hearts Desire II'!T89<>\"\",('Hearts Desire II'!S89*SIN(RADIANS(T$4))+'Hearts Desire II'!T89*COS(RADIANS(T$4))*T$3)+T$2,\"\")","v":""},null,{"$f":"IF('Hearts Desire II'!V89<>\"\",'Hearts Desire II'!V89*COS(RADIANS(Y$4))-'Hearts Desire II'!W89*SIN(RADIANS(Y$4))+Y$1,\"\")","v":""},{"$f":"IF('Hearts Desire II'!W89<>\"\",('Hearts Desire II'!V89*SIN(RADIANS(Y$4))+'Hearts Desire II'!W89*COS(RADIANS(Y$4))*Y$3)+Y$2,\"\")","v":""},{"$f":"IF('Hearts Desire II'!X89<>\"\",'Hearts Desire II'!X89*COS(RADIANS(Y$4))-'Hearts Desire II'!Y89*SIN(RADIANS(Y$4))+Y$1,\"\")","v":""},{"$f":"IF('Hearts Desire II'!Y89<>\"\",('Hearts Desire II'!X89*SIN(RADIANS(Y$4))+'Hearts Desire II'!Y89*COS(RADIANS(Y$4))*Y$3)+Y$2,\"\")","v":""}]
[null,{"$f":"IF('Hearts Desire II'!B90<>\"\",'Hearts Desire II'!B90*COS(RADIANS(E$4))-'Hearts Desire II'!C90*SIN(RADIANS(E$4))+E$1,\"\")","v":""},{"$f":"IF('Hearts Desire II'!C90<>\"\",('Hearts Desire II'!B90*SIN(RADIANS(E$4))+'Hearts Desire II'!C90*COS(RADIANS(E$4))*E$3)+E$2,\"\")","v":""},{"$f":"IF('Hearts Desire II'!D90<>\"\",'Hearts Desire II'!D90*COS(RADIANS(E$4))-'Hearts Desire II'!E90*SIN(RADIANS(E$4))+E$1,\"\")","v":""},{"$f":"IF('Hearts Desire II'!E90<>\"\",('Hearts Desire II'!D90*SIN(RADIANS(E$4))+'Hearts Desire II'!E90*COS(RADIANS(E$4))*E$3)+E$2,\"\")","v":""},null,{"$f":"IF('Hearts Desire II'!G90<>\"\",'Hearts Desire II'!G90*COS(RADIANS(J$4))-'Hearts Desire II'!H90*SIN(RADIANS(J$4))+J$1,\"\")","v":""},{"$f":"IF('Hearts Desire II'!H90<>\"\",('Hearts Desire II'!G90*SIN(RADIANS(J$4))+'Hearts Desire II'!H90*COS(RADIANS(J$4))*J$3)+J$2,\"\")","v":""},{"$f":"IF('Hearts Desire II'!I90<>\"\",'Hearts Desire II'!I90*COS(RADIANS(J$4))-'Hearts Desire II'!J90*SIN(RADIANS(J$4))+J$1,\"\")","v":""},{"$f":"IF('Hearts Desire II'!J90<>\"\",('Hearts Desire II'!I90*SIN(RADIANS(J$4))+'Hearts Desire II'!J90*COS(RADIANS(J$4))*J$3)+J$2,\"\")","v":""},null,{"$f":"IF('Hearts Desire II'!L90<>\"\",'Hearts Desire II'!L90*COS(RADIANS(O$4))-'Hearts Desire II'!M90*SIN(RADIANS(O$4))+O$1,\"\")","v":""},{"$f":"IF('Hearts Desire II'!M90<>\"\",('Hearts Desire II'!L90*SIN(RADIANS(O$4))+'Hearts Desire II'!M90*COS(RADIANS(O$4))*O$3)+O$2,\"\")","v":""},{"$f":"IF('Hearts Desire II'!N90<>\"\",'Hearts Desire II'!N90*COS(RADIANS(O$4))-'Hearts Desire II'!O90*SIN(RADIANS(O$4))+O$1,\"\")","v":""},{"$f":"IF('Hearts Desire II'!O90<>\"\",('Hearts Desire II'!N90*SIN(RADIANS(O$4))+'Hearts Desire II'!O90*COS(RADIANS(O$4))*O$3)+O$2,\"\")","v":""},null,{"$f":"IF('Hearts Desire II'!Q90<>\"\",'Hearts Desire II'!Q90*COS(RADIANS(T$4))-'Hearts Desire II'!R90*SIN(RADIANS(T$4))+T$1,\"\")","v":""},{"$f":"IF('Hearts Desire II'!R90<>\"\",('Hearts Desire II'!Q90*SIN(RADIANS(T$4))+'Hearts Desire II'!R90*COS(RADIANS(T$4))*T$3)+T$2,\"\")","v":""},{"$f":"IF('Hearts Desire II'!S90<>\"\",'Hearts Desire II'!S90*COS(RADIANS(T$4))-'Hearts Desire II'!T90*SIN(RADIANS(T$4))+T$1,\"\")","v":""},{"$f":"IF('Hearts Desire II'!T90<>\"\",('Hearts Desire II'!S90*SIN(RADIANS(T$4))+'Hearts Desire II'!T90*COS(RADIANS(T$4))*T$3)+T$2,\"\")","v":""},null,{"$f":"IF('Hearts Desire II'!V90<>\"\",'Hearts Desire II'!V90*COS(RADIANS(Y$4))-'Hearts Desire II'!W90*SIN(RADIANS(Y$4))+Y$1,\"\")","v":""},{"$f":"IF('Hearts Desire II'!W90<>\"\",('Hearts Desire II'!V90*SIN(RADIANS(Y$4))+'Hearts Desire II'!W90*COS(RADIANS(Y$4))*Y$3)+Y$2,\"\")","v":""},{"$f":"IF('Hearts Desire II'!X90<>\"\",'Hearts Desire II'!X90*COS(RADIANS(Y$4))-'Hearts Desire II'!Y90*SIN(RADIANS(Y$4))+Y$1,\"\")","v":""},{"$f":"IF('Hearts Desire II'!Y90<>\"\",('Hearts Desire II'!X90*SIN(RADIANS(Y$4))+'Hearts Desire II'!Y90*COS(RADIANS(Y$4))*Y$3)+Y$2,\"\")","v":""}]
[null,{"$f":"IF('Hearts Desire II'!B91<>\"\",'Hearts Desire II'!B91*COS(RADIANS(E$4))-'Hearts Desire II'!C91*SIN(RADIANS(E$4))+E$1,\"\")","v":""},{"$f":"IF('Hearts Desire II'!C91<>\"\",('Hearts Desire II'!B91*SIN(RADIANS(E$4))+'Hearts Desire II'!C91*COS(RADIANS(E$4))*E$3)+E$2,\"\")","v":""},{"$f":"IF('Hearts Desire II'!D91<>\"\",'Hearts Desire II'!D91*COS(RADIANS(E$4))-'Hearts Desire II'!E91*SIN(RADIANS(E$4))+E$1,\"\")","v":""},{"$f":"IF('Hearts Desire II'!E91<>\"\",('Hearts Desire II'!D91*SIN(RADIANS(E$4))+'Hearts Desire II'!E91*COS(RADIANS(E$4))*E$3)+E$2,\"\")","v":""},null,{"$f":"IF('Hearts Desire II'!G91<>\"\",'Hearts Desire II'!G91*COS(RADIANS(J$4))-'Hearts Desire II'!H91*SIN(RADIANS(J$4))+J$1,\"\")","v":""},{"$f":"IF('Hearts Desire II'!H91<>\"\",('Hearts Desire II'!G91*SIN(RADIANS(J$4))+'Hearts Desire II'!H91*COS(RADIANS(J$4))*J$3)+J$2,\"\")","v":""},{"$f":"IF('Hearts Desire II'!I91<>\"\",'Hearts Desire II'!I91*COS(RADIANS(J$4))-'Hearts Desire II'!J91*SIN(RADIANS(J$4))+J$1,\"\")","v":""},{"$f":"IF('Hearts Desire II'!J91<>\"\",('Hearts Desire II'!I91*SIN(RADIANS(J$4))+'Hearts Desire II'!J91*COS(RADIANS(J$4))*J$3)+J$2,\"\")","v":""},null,{"$f":"IF('Hearts Desire II'!L91<>\"\",'Hearts Desire II'!L91*COS(RADIANS(O$4))-'Hearts Desire II'!M91*SIN(RADIANS(O$4))+O$1,\"\")","v":""},{"$f":"IF('Hearts Desire II'!M91<>\"\",('Hearts Desire II'!L91*SIN(RADIANS(O$4))+'Hearts Desire II'!M91*COS(RADIANS(O$4))*O$3)+O$2,\"\")","v":""},{"$f":"IF('Hearts Desire II'!N91<>\"\",'Hearts Desire II'!N91*COS(RADIANS(O$4))-'Hearts Desire II'!O91*SIN(RADIANS(O$4))+O$1,\"\")","v":""},{"$f":"IF('Hearts Desire II'!O91<>\"\",('Hearts Desire II'!N91*SIN(RADIANS(O$4))+'Hearts Desire II'!O91*COS(RADIANS(O$4))*O$3)+O$2,\"\")","v":""},null,{"$f":"IF('Hearts Desire II'!Q91<>\"\",'Hearts Desire II'!Q91*COS(RADIANS(T$4))-'Hearts Desire II'!R91*SIN(RADIANS(T$4))+T$1,\"\")","v":""},{"$f":"IF('Hearts Desire II'!R91<>\"\",('Hearts Desire II'!Q91*SIN(RADIANS(T$4))+'Hearts Desire II'!R91*COS(RADIANS(T$4))*T$3)+T$2,\"\")","v":""},{"$f":"IF('Hearts Desire II'!S91<>\"\",'Hearts Desire II'!S91*COS(RADIANS(T$4))-'Hearts Desire II'!T91*SIN(RADIANS(T$4))+T$1,\"\")","v":""},{"$f":"IF('Hearts Desire II'!T91<>\"\",('Hearts Desire II'!S91*SIN(RADIANS(T$4))+'Hearts Desire II'!T91*COS(RADIANS(T$4))*T$3)+T$2,\"\")","v":""},null,{"$f":"IF('Hearts Desire II'!V91<>\"\",'Hearts Desire II'!V91*COS(RADIANS(Y$4))-'Hearts Desire II'!W91*SIN(RADIANS(Y$4))+Y$1,\"\")","v":""},{"$f":"IF('Hearts Desire II'!W91<>\"\",('Hearts Desire II'!V91*SIN(RADIANS(Y$4))+'Hearts Desire II'!W91*COS(RADIANS(Y$4))*Y$3)+Y$2,\"\")","v":""},{"$f":"IF('Hearts Desire II'!X91<>\"\",'Hearts Desire II'!X91*COS(RADIANS(Y$4))-'Hearts Desire II'!Y91*SIN(RADIANS(Y$4))+Y$1,\"\")","v":""},{"$f":"IF('Hearts Desire II'!Y91<>\"\",('Hearts Desire II'!X91*SIN(RADIANS(Y$4))+'Hearts Desire II'!Y91*COS(RADIANS(Y$4))*Y$3)+Y$2,\"\")","v":""}]
[null,{"$f":"IF('Hearts Desire II'!B92<>\"\",'Hearts Desire II'!B92*COS(RADIANS(E$4))-'Hearts Desire II'!C92*SIN(RADIANS(E$4))+E$1,\"\")","v":""},{"$f":"IF('Hearts Desire II'!C92<>\"\",('Hearts Desire II'!B92*SIN(RADIANS(E$4))+'Hearts Desire II'!C92*COS(RADIANS(E$4))*E$3)+E$2,\"\")","v":""},{"$f":"IF('Hearts Desire II'!D92<>\"\",'Hearts Desire II'!D92*COS(RADIANS(E$4))-'Hearts Desire II'!E92*SIN(RADIANS(E$4))+E$1,\"\")","v":""},{"$f":"IF('Hearts Desire II'!E92<>\"\",('Hearts Desire II'!D92*SIN(RADIANS(E$4))+'Hearts Desire II'!E92*COS(RADIANS(E$4))*E$3)+E$2,\"\")","v":""},null,{"$f":"IF('Hearts Desire II'!G92<>\"\",'Hearts Desire II'!G92*COS(RADIANS(J$4))-'Hearts Desire II'!H92*SIN(RADIANS(J$4))+J$1,\"\")","v":""},{"$f":"IF('Hearts Desire II'!H92<>\"\",('Hearts Desire II'!G92*SIN(RADIANS(J$4))+'Hearts Desire II'!H92*COS(RADIANS(J$4))*J$3)+J$2,\"\")","v":""},{"$f":"IF('Hearts Desire II'!I92<>\"\",'Hearts Desire II'!I92*COS(RADIANS(J$4))-'Hearts Desire II'!J92*SIN(RADIANS(J$4))+J$1,\"\")","v":""},{"$f":"IF('Hearts Desire II'!J92<>\"\",('Hearts Desire II'!I92*SIN(RADIANS(J$4))+'Hearts Desire II'!J92*COS(RADIANS(J$4))*J$3)+J$2,\"\")","v":""},null,{"$f":"IF('Hearts Desire II'!L92<>\"\",'Hearts Desire II'!L92*COS(RADIANS(O$4))-'Hearts Desire II'!M92*SIN(RADIANS(O$4))+O$1,\"\")","v":""},{"$f":"IF('Hearts Desire II'!M92<>\"\",('Hearts Desire II'!L92*SIN(RADIANS(O$4))+'Hearts Desire II'!M92*COS(RADIANS(O$4))*O$3)+O$2,\"\")","v":""},{"$f":"IF('Hearts Desire II'!N92<>\"\",'Hearts Desire II'!N92*COS(RADIANS(O$4))-'Hearts Desire II'!O92*SIN(RADIANS(O$4))+O$1,\"\")","v":""},{"$f":"IF('Hearts Desire II'!O92<>\"\",('Hearts Desire II'!N92*SIN(RADIANS(O$4))+'Hearts Desire II'!O92*COS(RADIANS(O$4))*O$3)+O$2,\"\")","v":""},null,{"$f":"IF('Hearts Desire II'!Q92<>\"\",'Hearts Desire II'!Q92*COS(RADIANS(T$4))-'Hearts Desire II'!R92*SIN(RADIANS(T$4))+T$1,\"\")","v":""},{"$f":"IF('Hearts Desire II'!R92<>\"\",('Hearts Desire II'!Q92*SIN(RADIANS(T$4))+'Hearts Desire II'!R92*COS(RADIANS(T$4))*T$3)+T$2,\"\")","v":""},{"$f":"IF('Hearts Desire II'!S92<>\"\",'Hearts Desire II'!S92*COS(RADIANS(T$4))-'Hearts Desire II'!T92*SIN(RADIANS(T$4))+T$1,\"\")","v":""},{"$f":"IF('Hearts Desire II'!T92<>\"\",('Hearts Desire II'!S92*SIN(RADIANS(T$4))+'Hearts Desire II'!T92*COS(RADIANS(T$4))*T$3)+T$2,\"\")","v":""},null,{"$f":"IF('Hearts Desire II'!V92<>\"\",'Hearts Desire II'!V92*COS(RADIANS(Y$4))-'Hearts Desire II'!W92*SIN(RADIANS(Y$4))+Y$1,\"\")","v":""},{"$f":"IF('Hearts Desire II'!W92<>\"\",('Hearts Desire II'!V92*SIN(RADIANS(Y$4))+'Hearts Desire II'!W92*COS(RADIANS(Y$4))*Y$3)+Y$2,\"\")","v":""},{"$f":"IF('Hearts Desire II'!X92<>\"\",'Hearts Desire II'!X92*COS(RADIANS(Y$4))-'Hearts Desire II'!Y92*SIN(RADIANS(Y$4))+Y$1,\"\")","v":""},{"$f":"IF('Hearts Desire II'!Y92<>\"\",('Hearts Desire II'!X92*SIN(RADIANS(Y$4))+'Hearts Desire II'!Y92*COS(RADIANS(Y$4))*Y$3)+Y$2,\"\")","v":""}]
[null,{"$f":"IF('Hearts Desire II'!B93<>\"\",'Hearts Desire II'!B93*COS(RADIANS(E$4))-'Hearts Desire II'!C93*SIN(RADIANS(E$4))+E$1,\"\")","v":""},{"$f":"IF('Hearts Desire II'!C93<>\"\",('Hearts Desire II'!B93*SIN(RADIANS(E$4))+'Hearts Desire II'!C93*COS(RADIANS(E$4))*E$3)+E$2,\"\")","v":""},{"$f":"IF('Hearts Desire II'!D93<>\"\",'Hearts Desire II'!D93*COS(RADIANS(E$4))-'Hearts Desire II'!E93*SIN(RADIANS(E$4))+E$1,\"\")","v":""},{"$f":"IF('Hearts Desire II'!E93<>\"\",('Hearts Desire II'!D93*SIN(RADIANS(E$4))+'Hearts Desire II'!E93*COS(RADIANS(E$4))*E$3)+E$2,\"\")","v":""},null,{"$f":"IF('Hearts Desire II'!G93<>\"\",'Hearts Desire II'!G93*COS(RADIANS(J$4))-'Hearts Desire II'!H93*SIN(RADIANS(J$4))+J$1,\"\")","v":""},{"$f":"IF('Hearts Desire II'!H93<>\"\",('Hearts Desire II'!G93*SIN(RADIANS(J$4))+'Hearts Desire II'!H93*COS(RADIANS(J$4))*J$3)+J$2,\"\")","v":""},{"$f":"IF('Hearts Desire II'!I93<>\"\",'Hearts Desire II'!I93*COS(RADIANS(J$4))-'Hearts Desire II'!J93*SIN(RADIANS(J$4))+J$1,\"\")","v":""},{"$f":"IF('Hearts Desire II'!J93<>\"\",('Hearts Desire II'!I93*SIN(RADIANS(J$4))+'Hearts Desire II'!J93*COS(RADIANS(J$4))*J$3)+J$2,\"\")","v":""},null,{"$f":"IF('Hearts Desire II'!L93<>\"\",'Hearts Desire II'!L93*COS(RADIANS(O$4))-'Hearts Desire II'!M93*SIN(RADIANS(O$4))+O$1,\"\")","v":""},{"$f":"IF('Hearts Desire II'!M93<>\"\",('Hearts Desire II'!L93*SIN(RADIANS(O$4))+'Hearts Desire II'!M93*COS(RADIANS(O$4))*O$3)+O$2,\"\")","v":""},{"$f":"IF('Hearts Desire II'!N93<>\"\",'Hearts Desire II'!N93*COS(RADIANS(O$4))-'Hearts Desire II'!O93*SIN(RADIANS(O$4))+O$1,\"\")","v":""},{"$f":"IF('Hearts Desire II'!O93<>\"\",('Hearts Desire II'!N93*SIN(RADIANS(O$4))+'Hearts Desire II'!O93*COS(RADIANS(O$4))*O$3)+O$2,\"\")","v":""},null,{"$f":"IF('Hearts Desire II'!Q93<>\"\",'Hearts Desire II'!Q93*COS(RADIANS(T$4))-'Hearts Desire II'!R93*SIN(RADIANS(T$4))+T$1,\"\")","v":""},{"$f":"IF('Hearts Desire II'!R93<>\"\",('Hearts Desire II'!Q93*SIN(RADIANS(T$4))+'Hearts Desire II'!R93*COS(RADIANS(T$4))*T$3)+T$2,\"\")","v":""},{"$f":"IF('Hearts Desire II'!S93<>\"\",'Hearts Desire II'!S93*COS(RADIANS(T$4))-'Hearts Desire II'!T93*SIN(RADIANS(T$4))+T$1,\"\")","v":""},{"$f":"IF('Hearts Desire II'!T93<>\"\",('Hearts Desire II'!S93*SIN(RADIANS(T$4))+'Hearts Desire II'!T93*COS(RADIANS(T$4))*T$3)+T$2,\"\")","v":""},null,{"$f":"IF('Hearts Desire II'!V93<>\"\",'Hearts Desire II'!V93*COS(RADIANS(Y$4))-'Hearts Desire II'!W93*SIN(RADIANS(Y$4))+Y$1,\"\")","v":""},{"$f":"IF('Hearts Desire II'!W93<>\"\",('Hearts Desire II'!V93*SIN(RADIANS(Y$4))+'Hearts Desire II'!W93*COS(RADIANS(Y$4))*Y$3)+Y$2,\"\")","v":""},{"$f":"IF('Hearts Desire II'!X93<>\"\",'Hearts Desire II'!X93*COS(RADIANS(Y$4))-'Hearts Desire II'!Y93*SIN(RADIANS(Y$4))+Y$1,\"\")","v":""},{"$f":"IF('Hearts Desire II'!Y93<>\"\",('Hearts Desire II'!X93*SIN(RADIANS(Y$4))+'Hearts Desire II'!Y93*COS(RADIANS(Y$4))*Y$3)+Y$2,\"\")","v":""}]
[null,{"$f":"IF('Hearts Desire II'!B94<>\"\",'Hearts Desire II'!B94*COS(RADIANS(E$4))-'Hearts Desire II'!C94*SIN(RADIANS(E$4))+E$1,\"\")","v":""},{"$f":"IF('Hearts Desire II'!C94<>\"\",('Hearts Desire II'!B94*SIN(RADIANS(E$4))+'Hearts Desire II'!C94*COS(RADIANS(E$4))*E$3)+E$2,\"\")","v":""},{"$f":"IF('Hearts Desire II'!D94<>\"\",'Hearts Desire II'!D94*COS(RADIANS(E$4))-'Hearts Desire II'!E94*SIN(RADIANS(E$4))+E$1,\"\")","v":""},{"$f":"IF('Hearts Desire II'!E94<>\"\",('Hearts Desire II'!D94*SIN(RADIANS(E$4))+'Hearts Desire II'!E94*COS(RADIANS(E$4))*E$3)+E$2,\"\")","v":""},null,{"$f":"IF('Hearts Desire II'!G94<>\"\",'Hearts Desire II'!G94*COS(RADIANS(J$4))-'Hearts Desire II'!H94*SIN(RADIANS(J$4))+J$1,\"\")","v":""},{"$f":"IF('Hearts Desire II'!H94<>\"\",('Hearts Desire II'!G94*SIN(RADIANS(J$4))+'Hearts Desire II'!H94*COS(RADIANS(J$4))*J$3)+J$2,\"\")","v":""},{"$f":"IF('Hearts Desire II'!I94<>\"\",'Hearts Desire II'!I94*COS(RADIANS(J$4))-'Hearts Desire II'!J94*SIN(RADIANS(J$4))+J$1,\"\")","v":""},{"$f":"IF('Hearts Desire II'!J94<>\"\",('Hearts Desire II'!I94*SIN(RADIANS(J$4))+'Hearts Desire II'!J94*COS(RADIANS(J$4))*J$3)+J$2,\"\")","v":""},null,{"$f":"IF('Hearts Desire II'!L94<>\"\",'Hearts Desire II'!L94*COS(RADIANS(O$4))-'Hearts Desire II'!M94*SIN(RADIANS(O$4))+O$1,\"\")","v":""},{"$f":"IF('Hearts Desire II'!M94<>\"\",('Hearts Desire II'!L94*SIN(RADIANS(O$4))+'Hearts Desire II'!M94*COS(RADIANS(O$4))*O$3)+O$2,\"\")","v":""},{"$f":"IF('Hearts Desire II'!N94<>\"\",'Hearts Desire II'!N94*COS(RADIANS(O$4))-'Hearts Desire II'!O94*SIN(RADIANS(O$4))+O$1,\"\")","v":""},{"$f":"IF('Hearts Desire II'!O94<>\"\",('Hearts Desire II'!N94*SIN(RADIANS(O$4))+'Hearts Desire II'!O94*COS(RADIANS(O$4))*O$3)+O$2,\"\")","v":""},null,{"$f":"IF('Hearts Desire II'!Q94<>\"\",'Hearts Desire II'!Q94*COS(RADIANS(T$4))-'Hearts Desire II'!R94*SIN(RADIANS(T$4))+T$1,\"\")","v":""},{"$f":"IF('Hearts Desire II'!R94<>\"\",('Hearts Desire II'!Q94*SIN(RADIANS(T$4))+'Hearts Desire II'!R94*COS(RADIANS(T$4))*T$3)+T$2,\"\")","v":""},{"$f":"IF('Hearts Desire II'!S94<>\"\",'Hearts Desire II'!S94*COS(RADIANS(T$4))-'Hearts Desire II'!T94*SIN(RADIANS(T$4))+T$1,\"\")","v":""},{"$f":"IF('Hearts Desire II'!T94<>\"\",('Hearts Desire II'!S94*SIN(RADIANS(T$4))+'Hearts Desire II'!T94*COS(RADIANS(T$4))*T$3)+T$2,\"\")","v":""},null,{"$f":"IF('Hearts Desire II'!V94<>\"\",'Hearts Desire II'!V94*COS(RADIANS(Y$4))-'Hearts Desire II'!W94*SIN(RADIANS(Y$4))+Y$1,\"\")","v":""},{"$f":"IF('Hearts Desire II'!W94<>\"\",('Hearts Desire II'!V94*SIN(RADIANS(Y$4))+'Hearts Desire II'!W94*COS(RADIANS(Y$4))*Y$3)+Y$2,\"\")","v":""},{"$f":"IF('Hearts Desire II'!X94<>\"\",'Hearts Desire II'!X94*COS(RADIANS(Y$4))-'Hearts Desire II'!Y94*SIN(RADIANS(Y$4))+Y$1,\"\")","v":""},{"$f":"IF('Hearts Desire II'!Y94<>\"\",('Hearts Desire II'!X94*SIN(RADIANS(Y$4))+'Hearts Desire II'!Y94*COS(RADIANS(Y$4))*Y$3)+Y$2,\"\")","v":""}]
[null,{"$f":"IF('Hearts Desire II'!B95<>\"\",'Hearts Desire II'!B95*COS(RADIANS(E$4))-'Hearts Desire II'!C95*SIN(RADIANS(E$4))+E$1,\"\")","v":""},{"$f":"IF('Hearts Desire II'!C95<>\"\",('Hearts Desire II'!B95*SIN(RADIANS(E$4))+'Hearts Desire II'!C95*COS(RADIANS(E$4))*E$3)+E$2,\"\")","v":""},{"$f":"IF('Hearts Desire II'!D95<>\"\",'Hearts Desire II'!D95*COS(RADIANS(E$4))-'Hearts Desire II'!E95*SIN(RADIANS(E$4))+E$1,\"\")","v":""},{"$f":"IF('Hearts Desire II'!E95<>\"\",('Hearts Desire II'!D95*SIN(RADIANS(E$4))+'Hearts Desire II'!E95*COS(RADIANS(E$4))*E$3)+E$2,\"\")","v":""},null,{"$f":"IF('Hearts Desire II'!G95<>\"\",'Hearts Desire II'!G95*COS(RADIANS(J$4))-'Hearts Desire II'!H95*SIN(RADIANS(J$4))+J$1,\"\")","v":""},{"$f":"IF('Hearts Desire II'!H95<>\"\",('Hearts Desire II'!G95*SIN(RADIANS(J$4))+'Hearts Desire II'!H95*COS(RADIANS(J$4))*J$3)+J$2,\"\")","v":""},{"$f":"IF('Hearts Desire II'!I95<>\"\",'Hearts Desire II'!I95*COS(RADIANS(J$4))-'Hearts Desire II'!J95*SIN(RADIANS(J$4))+J$1,\"\")","v":""},{"$f":"IF('Hearts Desire II'!J95<>\"\",('Hearts Desire II'!I95*SIN(RADIANS(J$4))+'Hearts Desire II'!J95*COS(RADIANS(J$4))*J$3)+J$2,\"\")","v":""},null,{"$f":"IF('Hearts Desire II'!L95<>\"\",'Hearts Desire II'!L95*COS(RADIANS(O$4))-'Hearts Desire II'!M95*SIN(RADIANS(O$4))+O$1,\"\")","v":""},{"$f":"IF('Hearts Desire II'!M95<>\"\",('Hearts Desire II'!L95*SIN(RADIANS(O$4))+'Hearts Desire II'!M95*COS(RADIANS(O$4))*O$3)+O$2,\"\")","v":""},{"$f":"IF('Hearts Desire II'!N95<>\"\",'Hearts Desire II'!N95*COS(RADIANS(O$4))-'Hearts Desire II'!O95*SIN(RADIANS(O$4))+O$1,\"\")","v":""},{"$f":"IF('Hearts Desire II'!O95<>\"\",('Hearts Desire II'!N95*SIN(RADIANS(O$4))+'Hearts Desire II'!O95*COS(RADIANS(O$4))*O$3)+O$2,\"\")","v":""},null,{"$f":"IF('Hearts Desire II'!Q95<>\"\",'Hearts Desire II'!Q95*COS(RADIANS(T$4))-'Hearts Desire II'!R95*SIN(RADIANS(T$4))+T$1,\"\")","v":""},{"$f":"IF('Hearts Desire II'!R95<>\"\",('Hearts Desire II'!Q95*SIN(RADIANS(T$4))+'Hearts Desire II'!R95*COS(RADIANS(T$4))*T$3)+T$2,\"\")","v":""},{"$f":"IF('Hearts Desire II'!S95<>\"\",'Hearts Desire II'!S95*COS(RADIANS(T$4))-'Hearts Desire II'!T95*SIN(RADIANS(T$4))+T$1,\"\")","v":""},{"$f":"IF('Hearts Desire II'!T95<>\"\",('Hearts Desire II'!S95*SIN(RADIANS(T$4))+'Hearts Desire II'!T95*COS(RADIANS(T$4))*T$3)+T$2,\"\")","v":""},null,{"$f":"IF('Hearts Desire II'!V95<>\"\",'Hearts Desire II'!V95*COS(RADIANS(Y$4))-'Hearts Desire II'!W95*SIN(RADIANS(Y$4))+Y$1,\"\")","v":""},{"$f":"IF('Hearts Desire II'!W95<>\"\",('Hearts Desire II'!V95*SIN(RADIANS(Y$4))+'Hearts Desire II'!W95*COS(RADIANS(Y$4))*Y$3)+Y$2,\"\")","v":""},{"$f":"IF('Hearts Desire II'!X95<>\"\",'Hearts Desire II'!X95*COS(RADIANS(Y$4))-'Hearts Desire II'!Y95*SIN(RADIANS(Y$4))+Y$1,\"\")","v":""},{"$f":"IF('Hearts Desire II'!Y95<>\"\",('Hearts Desire II'!X95*SIN(RADIANS(Y$4))+'Hearts Desire II'!Y95*COS(RADIANS(Y$4))*Y$3)+Y$2,\"\")","v":""}]
[null,{"$f":"IF('Hearts Desire II'!B96<>\"\",'Hearts Desire II'!B96*COS(RADIANS(E$4))-'Hearts Desire II'!C96*SIN(RADIANS(E$4))+E$1,\"\")","v":""},{"$f":"IF('Hearts Desire II'!C96<>\"\",('Hearts Desire II'!B96*SIN(RADIANS(E$4))+'Hearts Desire II'!C96*COS(RADIANS(E$4))*E$3)+E$2,\"\")","v":""},{"$f":"IF('Hearts Desire II'!D96<>\"\",'Hearts Desire II'!D96*COS(RADIANS(E$4))-'Hearts Desire II'!E96*SIN(RADIANS(E$4))+E$1,\"\")","v":""},{"$f":"IF('Hearts Desire II'!E96<>\"\",('Hearts Desire II'!D96*SIN(RADIANS(E$4))+'Hearts Desire II'!E96*COS(RADIANS(E$4))*E$3)+E$2,\"\")","v":""},null,{"$f":"IF('Hearts Desire II'!G96<>\"\",'Hearts Desire II'!G96*COS(RADIANS(J$4))-'Hearts Desire II'!H96*SIN(RADIANS(J$4))+J$1,\"\")","v":""},{"$f":"IF('Hearts Desire II'!H96<>\"\",('Hearts Desire II'!G96*SIN(RADIANS(J$4))+'Hearts Desire II'!H96*COS(RADIANS(J$4))*J$3)+J$2,\"\")","v":""},{"$f":"IF('Hearts Desire II'!I96<>\"\",'Hearts Desire II'!I96*COS(RADIANS(J$4))-'Hearts Desire II'!J96*SIN(RADIANS(J$4))+J$1,\"\")","v":""},{"$f":"IF('Hearts Desire II'!J96<>\"\",('Hearts Desire II'!I96*SIN(RADIANS(J$4))+'Hearts Desire II'!J96*COS(RADIANS(J$4))*J$3)+J$2,\"\")","v":""},null,{"$f":"IF('Hearts Desire II'!L96<>\"\",'Hearts Desire II'!L96*COS(RADIANS(O$4))-'Hearts Desire II'!M96*SIN(RADIANS(O$4))+O$1,\"\")","v":""},{"$f":"IF('Hearts Desire II'!M96<>\"\",('Hearts Desire II'!L96*SIN(RADIANS(O$4))+'Hearts Desire II'!M96*COS(RADIANS(O$4))*O$3)+O$2,\"\")","v":""},{"$f":"IF('Hearts Desire II'!N96<>\"\",'Hearts Desire II'!N96*COS(RADIANS(O$4))-'Hearts Desire II'!O96*SIN(RADIANS(O$4))+O$1,\"\")","v":""},{"$f":"IF('Hearts Desire II'!O96<>\"\",('Hearts Desire II'!N96*SIN(RADIANS(O$4))+'Hearts Desire II'!O96*COS(RADIANS(O$4))*O$3)+O$2,\"\")","v":""},null,{"$f":"IF('Hearts Desire II'!Q96<>\"\",'Hearts Desire II'!Q96*COS(RADIANS(T$4))-'Hearts Desire II'!R96*SIN(RADIANS(T$4))+T$1,\"\")","v":""},{"$f":"IF('Hearts Desire II'!R96<>\"\",('Hearts Desire II'!Q96*SIN(RADIANS(T$4))+'Hearts Desire II'!R96*COS(RADIANS(T$4))*T$3)+T$2,\"\")","v":""},{"$f":"IF('Hearts Desire II'!S96<>\"\",'Hearts Desire II'!S96*COS(RADIANS(T$4))-'Hearts Desire II'!T96*SIN(RADIANS(T$4))+T$1,\"\")","v":""},{"$f":"IF('Hearts Desire II'!T96<>\"\",('Hearts Desire II'!S96*SIN(RADIANS(T$4))+'Hearts Desire II'!T96*COS(RADIANS(T$4))*T$3)+T$2,\"\")","v":""},null,{"$f":"IF('Hearts Desire II'!V96<>\"\",'Hearts Desire II'!V96*COS(RADIANS(Y$4))-'Hearts Desire II'!W96*SIN(RADIANS(Y$4))+Y$1,\"\")","v":""},{"$f":"IF('Hearts Desire II'!W96<>\"\",('Hearts Desire II'!V96*SIN(RADIANS(Y$4))+'Hearts Desire II'!W96*COS(RADIANS(Y$4))*Y$3)+Y$2,\"\")","v":""},{"$f":"IF('Hearts Desire II'!X96<>\"\",'Hearts Desire II'!X96*COS(RADIANS(Y$4))-'Hearts Desire II'!Y96*SIN(RADIANS(Y$4))+Y$1,\"\")","v":""},{"$f":"IF('Hearts Desire II'!Y96<>\"\",('Hearts Desire II'!X96*SIN(RADIANS(Y$4))+'Hearts Desire II'!Y96*COS(RADIANS(Y$4))*Y$3)+Y$2,\"\")","v":""}]
[null,{"$f":"IF('Hearts Desire II'!B97<>\"\",'Hearts Desire II'!B97*COS(RADIANS(E$4))-'Hearts Desire II'!C97*SIN(RADIANS(E$4))+E$1,\"\")","v":""},{"$f":"IF('Hearts Desire II'!C97<>\"\",('Hearts Desire II'!B97*SIN(RADIANS(E$4))+'Hearts Desire II'!C97*COS(RADIANS(E$4))*E$3)+E$2,\"\")","v":""},{"$f":"IF('Hearts Desire II'!D97<>\"\",'Hearts Desire II'!D97*COS(RADIANS(E$4))-'Hearts Desire II'!E97*SIN(RADIANS(E$4))+E$1,\"\")","v":""},{"$f":"IF('Hearts Desire II'!E97<>\"\",('Hearts Desire II'!D97*SIN(RADIANS(E$4))+'Hearts Desire II'!E97*COS(RADIANS(E$4))*E$3)+E$2,\"\")","v":""},null,{"$f":"IF('Hearts Desire II'!G97<>\"\",'Hearts Desire II'!G97*COS(RADIANS(J$4))-'Hearts Desire II'!H97*SIN(RADIANS(J$4))+J$1,\"\")","v":""},{"$f":"IF('Hearts Desire II'!H97<>\"\",('Hearts Desire II'!G97*SIN(RADIANS(J$4))+'Hearts Desire II'!H97*COS(RADIANS(J$4))*J$3)+J$2,\"\")","v":""},{"$f":"IF('Hearts Desire II'!I97<>\"\",'Hearts Desire II'!I97*COS(RADIANS(J$4))-'Hearts Desire II'!J97*SIN(RADIANS(J$4))+J$1,\"\")","v":""},{"$f":"IF('Hearts Desire II'!J97<>\"\",('Hearts Desire II'!I97*SIN(RADIANS(J$4))+'Hearts Desire II'!J97*COS(RADIANS(J$4))*J$3)+J$2,\"\")","v":""},null,{"$f":"IF('Hearts Desire II'!L97<>\"\",'Hearts Desire II'!L97*COS(RADIANS(O$4))-'Hearts Desire II'!M97*SIN(RADIANS(O$4))+O$1,\"\")","v":""},{"$f":"IF('Hearts Desire II'!M97<>\"\",('Hearts Desire II'!L97*SIN(RADIANS(O$4))+'Hearts Desire II'!M97*COS(RADIANS(O$4))*O$3)+O$2,\"\")","v":""},{"$f":"IF('Hearts Desire II'!N97<>\"\",'Hearts Desire II'!N97*COS(RADIANS(O$4))-'Hearts Desire II'!O97*SIN(RADIANS(O$4))+O$1,\"\")","v":""},{"$f":"IF('Hearts Desire II'!O97<>\"\",('Hearts Desire II'!N97*SIN(RADIANS(O$4))+'Hearts Desire II'!O97*COS(RADIANS(O$4))*O$3)+O$2,\"\")","v":""},null,{"$f":"IF('Hearts Desire II'!Q97<>\"\",'Hearts Desire II'!Q97*COS(RADIANS(T$4))-'Hearts Desire II'!R97*SIN(RADIANS(T$4))+T$1,\"\")","v":""},{"$f":"IF('Hearts Desire II'!R97<>\"\",('Hearts Desire II'!Q97*SIN(RADIANS(T$4))+'Hearts Desire II'!R97*COS(RADIANS(T$4))*T$3)+T$2,\"\")","v":""},{"$f":"IF('Hearts Desire II'!S97<>\"\",'Hearts Desire II'!S97*COS(RADIANS(T$4))-'Hearts Desire II'!T97*SIN(RADIANS(T$4))+T$1,\"\")","v":""},{"$f":"IF('Hearts Desire II'!T97<>\"\",('Hearts Desire II'!S97*SIN(RADIANS(T$4))+'Hearts Desire II'!T97*COS(RADIANS(T$4))*T$3)+T$2,\"\")","v":""},null,{"$f":"IF('Hearts Desire II'!V97<>\"\",'Hearts Desire II'!V97*COS(RADIANS(Y$4))-'Hearts Desire II'!W97*SIN(RADIANS(Y$4))+Y$1,\"\")","v":""},{"$f":"IF('Hearts Desire II'!W97<>\"\",('Hearts Desire II'!V97*SIN(RADIANS(Y$4))+'Hearts Desire II'!W97*COS(RADIANS(Y$4))*Y$3)+Y$2,\"\")","v":""},{"$f":"IF('Hearts Desire II'!X97<>\"\",'Hearts Desire II'!X97*COS(RADIANS(Y$4))-'Hearts Desire II'!Y97*SIN(RADIANS(Y$4))+Y$1,\"\")","v":""},{"$f":"IF('Hearts Desire II'!Y97<>\"\",('Hearts Desire II'!X97*SIN(RADIANS(Y$4))+'Hearts Desire II'!Y97*COS(RADIANS(Y$4))*Y$3)+Y$2,\"\")","v":""}]

{"sheet":"Unfold Plot","index":6,"n_rows":0,"n_cols":0,"rows_kept":0,"cut":false,"hidden":false,"merged":[]}

{"sheet":"Section","index":7,"n_rows":8,"n_cols":2,"rows_kept":8,"cut":false,"hidden":false,"merged":[]}
["Section","Z"]
["Y","Z"]
[0,-574.02751095000008]
[244.60522576137478,-574.02751095000008]
[244.60522576137478,-497.82751094999998]
[994.25230278874983,-112.51003830000002]
[1136.8491817374997,666.83527142499997]
[1157.1345798312498,760.80096432499988]

{"sheet":"Slice","index":8,"n_rows":72,"n_cols":2,"rows_kept":72,"cut":false,"hidden":false,"merged":[]}
["Slice",0]
["Y","Z"]
[443.3521756205584,0]
[483.06598789057199,29.887158043741756]
[526.56376835035962,61.123935545603516]
[562.08202353147772,87.25026958196193]
[500,42.199260689590218]
[720.71310530815072,194.1477731642895]
[682.75031493345284,170.38183644618169]
[600,113.82376566652938]
[803.27052273849631,248.39928850649085]
[801.41137530619699,247.29486556640427]
[800,246.3783043724562]
[804.68569715732781,249.31601061495107]
[804.68168361405901,249.31405101793709]
[804.67869038425295,249.31249600342377]
[950.44554057962853,322.20436117290416]
[860.62766709670086,269.9537733001568]
[804.68869038425294,249.31714300024595]
[1449.8066631739218,561.84691324329606]
[1108.9206563654575,379.4846257496697]
[1000,341.41844019500064]
[1539.9007245394444,594.04036475673604]
[1500,581.33667428042304]
[1804.4278244472778,715.24264048776763]
[1985.6628095282147,776.61451124299322]
[2016.261281086325,783.56311856437037]
[2458.2008404288367,891.94192552003483]
[2000,780.60679388102437]
[2545.8932974352583,904.21123570003101]
[2939.4648369614915,968.68150192075882]
[2500,899.23220641446596]
[3064.3980654445072,978.54072081289189]
[3429.4701309771444,1011.0481021586155]
[3000,974.97671893202596]
[3572.7024264240122,1015.4557057688799]
[3928.7201048925253,1020.0734121215581]
[3500,1014.8384044005261]
[4071.1360064467631,1017.2926247122092]
[4438.3316769211278,990.19822890026273]
[4000,1020.6740375808022]
[4559.4749273736606,979.57188196842799]
[4960.2852780891171,907.08137711915663]
[4500,987.23642138750267]
[5036.9009932183535,892.63202781592304]
[5497.8993665011021,746.8563793928854]
[5000,901.85291908728345]
[5954.440996144891,498.99745821716857]
[5519.5779471845372,736.86470380048354]
[5501.8715461939801,745.51156074333255]
[5500,746.31884884623184]
[6131.9594671762561,400.98346657661318]
[6014.2395772808823,477.20026793971158]
[6000,483.51028088210137]
[6150.1052142408571,393.02160058140578]
[6150.0976567362004,393.0272956562174]
[6150.0964355037922,393.02724967760702]
[6193.1500797449389,363.15556408329644]
[6156.5286296695122,388.19968962709783]
[6150.1064355037925,393.02103252698976]
[6355.314685993093,240.96284844802142]
[6237.3723090264912,328.58482609085769]
[6200,357.96076820768269]
[6462.473753709337,152.0503847447583]
[6436.276492518602,173.50116638528135]
[6400,204.42731753898332]
[6543.4609500027718,80.596917592916157]
[6569.665395728879,56.254536606911451]
[6500,119.43532563092216]
[6621.193830761661,8.5512302155726374]
[6600,28.6265921937194]
[6621.193830761661,8.5512302155726374]