{"text_format":"1","workbook":"xlsx","n_sheets":8,"sheets":["Module1","drawing","Basic","Hull Long","Hull Plan","Hull Unfold","Offsets","Righting Moments"],"not_rendered":{"charts":1,"images":1,"macros":1,"external_links":1,"defined_names":1,"comments":1,"pivot_tables":0},"unopened":[{"sheet":"Module1","index":0,"reason":"part_missing"}],"bounds":{"document_bytes":16777216,"sheet_cells":100000,"rows_first":2000,"rows_last":500,"rows_between":2000,"halvings":0,"cell_chars":16384,"cell_head_chars":4096},"cells_cut":0,"cells_raw":0,"read":"whole","date_system":"1900"}

{"sheet":"drawing","index":1,"n_rows":0,"n_cols":0,"rows_kept":0,"cut":false,"hidden":false,"merged":[]}

{"sheet":"Basic","index":2,"n_rows":59,"n_cols":6,"rows_kept":59,"cut":false,"hidden":false,"merged":[[42,2,42,5]]}
[]
[null,"Sail Boat Design","Scale 1 in",1]
[null,"LWL",{"$f":"('Hull Long'!B53-'Hull Long'!B12)/1000","v":3.6001064516129038},"m"]
[null,"LOA",{"$f":"('Hull Long'!B56-'Hull Long'!B9)/1000","v":3.93},"m"]
[null,"BWL",{"$f":"('Hull Plan'!C134-'Hull Plan'!F134)/1000+2*('Hull Long'!C113-'Hull Long'!C134)/('Hull Long'!C185-'Hull Long'!C134)*('Hull Plan'!C185-'Hull Plan'!C134)/1000","v":0.55916363636363642},"m"]
[null,"BOA",{"$f":"('Hull Plan'!C185-'Hull Plan'!F185)/1000","v":0.65},"m"]
[null,"DWL",{"$f":"('Hull Long'!C113-'Hull Long'!C134)/1000","v":2.5200000000000004E-2},"m"]
[null,"Amidships Deadrise",{"$f":"DEGREES(ATAN2('Hull Plan'!C134-'Hull Plan'!C83,'Hull Long'!C134-'Hull Long'!C83))","v":0},"Degrees"]
[null,"Amidships Depth",{"$f":"('Hull Long'!C287-'Hull Long'!C134)/1000","v":0.33739999999999998},"m","Chine to Seat"]
[null,"Amidships Freeboard",{"$f":"('Hull Long'!C185-'Hull Long'!C113)/1000","v":0.24980000000000002},"m"]
[null,"Forward Freeboard",{"$f":"('Hull Long'!C162-'Hull Long'!C113)/1000","v":0.30980000000000002},"m","Nominal Forward Freeboard",{"$f":"0.191*C3-C3*C3*0.0053","v":0.61892827000445694}]
[null,"Rear Freeboard",{"$f":"('Hull Long'!C209-'Hull Long'!C156)/1000","v":0.30980000000000002},"m","Nominal Rear Freeboard",{"$f":"F11/1.35","v":0.45846538518848656}]
[null,"MSA",{"$f":"C7*('Hull Plan'!C134-'Hull Plan'!F134+('Hull Long'!C113-'Hull Long'!C134)/('Hull Long'!C185-'Hull Long'!C134)*('Hull Plan'!C185-'Hull Plan'!C134))/1000","v":1.3975461818181822E-2},"m^2"]
[null,"Plan WL Area",{"$f":"'Hull Long'!L158","v":1.4625546792369608},"m^2"]
[null,"cp",{"$f":"C16/C3/C5/C7","v":2.0190041449824108}]
[null,"Vol",{"$f":"'Hull Long'!K158/1000","v":0.10242170813175941},"m^3"]
[null,"Disp",{"$f":"C16*1025","v":104.98225083505339},"kg"]
[null,"DLR",{"$f":"C17/(C4/3.048)^3","v":48.975977952439081}]
[null,"Hull Speed",{"$f":"1.34*(C3*3.28)^0.5","v":4.6046793323762412},"kt"]
[null,"Pd",{"$f":"MAX(6.5,10*(1.3*C7+0.1*C3))","v":6.5},"KN","AS4132:4.1.2(b&c)",{"$f":"TEXT(C14*C20/C17/9.81*1000,\"0.0\")&\"g\"","v":"9.2g"}]
[]
[null,"Bottom Plank"]
[null,"Pd (Design Pressure)",{"$f":"C20*F23","v":10.47269103510156},"kPa","Scale Up Load for 6mm Plywood",1.6111832361694709]
[null,"L (Span)",{"$f":"2*'Hull Plan'!C134*F24","v":275},"mm","Half Hull Width",0.5]
[null,"S (Allowable Stress)",11000,"kPa","F11 Plywood"]
[null,"t (Thickness)",{"$f":"(C23*C24*C24/C25/2)^0.5","v":5.9999896194211546},"mm","t^2=P*L^2/2/S, ~fixed sides"]
[null,"E (Modulus of Elasticity)",{"$f":"10500000","v":10500000},"kPa"]
[null,"I (Moment of Inertia)",{"$f":"1000*C26^3/12","v":17999.906574952027},"mm^4"]
[null,"d=P*L^4/384EI (2% max)",{"$f":"C23*C24^4/384/C27/C28*1000","v":0.82527424526437942},"mm","Deflection Ratio:",{"$f":"C24/C29","v":333.22256398768729}]
[null,"Maximum Concentrated Load",{"$f":"0.5*C23*C24*C24/1000000","v":0.39599862976477773},"kN","~0.5*Pd*L^2/1000000"]
[]
[null,"Side Plank"]
[null,"Pd (Design Pressure)",{"$f":"C20","v":6.5},"kPa"]
[null,"L (Span)",{"$f":"C9*1000","v":337.4},"mm"]
[null,"S (Allowable Stress)",11000,"kPa","F11 Plywood"]
[null,"t (Thickness)",{"$f":"(C33*C34*C34/C35/2)^0.5","v":5.7994981757828912},"mm","t^2=P*L^2/2/S, ~fixed sides"]
[null,"E (Modulus of Elasticity)",{"$f":"10500000*80%","v":8400000},"kPa"]
[null,"I (Moment of Inertia)",{"$f":"1000*C36^3/12","v":16255.113356806854},"mm^4"]
[null,"Lmax",{"$f":"80*C36/(12)^0.5","v":133.93367331811984},"mm"]
[null,"d=P*L^4/384EI (2% max)",{"$f":"C33*C34^4/384/C37/C38*1000","v":1.6065459690241073},"mm","Deflection Ratio:",{"$f":"C34/C40","v":210.01577701816578}]
[null,"Maximum Concentrated Load",{"$f":"0.5*C33*C34*C34/1000000","v":0.36997596999999999},"kN","~0.5*Pd*L^2/1000000"]
[]
[null,"Hull Section Modulus","SM=PsL^2/12/S, Triangular Load & Free Ends"]
[null,"Pd (Design Pressure)",{"$f":"C20","v":6.5},"kPa"]
[null,"s (Span)",{"$f":"C5*1000","v":559.16363636363644},"mm","BWL"]
[null,"L (Bulkhead Spacing)",{"$f":"C3*1000","v":3600.1064516129036},"mm","LWL"]
[null,"S (Allowable Stress)",11000,"kPa","F11 Plywood"]
[null,"SM (Required Section Modulus)",{"$f":"C44*C45*C46^2/12/C47","v":356869.17034561146},"mm^3"]
[null,"Channel Model"]
[null,"Chine Width",{"$f":"('Hull Plan'!C134-'Hull Plan'!F134)","v":550},"mm"]
[null,"Side Height (flange)",{"$f":"'Hull Long'!C287-'Hull Long'!C83","v":337.4},"mm"]
[null,"Deck Width (lip)",{"$f":"'Hull Plan'!C185-'Hull Plan'!C236","v":50},"mm"]
[null,"Thickness",{"$f":"C36","v":5.7994981757828912},"mm","Sides and seat thickness"]
[null,"cy (from keel)",{"$f":"C51*(C51+2*C52)/(C50+2*C51+2*C52)","v":111.39701086956521},"mm"]
[null,"I",{"$f":"1/12*C50*C53^3+2/3*C53*C51^3+1/6*C52*C53^3+2*C52*C53*C51^2-(C50*C53+2*C51*C53+2*C52*C53)*C51^2*(C51+2*C52)^2/(C50+2*C51+2*C52)^2","v":119191268.34967124},"mm^4"]
[null,"Rg",{"$f":"(C55/(C50+2*C51+2*C52)/C53)^0.5","v":124.55232900542715},"mm","Radius of gyration"]
[null,"Slenderness Ratio",{"$f":"C46/C56","v":28.904368793104101}]
[null,"Z",{"$f":"MIN(C55/C54,C55/(C51-C54))","v":527388.01733671548},"mm^3"]
[null,"Working Factor",{"$f":"C58/C48","v":1.4778189352304216},null,"Assumes no significant keel or stringers"]

{"sheet":"Hull Long","index":3,"n_rows":364,"n_cols":16,"rows_kept":364,"cut":false,"hidden":false,"merged":[]}
["Long"]
[]
[]
[]
["Parameters",{"$f":"400*Basic!$D$2","v":400},{"$f":"1000*Basic!$D$2","v":1000}]
["Number of Lines",{"$f":"COUNT(A8:A1008)","v":357},null,null,{"$f":"COUNT(D8:D1008)","v":0}]
["Line Id","X","Z","Line Id","X","Z","KEEL"]
[0,{"$f":"0*Basic!$D$2","v":0},{"$f":"C$13+(C$9-C$13)*ABS(B$13-B8)/ABS(B$9-B$13)","v":325.75757575757575}]
[1,{"$f":"35*Basic!$D$2","v":35},{"$f":"260*Basic!$D$2","v":260}]
[1,{"$f":"$B$9+($B$9-$B$13)/($C$9-$C$13)*($C10-$C$9)","v":66.935483870967744},{"$f":"200*Basic!$D$2","v":200}]
[1,{"$f":"$B$9+($B$9-$B$13)/($C$9-$C$13)*($C11-$C$9)","v":199.89354838709676},{"$f":"-49.8*Basic!$D$2","v":-49.8}]
[1,{"$f":"$B$9+($B$9-$B$13)/($C$9-$C$13)*($C12-$C$9)","v":199.94677419354838},{"$f":"-49.9*Basic!$D$2","v":-49.9}]
[1,{"$f":"200*Basic!$D$2","v":200},{"$f":"-50*Basic!$D$2","v":-50},null,null,null,2]
[1,{"$f":"250*Basic!$D$2","v":250},{"$f":"C$32+(C$13-C$32)*ABS(B$32-B14)^G$13/ABS(B$13-B$32)^G$13","v":-51.369598765432102}]
[1,{"$f":"300*Basic!$D$2","v":300},{"$f":"C$32+(C$13-C$32)*ABS(B$32-B15)^G$13/ABS(B$13-B$32)^G$13","v":-52.700617283950621}]
[1,{"$f":"400*Basic!$D$2","v":400},-55.246913580246911]
[1,{"$f":"500*Basic!$D$2","v":500},-57.638888888888886]
[1,{"$f":"600*Basic!$D$2","v":600},-59.876543209876544]
[1,{"$f":"699*Basic!$D$2","v":699},-61.939807098765428]
[1,{"$f":"701*Basic!$D$2","v":701},-61.979930555555555]
[1,{"$f":"800*Basic!$D$2","v":800},-63.888888888888886]
[1,{"$f":"900*Basic!$D$2","v":900},-65.663580246913583]
[1,{"$f":"1000*Basic!$D$2","v":1000},-67.283950617283949]
[1,{"$f":"1100*Basic!$D$2","v":1100},-68.75]
[1,{"$f":"1200*Basic!$D$2","v":1200},-70.061728395061735]
[1,{"$f":"1300*Basic!$D$2","v":1300},-71.21913580246914]
[1,{"$f":"1400*Basic!$D$2","v":1400},-72.222222222222229]
[1,{"$f":"1500*Basic!$D$2","v":1500},-73.070987654320987]
[1,{"$f":"1600*Basic!$D$2","v":1600},-73.76543209876543]
[1,{"$f":"1700*Basic!$D$2","v":1700},-74.305555555555557]
[1,{"$f":"1800*Basic!$D$2","v":1800},-74.691358024691354]
[1,{"$f":"2000*Basic!$D$2","v":2000},{"$f":"-75*Basic!$D$2","v":-75}]
[1,{"$f":"2000*Basic!$D$2","v":2000},{"$f":"-75*Basic!$D$2","v":-75}]
[1,{"$f":"2200*Basic!$D$2","v":2200},{"$f":"C$33+(C$52-C$33)*ABS(B$33-$B34)^G$52/ABS(B$52-B$33)^G$52","v":-74.691358024691354}]
[1,{"$f":"2300*Basic!$D$2","v":2300},-74.305555555555557]
[1,{"$f":"2400*Basic!$D$2","v":2400},-73.76543209876543]
[1,{"$f":"2500*Basic!$D$2","v":2500},-73.070987654320987]
[1,{"$f":"2600*Basic!$D$2","v":2600},-72.222222222222229]
[1,{"$f":"2700*Basic!$D$2","v":2700},-71.21913580246914]
[1,{"$f":"2800*Basic!$D$2","v":2800},-70.061728395061735]
[1,{"$f":"2900*Basic!$D$2","v":2900},-68.75]
[1,{"$f":"3000*Basic!$D$2","v":3000},-67.283950617283949]
[1,{"$f":"3100*Basic!$D$2","v":3100},-65.663580246913583]
[1,{"$f":"3200*Basic!$D$2","v":3200},-63.888888888888886]
[1,{"$f":"3299*Basic!$D$2","v":3299},-61.979930555555555]
[1,{"$f":"3301*Basic!$D$2","v":3301},-61.939807098765428]
[1,{"$f":"3400*Basic!$D$2","v":3400},-59.876543209876544]
[1,{"$f":"3500*Basic!$D$2","v":3500},-57.638888888888886]
[1,{"$f":"3600*Basic!$D$2","v":3600},-55.246913580246911]
[1,{"$f":"3700*Basic!$D$2","v":3700},-52.700617283950621]
[1,{"$f":"3750*Basic!$D$2","v":3750},-51.369598765432102]
[1,{"$f":"3800*Basic!$D$2","v":3800},{"$f":"-50*Basic!$D$2","v":-50},null,null,null,2]
[1,{"$f":"$B$52+($B$52-$B$56)/($C$52-$C$56)*($C53-$C$52)","v":3800.0532258064518},{"$f":"-49.9*Basic!$D$2","v":-49.9}]
[1,{"$f":"$B$52+($B$52-$B$56)/($C$52-$C$56)*($C54-$C$52)","v":3800.1064516129031},{"$f":"-49.8*Basic!$D$2","v":-49.8}]
[1,{"$f":"$B$52+($B$52-$B$56)/($C$52-$C$56)*($C55-$C$52)","v":3933.0645161290322},{"$f":"200*Basic!$D$2","v":200}]
[1,{"$f":"3965*Basic!$D$2","v":3965},{"$f":"260*Basic!$D$2","v":260}]
[0,{"$f":"4000*Basic!$D$2","v":4000},{"$f":"C$52+(C$56-C$52)*ABS(B$52-$B57)/ABS(B$56-B$52)","v":325.75757575757575}]
[0,0,0,null,null,null,"RABBET"]
[0,{"$f":"B8","v":0},{"$f":"C8","v":325.75757575757575}]
[0,{"$f":"B9","v":35},260]
[0,66.935483870967744,200]
[0,199.89354838709676,-49.8]
[0,199.94677419354838,-49.9]
[2,200,{"$f":"C$83+(C$63-C$83)*ABS(B$83-B64)^G$64/ABS(B$63-B$83)^G$64","v":-49.901484342764036},null,null,null,2]
[2,250,-51.276480185097185]
[2,300,-52.612743750181508]
[2,400,-55.16907404860369]
[2,500,-57.570475238030582]
[2,600,-59.816947318462198]
[2,699,-61.888341759273686]
[2,701,-61.928623327612463]
[2,800,-63.845104152339573]
[2,900,-65.626788905785332]
[2,1000,-67.253544550235816]
[2,1100,-68.725371085691009]
[2,1200,-70.042268512150926]
[2,1300,-71.204236829615553]
[2,1400,-72.21127603808489]
[2,1500,-73.06338613755895]
[2,1600,-73.760567128037735]
[2,1700,-74.30281900952123]
[2,1800,-74.690141782009434]
[2,2000,{"$f":"-75*Basic!$D$2","v":-75}]
[2,2000,{"$f":"-75*Basic!$D$2","v":-75}]
[2,2200,{"$f":"C$84+(C$104-C$84)*ABS(B$84-$B85)^G$104/ABS(B$104-B$84)^G$104","v":-74.690141782009434}]
[2,2300,-74.30281900952123]
[2,2400,-73.760567128037735]
[2,2500,-73.06338613755895]
[2,2600,-72.21127603808489]
[2,2700,-71.204236829615553]
[2,2800,-70.042268512150926]
[2,2900,-68.725371085691009]
[2,3000,-67.253544550235816]
[2,3100,-65.626788905785332]
[2,3200,-63.845104152339573]
[2,3299,-61.92862332761247]
[2,3301,-61.888341759273693]
[2,3400,-59.816947318462198]
[2,3500,{"$f":"C$84+(C$104-C$84)*ABS(B$84-$B99)^G$104/ABS(B$104-B$84)^G$104","v":-57.570475238030589}]
[2,3600,-55.16907404860369]
[2,3700,-52.612743750181508]
[2,3750,{"$f":"C$84+(C$104-C$84)*ABS(B$84-$B102)^G$104/ABS(B$104-B$84)^G$104","v":-51.276480185097192}]
[2,3800,{"$f":"C$84+(C$104-C$84)*ABS(B$84-$B103)^G$104/ABS(B$104-B$84)^G$104","v":-49.90148434276405}]
[2,3800.0532258064518,{"$f":"C53","v":-49.9},null,null,null,2]
[0,3800.1064516129031,{"$f":"C54","v":-49.8}]
[0,3933.0645161290322,{"$f":"C55","v":200}]
[0,3965,{"$f":"C56","v":260}]
[0,4000,{"$f":"C57","v":325.75757575757575}]
[0,0,0,null,null,null,"CHINE",null,null,null,{"$f":"C113","v":-49.8}]
[0,{"$f":"B8","v":0},{"$f":"C8","v":325.75757575757575},null,null,null,null,"Displacement Calculations:",null,null,0,"mm"]
[0,{"$f":"B9","v":35},260,null,null,null,null,"Width","Depth","Length","Volume","Plan Area","Lateral Area","CLA",null,"Surface Area"]
[0,66.935483870967744,200,null,null,null,null,{"$f":"IF(2*('Hull Plan'!C112+('Hull Plan'!C163-'Hull Plan'!C112)/('Hull Long'!C163-'Hull Long'!C112)*($K$110-C112))>0,2*('Hull Plan'!C112+('Hull Plan'!C163-'Hull Plan'!C112)/('Hull Long'!C163-'Hull Long'!C112)*($K$110-C112)),0)","v":0},{"$f":"IF(($K$110-C112)>0,($K$110-C112),0)","v":0},{"$f":"(B112-B111)","v":31.935483870967744},{"$f":"H112*I112*J112/1000000","v":0},{"$f":"H112*J112/1000000","v":0},{"$f":"I112*J112/1000000","v":0},{"$f":"M112*B112","v":0},null,{"$f":"(H112+I112*2)*J112/1000000","v":0}]
[3,199.89354838709676,-49.8,null,null,null,2,{"$f":"IF(2*('Hull Plan'!C113+('Hull Plan'!C164-'Hull Plan'!C113)/('Hull Long'!C164-'Hull Long'!C113)*($K$110-C113))>0,2*('Hull Plan'!C113+('Hull Plan'!C164-'Hull Plan'!C113)/('Hull Long'!C164-'Hull Long'!C113)*($K$110-C113)),0)","v":17.260928720653443},49.8,{"$f":"(B113-B112)","v":132.95806451612901},{"$f":"H113*I113*J113/1000000","v":0.11428998778755743},{"$f":"H113*J113/1000000","v":2.2949796744489446E-3},{"$f":"I113*J113/1000000","v":6.6213116129032242E-3},{"$f":"M113*B113","v":1.3235574732799162},null,1.5537602900255394E-2]
[3,199.94677419354838,{"$f":"C$134+(C$113-C$134)*ABS(B$134-B114)^G$113/ABS(B$113-B$134)^G$113","v":-49.801490212416766},null,null,null,null,{"$f":"IF(2*('Hull Plan'!C114+('Hull Plan'!C165-'Hull Plan'!C114)/('Hull Long'!C165-'Hull Long'!C114)*($K$110-C114))>0,2*('Hull Plan'!C114+('Hull Plan'!C165-'Hull Plan'!C114)/('Hull Long'!C165-'Hull Long'!C114)*($K$110-C114)),0)","v":17.293988884193062},49.801490212416766,{"$f":"(B114-B113)","v":5.3225806451621338E-2},{"$f":"H114*I114*J114/1000000","v":4.584159967572164E-5},{"$f":"H114*J114/1000000","v":9.2048650512655083E-7},{"$f":"I114*J114/1000000","v":2.650724479048409E-6},{"$f":"M114*B114","v":5.3000380886160338E-4},null,6.2219354632233695E-6]
[3,200,{"$f":"C$134+(C$113-C$134)*ABS(B$134-B115)^G$113/ABS(B$113-B$134)^G$113","v":-49.802980380770059},null,null,null,null,{"$f":"IF(2*('Hull Plan'!C115+('Hull Plan'!C166-'Hull Plan'!C115)/('Hull Long'!C166-'Hull Long'!C115)*($K$110-C115))>0,2*('Hull Plan'!C115+('Hull Plan'!C166-'Hull Plan'!C115)/('Hull Long'!C166-'Hull Long'!C115)*($K$110-C115)),0)","v":17.327048073104127},49.802980380770059,5.3225806451621338E-2,4.5930604778988454E-5,{"$f":"H115*J115/1000000","v":9.2224610711697875E-7},{"$f":"I115*J115/1000000","v":2.6508037944607619E-6},{"$f":"M115*B115","v":5.3016075889215236E-4},null,6.2238536960385023E-6]
[3,250,{"$f":"C$134+(C$113-C$134)*ABS(B$134-B116)^G$113/ABS(B$113-B$134)^G$113","v":-51.183372659292687},null,null,null,null,{"$f":"IF(2*('Hull Plan'!C116+('Hull Plan'!C167-'Hull Plan'!C116)/('Hull Long'!C167-'Hull Long'!C116)*($K$110-C116))>0,2*('Hull Plan'!C116+('Hull Plan'!C167-'Hull Plan'!C116)/('Hull Long'!C167-'Hull Long'!C116)*($K$110-C116)),0)","v":47.952158389066682},51.183372659292687,50,0.12271765963225141,2.3976079194533342E-3,2.5591686329646344E-3,0.63979215824115865,null,7.5159451853826029E-3]
[3,300,-52.524880648279463,null,null,null,null,{"$f":"IF(2*('Hull Plan'!C117+('Hull Plan'!C168-'Hull Plan'!C117)/('Hull Long'!C168-'Hull Long'!C117)*($K$110-C117))>0,2*('Hull Plan'!C117+('Hull Plan'!C168-'Hull Plan'!C117)/('Hull Long'!C168-'Hull Long'!C117)*($K$110-C117)),0)","v":77.717207082285427},52.524880648279463,50,0.20410435131573307,3.885860354114271E-3,2.6262440324139732E-3,0.78787320972419195,null,9.1383484189422187E-3]
[3,400,-55.091243757645479,null,null,null,null,{"$f":"IF(2*('Hull Plan'!C118+('Hull Plan'!C169-'Hull Plan'!C118)/('Hull Long'!C169-'Hull Long'!C118)*($K$110-C118))>0,2*('Hull Plan'!C118+('Hull Plan'!C169-'Hull Plan'!C118)/('Hull Long'!C169-'Hull Long'!C118)*($K$110-C118)),0)","v":134.66710881362565},55.091243757645479,100,0.74189785177888179,1.3466710881362564E-2,5.5091243757645477E-3,2.2036497503058192,null,2.4484959632891663E-2]
[3,500,-57.502069708868099,null,null,null,null,{"$f":"IF(2*('Hull Plan'!C119+('Hull Plan'!C170-'Hull Plan'!C119)/('Hull Long'!C170-'Hull Long'!C119)*($K$110-C119))>0,2*('Hull Plan'!C119+('Hull Plan'!C170-'Hull Plan'!C119)/('Hull Long'!C170-'Hull Long'!C119)*($K$110-C119)),0)","v":188.17661894253473},57.502069708868099,100,1.0820545060012741,1.8817661894253473E-2,5.7502069708868101E-3,{"$f":"M119*B119","v":2.8751034854434052},null,3.0318075836027095E-2]
[3,600,-59.757358501947323,null,null,null,null,{"$f":"IF(2*('Hull Plan'!C120+('Hull Plan'!C171-'Hull Plan'!C120)/('Hull Long'!C171-'Hull Long'!C120)*($K$110-C120))>0,2*('Hull Plan'!C120+('Hull Plan'!C171-'Hull Plan'!C120)/('Hull Long'!C171-'Hull Long'!C120)*($K$110-C120)),0)","v":238.24541964469765},59.757358501947323,100,1.4236916953155081,2.3824541964469766E-2,5.9757358501947317E-3,3.5854415101168389,null,3.5776013664859226E-2]
[3,699,-61.8368825294666,null,null,null,null,{"$f":"IF(2*('Hull Plan'!C121+('Hull Plan'!C172-'Hull Plan'!C121)/('Hull Long'!C172-'Hull Long'!C121)*($K$110-C121))>0,2*('Hull Plan'!C121+('Hull Plan'!C172-'Hull Plan'!C121)/('Hull Long'!C172-'Hull Long'!C121)*($K$110-C121)),0)","v":284.42376607187811},61.8368825294666,99,1.7412000221063462,2.8157952841115934E-2,6.1218513704171936E-3,4.2791741079216186,null,4.0401655581950316E-2]
[3,701,-61.877322190583882,null,null,null,null,{"$f":"IF(2*('Hull Plan'!C122+('Hull Plan'!C173-'Hull Plan'!C122)/('Hull Long'!C173-'Hull Long'!C122)*($K$110-C122))>0,2*('Hull Plan'!C122+('Hull Plan'!C173-'Hull Plan'!C122)/('Hull Long'!C173-'Hull Long'!C122)*($K$110-C122)),0)","v":285.32190133255898},61.877322190583882,2,3.5309910433569472E-2,5.7064380266511798E-4,1.2375464438116776E-4,8.6752005711198607E-2,null,8.1815309142745356E-4]
[3,800,-63.801324613675582,null,null,null,null,{"$f":"IF(2*('Hull Plan'!C123+('Hull Plan'!C174-'Hull Plan'!C123)/('Hull Long'!C174-'Hull Long'!C123)*($K$110-C123))>0,2*('Hull Plan'!C123+('Hull Plan'!C174-'Hull Plan'!C123)/('Hull Long'!C174-'Hull Long'!C123)*($K$110-C123)),0)","v":328.05868192783043},63.801324613675582,99,2.0721272673431934,{"$f":"H123*J123/1000000","v":3.2477809510855209E-2},6.3163311367538831E-3,5.0530649094031066,null,4.5110471784362977E-2]
[3,900,-65.590001932324625,null,null,null,null,{"$f":"IF(2*('Hull Plan'!C124+('Hull Plan'!C175-'Hull Plan'!C124)/('Hull Long'!C175-'Hull Long'!C124)*($K$110-C124))>0,2*('Hull Plan'!C124+('Hull Plan'!C175-'Hull Plan'!C124)/('Hull Long'!C175-'Hull Long'!C124)*($K$110-C124)),0)","v":367.80155971861228},65.590001932324625,100,2.4124105012655788,3.6780155971861225E-2,6.5590001932324619E-3,5.9031001739092153,null,4.9898156358326153E-2]
[3,1000,-67.223142092830273,null,null,null,null,{"$f":"IF(2*('Hull Plan'!C125+('Hull Plan'!C176-'Hull Plan'!C125)/('Hull Long'!C176-'Hull Long'!C125)*($K$110-C125))>0,2*('Hull Plan'!C125+('Hull Plan'!C176-'Hull Plan'!C125)/('Hull Long'!C176-'Hull Long'!C125)*($K$110-C125)),0)","v":404.10055569609506},67.223142092830273,100,2.7164909075350274,4.0410055569609506E-2,6.7223142092830276E-3,6.7223142092830273,null,5.3854683988175563E-2]
[3,1100,-68.700745095192516,null,null,null,null,{"$f":"IF(2*('Hull Plan'!C126+('Hull Plan'!C177-'Hull Plan'!C126)/('Hull Long'!C177-'Hull Long'!C126)*($K$110-C126))>0,2*('Hull Plan'!C126+('Hull Plan'!C177-'Hull Plan'!C126)/('Hull Long'!C177-'Hull Long'!C126)*($K$110-C126)),0)","v":436.95438851582969},68.700745095192516,100,3.0019092063651733,4.3695438851582974E-2,6.8700745095192518E-3,7.5570819604711765,null,5.7435587870621474E-2]
[3,1200,-70.022810939411372,null,null,null,null,{"$f":"IF(2*('Hull Plan'!C127+('Hull Plan'!C178-'Hull Plan'!C127)/('Hull Long'!C178-'Hull Long'!C127)*($K$110-C127))>0,2*('Hull Plan'!C127+('Hull Plan'!C178-'Hull Plan'!C127)/('Hull Long'!C178-'Hull Long'!C127)*($K$110-C127)),0)","v":466.36157483503382},70.022810939411372,100,3.2655948384079725,4.6636157483503381E-2,7.0022810939411378E-3,8.4027373127293661,null,6.0640719671385658E-2]
[3,1300,-71.189339625486824,null,null,null,null,{"$f":"IF(2*('Hull Plan'!C128+('Hull Plan'!C179-'Hull Plan'!C128)/('Hull Long'!C179-'Hull Long'!C128)*($K$110-C128))>0,2*('Hull Plan'!C128+('Hull Plan'!C179-'Hull Plan'!C128)/('Hull Long'!C179-'Hull Long'!C128)*($K$110-C128)),0)","v":492.32042209593152},71.189339625486824,100,3.5047965733150295,4.9232042209593152E-2,7.1189339625486832E-3,9.2546141513132874,null,6.3469910134690527E-2]
[3,1400,-72.200331153418901,null,null,null,null,{"$f":"IF(2*('Hull Plan'!C129+('Hull Plan'!C180-'Hull Plan'!C129)/('Hull Long'!C180-'Hull Long'!C129)*($K$110-C129))>0,2*('Hull Plan'!C129+('Hull Plan'!C180-'Hull Plan'!C129)/('Hull Long'!C180-'Hull Long'!C129)*($K$110-C129)),0)","v":514.82901530423703},72.200331153418901,100,3.7170825392354483,5.1482901530423703E-2,7.2200331153418904E-3,10.108046361478646,null,6.5922967761107482E-2]
[3,1500,-73.055785523207561,null,null,null,null,{"$f":"IF(2*('Hull Plan'!C130+('Hull Plan'!C181-'Hull Plan'!C130)/('Hull Long'!C181-'Hull Long'!C130)*($K$110-C130))>0,2*('Hull Plan'!C130+('Hull Plan'!C181-'Hull Plan'!C130)/('Hull Long'!C181-'Hull Long'!C130)*($K$110-C130)),0)","v":533.88519246505257},73.055785523207561,100,3.9003402114743273,5.3388519246505256E-2,7.305578552320756E-3,10.958367828481133,null,6.7999676351146759E-2]
[3,1600,-73.755702734852846,null,null,null,null,{"$f":"IF(2*('Hull Plan'!C131+('Hull Plan'!C182-'Hull Plan'!C131)/('Hull Long'!C182-'Hull Long'!C131)*($K$110-C131))>0,2*('Hull Plan'!C131+('Hull Plan'!C182-'Hull Plan'!C131)/('Hull Long'!C182-'Hull Long'!C131)*($K$110-C131)),0)","v":549.48649812225744},73.755702734852846,100,4.0527762812320498,5.4948649812225747E-2,7.3755702734852845E-3,11.800912437576455,null,6.9699790359196309E-2]
[3,1700,-74.300082788354729,null,null,null,null,{"$f":"IF(2*('Hull Plan'!C132+('Hull Plan'!C183-'Hull Plan'!C132)/('Hull Long'!C183-'Hull Long'!C132)*($K$110-C132))>0,2*('Hull Plan'!C132+('Hull Plan'!C183-'Hull Plan'!C132)/('Hull Long'!C183-'Hull Long'!C132)*($K$110-C132)),0)","v":561.63009173276498},74.300082788354729,100,4.1729162312175703,5.6163009173276497E-2,7.430008278835473E-3,12.631014074020305,null,7.1023025730947445E-2]
[3,1800,-74.688925683713208,null,null,null,null,{"$f":"IF(2*('Hull Plan'!C133+('Hull Plan'!C184-'Hull Plan'!C133)/('Hull Long'!C184-'Hull Long'!C133)*($K$110-C133))>0,2*('Hull Plan'!C133+('Hull Plan'!C184-'Hull Plan'!C133)/('Hull Long'!C184-'Hull Long'!C133)*($K$110-C133)),0)","v":570.31255059566809},74.688925683713208,100,4.2596031707928788,5.7031255059566806E-2,7.4688925683713209E-3,13.444006623068377,null,7.1969040196309453E-2]
[3,2000,{"$f":"-75*Basic!$D$2","v":-75},null,null,null,null,{"$f":"IF(2*('Hull Plan'!C134+('Hull Plan'!C185-'Hull Plan'!C134)/('Hull Long'!C185-'Hull Long'!C134)*($K$110-C134))>0,2*('Hull Plan'!C134+('Hull Plan'!C185-'Hull Plan'!C134)/('Hull Long'!C185-'Hull Long'!C134)*($K$110-C134)),0)","v":577.27272727272725},75,{"$f":"(B134-B133)","v":200},{"$f":"H134*I134*J134/1000000","v":8.6590909090909083},{"$f":"H134*J134/1000000","v":0.11545454545454546},{"$f":"I134*J134/1000000","v":1.4999999999999999E-2},{"$f":"M134*B134","v":30},null,{"$f":"(H134+I134*2)*J134/1000000","v":0.14545454545454545}]
[3,2000,{"$f":"-75*Basic!$D$2","v":-75},null,null,null,null,{"$f":"IF(2*('Hull Plan'!C135+('Hull Plan'!C186-'Hull Plan'!C135)/('Hull Long'!C186-'Hull Long'!C135)*($K$110-C135))>0,2*('Hull Plan'!C135+('Hull Plan'!C186-'Hull Plan'!C135)/('Hull Long'!C186-'Hull Long'!C135)*($K$110-C135)),0)","v":577.27272727272725},75,{"$f":"(B136-B135)","v":200},8.6590909090909083,0.11545454545454546,1.4999999999999999E-2,30,null,{"$f":"(H135+I135*2)*J135/1000000","v":0.14545454545454545}]
[3,2200,{"$f":"C$135+(C$156-C$135)*ABS(B$135-$B136)^G$156/ABS(B$156-B$135)^G$156","v":-74.688925683713208},null,null,null,null,{"$f":"IF(2*('Hull Plan'!C136+('Hull Plan'!C187-'Hull Plan'!C136)/('Hull Long'!C187-'Hull Long'!C136)*($K$110-C136))>0,2*('Hull Plan'!C136+('Hull Plan'!C187-'Hull Plan'!C136)/('Hull Long'!C187-'Hull Long'!C136)*($K$110-C136)),0)","v":570.3547713250565},74.688925683713208,{"$f":"(B137-B136)","v":100},4.2599185128848385,5.7035477132505653E-2,7.4688925683713209E-3,16.431563650416905,null,7.1973262269248287E-2]
[3,2300,-74.300082788354729,null,null,null,null,{"$f":"IF(2*('Hull Plan'!C137+('Hull Plan'!C188-'Hull Plan'!C137)/('Hull Long'!C188-'Hull Long'!C137)*($K$110-C137))>0,2*('Hull Plan'!C137+('Hull Plan'!C188-'Hull Plan'!C137)/('Hull Long'!C188-'Hull Long'!C137)*($K$110-C137)),0)","v":561.70755705681006},74.300082788354729,100,4.1734917992165474,5.6170755705681003E-2,7.430008278835473E-3,17.089019041321588,null,7.1030772263351943E-2]
[3,2400,-73.755702734852846,null,null,null,null,{"$f":"IF(2*('Hull Plan'!C138+('Hull Plan'!C189-'Hull Plan'!C138)/('Hull Long'!C189-'Hull Long'!C138)*($K$110-C138))>0,2*('Hull Plan'!C138+('Hull Plan'!C189-'Hull Plan'!C138)/('Hull Long'!C189-'Hull Long'!C138)*($K$110-C138)),0)","v":549.60188572259869},73.755702734852846,100,4.0536273305870552,5.4960188572259865E-2,7.3755702734852845E-3,17.701368656364682,null,6.9711329119230434E-2]
[3,2500,-73.055785523207561,null,null,null,null,{"$f":"IF(2*('Hull Plan'!C139+('Hull Plan'!C190-'Hull Plan'!C139)/('Hull Long'!C190-'Hull Long'!C139)*($K$110-C139))>0,2*('Hull Plan'!C139+('Hull Plan'!C190-'Hull Plan'!C139)/('Hull Long'!C190-'Hull Long'!C139)*($K$110-C139)),0)","v":534.03818163864025},73.055785523207561,100,3.9014578858996263,5.3403818163864025E-2,7.305578552320756E-3,18.26394638080189,null,6.8014975268505529E-2]
[3,2600,-72.200331153418901,null,null,null,null,{"$f":"IF(2*('Hull Plan'!C140+('Hull Plan'!C191-'Hull Plan'!C140)/('Hull Long'!C191-'Hull Long'!C140)*($K$110-C140))>0,2*('Hull Plan'!C140+('Hull Plan'!C191-'Hull Plan'!C140)/('Hull Long'!C191-'Hull Long'!C140)*($K$110-C140)),0)","v":515.01698425158679},72.200331153418901,100,3.7184396812599694,5.1501698425158678E-2,7.2200331153418904E-3,18.772086099888917,null,6.5941764655842464E-2]
[3,2700,-71.189339625486824,null,null,null,null,{"$f":"IF(2*('Hull Plan'!C141+('Hull Plan'!C192-'Hull Plan'!C141)/('Hull Long'!C192-'Hull Long'!C141)*($K$110-C141))>0,2*('Hull Plan'!C141+('Hull Plan'!C192-'Hull Plan'!C141)/('Hull Long'!C192-'Hull Long'!C141)*($K$110-C141)),0)","v":492.53894369232387},71.189339625486824,100,3.5063522141291372,4.9253894369232387E-2,7.1189339625486832E-3,19.221121698881444,null,6.3491762294329748E-2]
[3,2800,-70.022810939411372,null,null,null,null,{"$f":"IF(2*('Hull Plan'!C142+('Hull Plan'!C193-'Hull Plan'!C142)/('Hull Long'!C193-'Hull Long'!C142)*($K$110-C142))>0,2*('Hull Plan'!C142+('Hull Plan'!C193-'Hull Plan'!C142)/('Hull Long'!C193-'Hull Long'!C142)*($K$110-C142)),0)","v":466.60481548310025},70.022810939411372,100,3.2672980777992056,4.6660481548310026E-2,7.0022810939411378E-3,19.606387063035186,null,6.0665043736192296E-2]
[3,2900,-68.700745095192516,null,null,null,null,{"$f":"IF(2*('Hull Plan'!C143+('Hull Plan'!C194-'Hull Plan'!C143)/('Hull Long'!C194-'Hull Long'!C143)*($K$110-C143))>0,2*('Hull Plan'!C143+('Hull Plan'!C194-'Hull Plan'!C143)/('Hull Long'!C194-'Hull Long'!C143)*($K$110-C143)),0)","v":437.21545447732427},68.700745095192516,100,3.0037027489725401,4.3721545447732421E-2,6.8700745095192518E-3,19.923216077605829,null,5.7461694466770928E-2]
[3,3000,-67.223142092830273,null,null,null,null,{"$f":"IF(2*('Hull Plan'!C144+('Hull Plan'!C195-'Hull Plan'!C144)/('Hull Long'!C195-'Hull Long'!C144)*($K$110-C144))>0,2*('Hull Plan'!C144+('Hull Plan'!C195-'Hull Plan'!C144)/('Hull Long'!C195-'Hull Long'!C144)*($K$110-C144)),0)","v":404.37180812106669},67.223142092830273,100,2.7183143515657164,4.043718081210667E-2,6.7223142092830276E-3,20.166942627849082,null,5.3881809230672727E-2]
[3,3100,-65.590001932324625,null,null,null,null,{"$f":"IF(2*('Hull Plan'!C145+('Hull Plan'!C196-'Hull Plan'!C145)/('Hull Long'!C196-'Hull Long'!C145)*($K$110-C145))>0,2*('Hull Plan'!C145+('Hull Plan'!C196-'Hull Plan'!C145)/('Hull Long'!C196-'Hull Long'!C145)*($K$110-C145)),0)","v":368.07490913295612},65.590001932324625,100,2.4142034001270805,3.6807490913295611E-2,6.5590001932324619E-3,20.332900599020633,null,4.9925491299760545E-2]
[3,3200,-63.801324613675582,null,null,null,null,{"$f":"IF(2*('Hull Plan'!C146+('Hull Plan'!C197-'Hull Plan'!C146)/('Hull Long'!C197-'Hull Long'!C146)*($K$110-C146))>0,2*('Hull Plan'!C146+('Hull Plan'!C197-'Hull Plan'!C146)/('Hull Long'!C197-'Hull Long'!C146)*($K$110-C146)),0)","v":328.32586770463126},63.801324613675582,99,2.0738149011844986,3.2504260902758493E-2,6.3163311367538831E-3,20.212259637612426,null,4.5136923176266261E-2]
[3,3299,-61.877322190583882,null,null,null,null,{"$f":"IF(2*('Hull Plan'!C147+('Hull Plan'!C198-'Hull Plan'!C147)/('Hull Long'!C198-'Hull Long'!C147)*($K$110-C147))>0,2*('Hull Plan'!C147+('Hull Plan'!C198-'Hull Plan'!C147)/('Hull Long'!C198-'Hull Long'!C147)*($K$110-C147)),0)","v":285.57494161107689},61.877322190583882,2,3.534122534325157E-2,5.711498832221538E-4,1.2375464438116776E-4,0.40826657181347248,null,8.1865917198448938E-4]
[3,3301,-61.8368825294666,null,null,null,null,{"$f":"IF(2*('Hull Plan'!C148+('Hull Plan'!C199-'Hull Plan'!C148)/('Hull Long'!C199-'Hull Long'!C148)*($K$110-C148))>0,2*('Hull Plan'!C148+('Hull Plan'!C199-'Hull Plan'!C148)/('Hull Long'!C199-'Hull Long'!C148)*($K$110-C148)),0)","v":284.67644007059442},61.8368825294666,99,1.7427468547716567,2.8182967566988848E-2,6.1218513704171936E-3,20.208231373747157,null,4.0426670307823237E-2]
[3,3400,-59.757358501947323,null,null,null,null,{"$f":"IF(2*('Hull Plan'!C149+('Hull Plan'!C200-'Hull Plan'!C149)/('Hull Long'!C200-'Hull Long'!C149)*($K$110-C149))>0,2*('Hull Plan'!C149+('Hull Plan'!C200-'Hull Plan'!C149)/('Hull Long'!C200-'Hull Long'!C149)*($K$110-C149)),0)","v":238.47613635011243},59.757358501947323,100,1.4250703974032939,2.3847613635011242E-2,5.9757358501947317E-3,20.317501890662086,null,3.5799085335400702E-2]
[3,3500,-57.502069708868099,null,null,null,null,{"$f":"IF(2*('Hull Plan'!C150+('Hull Plan'!C201-'Hull Plan'!C150)/('Hull Long'!C201-'Hull Long'!C150)*($K$110-C150))>0,2*('Hull Plan'!C150+('Hull Plan'!C201-'Hull Plan'!C150)/('Hull Long'!C201-'Hull Long'!C150)*($K$110-C150)),0)","v":188.37797937832005},57.502069708868099,100,1.0832123701827878,1.8837797937832006E-2,5.7502069708868101E-3,20.125724398103834,null,3.0338211879605628E-2]
[3,3600,-55.091243757645479,null,null,null,null,{"$f":"IF(2*('Hull Plan'!C151+('Hull Plan'!C202-'Hull Plan'!C151)/('Hull Long'!C202-'Hull Long'!C151)*($K$110-C151))>0,2*('Hull Plan'!C151+('Hull Plan'!C202-'Hull Plan'!C151)/('Hull Long'!C202-'Hull Long'!C151)*($K$110-C151)),0)","v":134.83272860971715},55.091243757645479,100,0.74281027183463866,1.3483272860971717E-2,5.5091243757645477E-3,19.832847752752372,null,2.4501521612500812E-2]
[3,3700,-52.524880648279463,null,null,null,null,{"$f":"IF(2*('Hull Plan'!C152+('Hull Plan'!C203-'Hull Plan'!C152)/('Hull Long'!C203-'Hull Long'!C152)*($K$110-C152))>0,2*('Hull Plan'!C152+('Hull Plan'!C203-'Hull Plan'!C152)/('Hull Long'!C203-'Hull Long'!C152)*($K$110-C152)),0)","v":77.841755211323203},52.524880648279463,50,0.20443144509636688,3.8920877605661602E-3,2.6262440324139732E-3,9.7171029199317012,null,9.1445758253941058E-3]
[3,3750,-51.183372659292687,null,null,null,null,{"$f":"IF(2*('Hull Plan'!C153+('Hull Plan'!C204-'Hull Plan'!C153)/('Hull Long'!C204-'Hull Long'!C153)*($K$110-C153))>0,2*('Hull Plan'!C153+('Hull Plan'!C204-'Hull Plan'!C153)/('Hull Long'!C204-'Hull Long'!C153)*($K$110-C153)),0)","v":48.054558483202754},51.183372659292687,50,0.12297971874117707,2.4027279241601376E-3,2.5591686329646344E-3,9.5968823736173796,null,7.5210651900894064E-3]
[3,3800,{"$f":"C$135+(C$156-C$135)*ABS(B$135-$B154)^G$156/ABS(B$156-B$135)^G$156","v":-49.802980380770059},null,null,null,null,{"$f":"IF(2*('Hull Plan'!C154+('Hull Plan'!C205-'Hull Plan'!C154)/('Hull Long'!C205-'Hull Long'!C154)*($K$110-C154))>0,2*('Hull Plan'!C154+('Hull Plan'!C205-'Hull Plan'!C154)/('Hull Long'!C205-'Hull Long'!C154)*($K$110-C154)),0)","v":17.406456825506648},49.802980380770059,5.3225806451791868E-2,4.6141101801318281E-5,9.2647270200588838E-7,2.6508037944692547E-6,1.0073054418983167E-2,null,6.2280802909443985E-6]
[3,3800.0532258064518,{"$f":"C$135+(C$156-C$135)*ABS(B$135-$B155)^G$156/ABS(B$156-B$135)^G$156","v":-49.801490212416752},null,null,null,null,{"$f":"IF(2*('Hull Plan'!C155+('Hull Plan'!C206-'Hull Plan'!C155)/('Hull Long'!C206-'Hull Long'!C155)*($K$110-C155))>0,2*('Hull Plan'!C155+('Hull Plan'!C206-'Hull Plan'!C155)/('Hull Long'!C206-'Hull Long'!C155)*($K$110-C155)),0)","v":17.373372778603297},49.801490212416752,5.3225806451337121E-2,4.6052024507631112E-5,9.2471177692086813E-7,2.6507244790342539E-6,1.0072894107278242E-2,null,6.2261607349893758E-6]
[3,3800.1064516129031,{"$f":"C54","v":-49.8},null,null,null,2,{"$f":"IF(2*('Hull Plan'!C156+('Hull Plan'!C207-'Hull Plan'!C156)/('Hull Long'!C207-'Hull Long'!C156)*($K$110-C156))>0,2*('Hull Plan'!C156+('Hull Plan'!C207-'Hull Plan'!C156)/('Hull Long'!C207-'Hull Long'!C156)*($K$110-C156)),0)","v":17.340287756328763},49.8,{"$f":"(B157-B156)","v":132.95806451612907},0.1148154486920633,2.3055310982342024E-3,6.6213116129032268E-3,25.16168897833299,null,1.5548154324040657E-2]
[0,3933.0645161290322,{"$f":"C55","v":200},null,null,null,null,{"$f":"IF(2*('Hull Plan'!C157+('Hull Plan'!C208-'Hull Plan'!C157)/('Hull Long'!C208-'Hull Long'!C157)*($K$110-C157))>0,2*('Hull Plan'!C157+('Hull Plan'!C208-'Hull Plan'!C157)/('Hull Long'!C208-'Hull Long'!C157)*($K$110-C157)),0)","v":0},0,{"$f":"(B158-B157)","v":31.935483870967801},{"$f":"H157*I157*J157/1000000","v":0},{"$f":"H157*J157/1000000","v":0},{"$f":"I157*J157/1000000","v":0},{"$f":"M157*B157","v":0},null,0]
[0,3965,{"$f":"C56","v":260},null,null,null,null,null,null,{"$f":"SUM(J112:J157)","v":3930},{"$f":"SUM(K112:K157)","v":102.4217081317594},{"$f":"SUM(L112:L157)","v":1.4625546792369608},{"$f":"SUM(M112:M157)","v":0.25536343382366589},{"$f":"SUM(N112:N157)/M158","v":2000},null,{"$f":"SUM(P112:P157)","v":1.9732815468842924}]
[0,4000,{"$f":"C57","v":325.75757575757575}]
[0,0,0,null,null,null,"SHEER"]
[0,{"$f":"B8","v":0},{"$f":"C8","v":325.75757575757575}]
[5,{"$f":"B9","v":35},260,null,null,null,2]
[5,66.935483870967744,{"$f":"C$185+(C$162-C$185)*ABS(B$185-B163)^G$162/ABS(B$162-B$185)^G$162","v":258.0655893948242}]
[5,199.89354838709676,{"$f":"C$185+(C$162-C$185)*ABS(B$185-B164)^G$162/ABS(B$162-B$185)^G$162","v":250.35267155586732}]
[5,199.94677419354838,{"$f":"C$185+(C$162-C$185)*ABS(B$185-B165)^G$162/ABS(B$162-B$185)^G$162","v":250.34969392982092}]
[5,200,{"$f":"C$185+(C$162-C$185)*ABS(B$185-B166)^G$162/ABS(B$162-B$185)^G$162","v":250.34671639181866}]
[5,250,247.58852436726687]
[5,300,244.90802789270245]
[5,400,239.78012159353574]
[5,500,234.96299749431853]
[5,600,230.45665559505079]
[5,699,226.30151312083601]
[5,701,226.22070974884915]
[5,800,222.37631839636384]
[5,900,218.80232309694463]
[5,1000,215.5391099974749]
[5,1100,212.58667909795466]
[5,1200,209.94503039838392]
[5,1300,207.61416389876271]
[5,1400,205.59407959909097]
[5,1500,203.88477749936874]
[5,1600,202.48625759959597]
[5,1700,201.39851989977274]
[5,1800,200.621564399899]
[5,2000,{"$f":"200*Basic!$D$2","v":200}]
[5,2000,{"$f":"200*Basic!$D$2","v":200}]
[5,2200,{"$f":"C$186+(C$209-C$186)*ABS(B$186-$B187)^G$209/ABS(B$209-B$186)^G$209","v":200.621564399899}]
[5,2300,201.39851989977274]
[5,2400,202.48625759959597]
[5,2500,203.88477749936874]
[5,2600,205.59407959909097]
[5,2700,207.61416389876271]
[5,2800,209.94503039838392]
[5,2900,212.58667909795466]
[5,3000,215.5391099974749]
[5,3100,218.80232309694463]
[5,3200,222.37631839636384]
[5,3299,226.22070974884915]
[5,3301,226.30151312083601]
[5,3400,230.45665559505079]
[5,3500,234.96299749431853]
[5,3600,239.78012159353574]
[5,3700,244.90802789270245]
[5,3750,247.58852436726687]
[5,3800,250.34671639181866]
[5,3800.0532258064518,{"$f":"C$186+(C$209-C$186)*ABS(B$186-$B206)^G$209/ABS(B$209-B$186)^G$209","v":250.34969392982092}]
[5,3800.1064516129031,{"$f":"C$186+(C$209-C$186)*ABS(B$186-$B207)^G$209/ABS(B$209-B$186)^G$209","v":250.35267155586732}]
[5,3933.0645161290322,{"$f":"C$186+(C$209-C$186)*ABS(B$186-$B208)^G$209/ABS(B$209-B$186)^G$209","v":258.0655893948242}]
[5,3965,{"$f":"C56","v":260},null,null,null,2]
[0,4000,{"$f":"C57","v":325.75757575757575}]
[0,0,0,null,null,null,"Washboard"]
[0,{"$f":"B161","v":0},{"$f":"C161","v":325.75757575757575}]
[0,35,{"$f":"C162","v":260}]
[0,66.935483870967744,258.0655893948242]
[0,199.89354838709676,250.35267155586732]
[0,199.94677419354838,250.34969392982092]
[6,200,250.34671639181866]
[6,250,247.58852436726687]
[6,300,244.90802789270245]
[6,400,239.78012159353574]
[6,500,234.96299749431853]
[6,600,230.45665559505079]
[6,699,226.30151312083601]
[6,701,226.22070974884915]
[6,800,222.37631839636384]
[6,900,218.80232309694463]
[6,1000,215.5391099974749]
[6,1100,212.58667909795466]
[6,1200,209.94503039838392]
[6,1300,207.61416389876271]
[6,1400,205.59407959909097]
[6,1500,203.88477749936874]
[6,1600,202.48625759959597]
[6,1700,201.39851989977274]
[6,1800,200.621564399899]
[6,2000,200]
[6,2000,200]
[6,2200,200.621564399899]
[6,2300,201.39851989977274]
[6,2400,202.48625759959597]
[6,2500,203.88477749936874]
[6,2600,205.59407959909097]
[6,2700,207.61416389876271]
[6,2800,209.94503039838392]
[6,2900,212.58667909795466]
[6,3000,215.5391099974749]
[6,3100,218.80232309694463]
[6,3200,222.37631839636384]
[6,3299,226.22070974884915]
[6,3301,226.30151312083601]
[6,3400,230.45665559505079]
[6,3500,234.96299749431853]
[6,3600,239.78012159353574]
[6,3700,244.90802789270245]
[6,3750,247.58852436726687]
[6,3800,250.34671639181866]
[0,3800.0532258064518,250.34969392982092]
[0,3800.1064516129031,250.35267155586732]
[0,3933.0645161290322,258.0655893948242]
[0,3965,260]
[0,4000,325.75757575757575]
[0,0,0,null,null,null,"Coaming",12,62.4]
[0,{"$f":"B8","v":0},{"$f":"C212+$H$262*0","v":325.75757575757575}]
[0,{"$f":"B9","v":35},{"$f":"C213+$H$262*0","v":260}]
[0,66.935483870967744,{"$f":"C214+$H$262*0","v":258.0655893948242}]
[0,199.89354838709676,{"$f":"C215+$H$262*0","v":250.35267155586732}]
[7,199.94677419354838,{"$f":"C216+$H$262*0","v":250.34969392982092}]
[7,200,{"$f":"C217+$H$262","v":262.34671639181863},null,null,null,2]
[7,250,{"$f":"C$287+(C$268-C$287)*ABS(B$287-B269)^G$268/ABS(B$268-B$287)^G$268","v":262.34963547837793}]
[7,300,262.35247233714688]
[7,400,262.35789937131347]
[7,500,262.36299749431851]
[7,600,262.36776670616189]
[7,699,262.37216423194707]
[7,701,262.37224974884913]
[7,800,262.37631839636384]
[7,900,262.38010087472236]
[7,1000,262.38355444191933]
[7,1100,262.38667909795464]
[7,1200,262.38947484282835]
[7,1300,262.39194167654045]
[7,1400,262.39407959909096]
[7,1500,262.3958886104798]
[7,1600,262.3973687107071]
[7,1700,262.39851989977274]
[7,1800,262.39934217767677]
[7,2000,{"$f":"C236+$I$262","v":262.39999999999998}]
[7,2000,{"$f":"C237+$I$262","v":262.39999999999998}]
[7,2200,{"$f":"C$288+(C$307-C$288)*ABS(B$288-$B289)^G$307/ABS(B$307-B$288)^G$307","v":262.39934217767677}]
[7,2300,262.39851989977274]
[7,2400,262.3973687107071]
[7,2500,262.3958886104798]
[7,2600,262.39407959909096]
[7,2700,262.39194167654045]
[7,2800,262.38947484282835]
[7,2900,262.38667909795464]
[7,3000,262.38355444191933]
[7,3100,262.38010087472236]
[7,3200,262.37631839636384]
[7,3299,262.37224974884913]
[7,3301,262.37216423194707]
[7,3400,262.36776670616189]
[7,3500,262.36299749431851]
[7,3600,262.35789937131347]
[7,3700,262.35247233714688]
[7,3750,{"$f":"C$288+(C$307-C$288)*ABS(B$288-$B306)^G$307/ABS(B$307-B$288)^G$307","v":262.34963547837793}]
[7,3800,{"$f":"C256+$H$262","v":262.34671639181863},null,null,null,2]
[7,3800.0532258064518,{"$f":"C257+$H$262*0","v":250.34969392982092}]
[0,3800.1064516129031,{"$f":"C258+$H$262*0","v":250.35267155586732}]
[0,3933.0645161290322,{"$f":"C259+$H$262*0","v":258.0655893948242}]
[0,3965,{"$f":"C260+$H$262*0","v":260}]
[0,4000,{"$f":"C261+$H$262*0","v":325.75757575757575}]
[0,0,0,null,null,null,"Deck"]
[0,{"$f":"B8","v":0},{"$f":"C263","v":325.75757575757575}]
[0,35,{"$f":"C264","v":260}]
[0,66.935483870967744,258.0655893948242]
[0,199.89354838709676,250.35267155586732]
[0,199.94677419354838,250.34969392982092]
[5,200,262.34671639181863]
[5,250,262.34963547837793]
[5,300,262.35247233714688]
[5,400,262.35789937131347]
[5,500,262.36299749431851]
[5,600,262.36776670616189]
[5,699,262.37216423194707]
[0,701,262.37224974884913]
[0,800,262.37631839636384]
[0,900,262.38010087472236]
[0,1000,262.38355444191933]
[0,1100,262.38667909795464]
[0,1200,262.38947484282835]
[0,1300,262.39194167654045]
[0,1400,262.39407959909096]
[0,1500,262.3958886104798]
[0,1600,262.3973687107071]
[0,1700,262.39851989977274]
[0,1800,262.39934217767677]
[0,2000,262.39999999999998]
[0,2000,262.39999999999998]
[0,2200,262.39934217767677]
[0,2300,262.39851989977274]
[0,2400,262.3973687107071]
[0,2500,262.3958886104798]
[0,2600,262.39407959909096]
[0,2700,262.39194167654045]
[0,2800,262.38947484282835]
[0,2900,262.38667909795464]
[0,3000,262.38355444191933]
[0,3100,262.38010087472236]
[0,3200,262.37631839636384]
[0,3299,262.37224974884913]
[5,3301,262.37216423194707]
[5,3400,262.36776670616189]
[5,3500,262.36299749431851]
[5,3600,262.35789937131347]
[5,3700,262.35247233714688]
[5,3750,262.34963547837793]
[5,3800,262.34671639181863]
[0,3800.0532258064518,250.34969392982092]
[0,3800.1064516129031,250.35267155586732]
[0,3933.0645161290322,258.0655893948242]
[0,3965,260]
[0,4000,325.75757575757575]
[0,0,0]

{"sheet":"Hull Plan","index":4,"n_rows":364,"n_cols":9,"rows_kept":364,"cut":false,"hidden":false,"merged":[]}
["Plan"]
[]
[]
[]
["Parameters",{"$f":"400*Basic!$D$2","v":400},{"$f":"1000*Basic!$D$2","v":1000}]
["Number of Lines",{"$f":"COUNT(A8:A1061)","v":357},null,null,{"$f":"COUNT(D8:D1061)","v":357}]
["Line Id","X","Y","Line Id","X","Y"]
[0,{"$f":"'Hull Long'!B8","v":0},{"$f":"0*Basic!$D$2","v":0},0,{"$f":"B8","v":0},{"$f":"0*Basic!$D$2","v":0},"KEEL"]
[1,{"$f":"'Hull Long'!B9","v":35},{"$f":"0*Basic!$D$2","v":0},1,{"$f":"B9","v":35},{"$f":"0*Basic!$D$2","v":0},"Sheer"]
[1,{"$f":"'Hull Long'!B10","v":66.935483870967744},{"$f":"0*Basic!$D$2","v":0},1,66.935483870967744,{"$f":"0*Basic!$D$2","v":0},"Deck"]
[1,{"$f":"'Hull Long'!B11","v":199.89354838709676},{"$f":"0*Basic!$D$2","v":0},1,199.89354838709676,{"$f":"0*Basic!$D$2","v":0},"Chine"]
[1,{"$f":"'Hull Long'!B12","v":199.94677419354838},{"$f":"0*Basic!$D$2","v":0},1,199.94677419354838,{"$f":"0*Basic!$D$2","v":0},"Rabbet"]
[1,{"$f":"'Hull Long'!B13","v":200},{"$f":"0*Basic!$D$2","v":0},1,200,{"$f":"0*Basic!$D$2","v":0},"Keel",1,1]
[1,{"$f":"'Hull Long'!B14","v":250},{"$f":"C$32+(C$13-C$32)*ABS($B$32-$B14)^H$13/ABS($B$13-$B$32)^H$13","v":0},1,250,{"$f":"F$32+(F$13-F$32)*ABS($E$32-$E14)^I$13/ABS($E$13-$E$32)^I$13","v":0}]
[1,{"$f":"'Hull Long'!B15","v":300},{"$f":"C$32+(C$13-C$32)*ABS($B$32-$B15)^H$13/ABS($B$13-$B$32)^H$13","v":0},1,300,{"$f":"F$32+(F$13-F$32)*ABS($E$32-$E15)^I$13/ABS($E$13-$E$32)^I$13","v":0}]
[1,{"$f":"'Hull Long'!B16","v":400},{"$f":"C$32+(C$13-C$32)*ABS($B$32-$B16)^H$13/ABS($B$13-$B$32)^H$13","v":0},1,400,{"$f":"F$32+(F$13-F$32)*ABS($E$32-$E16)^I$13/ABS($E$13-$E$32)^I$13","v":0}]
[1,{"$f":"'Hull Long'!B17","v":500},0,1,500,0]
[1,{"$f":"'Hull Long'!B18","v":600},0,1,600,0]
[1,{"$f":"'Hull Long'!B19","v":699},0,1,699,0,"Bulkhead"]
[1,{"$f":"'Hull Long'!B20","v":701},0,1,701,0]
[1,{"$f":"'Hull Long'!B21","v":800},0,1,800,0]
[1,{"$f":"'Hull Long'!B22","v":900},0,1,900,0]
[1,{"$f":"'Hull Long'!B23","v":1000},0,1,1000,0]
[1,{"$f":"'Hull Long'!B24","v":1100},0,1,1100,0]
[1,{"$f":"'Hull Long'!B25","v":1200},0,1,1200,0]
[1,{"$f":"'Hull Long'!B26","v":1300},0,1,1300,0]
[1,{"$f":"'Hull Long'!B27","v":1400},0,1,1400,0]
[1,{"$f":"'Hull Long'!B28","v":1500},0,1,1500,0]
[1,{"$f":"'Hull Long'!B29","v":1600},0,1,1600,0]
[1,{"$f":"'Hull Long'!B30","v":1700},0,1,1700,0]
[1,{"$f":"'Hull Long'!B31","v":1800},0,1,{"$f":"B31","v":1800},0]
[1,{"$f":"'Hull Long'!B32","v":2000},{"$f":"0*Basic!$D$2","v":0},1,{"$f":"B32","v":2000},{"$f":"0*Basic!$D$2","v":0}]
[1,{"$f":"'Hull Long'!B33","v":2000},{"$f":"0*Basic!$D$2","v":0},1,2000,{"$f":"0*Basic!$D$2","v":0}]
[1,{"$f":"'Hull Long'!B34","v":2200},{"$f":"C$33+(C$52-C$33)*ABS($B$33-$B34)^H$52/ABS($B$52-$B$33)^H$52","v":0},1,2200,{"$f":"F$33+(F$52-F$33)*ABS($E$33-$E34)^I$52/ABS($E$52-$E$33)^I$52","v":0}]
[1,{"$f":"'Hull Long'!B35","v":2300},0,1,2300,0]
[1,{"$f":"'Hull Long'!B36","v":2400},0,1,2400,0]
[1,{"$f":"'Hull Long'!B37","v":2500},0,1,2500,0]
[1,{"$f":"'Hull Long'!B38","v":2600},0,1,2600,0]
[1,{"$f":"'Hull Long'!B39","v":2700},0,1,2700,0]
[1,{"$f":"'Hull Long'!B40","v":2800},0,1,2800,0]
[1,{"$f":"'Hull Long'!B41","v":2900},0,1,2900,0]
[1,{"$f":"'Hull Long'!B42","v":3000},0,1,3000,0]
[1,{"$f":"'Hull Long'!B43","v":3100},0,1,3100,0]
[1,{"$f":"'Hull Long'!B44","v":3200},0,1,3200,0]
[1,{"$f":"'Hull Long'!B45","v":3299},0,1,3299,0]
[1,{"$f":"'Hull Long'!B46","v":3301},0,1,3301,0,"Bulkhead"]
[1,{"$f":"'Hull Long'!B47","v":3400},0,1,3400,0]
[1,{"$f":"'Hull Long'!B48","v":3500},0,1,{"$f":"B48","v":3500},0]
[1,{"$f":"'Hull Long'!B49","v":3600},0,1,3600,0]
[1,{"$f":"'Hull Long'!B50","v":3700},{"$f":"C$33+(C$52-C$33)*ABS($B$33-$B50)^H$52/ABS($B$52-$B$33)^H$52","v":0},1,3700,{"$f":"F$33+(F$52-F$33)*ABS($E$33-$E50)^I$52/ABS($E$52-$E$33)^I$52","v":0}]
[1,{"$f":"'Hull Long'!B51","v":3750},{"$f":"C$33+(C$52-C$33)*ABS($B$33-$B51)^H$52/ABS($B$52-$B$33)^H$52","v":0},1,3750,{"$f":"F$33+(F$52-F$33)*ABS($E$33-$E51)^I$52/ABS($E$52-$E$33)^I$52","v":0}]
[1,{"$f":"'Hull Long'!B52","v":3800},{"$f":"0*Basic!$D$2","v":0},1,3800,{"$f":"0*Basic!$D$2","v":0},"Keel",1,1]
[1,{"$f":"'Hull Long'!B53","v":3800.0532258064518},{"$f":"0*Basic!$D$2","v":0},1,3800.0532258064518,{"$f":"0*Basic!$D$2","v":0},"Rabbet"]
[1,{"$f":"'Hull Long'!B54","v":3800.1064516129031},{"$f":"0*Basic!$D$2","v":0},1,3800.1064516129031,{"$f":"0*Basic!$D$2","v":0},"Chine"]
[1,{"$f":"'Hull Long'!B55","v":3933.0645161290322},{"$f":"0*Basic!$D$2","v":0},1,{"$f":"B55","v":3933.0645161290322},{"$f":"0*Basic!$D$2","v":0},"Deck"]
[1,{"$f":"'Hull Long'!B56","v":3965},{"$f":"0*Basic!$D$2","v":0},1,{"$f":"B56","v":3965},{"$f":"0*Basic!$D$2","v":0},"Sheer"]
[0,{"$f":"'Hull Long'!B57","v":4000},{"$f":"0*Basic!$D$2","v":0},0,{"$f":"B57","v":4000},{"$f":"0*Basic!$D$2","v":0}]
[0,0,0,0,0,0]
[0,{"$f":"'Hull Long'!B59","v":0},{"$f":"0*Basic!$D$2","v":0},0,{"$f":"B59","v":0},{"$f":"0*Basic!$D$2","v":0},"RABBET"]
[0,{"$f":"'Hull Long'!B60","v":35},{"$f":"0*Basic!$D$2","v":0},0,{"$f":"B60","v":35},{"$f":"0*Basic!$D$2","v":0},"Sheer"]
[0,{"$f":"'Hull Long'!B61","v":66.935483870967744},{"$f":"0*Basic!$D$2","v":0},0,66.935483870967744,{"$f":"0*Basic!$D$2","v":0},"Deck"]
[0,{"$f":"'Hull Long'!B62","v":199.89354838709676},{"$f":"0*Basic!$D$2","v":0},0,199.89354838709676,{"$f":"0*Basic!$D$2","v":0},"Chine"]
[2,{"$f":"'Hull Long'!B63","v":199.94677419354838},{"$f":"0*Basic!$D$2","v":0},2,199.94677419354838,{"$f":"0*Basic!$D$2","v":0},"Rabbet",1,1]
[2,{"$f":"'Hull Long'!B64","v":200},{"$f":"C$83+(C$63-C$83)*ABS($B$83-$B64)^H$63/ABS($B$63-$B$83)^H$63","v":0},2,200,{"$f":"F$83+(F$63-F$83)*ABS($E$83-$E64)^I$63/ABS($E$63-$E$83)^I$63","v":0}]
[2,{"$f":"'Hull Long'!B65","v":250},0,2,250,0]
[2,{"$f":"'Hull Long'!B66","v":300},0,2,300,0]
[2,{"$f":"'Hull Long'!B67","v":400},0,2,400,0]
[2,{"$f":"'Hull Long'!B68","v":500},0,2,500,0]
[2,{"$f":"'Hull Long'!B69","v":600},0,2,600,0]
[2,{"$f":"'Hull Long'!B70","v":699},0,2,699,0,"Bulkhead"]
[2,{"$f":"'Hull Long'!B71","v":701},0,2,701,0]
[2,{"$f":"'Hull Long'!B72","v":800},0,2,800,0]
[2,{"$f":"'Hull Long'!B73","v":900},0,2,900,0]
[2,{"$f":"'Hull Long'!B74","v":1000},0,2,1000,0]
[2,{"$f":"'Hull Long'!B75","v":1100},0,2,1100,0]
[2,{"$f":"'Hull Long'!B76","v":1200},0,2,1200,0]
[2,{"$f":"'Hull Long'!B77","v":1300},0,2,1300,0]
[2,{"$f":"'Hull Long'!B78","v":1400},0,2,1400,0]
[2,{"$f":"'Hull Long'!B79","v":1500},0,2,1500,0]
[2,{"$f":"'Hull Long'!B80","v":1600},0,2,1600,0]
[2,{"$f":"'Hull Long'!B81","v":1700},0,2,1700,0]
[2,{"$f":"'Hull Long'!B82","v":1800},{"$f":"C$83+(C$63-C$83)*ABS($B$83-$B82)^H$63/ABS($B$63-$B$83)^H$63","v":0},2,{"$f":"B82","v":1800},{"$f":"F$83+(F$63-F$83)*ABS($E$83-$E82)^I$63/ABS($E$63-$E$83)^I$63","v":0}]
[2,{"$f":"'Hull Long'!B83","v":2000},{"$f":"0*Basic!$D$2","v":0},2,2000,{"$f":"0*Basic!$D$2","v":0}]
[2,{"$f":"'Hull Long'!B84","v":2000},{"$f":"0*Basic!$D$2","v":0},2,2000,{"$f":"0*Basic!$D$2","v":0}]
[2,{"$f":"'Hull Long'!B85","v":2200},{"$f":"C$84+(C$104-C$84)*ABS($B$84-$B85)^H$104/ABS($B$104-$B$84)^H$104","v":0},2,2200,{"$f":"F$84+(F$104-F$84)*ABS($E$84-$E85)^I$104/ABS($E$104-$E$84)^I$104","v":0}]
[2,{"$f":"'Hull Long'!B86","v":2300},{"$f":"C$84+(C$104-C$84)*ABS($B$84-$B86)^H$104/ABS($B$104-$B$84)^H$104","v":0},2,2300,{"$f":"F$84+(F$104-F$84)*ABS($E$84-$E86)^I$104/ABS($E$104-$E$84)^I$104","v":0}]
[2,{"$f":"'Hull Long'!B87","v":2400},0,2,2400,0]
[2,{"$f":"'Hull Long'!B88","v":2500},0,2,2500,0]
[2,{"$f":"'Hull Long'!B89","v":2600},0,2,2600,0]
[2,{"$f":"'Hull Long'!B90","v":2700},0,2,2700,0]
[2,{"$f":"'Hull Long'!B91","v":2800},0,2,2800,0]
[2,{"$f":"'Hull Long'!B92","v":2900},0,2,2900,0]
[2,{"$f":"'Hull Long'!B93","v":3000},0,2,3000,0]
[2,{"$f":"'Hull Long'!B94","v":3100},0,2,3100,0]
[2,{"$f":"'Hull Long'!B95","v":3200},0,2,3200,0]
[2,{"$f":"'Hull Long'!B96","v":3299},0,2,3299,0]
[2,{"$f":"'Hull Long'!B97","v":3301},0,2,3301,0,"Bulkhead"]
[2,{"$f":"'Hull Long'!B98","v":3400},0,2,{"$f":"B98","v":3400},0]
[2,{"$f":"'Hull Long'!B99","v":3500},0,2,{"$f":"B99","v":3500},0]
[2,{"$f":"'Hull Long'!B100","v":3600},0,2,3600,0]
[2,{"$f":"'Hull Long'!B101","v":3700},0,2,3700,0]
[2,{"$f":"'Hull Long'!B102","v":3750},0,2,3750,0]
[2,{"$f":"'Hull Long'!B103","v":3800},0,2,3800,0]
[2,{"$f":"'Hull Long'!B104","v":3800.0532258064518},{"$f":"0*Basic!$D$2","v":0},2,3800.0532258064518,{"$f":"0*Basic!$D$2","v":0},"Rabbet",1,1]
[0,{"$f":"'Hull Long'!B105","v":3800.1064516129031},{"$f":"0*Basic!$D$2","v":0},0,{"$f":"B105","v":3800.1064516129031},{"$f":"0*Basic!$D$2","v":0},"Chine"]
[0,{"$f":"'Hull Long'!B106","v":3933.0645161290322},{"$f":"0*Basic!$D$2","v":0},0,3933.0645161290322,{"$f":"0*Basic!$D$2","v":0},"Deck"]
[0,{"$f":"'Hull Long'!B107","v":3965},{"$f":"0*Basic!$D$2","v":0},0,3965,{"$f":"0*Basic!$D$2","v":0},"Sheer"]
[0,{"$f":"'Hull Long'!B108","v":4000},{"$f":"0*Basic!$D$2","v":0},0,4000,{"$f":"0*Basic!$D$2","v":0}]
[0,0,0,0,0,0]
[0,{"$f":"'Hull Long'!B110","v":0},{"$f":"0*Basic!$D$2","v":0},0,{"$f":"B110","v":0},{"$f":"0*Basic!$D$2","v":0},"CHINE"]
[0,{"$f":"'Hull Long'!B111","v":35},{"$f":"0*Basic!$D$2","v":0},0,{"$f":"B111","v":35},{"$f":"0*Basic!$D$2","v":0},"Sheer"]
[0,{"$f":"'Hull Long'!B112","v":66.935483870967744},{"$f":"0*Basic!$D$2","v":0},0,66.935483870967744,{"$f":"0*Basic!$D$2","v":0},"Deck"]
[3,{"$f":"'Hull Long'!B113","v":199.89354838709676},{"$f":"0*Basic!$D$2","v":0},3,199.89354838709676,{"$f":"0*Basic!$D$2","v":0},"Chine",2,2]
[3,{"$f":"'Hull Long'!B114","v":199.94677419354838},{"$f":"C$134+(C$113-C$134)*ABS($B$134-$B114)^H$113/ABS($B$113-$B$134)^H$113","v":1.6262238674983109E-2},3,199.94677419354838,{"$f":"F$134+(F$113-F$134)*ABS($E$134-$E114)^I$113/ABS($E$113-$E$134)^I$113","v":-1.6262238674983109E-2}]
[3,{"$f":"'Hull Long'!B115","v":200},{"$f":"C$134+(C$113-C$134)*ABS($B$134-$B115)^H$113/ABS($B$113-$B$134)^H$113","v":3.2523996498696306E-2},3,200,{"$f":"F$134+(F$113-F$134)*ABS($E$134-$E115)^I$113/ABS($E$113-$E$134)^I$113","v":-3.2523996498696306E-2}]
[3,{"$f":"'Hull Long'!B116","v":250},{"$f":"C$134+(C$113-C$134)*ABS($B$134-$B116)^H$113/ABS($B$113-$B$134)^H$113","v":15.096328623233717},3,250,{"$f":"F$134+(F$113-F$134)*ABS($E$134-$E116)^I$113/ABS($E$113-$E$134)^I$113","v":-15.096328623233717}]
[3,{"$f":"'Hull Long'!B117","v":300},29.735800725272014,3,300,-29.735800725272014]
[3,{"$f":"'Hull Long'!B118","v":400},57.741747355258241,3,400,-57.741747355258241]
[3,{"$f":"'Hull Long'!B119","v":500},84.050363886457433,3,500,-84.050363886457433]
[3,{"$f":"'Hull Long'!B120","v":600},108.66165031886959,3,600,-108.66165031886959]
[3,{"$f":"'Hull Long'!B121","v":699},131.35486887314744,3,699,-131.35486887314744,"Bulkhead"]
[3,{"$f":"'Hull Long'!B122","v":701},131.79617469883209,3,701,-131.79617469883209]
[3,{"$f":"'Hull Long'!B123","v":800},152.79223288733277,3,800,-152.79223288733277]
[3,{"$f":"'Hull Long'!B124","v":900},172.3115290233838,3,900,-172.3115290233838]
[3,{"$f":"'Hull Long'!B125","v":1000},190.13349506064776,3,1000,-190.13349506064776]
[3,{"$f":"'Hull Long'!B126","v":1100},206.25813099912466,3,1100,-206.25813099912466]
[3,{"$f":"'Hull Long'!B127","v":1200},220.68543683881455,3,1200,-220.68543683881455]
[3,{"$f":"'Hull Long'!B128","v":1300},233.41541257971738,3,1300,-233.41541257971738]
[3,{"$f":"'Hull Long'!B129","v":1400},244.44805822183318,3,1400,-244.44805822183318]
[3,{"$f":"'Hull Long'!B130","v":1500},253.78337376516194,3,1500,-253.78337376516194]
[3,{"$f":"'Hull Long'!B131","v":1600},261.42135920970367,3,1600,-261.42135920970367]
[3,{"$f":"'Hull Long'!B132","v":1700},267.3620145554583,3,1700,-267.3620145554583]
[3,{"$f":"'Hull Long'!B133","v":1800},271.60533980242593,3,{"$f":"B133","v":1800},-271.60533980242593]
[3,{"$f":"'Hull Long'!B134","v":2000},{"$f":"275*Basic!$D$2","v":275},3,2000,{"$f":"-275*Basic!$D$2","v":-275}]
[3,{"$f":"'Hull Long'!B135","v":2000},{"$f":"275*Basic!$D$2","v":275},3,2000,{"$f":"-275*Basic!$D$2","v":-275}]
[3,{"$f":"'Hull Long'!B136","v":2200},{"$f":"C$135+(C$156-C$135)*ABS($B$135-$B136)^H$156/ABS($B$156-$B$135)^H$156","v":271.60533980242593},3,2200,{"$f":"F$135+(F$156-F$135)*ABS($E$135-$E136)^I$156/ABS($E$156-$E$135)^I$156","v":-271.60533980242593}]
[3,{"$f":"'Hull Long'!B137","v":2300},267.3620145554583,3,2300,-267.3620145554583]
[3,{"$f":"'Hull Long'!B138","v":2400},261.42135920970367,3,2400,-261.42135920970367]
[3,{"$f":"'Hull Long'!B139","v":2500},253.78337376516194,3,2500,-253.78337376516194]
[3,{"$f":"'Hull Long'!B140","v":2600},244.44805822183318,3,2600,-244.44805822183318]
[3,{"$f":"'Hull Long'!B141","v":2700},233.41541257971738,3,2700,-233.41541257971738]
[3,{"$f":"'Hull Long'!B142","v":2800},220.68543683881455,3,2800,-220.68543683881455]
[3,{"$f":"'Hull Long'!B143","v":2900},206.25813099912466,3,2900,-206.25813099912466]
[3,{"$f":"'Hull Long'!B144","v":3000},190.13349506064776,3,3000,-190.13349506064776]
[3,{"$f":"'Hull Long'!B145","v":3100},172.3115290233838,3,3100,-172.3115290233838]
[3,{"$f":"'Hull Long'!B146","v":3200},152.79223288733277,3,3200,-152.79223288733277]
[3,{"$f":"'Hull Long'!B147","v":3299},131.79617469883209,3,3299,-131.79617469883209]
[3,{"$f":"'Hull Long'!B148","v":3301},131.35486887314744,3,3301,-131.35486887314744,"Bulkhead"]
[3,{"$f":"'Hull Long'!B149","v":3400},108.66165031886959,3,{"$f":"B149","v":3400},-108.66165031886959]
[3,{"$f":"'Hull Long'!B150","v":3500},84.050363886457433,3,{"$f":"B150","v":3500},-84.050363886457433]
[3,{"$f":"'Hull Long'!B151","v":3600},57.741747355258241,3,3600,-57.741747355258241]
[3,{"$f":"'Hull Long'!B152","v":3700},29.735800725272014,3,3700,-29.735800725272014]
[3,{"$f":"'Hull Long'!B153","v":3750},15.096328623233717,3,3750,-15.096328623233717]
[3,{"$f":"'Hull Long'!B154","v":3800},{"$f":"C$135+(C$156-C$135)*ABS($B$135-$B154)^H$156/ABS($B$156-$B$135)^H$156","v":3.2523996498696306E-2},3,3800,{"$f":"F$135+(F$156-F$135)*ABS($E$135-$E154)^I$156/ABS($E$156-$E$135)^I$156","v":-3.2523996498696306E-2}]
[3,{"$f":"'Hull Long'!B155","v":3800.0532258064518},{"$f":"C$135+(C$156-C$135)*ABS($B$135-$B155)^H$156/ABS($B$156-$B$135)^H$156","v":1.6262238674926266E-2},3,3800.0532258064518,{"$f":"F$135+(F$156-F$135)*ABS($E$135-$E155)^I$156/ABS($E$156-$E$135)^I$156","v":-1.6262238674926266E-2}]
[3,{"$f":"'Hull Long'!B156","v":3800.1064516129031},{"$f":"0*Basic!$D$2","v":0},3,{"$f":"B156","v":3800.1064516129031},{"$f":"0*Basic!$D$2","v":0},"Chine",2,2]
[0,{"$f":"'Hull Long'!B157","v":3933.0645161290322},{"$f":"0*Basic!$D$2","v":0},0,{"$f":"B157","v":3933.0645161290322},{"$f":"0*Basic!$D$2","v":0},"Deck"]
[0,{"$f":"'Hull Long'!B158","v":3965},{"$f":"0*Basic!$D$2","v":0},0,{"$f":"B158","v":3965},{"$f":"0*Basic!$D$2","v":0},"Sheer"]
[0,{"$f":"'Hull Long'!B159","v":4000},{"$f":"0*Basic!$D$2","v":0},0,{"$f":"B159","v":4000},{"$f":"0*Basic!$D$2","v":0}]
[0,0,0,0,0,0]
[0,{"$f":"'Hull Long'!B161","v":0},{"$f":"0*Basic!$D$2","v":0},0,{"$f":"B161","v":0},{"$f":"0*Basic!$D$2","v":0},"SHEER"]
[5,{"$f":"'Hull Long'!B162","v":35},{"$f":"0*Basic!$D$2","v":0},5,{"$f":"B162","v":35},{"$f":"0*Basic!$D$2","v":0},"Sheer",1.99,1.99]
[5,{"$f":"'Hull Long'!B163","v":66.935483870967744},{"$f":"C$185+(C$162-C$185)*ABS($B$185-$B163)^H$162/ABS($B$162-$B$185)^H$162","v":10.426516696201418},5,66.935483870967744,{"$f":"F$185+(F$162-F$185)*ABS($E$185-$E163)^I$162/ABS($E$162-$E$185)^I$162","v":-10.426516696201418}]
[5,{"$f":"'Hull Long'!B164","v":199.89354838709676},{"$f":"C$185+(C$162-C$185)*ABS($B$185-$B164)^H$162/ABS($B$162-$B$185)^H$162","v":52.0172075204772},5,199.89354838709676,-52.0172075204772]
[5,{"$f":"'Hull Long'!B165","v":199.94677419354838},52.033269758374445,5,199.94677419354838,-52.033269758374445]
[5,{"$f":"'Hull Long'!B166","v":200},{"$f":"C$185+(C$162-C$185)*ABS($B$185-$B166)^H$162/ABS($B$162-$B$185)^H$162","v":52.04933152608379},5,200,-52.04933152608379]
[5,{"$f":"'Hull Long'!B167","v":250},66.929957113680416,5,250,-66.929957113680416]
[5,{"$f":"'Hull Long'!B168","v":300},81.395542586278282,5,300,-81.395542586278282]
[5,{"$f":"'Hull Long'!B169","v":400},109.08110817853742,5,400,-109.08110817853742]
[5,{"$f":"'Hull Long'!B170","v":500},135.10502061285018,5,500,-135.10502061285018]
[5,{"$f":"'Hull Long'!B171","v":600},159.46620638225929,5,600,-159.46620638225929]
[5,{"$f":"'Hull Long'!B172","v":699},181.9447840573205,5,699,-181.9447840573205,"Bulkhead"]
[5,{"$f":"'Hull Long'!B173","v":701},182.3820834432924,5,701,-182.3820834432924]
[5,{"$f":"'Hull Long'!B174","v":800},203.19571781617304,5,800,-203.19571781617304]
[5,{"$f":"'Hull Long'!B175","v":900},222.56147403750413,5,900,-222.56147403750413]
[5,{"$f":"'Hull Long'!B176","v":1000},240.2593331832239,5,1000,-240.2593331832239]
[5,{"$f":"'Hull Long'!B177","v":1100},256.28770237212473,5,1100,-256.28770237212473]
[5,{"$f":"'Hull Long'!B178","v":1200},270.64481837957044,5,1200,-270.64481837957044]
[5,{"$f":"'Hull Long'!B179","v":1300},283.32870694866818,5,1300,-283.32870694866818]
[5,{"$f":"'Hull Long'!B180","v":1400},294.33712550858013,5,1400,-294.33712550858013]
[5,{"$f":"'Hull Long'!B181","v":1500},303.66747880833503,5,1500,-303.66747880833503]
[5,{"$f":"'Hull Long'!B182","v":1600},311.31668704824187,5,1600,-311.31668704824187]
[5,{"$f":"'Hull Long'!B183","v":1700},317.28096208754306,5,1700,-317.28096208754306]
[5,{"$f":"'Hull Long'!B184","v":1800},321.55537802001606,5,{"$f":"B184","v":1800},-321.55537802001606]
[5,{"$f":"'Hull Long'!B185","v":2000},{"$f":"325*Basic!$D$2","v":325},5,2000,{"$f":"-325*Basic!$D$2","v":-325}]
[5,{"$f":"'Hull Long'!B186","v":2000},{"$f":"325*Basic!$D$2","v":325},5,2000,{"$f":"-325*Basic!$D$2","v":-325}]
[5,{"$f":"'Hull Long'!B187","v":2200},{"$f":"C$186+(C$209-C$186)*ABS($B$186-$B187)^H$209/ABS($B$209-$B$186)^H$209","v":321.63319283388046},5,2200,{"$f":"F$186+(F$209-F$186)*ABS($E$186-$E187)^I$209/ABS($E$209-$E$186)^I$209","v":-321.63319283388046}]
[5,{"$f":"'Hull Long'!B188","v":2300},317.42468387623097,5,2300,-317.42468387623097]
[5,{"$f":"'Hull Long'!B189","v":2400},311.53277133552177,5,2400,-311.53277133552177]
[5,{"$f":"'Hull Long'!B190","v":2500},303.95745521175274,5,2500,-303.95745521175274]
[5,{"$f":"'Hull Long'!B191","v":2600},294.69873550492395,5,2600,-294.69873550492395]
[5,{"$f":"'Hull Long'!B192","v":2700},283.75661221503537,5,2700,-283.75661221503537]
[5,{"$f":"'Hull Long'!B193","v":2800},271.13108534208703,5,2800,-271.13108534208703]
[5,{"$f":"'Hull Long'!B194","v":2900},256.82215488607892,5,2900,-256.82215488607892]
[5,{"$f":"'Hull Long'!B195","v":3000},240.82982084701098,5,3000,-240.82982084701098]
[5,{"$f":"'Hull Long'!B196","v":3100},223.15408322488329,5,3100,-223.15408322488329]
[5,{"$f":"'Hull Long'!B197","v":3200},203.79494201969584,5,3200,-203.79494201969584]
[5,{"$f":"'Hull Long'!B198","v":3299},182.9711555270672,5,3299,-182.9711555270672]
[5,{"$f":"'Hull Long'!B199","v":3301},182.53347059547164,5,3301,-182.53347059547164,"Bulkhead"]
[5,{"$f":"'Hull Long'!B200","v":3400},160.02644886014153,5,{"$f":"B200","v":3400},-160.02644886014153]
[5,{"$f":"'Hull Long'!B201","v":3500},135.61709690577473,5,{"$f":"B201","v":3500},-135.61709690577473]
[5,{"$f":"'Hull Long'!B202","v":3600},109.52434136834813,5,3600,-109.52434136834813]
[5,{"$f":"'Hull Long'!B203","v":3700},81.748182247861763,5,3700,-81.748182247861763]
[5,{"$f":"'Hull Long'!B204","v":3750},67.22882634397115,5,3750,-67.22882634397115]
[5,{"$f":"'Hull Long'!B205","v":3800},{"$f":"C$186+(C$209-C$186)*ABS($B$186-$B205)^H$209/ABS($B$209-$B$186)^H$209","v":52.288619544315623},5,3800,-52.288619544315623]
[5,{"$f":"'Hull Long'!B206","v":3800.0532258064518},52.272491213470005,5,3800.0532258064518,{"$f":"F$186+(F$209-F$186)*ABS($E$186-$E206)^I$209/ABS($E$209-$E$186)^I$209","v":-52.272491213470005}]
[5,{"$f":"'Hull Long'!B207","v":3800.1064516129031},52.256362405718619,5,{"$f":"B207","v":3800.1064516129031},-52.256362405718619]
[5,{"$f":"'Hull Long'!B208","v":3933.0645161290322},{"$f":"C$186+(C$209-C$186)*ABS($B$186-$B208)^H$209/ABS($B$209-$B$186)^H$209","v":10.478057444702131},5,{"$f":"B208","v":3933.0645161290322},{"$f":"F$186+(F$209-F$186)*ABS($E$186-$E208)^I$209/ABS($E$209-$E$186)^I$209","v":-10.478057444702131}]
[5,{"$f":"'Hull Long'!B209","v":3965},{"$f":"0*Basic!$D$2","v":0},5,{"$f":"B209","v":3965},{"$f":"0*Basic!$D$2","v":0},"Sheer",2,2]
[0,{"$f":"'Hull Long'!B210","v":4000},{"$f":"0*Basic!$D$2","v":0},0,{"$f":"B210","v":4000},{"$f":"0*Basic!$D$2","v":0}]
[0,0,0,0,0,0]
[0,{"$f":"B110","v":0},0,0,{"$f":"E110","v":0},0,"WASHBOARD"]
[7,35,0,7,35,0]
[7,66.935483870967744,0,7,66.935483870967744,0]
[7,199.89354838709676,0,7,199.89354838709676,0]
[7,199.94677419354838,1.6262238674983109E-2,7,199.94677419354838,-1.6262238674983109E-2]
[7,200,3.2523996498696306E-2,7,200,-3.2523996498696306E-2]
[7,250,15.096328623233717,7,250,-15.096328623233717]
[7,300,29.735800725272014,7,300,-29.735800725272014]
[7,400,57.741747355258241,7,400,-57.741747355258241]
[7,500,84.050363886457433,7,500,-84.050363886457433]
[7,600,108.66165031886959,7,600,-108.66165031886959]
[7,699,131.35486887314744,7,699,-131.35486887314744,"Bulkhead"]
[7,701,131.79617469883209,7,701,-131.79617469883209]
[7,800,152.79223288733277,7,800,-152.79223288733277]
[7,900,172.3115290233838,7,900,-172.3115290233838]
[7,1000,190.13349506064776,7,1000,-190.13349506064776]
[7,1100,206.25813099912466,7,1100,-206.25813099912466]
[7,1200,220.68543683881455,7,1200,-220.68543683881455]
[7,1300,233.41541257971738,7,1300,-233.41541257971738]
[7,1400,244.44805822183318,7,1400,-244.44805822183318]
[7,{"$f":"B130","v":1500},253.78337376516194,7,{"$f":"E130","v":1500},-253.78337376516194]
[7,1600,261.42135920970367,7,1600,-261.42135920970367]
[7,1700,267.3620145554583,7,1700,-267.3620145554583]
[7,1800,271.60533980242593,7,1800,-271.60533980242593]
[7,2000,275,7,2000,-275]
[7,2000,275,7,2000,-275]
[7,2200,271.60533980242593,7,2200,-271.60533980242593]
[7,2300,267.3620145554583,7,2300,-267.3620145554583]
[7,2400,261.42135920970367,7,2400,-261.42135920970367]
[7,2500,253.78337376516194,7,2500,-253.78337376516194]
[7,2600,244.44805822183318,7,2600,-244.44805822183318]
[7,2700,233.41541257971738,7,2700,-233.41541257971738]
[7,2800,220.68543683881455,7,2800,-220.68543683881455]
[7,2900,206.25813099912466,7,2900,-206.25813099912466]
[7,3000,190.13349506064776,7,3000,-190.13349506064776]
[7,3100,172.3115290233838,7,3100,-172.3115290233838]
[7,3200,152.79223288733277,7,3200,-152.79223288733277]
[7,3299,131.79617469883209,7,3299,-131.79617469883209]
[7,3301,131.35486887314744,7,3301,-131.35486887314744,"Bulkhead"]
[7,3400,108.66165031886959,7,3400,-108.66165031886959]
[7,{"$f":"B150","v":3500},84.050363886457433,7,{"$f":"E150","v":3500},-84.050363886457433]
[7,3600,57.741747355258241,7,3600,-57.741747355258241]
[7,3700,29.735800725272014,7,3700,-29.735800725272014]
[0,3750,15.096328623233717,0,3750,-15.096328623233717]
[0,3800,3.2523996498696306E-2,0,3800,-3.2523996498696306E-2]
[0,3800.0532258064518,1.6262238674926266E-2,0,3800.0532258064518,-1.6262238674926266E-2]
[0,3800.1064516129031,0,0,3800.1064516129031,0]
[0,3933.0645161290322,0,0,3933.0645161290322,0]
[0,3965,0,0,3965,0]
[0,4000,0,0,4000,0]
[0,0,0,0,0,0]
[0,{"$f":"B212","v":0},{"$f":"C212","v":0},0,{"$f":"E212","v":0},{"$f":"F212","v":0},"COAMING"]
[0,35,0,0,35,0]
[0,66.935483870967744,0,0,66.935483870967744,0]
[0,199.89354838709676,0,0,199.89354838709676,0]
[0,199.94677419354838,1.6262238674983109E-2,0,199.94677419354838,-1.6262238674983109E-2]
[6,200,3.2523996498696306E-2,6,200,-3.2523996498696306E-2]
[6,250,15.096328623233717,6,250,-15.096328623233717]
[6,300,29.735800725272014,6,300,-29.735800725272014]
[6,400,57.741747355258241,6,400,-57.741747355258241]
[6,500,84.050363886457433,6,500,-84.050363886457433]
[6,600,108.66165031886959,6,600,-108.66165031886959]
[6,699,131.35486887314744,6,699,-131.35486887314744,"Bulkhead"]
[6,701,131.79617469883209,6,701,-131.79617469883209]
[6,800,152.79223288733277,6,800,-152.79223288733277]
[6,900,172.3115290233838,6,900,-172.3115290233838]
[6,1000,190.13349506064776,6,1000,-190.13349506064776]
[6,1100,206.25813099912466,6,1100,-206.25813099912466]
[6,1200,220.68543683881455,6,1200,-220.68543683881455]
[6,1300,233.41541257971738,6,1300,-233.41541257971738]
[6,1400,244.44805822183318,6,1400,-244.44805822183318]
[6,1500,253.78337376516194,6,1500,-253.78337376516194]
[6,1600,261.42135920970367,6,1600,-261.42135920970367]
[6,1700,267.3620145554583,6,1700,-267.3620145554583]
[6,1800,271.60533980242593,6,1800,-271.60533980242593]
[6,2000,275,6,2000,-275]
[6,2000,275,6,2000,-275]
[6,2200,271.60533980242593,6,2200,-271.60533980242593]
[6,2300,267.3620145554583,6,2300,-267.3620145554583]
[6,2400,261.42135920970367,6,2400,-261.42135920970367]
[6,2500,253.78337376516194,6,2500,-253.78337376516194]
[6,2600,244.44805822183318,6,2600,-244.44805822183318]
[6,2700,233.41541257971738,6,2700,-233.41541257971738]
[6,{"$f":"B244","v":2800},220.68543683881455,6,{"$f":"E244","v":2800},-220.68543683881455]
[6,2900,206.25813099912466,6,2900,-206.25813099912466]
[6,3000,190.13349506064776,6,3000,-190.13349506064776]
[6,3100,172.3115290233838,6,3100,-172.3115290233838]
[6,3200,152.79223288733277,6,3200,-152.79223288733277]
[6,3299,131.79617469883209,6,3299,-131.79617469883209]
[6,3301,131.35486887314744,6,3301,-131.35486887314744,"Bulkhead"]
[6,3400,108.66165031886959,6,3400,-108.66165031886959]
[6,3500,84.050363886457433,6,3500,-84.050363886457433]
[6,3600,57.741747355258241,6,3600,-57.741747355258241]
[6,3700,29.735800725272014,6,3700,-29.735800725272014]
[6,3750,15.096328623233717,6,3750,-15.096328623233717]
[6,3800,3.2523996498696306E-2,6,3800,-3.2523996498696306E-2]
[0,3800.0532258064518,1.6262238674926266E-2,0,3800.0532258064518,-1.6262238674926266E-2]
[0,3800.1064516129031,0,0,3800.1064516129031,0]
[0,3933.0645161290322,0,0,3933.0645161290322,0]
[0,3965,0,0,3965,0]
[0,4000,0,0,4000,0]
[0,0,0,0,0,0]
[0,{"$f":"B263","v":0},0,0,{"$f":"E263","v":0},0,"DECK"]
[0,35,0,0,35,0]
[0,66.935483870967744,0,0,66.935483870967744,0]
[0,199.89354838709676,0,0,199.89354838709676,0]
[0,199.94677419354838,1.6262238674983109E-2,0,199.94677419354838,-1.6262238674983109E-2]
[7,200,3.2523996498696306E-2,7,200,-3.2523996498696306E-2]
[7,250,15.096328623233717,7,250,-15.096328623233717]
[7,300,29.735800725272014,7,300,-29.735800725272014]
[7,400,57.741747355258241,7,400,-57.741747355258241]
[7,500,84.050363886457433,7,500,-84.050363886457433]
[7,600,108.66165031886959,7,600,-108.66165031886959]
[7,699,131.35486887314744,7,699,-131.35486887314744,"Bulkhead"]
[7,701,{"$f":"0*Basic!$D$2","v":0},7,701,{"$f":"0*Basic!$D$2","v":0}]
[0,800,{"$f":"0*Basic!$D$2","v":0},0,800,{"$f":"0*Basic!$D$2","v":0}]
[0,900,{"$f":"0*Basic!$D$2","v":0},0,900,{"$f":"0*Basic!$D$2","v":0}]
[0,1000,{"$f":"0*Basic!$D$2","v":0},0,1000,{"$f":"0*Basic!$D$2","v":0}]
[0,1100,{"$f":"0*Basic!$D$2","v":0},0,1100,{"$f":"0*Basic!$D$2","v":0}]
[0,1200,{"$f":"0*Basic!$D$2","v":0},0,1200,{"$f":"0*Basic!$D$2","v":0}]
[0,1300,{"$f":"0*Basic!$D$2","v":0},0,1300,{"$f":"0*Basic!$D$2","v":0}]
[0,1400,{"$f":"0*Basic!$D$2","v":0},0,1400,{"$f":"0*Basic!$D$2","v":0}]
[0,1500,{"$f":"0*Basic!$D$2","v":0},0,1500,{"$f":"0*Basic!$D$2","v":0}]
[0,1600,{"$f":"0*Basic!$D$2","v":0},0,1600,{"$f":"0*Basic!$D$2","v":0}]
[0,1700,{"$f":"0*Basic!$D$2","v":0},0,1700,{"$f":"0*Basic!$D$2","v":0}]
[0,1800,{"$f":"0*Basic!$D$2","v":0},0,1800,{"$f":"0*Basic!$D$2","v":0}]
[0,2000,{"$f":"0*Basic!$D$2","v":0},0,2000,{"$f":"0*Basic!$D$2","v":0}]
[0,2000,{"$f":"0*Basic!$D$2","v":0},0,2000,{"$f":"0*Basic!$D$2","v":0}]
[0,2200,{"$f":"0*Basic!$D$2","v":0},0,2200,{"$f":"0*Basic!$D$2","v":0}]
[0,2300,{"$f":"0*Basic!$D$2","v":0},0,2300,{"$f":"0*Basic!$D$2","v":0}]
[0,2400,{"$f":"0*Basic!$D$2","v":0},0,2400,{"$f":"0*Basic!$D$2","v":0}]
[0,2500,{"$f":"0*Basic!$D$2","v":0},0,2500,{"$f":"0*Basic!$D$2","v":0}]
[0,2600,{"$f":"0*Basic!$D$2","v":0},0,2600,{"$f":"0*Basic!$D$2","v":0}]
[0,2700,{"$f":"0*Basic!$D$2","v":0},0,2700,{"$f":"0*Basic!$D$2","v":0}]
[0,2800,{"$f":"0*Basic!$D$2","v":0},0,2800,{"$f":"0*Basic!$D$2","v":0}]
[0,2900,{"$f":"0*Basic!$D$2","v":0},0,2900,{"$f":"0*Basic!$D$2","v":0}]
[0,3000,{"$f":"0*Basic!$D$2","v":0},0,3000,{"$f":"0*Basic!$D$2","v":0}]
[0,3100,{"$f":"0*Basic!$D$2","v":0},0,3100,{"$f":"0*Basic!$D$2","v":0}]
[0,3200,{"$f":"0*Basic!$D$2","v":0},0,3200,{"$f":"0*Basic!$D$2","v":0}]
[7,3299,{"$f":"0*Basic!$D$2","v":0},7,3299,{"$f":"0*Basic!$D$2","v":0}]
[7,3301,{"$f":"C301","v":131.35486887314744},7,3301,{"$f":"F301","v":-131.35486887314744},"Bulkhead"]
[7,3400,108.66165031886959,7,3400,-108.66165031886959]
[7,3500,84.050363886457433,7,3500,-84.050363886457433]
[7,3600,57.741747355258241,7,3600,-57.741747355258241]
[7,3700,29.735800725272014,7,3700,-29.735800725272014]
[7,3750,15.096328623233717,7,3750,-15.096328623233717]
[7,3800,3.2523996498696306E-2,7,3800,-3.2523996498696306E-2]
[0,{"$f":"B308","v":3800.0532258064518},1.6262238674926266E-2,0,{"$f":"E308","v":3800.0532258064518},-1.6262238674926266E-2]
[0,{"$f":"B309","v":3800.1064516129031},0,0,{"$f":"E309","v":3800.1064516129031},0]
[0,{"$f":"B310","v":3933.0645161290322},0,0,{"$f":"E310","v":3933.0645161290322},0]
[0,{"$f":"B311","v":3965},0,0,{"$f":"E311","v":3965},0]
[0,{"$f":"B312","v":4000},0,0,{"$f":"E312","v":4000},0]
[0,0,0,0,0,0]

{"sheet":"Hull Unfold","index":5,"n_rows":524,"n_cols":39,"rows_kept":524,"cut":false,"hidden":false,"merged":[]}
["Unfold"]
[]
[]
[]
["Parameters",{"$f":"300*Basic!$D$2","v":300},{"$f":"2000*Basic!$D$2","v":2000}]
["Number of Lines",{"$f":"COUNT(A8:A876)","v":408},null,null,{"$f":"COUNT(D8:D876)","v":408}]
["Line Id","X","Y","Line Id","X","Y",null,"X","Y","A",null,null,null,null,"X0","Z0","Y0","X1","Z1","Y1","F","L","D","U","F'","A1","A2","A3","A","B1","B2","B3","B","XA","YA","XB","YB","Check F","Error F"]
[0,{"$f":"(AH8-$AH$53)*COS(RADIANS($J$8))+$AH$53-(AI8-$AI$53)*SIN(RADIANS($J$8))+$H$8","v":-225.49974627673691},{"$f":"(AI8-$AI$53)*COS(RADIANS($J$8))+$AI$53+(AH8-$AH$53)*SIN(RADIANS($J$8))+$I$8","v":-41.576954432499718},0,{"$f":"(AJ8-$AH$53)*COS(RADIANS($J$8))+$AH$53-(AK8-$AI$53)*SIN(RADIANS($J$8))+$H$8","v":-225.49974602946713},{"$f":"(AK8-$AI$53)*COS(RADIANS($J$8))+$AI$53+(AJ8-$AH$53)*SIN(RADIANS($J$8))+$I$8","v":-41.576944655080823},"Keel",{"$f":"0*Basic!$D$2","v":0},{"$f":"0*Basic!$D$2","v":0},0,null,null,null,null,{"$f":"'Hull Long'!B8","v":0},{"$f":"'Hull Long'!C8","v":325.75757575757575},{"$f":"'Hull Plan'!C8","v":0},{"$f":"'Hull Long'!B59","v":0},{"$f":"'Hull Long'!C59","v":325.75757575757575},{"$f":"'Hull Plan'!C59","v":0},{"$f":"((O8-R8)^2+(S8-P8)^2+(T8-Q8)^2)^0.5+0.00001","v":1.0000000000000001E-5},null,null,null,null,null,null,null,null,null,null,null,null,{"$f":"AH9-V9*SIN(AC9*PI()/180)","v":-225.49974627673714},{"$f":"AI9+V9*COS(AC9*PI()/180)","v":-41.576954432499718},{"$f":"AJ9-X9*SIN(AG9*PI()/180)","v":-225.49974602946691},{"$f":"AK9+X9*COS(AG9*PI()/180)","v":-41.576944655080823},{"$f":"((AH8-AJ8)^2+(AI8-AK8)^2)^0.5","v":9.7805451195062865E-6},{"$f":"U8-AL8","v":2.1945488049371432E-7}]
[0,-151.03332216881199,-43.528991853238374,0,-151.03332191336222,-43.528981763774908,null,null,null,null,null,null,null,null,{"$f":"'Hull Long'!B9","v":35},{"$f":"'Hull Long'!C9","v":260},{"$f":"'Hull Plan'!C9","v":0},{"$f":"'Hull Long'!B60","v":35},{"$f":"'Hull Long'!C60","v":260},{"$f":"'Hull Plan'!C60","v":0},1.0000000000000001E-5,{"$f":"((O9-O8)^2+(P9-P8)^2+(Q9-Q8)^2)^0.5","v":74.492004735497048},{"$f":"((R9-O8)^2+(S9-P8)^2+(T9-Q8)^2)^0.5","v":74.492004735497048},{"$f":"((R9-R8)^2+(S9-S8)^2+(T9-T8)^2)^0.5","v":74.492004735497048},{"$f":"U8","v":1.0000000000000001E-5},{"$f":"ACOS((U9*U9+V9*V9-W9*W9)/2/U9/V9)*180/PI()","v":89.999996152524773},{"$f":"ACOS((V9*V9+W9*W9-U9*U9)/2/V9/W9)*180/PI()","v":7.6839628162643457E-6},{"$f":"ACOS((W9*W9+Y9*Y9-X9*X9)/2/W9/Y9)*180/PI()","v":89.999996152524773},{"$f":"AC10+Z9+AA10+AB10-180","v":88.49841187378712},{"$f":"ACOS((U9*U9+W9*W9-V9*V9)/2/U9/W9)*180/PI()","v":89.999996152524773},{"$f":"ACOS((W9*W9+X9*X9-Y9*Y9)/2/W9/X9)*180/PI()","v":7.6839628162643457E-6},{"$f":"ACOS((X9*X9+Y9*Y9-W9*W9)/2/X9/Y9)*180/PI()","v":89.999996152524773},{"$f":"180+AG10-AF10-AE9-AD9","v":88.498412113879709},-151.03332216881216,-43.528991853238374,-151.0333219133621,-43.528981763774908,1.0092696753454763E-5,-9.2696753454762199E-8]
[0,-83.086999722944256,-45.3101140149682,0,-83.086999459794697,-45.310103631786468,null,null,null,null,null,null,null,null,{"$f":"'Hull Long'!B10","v":66.935483870967744},{"$f":"'Hull Long'!C10","v":200},{"$f":"'Hull Plan'!C10","v":0},{"$f":"'Hull Long'!B61","v":66.935483870967744},{"$f":"'Hull Long'!C61","v":200},{"$f":"'Hull Plan'!C61","v":0},1.0000000000000001E-5,67.96966330704339,67.96966330704339,67.96966330704339,1.0000000000000001E-5,89.999995783322603,8.4519278833759547E-6,89.999995783322603,88.498411486011832,89.999995783322603,8.4519278833759547E-6,89.999995783322603,88.498411733689935,-83.08699972294437,-45.3101140149682,-83.086999459794896,-45.310103631786468,1.0386515802266559E-5,-3.8651580226655784E-7]
[0,199.79618982547072,-52.725502797124882,0,199.79619010323086,-52.725491856568311,null,null,null,null,null,null,null,null,{"$f":"'Hull Long'!B11","v":199.89354838709676},{"$f":"'Hull Long'!C11","v":-49.8},{"$f":"'Hull Plan'!C11","v":0},{"$f":"'Hull Long'!B62","v":199.89354838709676},{"$f":"'Hull Long'!C62","v":-49.8},{"$f":"'Hull Plan'!C62","v":0},1.0000000000000001E-5,282.98036490165731,282.98036490165731,282.98036490165731,1.0000000000000001E-5,89.999998968772388,1.9090959130017241E-6,89.999998968772388,88.498414824820884,89.999998968772388,1.9090959130017241E-6,89.999998968772388,88.498414937712795,199.79618982547083,-52.725502797124882,199.79619010323105,-52.725491856568311,1.0944081908606443E-5,-9.4408190860644172E-7]
[0,199.90943356530715,-52.728476323704001,0,199.90943384306502,-52.728465383227324,null,null,null,null,null,null,null,null,{"$f":"'Hull Long'!B12","v":199.94677419354838},{"$f":"'Hull Long'!C12","v":-49.9},{"$f":"'Hull Plan'!C12","v":0},{"$f":"'Hull Long'!B63","v":199.94677419354838},{"$f":"'Hull Long'!C63","v":-49.9},{"$f":"'Hull Plan'!C63","v":0},1.0000000000000001E-5,0.11328277217841087,0.11328277217841087,0.11328277217841087,1.0000000000000001E-5,89.997471116825565,5.0577663955357769E-3,89.997471116825565,88.495886972827407,89.997471116825565,5.0577663955357769E-3,89.997471116825565,88.495886932406663,199.90943356530713,-52.728476323704001,199.90943384306524,-52.728465383227324,1.0944001987537455E-5,-9.4400198753745372E-7]
[0,199.96281719165063,-52.828392162842881,0,199.96266192684925,-52.729865684098094,null,null,null,null,null,null,null,null,{"$f":"'Hull Long'!B13","v":200},{"$f":"'Hull Long'!C13","v":-50},{"$f":"'Hull Plan'!C13","v":0},{"$f":"'Hull Long'!B64","v":200},{"$f":"'Hull Long'!C64","v":-49.901484342764036},{"$f":"'Hull Plan'!C64","v":0},9.8525657235964223E-2,0.11328277217841087,5.3246499846155197E-2,5.3246499846155197E-2,1.0000000000000001E-5,28.024662160856462,60.388833377523795,89.994619760943692,28.114962717534354,91.586504461619711,1.0760478069812259E-2,89.994619760943692,88.493035576571458,199.96281719165077,-52.828392162842881,199.96266192684945,-52.729865684098094,9.8526601083187629E-2,-9.4384722340579152E-7]
[0,249.96491698275622,-54.119057595316846,0,249.96477023704165,-54.025928222026693,null,null,null,null,null,null,null,null,{"$f":"'Hull Long'!B14","v":250},{"$f":"'Hull Long'!C14","v":-51.369598765432102},{"$f":"'Hull Plan'!C14","v":0},{"$f":"'Hull Long'!B65","v":250},{"$f":"'Hull Long'!C65","v":-51.276480185097185},{"$f":"'Hull Plan'!C65","v":0},9.3128580334916597E-2,50.018754490473604,50.016291362544521,50.018902562595606,9.8525657235964223E-2,88.431104840317531,0.1066428009359795,91.462260962554325,88.521396793187591,91.462252358738127,0.11282274027815446,88.424916297169702,88.515216813430683,249.96491698275645,-54.119057595316846,249.96477023704185,-54.025928222026693,9.3129488905080687E-2,-9.0857016409040536E-7]
[0,299.96695578019308,-55.371146408570382,0,299.96681731321723,-55.283262110590101,null,null,null,null,null,null,null,null,{"$f":"'Hull Long'!B15","v":300},{"$f":"'Hull Long'!C15","v":-52.700617283950621},{"$f":"'Hull Plan'!C15","v":0},{"$f":"'Hull Long'!B66","v":300},{"$f":"'Hull Long'!C66","v":-52.612743750181508},{"$f":"'Hull Plan'!C66","v":0},8.7883533769112551E-2,50.017712965474935,50.015451706978595,50.017852815923355,9.3128580334916597E-2,88.475287351831568,0.10064040570226057,91.424081371640469,88.565570175527341,91.424072242466309,0.10664651333994873,88.469272115010824,88.559564027457753,299.96695578019313,-55.371146408570382,299.96681731321706,-55.283262110590101,8.7884407061721237E-2,-8.7329260868573844E-7]
[0,399.97085062280166,-57.759585467257317,0,399.97072799321359,-57.681735229446275,null,null,null,null,null,null,null,null,{"$f":"'Hull Long'!B16","v":400},{"$f":"'Hull Long'!C16","v":-55.246913580246911},{"$f":"'Hull Plan'!C16","v":0},{"$f":"'Hull Long'!B67","v":400},{"$f":"'Hull Long'!C67","v":-55.16907404860369},{"$f":"'Hull Plan'!C67","v":0},7.784953164322099E-2,100.03241287117157,100.03046175440241,100.03266878672503,8.7883533769112551E-2,88.541576542164023,4.457647242554709E-2,91.413867727778168,88.631838623492058,91.413846985428947,5.0321792392624243E-2,88.535810479824363,88.62609326308835,399.97085062280149,-57.759585467257317,399.97072799321376,-57.681735229446275,7.785033439396094E-2,-8.027507399505085E-7]
[0,499.97450144763661,-59.993722343467354,0,499.97439369384801,-59.925298045234321,null,null,null,null,null,null,null,null,{"$f":"'Hull Long'!B17","v":500},{"$f":"'Hull Long'!C17","v":-57.638888888888886},{"$f":"'Hull Plan'!C17","v":0},{"$f":"'Hull Long'!B68","v":500},{"$f":"'Hull Long'!C68","v":-57.570475238030582},{"$f":"'Hull Plan'!C68","v":0},6.842365085830375E-2,100.02860363854508,100.02699105130336,100.02882948266755,7.784953164322099E-2,88.629954958116173,3.9182084189137052E-2,91.330886515537884,88.720193481600973,91.330862957691508,4.4579615650936093E-2,88.624533868815718,88.714795909725652,499.97450144763644,-59.993722343467354,499.9743936938479,-59.925298045234321,6.8424383077686682E-2,-7.322193829317758E-7]
[0,599.9779082569662,-62.07355968998101,0,599.9778144173797,-62.013953210763184,null,null,null,null,null,null,null,null,{"$f":"'Hull Long'!B18","v":600},{"$f":"'Hull Long'!C18","v":-59.876543209876544},{"$f":"'Hull Plan'!C18","v":0},{"$f":"'Hull Long'!B69","v":600},{"$f":"'Hull Long'!C69","v":-59.816947318462198},{"$f":"'Hull Plan'!C69","v":0},5.9605891414346628E-2,100.02503235120814,100.02371688016116,100.02523000127597,6.842365085830375E-2,88.718341797242061,3.4135022346500746E-2,91.24755016115185,88.808553339986418,91.247523180404173,3.9184687961486199E-2,88.713265150880645,88.80350363394875,599.97790825696609,-62.07355968998101,599.97781441737948,-62.013953210763184,5.9606553084482532E-2,-6.6167013590412438E-7]
[0,698.98104063180017,-63.980609203309918,0,698.98095962003526,-63.92913333578035,null,null,null,null,null,null,null,null,{"$f":"'Hull Long'!B19","v":699},{"$f":"'Hull Long'!C19","v":-61.939807098765428},{"$f":"'Hull Plan'!C19","v":0},{"$f":"'Hull Long'!B70","v":699},{"$f":"'Hull Long'!C70","v":-61.888341759273686},{"$f":"'Hull Plan'!C70","v":0},5.1475339491741705E-2,99.021497958146412,99.020438967939114,99.021667704242518,5.9605891414346628E-2,88.806294859880339,2.977849621924936E-2,91.163957497239423,88.896475549285697,91.163926643895365,3.4481963499990567E-2,88.801560539248982,88.891772041563428,698.98104063180006,-63.980609203309918,698.98095962003538,-63.92913333578035,5.1475931276934291E-2,-5.9178519258573647E-7]
[0,700.9811012665823,-64.017586885480497,0,700.98102050347916,-63.966269130715894,null,null,null,null,null,null,null,null,{"$f":"'Hull Long'!B20","v":701},{"$f":"'Hull Long'!C20","v":-61.979930555555555},{"$f":"'Hull Plan'!C20","v":0},{"$f":"'Hull Long'!B71","v":701},{"$f":"'Hull Long'!C71","v":-61.928623327612463},{"$f":"'Hull Plan'!C71","v":0},5.1317227943091508E-2,2.0004024324582264,2.000031268939864,2.0004056100570784,5.1475339491741705E-2,88.850639342405785,1.469972778732404,89.679387687005828,88.940820223667117,89.679387878861988,1.4745005114666572,88.8461118015273,88.93629245048605,700.98110126658241,-64.017586885480497,700.98102050347927,-63.966269130715894,5.1317818316437044E-2,-5.9037334553674325E-7]
[0,799.98398968446509,-65.770358072684076,0,799.9839207877817,-65.726562869850994,null,null,null,null,null,null,null,null,{"$f":"'Hull Long'!B21","v":800},{"$f":"'Hull Long'!C21","v":-63.888888888888886},{"$f":"'Hull Plan'!C21","v":0},{"$f":"'Hull Long'!B72","v":800},{"$f":"'Hull Long'!C72","v":-63.845104152339573},{"$f":"'Hull Plan'!C72","v":0},4.37947365493127E-2,99.018402945707038,99.017568504514088,99.018548256130003,5.1317227943091508E-2,88.895582813004694,2.5336791657926089E-2,91.079116526496534,88.985727563106877,91.079080395335481,2.9688773322760903E-2,88.891194700195726,88.981375541010422,799.98398968446497,-65.770358072684076,799.98392078778159,-65.726562869850994,4.3795257025661005E-2,-5.2047634830493239E-7]
[0,899.98666449563643,-67.387318191948268,0,899.98660662842303,-67.350516446363699,null,null,null,null,null,null,null,null,{"$f":"'Hull Long'!B22","v":900},{"$f":"'Hull Long'!C22","v":-65.663580246913583},{"$f":"'Hull Plan'!C22","v":0},{"$f":"'Hull Long'!B73","v":900},{"$f":"'Hull Long'!C73","v":-65.626788905785332},{"$f":"'Hull Plan'!C73","v":0},3.6801341128250113E-2,100.01574640733452,100.01510034224196,100.01587074340082,4.37947365493127E-2,88.983554054583593,2.1079114807493186E-2,90.995410037098054,89.073655598196638,90.995366830630545,2.508476864009512E-2,88.979505194269734,89.069649903938412,899.98666449563666,-67.387318191948268,899.98660662842281,-67.350516446363699,3.6801791079861465E-2,-4.499516113518065E-7]
[0,999.98909530984247,-68.849997715000896,0,999.98904751045666,-68.819581306076174,null,null,null,null,null,null,null,null,{"$f":"'Hull Long'!B23","v":1000},{"$f":"'Hull Long'!C23","v":-67.283950617283949},{"$f":"'Hull Plan'!C23","v":0},{"$f":"'Hull Long'!B74","v":1000},{"$f":"'Hull Long'!C74","v":-67.253544550235816},{"$f":"'Hull Plan'!C74","v":0},3.0416067048133422E-2,100.01312713907697,100.01263913369068,100.01323079436416,3.6801341128250113E-2,89.071976912413348,1.7422635000676819E-2,90.910652418844876,89.162026489767527,90.910600452597279,2.1080163474143931E-2,89.068267417707077,89.158368920916118,999.98909530984247,-68.849997715000896,999.98904751045688,-68.819581306076174,3.0416446483065521E-2,-3.7943493209902091E-7]
[0,1099.9912821381054,-70.158405280621025,0,1099.991243444897,-70.133766087707912,null,null,null,null,null,null,null,null,{"$f":"'Hull Long'!B24","v":1100},{"$f":"'Hull Long'!C24","v":-68.75},{"$f":"'Hull Plan'!C24","v":0},{"$f":"'Hull Long'!B75","v":1100},{"$f":"'Hull Long'!C75","v":-68.725371085691009},{"$f":"'Hull Plan'!C75","v":0},2.4638914308991056E-2,100.01074592658811,100.01038792528875,100.01083078022336,3.0416067048133422E-2,89.160410939024047,1.4114076352110224E-2,90.825538649673717,89.250396851328333,90.825474984591295,1.7423426956451615E-2,89.157037923366403,89.247087460353953,1099.9912821381054,-70.158405280621025,1099.9912434448972,-70.133766087707912,2.463922329486018E-2,-3.0898586912339598E-7]
[0,1199.9932249961262,-71.312552586451744,0,1199.9931944474311,-71.293082489141995,null,null,null,null,null,null,null,null,{"$f":"'Hull Long'!B25","v":1200},{"$f":"'Hull Long'!C25","v":-70.061728395061735},{"$f":"'Hull Plan'!C25","v":0},{"$f":"'Hull Long'!B76","v":1200},{"$f":"'Hull Long'!C76","v":-70.042268512150926},{"$f":"'Hull Plan'!C76","v":0},1.9469882910808801E-2,100.00860278687234,100.00834944097167,100.0086707182523,2.4638914308991056E-2,89.248858378099939,1.1153531332807656E-2,90.740067871232711,{"$f":"AC26+Z25+AA26+AB26-180","v":89.33876450973878},90.739988090533757,1.4114656707210507E-2,89.245817472051982,{"$f":"180+AG26-AF26-AE25-AD25","v":89.335803343953671},{"$f":"AH26-V26*SIN(AC26*PI()/180)","v":1199.9932249961262},{"$f":"AI26+V26*COS(AC26*PI()/180)","v":-71.312552586451744},{"$f":"AJ26-X26*SIN(AG26*PI()/180)","v":1199.9931944474311},{"$f":"AK26+X26*COS(AG26*PI()/180)","v":-71.293082489141995},1.9470121275274477E-2,-2.3836446567601643E-7]
[0,1299.9949239068819,-72.312456016437494,0,1299.9949005410272,-72.297546894064112,null,null,null,null,null,null,null,null,{"$f":"'Hull Long'!B26","v":1300},{"$f":"'Hull Long'!C26","v":-71.21913580246914},{"$f":"'Hull Plan'!C26","v":0},{"$f":"'Hull Long'!B77","v":1300},{"$f":"'Hull Long'!C77","v":-71.204236829615553},{"$f":"'Hull Plan'!C77","v":0},1.4908972853586656E-2,{"$f":"((O26-O25)^2+(P26-P25)^2+(Q26-Q25)^2)^0.5","v":100.00669773523532},{"$f":"((R26-O25)^2+(S26-P25)^2+(T26-Q25)^2)^0.5","v":100.0065264146447},{"$f":"((R26-R25)^2+(S26-S25)^2+(T26-T25)^2)^0.5","v":100.00675062399934},{"$f":"U25","v":1.9469882910808801E-2},89.337323081562133,8.5410835035103147E-3,90.654238688845084,89.427126359290241,90.654135834977595,1.1153940997703237E-2,89.334607370109183,89.424513461303818,1299.9949239068819,-72.312456016437494,1299.9949005410274,-72.297546894064112,1.4909140683072104E-2,-1.6782948544791232E-7]
[0,1399.9963789052745,-73.158139509245757,0,1399.9963617605763,-73.147183241238366,null,null,null,null,null,null,null,null,{"$f":"'Hull Long'!B27","v":1400},{"$f":"'Hull Long'!C27","v":-72.222222222222229},{"$f":"'Hull Plan'!C27","v":0},{"$f":"'Hull Long'!B78","v":1400},{"$f":"'Hull Long'!C78","v":-72.21127603808489},{"$f":"'Hull Plan'!C78","v":0},1.0956184137338832E-2,100.00503078528345,100.00492159012539,100.00507051128655,1.4908972853586656E-2,89.425811932362109,6.2768069919431069E-3,90.568048820051061,{"$f":"AC28+Z27+AA28+AB28-180","v":89.515477650685114},90.567911260690451,8.5413593305631221E-3,89.423409820633353,{"$f":"180+AG28-AF28-AE27-AD27","v":89.513213057912495},{"$f":"AH28-V28*SIN(AC28*PI()/180)","v":1399.9963789052742},{"$f":"AI28+V28*COS(AC28*PI()/180)","v":-73.158139509245757},{"$f":"AJ28-X28*SIN(AG28*PI()/180)","v":1399.9963617605763},{"$f":"AK28+X28*COS(AG28*PI()/180)","v":-73.147183241238366},1.0956281421652172E-2,-9.7284313339482398E-8]
[0,1499.9975900470386,-73.849640007426004,0,1499.997578161805,-73.842028473148176,null,null,null,null,null,null,null,null,{"$f":"'Hull Long'!B28","v":1500},{"$f":"'Hull Long'!C28","v":-73.070987654320987},{"$f":"'Hull Plan'!C28","v":0},{"$f":"'Hull Long'!B79","v":1500},{"$f":"'Hull Long'!C79","v":-73.06338613755895},{"$f":"'Hull Plan'!C79","v":0},7.611516762036908E-3,{"$f":"((O28-O27)^2+(P28-P27)^2+(Q28-Q27)^2)^0.5","v":100.00360194892345},{"$f":"((R28-O27)^2+(S28-P27)^2+(T28-Q27)^2)^0.5","v":100.00353772108497},{"$f":"((R28-R27)^2+(S28-S27)^2+(T28-T27)^2)^0.5","v":100.00363039220939},{"$f":"U27","v":1.0956184137338832E-2},89.514338090172487,4.3607668922923106E-3,90.481494439037533,89.603810512393181,90.481301142918213,6.2769815338249721E-3,89.512228579416742,89.601894257350253,1499.9975900470386,-73.849640007426004,1499.9975781618048,-73.842028473148176,7.6115435570804591E-3,-2.6795043551151865E-8]
[0,1599.9985574276243,-74.387018862108519,0,1599.9985498401575,-74.382143941129044,null,null,null,null,null,null,null,null,{"$f":"'Hull Long'!B29","v":1600},{"$f":"'Hull Long'!C29","v":-73.76543209876543},{"$f":"'Hull Plan'!C29","v":0},{"$f":"'Hull Long'!B80","v":1600},{"$f":"'Hull Long'!C80","v":-73.760567128037735},{"$f":"'Hull Plan'!C80","v":0},4.8749707276950945E-3,100.00241123636179,100.00237757098864,100.0024302771362,7.611516762036908E-3,89.602929498465343,2.7930189309674429E-3,90.394568864903945,89.692110538385805,90.394277482450889,4.3608686056804125E-3,89.601070266636782,89.690542648439049,1599.9985574276243,-74.387018862108519,1599.9985498401577,-74.382143941129044,4.8749268841465085E-3,4.3843548585935366E-8]
[0,1699.9992812280011,-74.770389113093387,0,1699.9992769766204,-74.767642685173371,null,null,null,null,null,null,null,null,{"$f":"'Hull Long'!B30","v":1700},{"$f":"'Hull Long'!C30","v":-74.305555555555557},{"$f":"'Hull Plan'!C30","v":0},{"$f":"'Hull Long'!B81","v":1700},{"$f":"'Hull Long'!C81","v":-74.30281900952123},{"$f":"'Hull Plan'!C81","v":0},2.7465460343276027E-3,100.00145865610449,100.00144391303483,100.00147017470779,4.8749707276950945E-3,89.691656098425113,1.5736092899659795E-3,90.307259738424534,89.780347692205964,90.306770292235512,2.7930713879830266E-3,89.689947190238271,89.779128189733882,1699.9992812280011,-74.770389113093387,1699.9992769766206,-74.767642685173371,2.7464312105128811E-3,1.148238147215784E-7]
[0,1799.9997618504694,-74.99999490682967,0,1799.9997599735839,-74.99876885016414,null,null,null,null,null,null,null,null,{"$f":"'Hull Long'!B31","v":1800},{"$f":"'Hull Long'!C31","v":-74.691358024691354},{"$f":"'Hull Plan'!C31","v":0},{"$f":"'Hull Long'!B82","v":1800},{"$f":"'Hull Long'!C82","v":-74.690141782009434},{"$f":"'Hull Plan'!C82","v":0},{"$f":"((O31-R31)^2+(S31-P31)^2+(T31-Q31)^2)^0.5+0.00001","v":1.226242681920221E-3},{"$f":"((O31-O30)^2+(P31-P30)^2+(Q31-Q30)^2)^0.5","v":100.00074421495668},{"$f":"((R31-O30)^2+(S31-P30)^2+(T31-Q30)^2)^0.5","v":100.00073953009337},{"$f":"((R31-R30)^2+(S31-S30)^2+(T31-T30)^2)^0.5","v":100.00075009183725},{"$f":"U30","v":2.7465460343276027E-3},{"$f":"ACOS((U31*U31+V31*V31-W31*W31)/2/U31/V31)*180/PI()","v":89.780749507380307},{"$f":"ACOS((V31*V31+W31*W31-U31*U31)/2/V31/W31)*180/PI()","v":7.0257530838921378E-4},{"$f":"ACOS((W31*W31+Y31*Y31-X31*X31)/2/W31/Y31)*180/PI()","v":90.219542584348019},{"$f":"AC32+Z31+AA32+AB32-180","v":89.868446434124451},{"$f":"ACOS((U31*U31+W31*W31-V31*V31)/2/U31/W31)*180/PI()","v":90.218547917603118},{"$f":"ACOS((W31*W31+X31*X31-Y31*Y31)/2/W31/X31)*180/PI()","v":1.573631756042972E-3},{"$f":"ACOS((X31*X31+Y31*Y31-W31*W31)/2/X31/Y31)*180/PI()","v":89.77888378415922},{"$f":"180+AG32-AF32-AE31-AD31","v":89.867575337516584},{"$f":"AH32-V32*SIN(AC32*PI()/180)","v":1799.9997618504694},{"$f":"AI32+V32*COS(AC32*PI()/180)","v":-74.99999490682967},{"$f":"AJ32-X32*SIN(AG32*PI()/180)","v":1799.9997599735839},{"$f":"AK32+X32*COS(AG32*PI()/180)","v":-74.99876885016414},{"$f":"((AH31-AJ31)^2+(AI31-AK31)^2)^0.5","v":1.2260581021264635E-3},{"$f":"U31-AL31","v":1.8457979375757078E-7}]
[0,2000,-75,0,2000,-74.999989999999997,null,null,null,null,null,null,null,null,{"$f":"'Hull Long'!B32","v":2000},{"$f":"'Hull Long'!C32","v":-75},{"$f":"'Hull Plan'!C32","v":0},{"$f":"'Hull Long'!B83","v":2000},{"$f":"'Hull Long'!C83","v":-75},{"$f":"'Hull Plan'!C83","v":0},{"$f":"((O32-R32)^2+(S32-P32)^2+(T32-Q32)^2)^0.5+0.00001","v":1.0000000000000001E-5},{"$f":"((O32-O31)^2+(P32-P31)^2+(Q32-Q31)^2)^0.5","v":200.00023814953053},{"$f":"((R32-O31)^2+(S32-P31)^2+(T32-Q31)^2)^0.5","v":200.00023814953053},{"$f":"((R32-R31)^2+(S32-S31)^2+(T32-T31)^2)^0.5","v":200.00024003014408},{"$f":"U31","v":1.226242681920221E-3},{"$f":"ACOS((U32*U32+V32*V32-W32*W32)/2/U32/V32)*180/PI()","v":89.999998540915925},{"$f":"ACOS((V32*V32+W32*W32-U32*U32)/2/V32/W32)*180/PI()","v":2.9575586647481235E-6},{"$f":"ACOS((W32*W32+Y32*Y32-X32*X32)/2/W32/Y32)*180/PI()","v":90.087695428269555},{"$f":"Z32","v":89.999998540915925},{"$f":"ACOS((U32*U32+W32*W32-V32*V32)/2/U32/W32)*180/PI()","v":89.999998540915925},{"$f":"ACOS((W32*W32+X32*X32-Y32*Y32)/2/W32/X32)*180/PI()","v":3.5129232294990717E-4},{"$f":"ACOS((X32*X32+Y32*Y32-W32*W32)/2/X32/Y32)*180/PI()","v":89.911953279885367},{"$f":"180-AD32-AE32","v":89.999650166761128},{"$f":"O32","v":2000},{"$f":"P32","v":-75},{"$f":"AH32","v":2000},{"$f":"AI32+U32","v":-74.999989999999997},{"$f":"((AH32-AJ32)^2+(AI32-AK32)^2)^0.5","v":1.0000000003174137E-5},{"$f":"U32-AL32","v":-3.1741356911569804E-15}]
[0,2000,-75,0,2000,-74.999989999999997,null,null,null,null,null,null,null,null,{"$f":"'Hull Long'!B33","v":2000},{"$f":"'Hull Long'!C33","v":-75},{"$f":"'Hull Plan'!C33","v":0},{"$f":"'Hull Long'!B84","v":2000},{"$f":"'Hull Long'!C84","v":-75},{"$f":"'Hull Plan'!C84","v":0},{"$f":"((O33-R33)^2+(S33-P33)^2+(T33-Q33)^2)^0.5+0.00001","v":1.0000000000000001E-5},{"$f":"((O33-O34)^2+(P33-P34)^2+(Q33-Q34)^2)^0.5","v":200.00023814953053},{"$f":"((R33-O34)^2+(S33-P34)^2+(T33-Q34)^2)^0.5","v":200.00023814953053},{"$f":"((R33-R34)^2+(S33-S34)^2+(T33-T34)^2)^0.5","v":200.00024003014408},{"$f":"U34","v":1.226242681920221E-3},{"$f":"ACOS((U33*U33+V33*V33-W33*W33)/2/U33/V33)*180/PI()","v":89.999998540915925},{"$f":"ACOS((V33*V33+W33*W33-U33*U33)/2/V33/W33)*180/PI()","v":2.9575586647481235E-6},{"$f":"ACOS((W33*W33+Y33*Y33-X33*X33)/2/W33/Y33)*180/PI()","v":90.087695428269555},{"$f":"Z33","v":89.999998540915925},{"$f":"ACOS((U33*U33+W33*W33-V33*V33)/2/U33/W33)*180/PI()","v":89.999998540915925},{"$f":"ACOS((W33*W33+X33*X33-Y33*Y33)/2/W33/X33)*180/PI()","v":3.5129232294990717E-4},{"$f":"ACOS((X33*X33+Y33*Y33-W33*W33)/2/X33/Y33)*180/PI()","v":89.911953279885367},{"$f":"180-AD33-AE33","v":89.999650166761128},{"$f":"O33","v":2000},{"$f":"P33","v":-75},{"$f":"AH33","v":2000},{"$f":"AI33+U33","v":-74.999989999999997},{"$f":"((AH33-AJ33)^2+(AI33-AK33)^2)^0.5","v":1.0000000003174137E-5},{"$f":"U33-AL33","v":-3.1741356911569804E-15}]
[0,2200.0002381495306,-74.99999490682967,0,2200.0002400264161,-74.99876885016414,null,null,null,null,null,null,null,null,{"$f":"'Hull Long'!B34","v":2200},{"$f":"'Hull Long'!C34","v":-74.691358024691354},{"$f":"'Hull Plan'!C34","v":0},{"$f":"'Hull Long'!B85","v":2200},{"$f":"'Hull Long'!C85","v":-74.690141782009434},{"$f":"'Hull Plan'!C85","v":0},{"$f":"((O34-R34)^2+(S34-P34)^2+(T34-Q34)^2)^0.5+0.00001","v":1.226242681920221E-3},{"$f":"((O34-O35)^2+(P34-P35)^2+(Q34-Q35)^2)^0.5","v":100.00074421495668},{"$f":"((R34-O35)^2+(S34-P35)^2+(T34-Q35)^2)^0.5","v":100.00073953009337},{"$f":"((R34-R35)^2+(S34-S35)^2+(T34-T35)^2)^0.5","v":100.00075009183725},{"$f":"U35","v":2.7465460343276027E-3},{"$f":"ACOS((U34*U34+V34*V34-W34*W34)/2/U34/V34)*180/PI()","v":89.780749507380307},{"$f":"ACOS((V34*V34+W34*W34-U34*U34)/2/V34/W34)*180/PI()","v":7.0257530838921378E-4},{"$f":"ACOS((W34*W34+Y34*Y34-X34*X34)/2/W34/Y34)*180/PI()","v":90.219542584348019},{"$f":"AC33+Z34+AA33+AB33-180","v":89.868446434124451},{"$f":"ACOS((U34*U34+W34*W34-V34*V34)/2/U34/W34)*180/PI()","v":90.218547917603118},{"$f":"ACOS((W34*W34+X34*X34-Y34*Y34)/2/W34/X34)*180/PI()","v":1.573631756042972E-3},{"$f":"ACOS((X34*X34+Y34*Y34-W34*W34)/2/X34/Y34)*180/PI()","v":89.77888378415922},{"$f":"180+AG33-AF33-AE34-AD34","v":89.867575337516584},{"$f":"AH33+V33*SIN(AC33*PI()/180)","v":2200.0002381495306},{"$f":"AI33+V33*COS(AC33*PI()/180)","v":-74.99999490682967},{"$f":"AJ33+X33*SIN(AG33*PI()/180)","v":2200.0002400264161},{"$f":"AK33+X33*COS(AG33*PI()/180)","v":-74.99876885016414},{"$f":"((AH34-AJ34)^2+(AI34-AK34)^2)^0.5","v":1.2260581021264635E-3},{"$f":"U34-AL34","v":1.8457979375757078E-7}]
[0,2300.0007187719989,-74.770389113093387,0,2300.0007230233796,-74.767642685173371,null,null,null,null,null,null,null,null,{"$f":"'Hull Long'!B35","v":2300},{"$f":"'Hull Long'!C35","v":-74.305555555555557},{"$f":"'Hull Plan'!C35","v":0},{"$f":"'Hull Long'!B86","v":2300},{"$f":"'Hull Long'!C86","v":-74.30281900952123},{"$f":"'Hull Plan'!C86","v":0},{"$f":"((O35-R35)^2+(S35-P35)^2+(T35-Q35)^2)^0.5+0.00001","v":2.7465460343276027E-3},{"$f":"((O35-O36)^2+(P35-P36)^2+(Q35-Q36)^2)^0.5","v":100.00145865610449},{"$f":"((R35-O36)^2+(S35-P36)^2+(T35-Q36)^2)^0.5","v":100.00144391303483},{"$f":"((R35-R36)^2+(S35-S36)^2+(T35-T36)^2)^0.5","v":100.00147017470779},{"$f":"U36","v":4.8749707276950945E-3},{"$f":"ACOS((U35*U35+V35*V35-W35*W35)/2/U35/V35)*180/PI()","v":89.691656098425113},{"$f":"ACOS((V35*V35+W35*W35-U35*U35)/2/V35/W35)*180/PI()","v":1.5736092899659795E-3},{"$f":"ACOS((W35*W35+Y35*Y35-X35*X35)/2/W35/Y35)*180/PI()","v":90.307259738424534},{"$f":"AC34+Z35+AA34+AB34-180","v":89.780347692205964},{"$f":"ACOS((U35*U35+W35*W35-V35*V35)/2/U35/W35)*180/PI()","v":90.306770292235512},{"$f":"ACOS((W35*W35+X35*X35-Y35*Y35)/2/W35/X35)*180/PI()","v":2.7930713879830266E-3},{"$f":"ACOS((X35*X35+Y35*Y35-W35*W35)/2/X35/Y35)*180/PI()","v":89.689947190238271},{"$f":"180+AG34-AF34-AE35-AD35","v":89.779128189733882},{"$f":"AH34+V34*SIN(AC34*PI()/180)","v":2300.0007187719989},{"$f":"AI34+V34*COS(AC34*PI()/180)","v":-74.770389113093387},{"$f":"AJ34+X34*SIN(AG34*PI()/180)","v":2300.0007230233796},{"$f":"AK34+X34*COS(AG34*PI()/180)","v":-74.767642685173371},{"$f":"((AH35-AJ35)^2+(AI35-AK35)^2)^0.5","v":2.7464312105132328E-3},{"$f":"U35-AL35","v":1.1482381436986322E-7}]
[0,2400.0014425723757,-74.387018862108519,0,2400.0014501598425,-74.382143941129044,null,null,null,null,null,null,null,null,{"$f":"'Hull Long'!B36","v":2400},{"$f":"'Hull Long'!C36","v":-73.76543209876543},{"$f":"'Hull Plan'!C36","v":0},{"$f":"'Hull Long'!B87","v":2400},{"$f":"'Hull Long'!C87","v":-73.760567128037735},{"$f":"'Hull Plan'!C87","v":0},4.8749707276950945E-3,100.00241123636179,100.00237757098864,100.0024302771362,7.611516762036908E-3,89.602929498465343,2.7930189309674429E-3,90.394568864903945,89.692110538385805,90.394277482450889,4.3608686056804125E-3,89.601070266636782,89.690542648439049,2400.0014425723757,-74.387018862108519,2400.0014501598425,-74.382143941129044,4.8749268841468624E-3,4.3843548232051777E-8]
[0,2500.0024099529614,-73.849640007426004,0,2500.0024218381955,-73.842028473148176,null,null,null,null,null,null,null,null,{"$f":"'Hull Long'!B37","v":2500},{"$f":"'Hull Long'!C37","v":-73.070987654320987},{"$f":"'Hull Plan'!C37","v":0},{"$f":"'Hull Long'!B88","v":2500},{"$f":"'Hull Long'!C88","v":-73.06338613755895},{"$f":"'Hull Plan'!C88","v":0},7.611516762036908E-3,{"$f":"((O37-O38)^2+(P37-P38)^2+(Q37-Q38)^2)^0.5","v":100.00360194892345},{"$f":"((R37-O38)^2+(S37-P38)^2+(T37-Q38)^2)^0.5","v":100.00353772108497},{"$f":"((R37-R38)^2+(S37-S38)^2+(T37-T38)^2)^0.5","v":100.00363039220939},{"$f":"U38","v":1.0956184137338832E-2},89.514338090172487,4.3607668922923106E-3,90.481494439037533,89.603810512393181,90.481301142918213,6.2769815338249721E-3,89.512228579416742,89.601894257350253,2500.0024099529614,-73.849640007426004,2500.0024218381955,-73.842028473148176,7.6115435570808139E-3,-2.6795043905902816E-8]
[0,2600.003621094726,-73.158139509245757,0,2600.0036382394237,-73.147183241238366,null,null,null,null,null,null,null,null,{"$f":"'Hull Long'!B38","v":2600},{"$f":"'Hull Long'!C38","v":-72.222222222222229},{"$f":"'Hull Plan'!C38","v":0},{"$f":"'Hull Long'!B89","v":2600},{"$f":"'Hull Long'!C89","v":-72.21127603808489},{"$f":"'Hull Plan'!C89","v":0},1.0956184137338832E-2,100.00503078528345,100.00492159012539,100.00507051128655,1.4908972853586656E-2,89.425811932362109,6.2768069919431069E-3,90.568048820051061,{"$f":"AC37+Z38+AA37+AB37-180","v":89.515477650685114},90.567911260690451,8.5413593305631221E-3,89.423409820633353,{"$f":"180+AG37-AF37-AE38-AD38","v":89.513213057912495},{"$f":"AH37+V37*SIN(AC37*PI()/180)","v":2600.003621094726},{"$f":"AI37+V37*COS(AC37*PI()/180)","v":-73.158139509245757},{"$f":"AJ37+X37*SIN(AG37*PI()/180)","v":2600.0036382394237},{"$f":"AK37+X37*COS(AG37*PI()/180)","v":-73.147183241238366},1.0956281421651816E-2,-9.7284312983864085E-8]
[0,2700.0050760931181,-72.312456016437494,0,2700.0050994589728,-72.297546894064112,null,null,null,null,null,null,null,null,{"$f":"'Hull Long'!B39","v":2700},{"$f":"'Hull Long'!C39","v":-71.21913580246914},{"$f":"'Hull Plan'!C39","v":0},{"$f":"'Hull Long'!B90","v":2700},{"$f":"'Hull Long'!C90","v":-71.204236829615553},{"$f":"'Hull Plan'!C90","v":0},1.4908972853586656E-2,{"$f":"((O39-O40)^2+(P39-P40)^2+(Q39-Q40)^2)^0.5","v":100.00669773523532},{"$f":"((R39-O40)^2+(S39-P40)^2+(T39-Q40)^2)^0.5","v":100.0065264146447},{"$f":"((R39-R40)^2+(S39-S40)^2+(T39-T40)^2)^0.5","v":100.00675062399934},{"$f":"U40","v":1.9469882910808801E-2},89.337323081562133,8.5410835035103147E-3,90.654238688845084,89.427126359290241,90.654135834977595,1.1153940997703237E-2,89.334607370109183,89.424513461303818,2700.0050760931181,-72.312456016437494,2700.0050994589728,-72.297546894064112,1.4909140683072461E-2,-1.6782948580526535E-7]
[0,{"$f":"(AH40-$AH$53)*COS(RADIANS($J$8))+$AH$53-(AI40-$AI$53)*SIN(RADIANS($J$8))+$H$8","v":2800.0067750038738},{"$f":"(AI40-$AI$53)*COS(RADIANS($J$8))+$AI$53+(AH40-$AH$53)*SIN(RADIANS($J$8))+$I$8","v":-71.312552586451744},0,{"$f":"(AJ40-$AH$53)*COS(RADIANS($J$8))+$AH$53-(AK40-$AI$53)*SIN(RADIANS($J$8))+$H$8","v":2800.0068055525694},{"$f":"(AK40-$AI$53)*COS(RADIANS($J$8))+$AI$53+(AJ40-$AH$53)*SIN(RADIANS($J$8))+$I$8","v":-71.293082489141995},null,null,null,null,null,null,null,null,{"$f":"'Hull Long'!B40","v":2800},{"$f":"'Hull Long'!C40","v":-70.061728395061735},{"$f":"'Hull Plan'!C40","v":0},{"$f":"'Hull Long'!B91","v":2800},{"$f":"'Hull Long'!C91","v":-70.042268512150926},{"$f":"'Hull Plan'!C91","v":0},1.9469882910808801E-2,100.00860278687234,100.00834944097167,100.0086707182523,2.4638914308991056E-2,89.248858378099939,1.1153531332807656E-2,90.740067871232711,{"$f":"AC39+Z40+AA39+AB39-180","v":89.33876450973878},90.739988090533757,1.4114656707210507E-2,89.245817472051982,{"$f":"180+AG39-AF39-AE40-AD40","v":89.335803343953671},{"$f":"AH39+V39*SIN(AC39*PI()/180)","v":2800.0067750038738},{"$f":"AI39+V39*COS(AC39*PI()/180)","v":-71.312552586451744},{"$f":"AJ39+X39*SIN(AG39*PI()/180)","v":2800.0068055525694},{"$f":"AK39+X39*COS(AG39*PI()/180)","v":-71.293082489141995},1.9470121275275188E-2,-2.3836446638725306E-7]
[0,2900.0087178618946,-70.158405280621025,0,2900.0087565551034,-70.133766087707912,null,null,null,null,null,null,null,null,{"$f":"'Hull Long'!B41","v":2900},{"$f":"'Hull Long'!C41","v":-68.75},{"$f":"'Hull Plan'!C41","v":0},{"$f":"'Hull Long'!B92","v":2900},{"$f":"'Hull Long'!C92","v":-68.725371085691009},{"$f":"'Hull Plan'!C92","v":0},2.4638914308991056E-2,100.01074592658811,100.01038792528875,100.01083078022336,3.0416067048133422E-2,89.160410939024047,1.4114076352110224E-2,90.825538649673717,89.250396851328333,90.825474984591295,1.7423426956451615E-2,89.157037923366403,89.247087460353953,2900.0087178618946,-70.158405280621025,2900.0087565551034,-70.133766087707912,2.4639223294861252E-2,-3.0898587019545509E-7]
[0,3000.0109046901575,-68.849997715000896,0,3000.0109524895438,-68.819581306076174,null,null,null,null,null,null,null,null,{"$f":"'Hull Long'!B42","v":3000},{"$f":"'Hull Long'!C42","v":-67.283950617283949},{"$f":"'Hull Plan'!C42","v":0},{"$f":"'Hull Long'!B93","v":3000},{"$f":"'Hull Long'!C93","v":-67.253544550235816},{"$f":"'Hull Plan'!C93","v":0},3.0416067048133422E-2,100.01312713907697,100.01263913369068,100.01323079436416,3.6801341128250113E-2,89.071976912413348,1.7422635000676819E-2,90.910652418844876,89.162026489767527,90.910600452597279,2.1080163474143931E-2,89.068267417707077,89.158368920916118,3000.0109046901575,-68.849997715000896,3000.0109524895438,-68.819581306076174,3.0416446483066593E-2,-3.7943493317108001E-7]
[0,3100.0133355043631,-67.387318191948268,0,3100.0133933715779,-67.350516446363699,null,null,null,null,null,null,null,null,{"$f":"'Hull Long'!B43","v":3100},{"$f":"'Hull Long'!C43","v":-65.663580246913583},{"$f":"'Hull Plan'!C43","v":0},{"$f":"'Hull Long'!B94","v":3100},{"$f":"'Hull Long'!C94","v":-65.626788905785332},{"$f":"'Hull Plan'!C94","v":0},3.6801341128250113E-2,100.01574640733452,100.01510034224196,100.01587074340082,4.37947365493127E-2,88.983554054583593,2.1079114807493186E-2,90.995410037098054,89.073655598196638,90.995366830630545,2.508476864009512E-2,88.979505194269734,89.069649903938412,3100.0133355043631,-67.387318191948268,3100.0133933715779,-67.350516446363699,3.6801791079862894E-2,-4.4995161278121865E-7]
[0,3200.0160103155349,-65.770358072684076,0,3200.0160792122192,-65.726562869850994,null,null,null,null,null,null,null,null,{"$f":"'Hull Long'!B44","v":3200},{"$f":"'Hull Long'!C44","v":-63.888888888888886},{"$f":"'Hull Plan'!C44","v":0},{"$f":"'Hull Long'!B95","v":3200},{"$f":"'Hull Long'!C95","v":-63.845104152339573},{"$f":"'Hull Plan'!C95","v":0},4.37947365493127E-2,99.018402945707038,99.017568504514088,99.018548256130003,5.1317227943084402E-2,88.895582813004694,2.5336791657926089E-2,91.079116526496676,88.985727563106877,91.079080395335481,2.9688773322760903E-2,88.89119470019557,88.981375541010422,3200.0160103155349,-65.770358072684076,3200.0160792122192,-65.726562869850994,4.3795257025662435E-2,-5.2047634973434453E-7]
[0,3299.0188987334177,-64.017586885480497,0,3299.0189794965218,-63.966269130715894,null,null,null,null,null,null,null,null,{"$f":"'Hull Long'!B45","v":3299},{"$f":"'Hull Long'!C45","v":-61.979930555555555},{"$f":"'Hull Plan'!C45","v":0},{"$f":"'Hull Long'!B96","v":3299},{"$f":"'Hull Long'!C96","v":-61.92862332761247},{"$f":"'Hull Plan'!C96","v":0},5.1317227943084402E-2,2.0004024324582264,2.000031268939864,2.0004056100570784,5.1475339491734599E-2,88.850639342405884,1.4699727787321621,89.679387687006027,88.940820223667401,89.679387878862187,1.4745005114664154,88.846111801527385,88.936292450486278,3299.0188987334177,-64.017586885480497,3299.0189794965218,-63.966269130715894,5.1317818316438474E-2,-5.9037335407158276E-7]
[0,3301.0189593682003,-63.980609203309932,0,3301.0190403799656,-63.929133335780364,null,null,null,null,null,null,null,null,{"$f":"'Hull Long'!B46","v":3301},{"$f":"'Hull Long'!C46","v":-61.939807098765428},{"$f":"'Hull Plan'!C46","v":0},{"$f":"'Hull Long'!B97","v":3301},{"$f":"'Hull Long'!C97","v":-61.888341759273693},{"$f":"'Hull Plan'!C97","v":0},5.1475339491734599E-2,99.021497958146412,99.020438967939114,99.021667704242518,5.9605891414346628E-2,88.806294859880182,2.977849621924936E-2,91.163957497239423,88.89647554928581,91.16392664389555,3.4481963499990567E-2,88.801560539248982,88.891772041563357,3301.0189593682003,-63.980609203309932,3301.0190403799656,-63.929133335780364,5.1475931276935359E-2,-5.9178520075975349E-7]
[0,3400.0220917430343,-62.073559689981202,0,3400.0221855826217,-62.013953210763091,null,null,null,null,null,null,null,null,{"$f":"'Hull Long'!B47","v":3400},{"$f":"'Hull Long'!C47","v":-59.876543209876544},{"$f":"'Hull Plan'!C47","v":0},{"$f":"'Hull Long'!B98","v":3400},{"$f":"'Hull Long'!C98","v":-59.816947318462198},{"$f":"'Hull Plan'!C98","v":0},5.9605891414346628E-2,100.02503235120814,100.02371688016116,100.02523000127597,6.8423650858296645E-2,88.718341797242061,3.4135022346500746E-2,91.247550161151977,88.808553339986531,91.247523180404173,3.9184687961486199E-2,88.713265150880517,88.803503633948694,3400.0220917430343,-62.073559689981202,3400.0221855826217,-62.013953210763091,5.9606553084768005E-2,-6.6167042137715848E-7]
[0,3500.0254985523638,-59.993722343467766,0,3500.0256063061533,-59.925298045234143,null,null,null,null,null,null,null,null,{"$f":"'Hull Long'!B48","v":3500},{"$f":"'Hull Long'!C48","v":-57.638888888888886},{"$f":"'Hull Plan'!C48","v":0},{"$f":"'Hull Long'!B99","v":3500},{"$f":"'Hull Long'!C99","v":-57.570475238030589},{"$f":"'Hull Plan'!C99","v":0},6.8423650858296645E-2,100.02860363854508,100.02699105130336,100.02882948266755,7.784953164322099E-2,88.629954958116031,3.9182084189137052E-2,91.330886515537884,88.720193481601029,91.33086295769165,4.4579615650936093E-2,88.624533868815718,88.714795909725595,3500.0254985523638,-59.993722343467766,3500.0256063061533,-59.925298045234143,6.8424383078277945E-2,-7.3221998130035271E-7]
[0,3600.0291493771988,-57.759585467257814,0,3600.0292720067873,-57.681735229445984,null,null,null,null,null,null,null,null,{"$f":"'Hull Long'!B49","v":3600},{"$f":"'Hull Long'!C49","v":-55.246913580246911},{"$f":"'Hull Plan'!C49","v":0},{"$f":"'Hull Long'!B100","v":3600},{"$f":"'Hull Long'!C100","v":-55.16907404860369},{"$f":"'Hull Plan'!C100","v":0},7.784953164322099E-2,100.03241287117157,100.03046175440241,100.03266878672503,8.7883533769112551E-2,88.541576542164023,4.457647242554709E-2,91.413867727778168,88.631838623492058,91.413846985428947,5.0321792392624243E-2,88.535810479824363,88.626093263088293,3600.0291493771988,-57.759585467257814,3600.0292720067873,-57.681735229445984,7.7850334394750892E-2,-8.0275152990194609E-7]
[0,3700.0330442198074,-55.37114640857088,0,3700.0331826867841,-55.283262110589725,null,null,null,null,null,null,null,null,{"$f":"'Hull Long'!B50","v":3700},{"$f":"'Hull Long'!C50","v":-52.700617283950621},{"$f":"'Hull Plan'!C50","v":0},{"$f":"'Hull Long'!B101","v":3700},{"$f":"'Hull Long'!C101","v":-52.612743750181508},{"$f":"'Hull Plan'!C101","v":0},8.7883533769112551E-2,50.017712965474935,50.015451706978595,50.017852815923355,9.3128580334909492E-2,88.475287351831568,0.10064040570226057,91.424081371640597,88.565570175527341,91.424072242466309,0.10664651333994873,88.469272115010696,88.559564027457697,3700.0330442198074,-55.37114640857088,3700.0331826867841,-55.283262110589725,8.7884407062596287E-2,-8.7329348373577087E-7]
[0,3750.0350830172442,-54.119057595317344,0,3750.0352297629593,-54.025928222026266,null,null,null,null,null,null,null,null,{"$f":"'Hull Long'!B51","v":3750},{"$f":"'Hull Long'!C51","v":-51.369598765432102},{"$f":"'Hull Plan'!C51","v":0},{"$f":"'Hull Long'!B102","v":3750},{"$f":"'Hull Long'!C102","v":-51.276480185097192},{"$f":"'Hull Plan'!C102","v":0},9.3128580334909492E-2,50.018754490473604,50.016291362544521,50.018902562595606,9.8525657235950012E-2,88.431104840317417,0.1066428009359795,91.462260962554552,88.521396793187591,91.462252358738226,0.11282274027815446,88.424916297169489,88.515216813430584,3750.0350830172442,-54.119057595317344,3750.0352297629593,-54.025928222026266,9.3129488906005059E-2,-9.0857109556752302E-7]
[0,3800.0371828083498,-52.828392162843379,0,3800.0373380731517,-52.729865684097575,null,null,null,null,null,null,null,null,{"$f":"'Hull Long'!B52","v":3800},{"$f":"'Hull Long'!C52","v":-50},{"$f":"'Hull Plan'!C52","v":0},{"$f":"'Hull Long'!B103","v":3800},{"$f":"'Hull Long'!C103","v":-49.90148434276405},{"$f":"'Hull Plan'!C103","v":0},9.8525657235950012E-2,0.113282772178491,5.3246499846326054E-2,5.3246499846326054E-2,1.0000000000000001E-5,28.024662160932603,60.388833377437429,89.994619760943692,28.114962717610723,91.586504461629943,1.0760478069812259E-2,89.994619760943692,88.49303557656134,3800.0371828083498,-52.828392162843379,3800.0373380731517,-52.729865684097575,9.8526601084204496E-2,-9.4384825448379228E-7]
[0,3800.0905664346938,-52.728476323704498,0,3800.0905661569359,-52.728465383226791,null,null,null,null,null,null,null,null,{"$f":"'Hull Long'!B53","v":3800.0532258064518},{"$f":"'Hull Long'!C53","v":-49.9},{"$f":"'Hull Plan'!C53","v":0},{"$f":"'Hull Long'!B104","v":3800.0532258064518},{"$f":"'Hull Long'!C104","v":-49.9},{"$f":"'Hull Plan'!C104","v":0},1.0000000000000001E-5,0.11328277217827733,0.11328277217827733,0.11328277217827733,1.0000000000000001E-5,89.997471116825565,5.0577664675944241E-3,89.997471116825565,88.495886972817402,89.997471116825565,5.0577664675944241E-3,89.997471116825565,88.495886932324495,3800.0905664346938,-52.728476323704498,3800.0905661569359,-52.728465383226791,1.0944003011000475E-5,-9.4400301100047413E-7]
[0,3800.2038101745297,-52.725502797125365,0,3800.2038098967701,-52.725491856567622,null,null,null,null,null,null,null,null,{"$f":"'Hull Long'!B54","v":3800.1064516129031},{"$f":"'Hull Long'!C54","v":-49.8},{"$f":"'Hull Plan'!C54","v":0},{"$f":"'Hull Long'!B105","v":3800.1064516129031},{"$f":"'Hull Long'!C105","v":-49.8},{"$f":"'Hull Plan'!C105","v":0},1.0000000000000001E-5,282.98036490165737,282.98036490165737,282.98036490165737,1.0000000000000001E-5,89.999998968772388,1.7075472925031877E-6,89.999998968772388,88.498414824882957,89.999998968772388,1.7075472925031877E-6,89.999998968772388,88.49841513917923,3800.2038101745297,-52.725502797125365,3800.2038098967701,-52.725491856567622,1.0944083066918829E-5,-9.4408306691882849E-7]
[0,4083.0869997229529,-45.310114015275211,0,4083.0869994858704,-45.31010462647447,null,null,null,null,null,null,null,null,{"$f":"'Hull Long'!B55","v":3933.0645161290322},{"$f":"'Hull Long'!C55","v":200},{"$f":"'Hull Plan'!C55","v":0},{"$f":"'Hull Long'!B106","v":3933.0645161290322},{"$f":"'Hull Long'!C106","v":200},{"$f":"'Hull Plan'!C106","v":0},1.0000000000000001E-5,67.969663307043419,67.969663307043419,67.969663307043419,1.0000000000000001E-5,89.999995783322603,8.4519278833759547E-6,89.999995783322603,88.498411284525218,89.999995783322603,8.4519278833759547E-6,89.999995783322603,88.498411935156312,4083.0869997229529,-45.310114015275211,4083.0869994858704,-45.31010462647447,9.3917936245761622E-6,6.0820637542383866E-7]
[0,4151.0333221625569,-43.52899161460504,0,4151.0333219457007,-43.528982997379266,null,null,null,null,null,null,null,null,{"$f":"'Hull Long'!B56","v":3965},{"$f":"'Hull Long'!C56","v":260},{"$f":"'Hull Plan'!C56","v":0},{"$f":"'Hull Long'!B107","v":3965},{"$f":"'Hull Long'!C107","v":260},{"$f":"'Hull Plan'!C107","v":0},1.0000000000000001E-5,74.492004735497048,74.492004735497048,74.492004735497048,1.0000000000000001E-5,89.999996152524773,7.6839628162643457E-6,89.999996152524773,88.498411672300506,89.999996152524773,7.6839628162643457E-6,89.999996152524773,88.498412315346087,4151.0333221625569,-43.52899161460504,4151.0333219457007,-43.528982997379266,8.6199539837995594E-6,1.3800460162004414E-6]
[0,4225.4997462636175,-41.576953931997402,0,4225.4997460686691,-41.576946150527874,null,null,null,null,null,null,null,null,{"$f":"'Hull Long'!B57","v":4000},{"$f":"'Hull Long'!C57","v":325.75757575757575},{"$f":"'Hull Plan'!C57","v":0},{"$f":"'Hull Long'!B108","v":4000},{"$f":"'Hull Long'!C108","v":325.75757575757575},{"$f":"'Hull Plan'!C108","v":0},1.0000000000000001E-5,null,null,null,null,null,null,null,null,null,null,null,null,4225.4997462636175,-41.576953931997402,4225.4997460686691,-41.576946150527874,7.7839111552595284E-6,2.2160888447404724E-6]
[0,0,0,0,0,0,null,null,null,null,null,null,null,null,"X0","Z0","Y0","X1","Z1","Y1","F","L","D","U","F'","A1","A2","A3","A","B1","B2","B3","B","XA","YA","XB","YB","Check F","Error F"]
[0,{"$f":"AH59+$H$59","v":-210.27993152454252},{"$f":"AI59+$I$59","v":-113.80923469865743},0,{"$f":"AJ59+$H$59","v":-210.27993380947862},{"$f":"AK59+$I$59","v":-113.80922647419317},"Bottom Plank",{"$f":"0*Basic!$D$2","v":0},{"$f":"75*Basic!$D$2","v":75},null,null,null,null,null,{"$f":"'Hull Long'!B59","v":0},{"$f":"'Hull Long'!C59","v":325.75757575757575},{"$f":"'Hull Plan'!C59","v":0},{"$f":"'Hull Long'!B110","v":0},{"$f":"'Hull Long'!C110","v":325.75757575757575},{"$f":"'Hull Plan'!C110","v":0},{"$f":"((O59-R59)^2+(S59-P59)^2+(T59-Q59)^2)^0.5+0.00001","v":1.0000000000000001E-5},null,null,null,null,null,null,null,null,null,null,null,null,{"$f":"AH60-V60*SIN(AC60*PI()/180)","v":-210.27993152454252},{"$f":"AI60+V60*COS(AC60*PI()/180)","v":-188.80923469865743},{"$f":"AJ60-X60*SIN(AG60*PI()/180)","v":-210.27993380947862},{"$f":"AK60+X60*COS(AG60*PI()/180)","v":-188.80922647419317},{"$f":"((AH59-AJ59)^2+(AI59-AK59)^2)^0.5","v":8.535967752232824E-6},{"$f":"U59-AL59","v":1.4640322477671769E-6}]
[0,{"$f":"AH60+$H$59","v":-138.50636454794139},{"$f":"AI60+$I$59","v":-93.868977604811704},0,{"$f":"AJ60+$H$59","v":-138.50636693051911},{"$f":"AK60+$I$59","v":-93.868969028893218},null,null,null,null,null,null,null,null,{"$f":"'Hull Long'!B60","v":35},{"$f":"'Hull Long'!C60","v":260},{"$f":"'Hull Plan'!C60","v":0},{"$f":"'Hull Long'!B111","v":35},{"$f":"'Hull Long'!C111","v":260},{"$f":"'Hull Plan'!C111","v":0},1.0000000000000001E-5,{"$f":"((O60-O59)^2+(P60-P59)^2+(Q60-Q59)^2)^0.5","v":74.492004735497048},{"$f":"((R60-O59)^2+(S60-P59)^2+(T60-Q59)^2)^0.5","v":74.492004735497048},{"$f":"((R60-R59)^2+(S60-S59)^2+(T60-T59)^2)^0.5","v":74.492004735497048},{"$f":"U59","v":1.0000000000000001E-5},{"$f":"ACOS((U60*U60+V60*V60-W60*W60)/2/U60/V60)*180/PI()","v":89.999996152524773},{"$f":"ACOS((V60*V60+W60*W60-U60*U60)/2/V60/W60)*180/PI()","v":7.6839628162643457E-6},{"$f":"ACOS((W60*W60+Y60*Y60-X60*X60)/2/W60/Y60)*180/PI()","v":89.999996152524773},{"$f":"AC61+Z60+AA61+AB61-180","v":105.52644926097986},{"$f":"ACOS((U60*U60+W60*W60-V60*V60)/2/U60/W60)*180/PI()","v":89.999996152524773},{"$f":"ACOS((W60*W60+X60*X60-Y60*Y60)/2/W60/X60)*180/PI()","v":7.6839628162643457E-6},{"$f":"ACOS((X60*X60+Y60*Y60-W60*W60)/2/X60/Y60)*180/PI()","v":89.999996152524773},{"$f":"180+AG61-AF61-AE60-AD60","v":105.52644954154059},-138.50636454794139,-168.8689776048117,-138.50636693051911,-168.86896902889322,8.9007333663514072E-6,1.0992666336485937E-6]
[0,-73.017118980715253,-75.674642082226853,0,-73.017121454794108,-75.674633176956377,null,null,null,null,null,null,null,null,{"$f":"'Hull Long'!B61","v":66.935483870967744},{"$f":"'Hull Long'!C61","v":200},{"$f":"'Hull Plan'!C61","v":0},{"$f":"'Hull Long'!B112","v":66.935483870967744},{"$f":"'Hull Long'!C112","v":200},{"$f":"'Hull Plan'!C112","v":0},1.0000000000000001E-5,67.96966330704339,67.96966330704339,67.96966330704339,1.0000000000000001E-5,89.999995783322603,8.4519278833759547E-6,89.999995783322603,105.52644887320457,89.999995783322603,8.4519278833759547E-6,89.999995783322603,105.52644916135081,-73.017118980715253,-150.67464208222685,-73.017121454794108,-150.67463317695638,9.2425596260104974E-6,7.5744037398950343E-7]
[0,199.6364356500267,7.445736519994739E-2,0,199.63643297319493,7.4467000265102001E-2,null,null,null,null,null,null,null,null,{"$f":"'Hull Long'!B62","v":199.89354838709676},{"$f":"'Hull Long'!C62","v":-49.8},{"$f":"'Hull Plan'!C62","v":0},{"$f":"'Hull Long'!B113","v":199.89354838709676},{"$f":"'Hull Long'!C113","v":-49.8},{"$f":"'Hull Plan'!C113","v":0},1.0000000000000001E-5,282.98036490165731,282.98036490165731,282.98036490165731,1.0000000000000001E-5,89.999998968772388,1.9090959130017241E-6,89.999998968772388,105.52645221201368,89.999998968772388,1.9090959130017241E-6,89.999998968772388,105.5264523653737,199.6364356500267,-74.925542634800053,199.63643297319493,-74.925532999734898,9.9999954428104633E-6,4.5571895375054591E-12]
[0,199.71475532296509,-7.3901473050170807E-3,0,199.69007723288991,8.9365356347997249E-2,null,null,null,null,null,null,null,null,{"$f":"'Hull Long'!B63","v":199.94677419354838},{"$f":"'Hull Long'!C63","v":-49.9},{"$f":"'Hull Plan'!C63","v":0},{"$f":"'Hull Long'!B114","v":199.94677419354838},{"$f":"'Hull Long'!C114","v":-49.801490212416766},{"$f":"'Hull Plan'!C114","v":1.6262238674983109E-2},9.9853070147184864E-2,0.11328277217841087,5.56746586176751E-2,5.56746586176751E-2,1.0000000000000001E-5,29.429633541701172,61.793390624674458,89.994854411231955,43.738208207334878,88.776975833624348,1.029117753539948E-2,89.994854411231955,105.52130765447397,199.71475532296509,-75.007390147305017,199.69007723288991,-74.910634643652003,9.9853070142621972E-2,4.5628917311191231E-12]
[0,199.76694965123914,3.1427460243378391E-3,1,199.74372404066872,0.10425400493699044,null,null,null,null,null,null,null,null,{"$f":"'Hull Long'!B64","v":200},{"$f":"'Hull Long'!C64","v":-49.901484342764036},{"$f":"'Hull Plan'!C64","v":0},{"$f":"'Hull Long'!B115","v":200},{"$f":"'Hull Long'!C115","v":-49.802980380770059},{"$f":"'Hull Plan'!C115","v":3.2523996498696306E-2},0.10374447294298102,5.3246499846155197E-2,0.11534124733240558,5.5674516986352993E-2,9.9853070147184864E-2,88.472516915064347,64.044888531941211,28.854540150575588,101.4091459831169,27.482594552994428,59.943054423385142,91.202405426039263,105.51098009167301,199.76694965123914,-74.996857253975662,199.74372404066872,-74.89574599506301,0.10374447293841885,4.5621700861531167E-12]
[0,249.78585221116467,2.6259198818507912E-3,1,249.78344569902416,15.099251471737773,null,null,null,null,null,null,null,null,{"$f":"'Hull Long'!B65","v":250},{"$f":"'Hull Long'!C65","v":-51.276480185097185},{"$f":"'Hull Plan'!C65","v":0},{"$f":"'Hull Long'!B116","v":250},{"$f":"'Hull Long'!C116","v":-51.183372659292687},{"$f":"'Hull Plan'!C116","v":15.096328623233717},15.096625743670071,50.018902562595606,52.245022495513567,52.23814403934206,0.10374447294298102,89.990274619911773,16.795592814506353,86.141628268868189,89.999407984677987,73.214132565581863,0.11353105445465683,93.744840676677711,106.68146974473031,249.78585221116467,-74.997374080118149,249.78344569902416,-59.900748528262227,15.096625743663708,6.3629101987316972E-12]
[0,299.80370502514256,2.184767763580453E-3,1,299.80161402078954,29.738125227816752,null,null,null,null,null,null,null,null,{"$f":"'Hull Long'!B66","v":300},{"$f":"'Hull Long'!C66","v":-52.612743750181508},{"$f":"'Hull Plan'!C66","v":0},{"$f":"'Hull Long'!B117","v":300},{"$f":"'Hull Long'!C117","v":-52.524880648279463},{"$f":"'Hull Plan'!C117","v":29.735800725272014},29.735940533577782,50.017852815923355,58.187424315650553,52.116348558881917,15.096625743670071,89.99546567012068,30.732944177940034,59.27669452948043,89.999494657345792,59.271590151939272,14.419209079561826,106.30409639095777,106.31322975572459,299.80370502514256,-74.99781523223642,299.80161402078954,-45.261874772183248,29.735940533571938,5.844214001626824E-12]
[0,399.8363738099888,1.5716717956166804E-3,1,399.83473298524518,57.743381457564368,null,null,null,null,null,null,null,null,{"$f":"'Hull Long'!B67","v":400},{"$f":"'Hull Long'!C67","v":-55.16907404860369},{"$f":"'Hull Plan'!C67","v":0},{"$f":"'Hull Long'!B118","v":400},{"$f":"'Hull Long'!C118","v":-55.091243757645479},{"$f":"'Hull Plan'!C118","v":57.741747355258241},57.74180980908686,100.03266878672503,115.50001017283709,103.87934956597847,29.735940533577782,89.998020686517606,29.995305761100159,60.009074389518162,89.999648836606809,60.006673552382217,14.354841745322156,105.6360838651597,105.64011285238544,399.8363738099888,-74.998428328204383,399.83473298524518,-17.256618542435636,57.741809809082064,4.7961634663806763E-12]
[0,499.8652032917708,1.1507613091055191E-3,1,499.86390634639821,84.05155247413586,null,null,null,null,null,null,null,null,{"$f":"'Hull Long'!B68","v":500},{"$f":"'Hull Long'!C68","v":-57.570475238030582},{"$f":"'Hull Plan'!C68","v":0},{"$f":"'Hull Long'!B119","v":500},{"$f":"'Hull Long'!C119","v":-57.502069708868099},{"$f":"'Hull Plan'!C119","v":84.050363886457433},84.050401722836895,100.02882948266755,130.65185241012361,103.43092083875487,57.74180980908686,89.99887479918506,40.039517508360504,49.962351736166752,89.999758905561976,49.961607692454429,25.303907660085073,104.73374060374817,104.73536875383797,499.8652032917708,-74.998849238690894,499.86390634639821,9.0515524741358568,84.050401722833058,3.836930773104541E-12]
[0,599.89043329259198,8.4913113403217721E-4,1,599.88941179442872,108.66252578411365,null,null,null,null,null,null,null,null,{"$f":"'Hull Long'!B69","v":600},{"$f":"'Hull Long'!C69","v":-59.816947318462198},{"$f":"'Hull Plan'!C69","v":0},{"$f":"'Hull Long'!B120","v":600},{"$f":"'Hull Long'!C120","v":-59.757358501947323},{"$f":"'Hull Plan'!C120","v":108.66165031886959},108.6616766577839,100.02523000127597,147.68932496436665,103.00874597527348,84.050401722836895,89.999288600563489,47.370201878348894,42.630855005796292,89.999827222231772,42.630509521087603,33.54715156800448,103.82199342619924,103.82287753257675,599.89043329259198,-74.999150868865968,599.88941179442872,33.662525784113647,108.66167665778103,2.8705926524708048E-12]
[0,698.91210099659281,6.3037832190104837E-4,1,698.91130145784689,131.35551932879832,null,null,null,null,null,null,null,null,{"$f":"'Hull Long'!B70","v":699},{"$f":"'Hull Long'!C70","v":-61.888341759273686},{"$f":"'Hull Plan'!C70","v":0},{"$f":"'Hull Long'!B121","v":699},{"$f":"'Hull Long'!C121","v":-61.8368825294666},{"$f":"'Hull Plan'!C121","v":131.35486887314744},131.35488895291172,99.021667704242518,164.49675290089593,101.58890977135866,108.6616766577839,89.999524674195783,52.989549228120289,37.0111159679956,89.99987342555238,37.010926097683928,40.081751663919448,102.90713236808494,102.90767098975377,698.91210099659281,-74.999369621678099,698.91130145784689,56.355519328798316,131.35488895290973,1.9895196601282805E-12]
[0,700.91250660660342,6.1673990192900874E-4,1,700.91171328734015,131.79681142072593,null,null,null,null,null,null,null,null,{"$f":"'Hull Long'!B71","v":701},{"$f":"'Hull Long'!C71","v":-61.928623327612463},{"$f":"'Hull Plan'!C71","v":0},{"$f":"'Hull Long'!B122","v":701},{"$f":"'Hull Long'!C122","v":-61.877322190583882},{"$f":"'Hull Plan'!C122","v":131.79617469883209},131.79619468321354,2.0004056100570784,131.81134923319752,2.0485082860399886,131.35488895291172,89.999264487467968,89.131165482693532,0.86957390139240254,89.999609367270637,0.86957002983809517,76.690536110503714,102.43988998810384,102.44023873946099,700.91250660660342,-74.999383260098071,700.91171328734015,56.79681142072593,131.79619468321161,1.9326762412674725E-12]
[0,799.93105486260026,4.5437985512819523E-4,1,799.93044262163028,152.79270353803207,null,null,null,null,null,null,null,null,{"$f":"'Hull Long'!B72","v":800},{"$f":"'Hull Long'!C72","v":-63.845104152339573},{"$f":"'Hull Plan'!C72","v":0},{"$f":"'Hull Long'!B123","v":800},{"$f":"'Hull Long'!C123","v":-63.801324613675582},{"$f":"'Hull Plan'!C123","v":152.79223288733277},152.7922491594054,99.018548256130003,182.07134162411108,101.22023634026435,131.79619468321354,89.999676467397151,57.054568468508478,32.945870358798061,89.999906052496158,32.94575506409435,45.082816642987943,101.971312998214,101.97165787801677,799.93105486260026,-74.999545620144872,799.93044262163028,77.792703538032086,152.79224915940358,1.8189894035458565E-12]
[0,899.94692560592728,3.3290222408766112E-4,1,899.94646234038044,172.3118758518288,null,null,null,null,null,null,null,null,{"$f":"'Hull Long'!B73","v":900},{"$f":"'Hull Long'!C73","v":-65.626788905785332},{"$f":"'Hull Plan'!C73","v":0},{"$f":"'Hull Long'!B124","v":900},{"$f":"'Hull Long'!C124","v":-65.590001932324625},{"$f":"'Hull Plan'!C124","v":172.3115290233838},172.31154295022898,100.01587074340082,199.23430352888286,101.90290618131117,152.7922491594054,89.999776367802568,59.867732997147058,30.132566178463023,89.999930409488911,30.132490635050381,48.824597829388132,101.04283599214885,101.04306557724797,899.94692560592728,-74.999667097775912,899.94646234038044,97.311875851828788,172.31154295022745,1.5347723092418164E-12]
[0,999.96015640025121,2.4318623584917987E-4,1,999.95981343874109,190.1337506772584,null,null,null,null,null,null,null,null,{"$f":"'Hull Long'!B74","v":1000},{"$f":"'Hull Long'!C74","v":-67.253544550235816},{"$f":"'Hull Plan'!C74","v":0},{"$f":"'Hull Long'!B125","v":1000},{"$f":"'Hull Long'!C125","v":-67.223142092830273},{"$f":"'Hull Plan'!C125","v":190.13349506064776},190.13350749133315,100.01323079436416,214.83317780891096,101.58882625671609,172.31154295022898,89.999845253593165,62.255041546049917,27.745163892311055,89.999948603325379,27.745113200356901,52.151223501311264,100.10361260637768,100.10376664806418,999.96015640025121,-74.999756813764151,999.95981343874109,115.1337506772584,190.13350749133187,1.2789769243681803E-12]
[0,1099.9709871804528,1.7722192903590894E-4,1,1099.970740186282,206.25831969100281,null,null,null,null,null,null,null,null,{"$f":"'Hull Long'!B75","v":1100},{"$f":"'Hull Long'!C75","v":-68.725371085691009},{"$f":"'Hull Plan'!C75","v":0},{"$f":"'Hull Long'!B126","v":1100},{"$f":"'Hull Long'!C126","v":-68.700745095192516},{"$f":"'Hull Plan'!C126","v":206.25813099912466},206.25814246922283,100.01083078022336,229.22589511804594,101.30245404125712,190.13350749133315,89.999893597620613,64.132181307762693,25.867959832640285,89.999962209329226,25.867925094616687,54.973272703086593,99.158767464273083,99.158870814005411,1099.9709871804528,-74.999822778070964,1099.970740186282,131.25831969100281,206.2581424692217,1.1368683772161603E-12]
[0,1199.9796578986934,1.2894560148879464E-4,1,1199.9794861475964,220.68557664212369,null,null,null,null,null,null,null,null,{"$f":"'Hull Long'!B76","v":1200},{"$f":"'Hull Long'!C76","v":-70.042268512150926},{"$f":"'Hull Plan'!C76","v":0},{"$f":"'Hull Long'!B127","v":1200},{"$f":"'Hull Long'!C127","v":-70.022810939411372},{"$f":"'Hull Plan'!C127","v":220.68543683881455},220.68544769659007,100.0086707182523,242.28855809326291,101.04402511721513,206.25814246922283,89.999927750972162,65.621313028092217,24.378783241516434,89.999972342099966,24.378759220935603,57.412430956323462,98.208785802160108,98.208854413868778,1199.9796578986934,-74.999871054398511,1199.9794861475964,145.68557664212369,220.68544769658902,1.0516032489249483E-12]
[0,1299.9864085226866,9.3681689619984354E-5,1,1299.9862943994658,233.41551673676815,null,null,null,null,null,null,null,null,{"$f":"'Hull Long'!B77","v":1300},{"$f":"'Hull Long'!C77","v":-71.204236829615553},{"$f":"'Hull Plan'!C77","v":0},{"$f":"'Hull Long'!B128","v":1300},{"$f":"'Hull Long'!C128","v":-71.189339625486824},{"$f":"'Hull Plan'!C128","v":233.41541257971738},233.41542305510734,100.00675062399934,253.93713907559629,100.8137543767685,220.68544769659007,89.999951783148035,66.807346363020912,23.192718431476191,89.999979796630669,23.192701853831053,59.553116247413321,97.254165321110506,97.254209912238352,1299.9864085226866,-74.99990631831038,1299.9862943994658,158.41551673676815,233.41542305510643,9.0949470177292824E-13]
[0,1399.9914790339699,6.7787944743713524E-5,1,1399.9914076702612,244.4481362547892,null,null,null,null,null,null,null,null,{"$f":"'Hull Long'!B78","v":1400},{"$f":"'Hull Long'!C78","v":-72.21127603808489},{"$f":"'Hull Plan'!C78","v":0},{"$f":"'Hull Long'!B129","v":1400},{"$f":"'Hull Long'!C129","v":-72.200331153418901},{"$f":"'Hull Plan'!C129","v":244.44805822183318},244.44806846685557,100.00507051128655,264.11331918766734,100.61183515737126,233.41542305510734,89.999968437907341,67.750282972827847,22.249759875925502,89.999985164729253,22.249748589264797,61.454823455079804,96.295416668994662,96.295444682477424,1399.9914790339699,-74.999932212055256,1399.9914076702612,169.4481362547892,244.44806846685486,7.1054273576010019E-13]
[0,1499.9951094261774,4.8420775826230056E-5,1,1499.9950684343814,253.78343229975027,null,null,null,null,null,null,null,null,{"$f":"'Hull Long'!B79","v":1500},{"$f":"'Hull Long'!C79","v":-73.06338613755895},{"$f":"'Hull Plan'!C79","v":0},{"$f":"'Hull Long'!B130","v":1500},{"$f":"'Hull Long'!C130","v":-73.055785523207561},{"$f":"'Hull Plan'!C130","v":253.78337376516194},253.78338387897819,100.00363039220939,272.77594101367947,100.43843845098502,244.44806846685557,89.999979649259302,68.493041310247108,21.506986512742351,89.999988903832445,21.506979040493558,63.159950600727008,95.333062886530641,95.333079613352666,1499.9951094261774,-74.999951579224174,1499.9950684343814,178.78343229975027,253.78338387897779,3.979039320256561E-13]
[0,1599.9975397033124,3.3375641251609522E-5,1,1599.9975189792517,261.42140263060082,null,null,null,null,null,null,null,null,{"$f":"'Hull Long'!B80","v":1600},{"$f":"'Hull Long'!C80","v":-73.760567128037735},{"$f":"'Hull Plan'!C80","v":0},{"$f":"'Hull Long'!B131","v":1600},{"$f":"'Hull Long'!C131","v":-73.755702734852846},{"$f":"'Hull Plan'!C131","v":261.42135920970367},261.42136925496067,100.0024302771362,279.89570620736538,100.29371219450495,253.78338387897819,89.999986837885416,69.066484736854235,20.933533137736564,89.999991379982362,20.933528425260352,64.698828541341129,94.367638320922296,94.367647575495525,1599.9975397033124,-74.999966624358748,1599.9975189792517,186.4214026306008,261.42136925496038,0]
[0,1699.9990098780195,2.0976654198534561E-5,1,1699.9990014549135,267.36204554611356,null,null,null,null,null,null,null,null,{"$f":"'Hull Long'!B81","v":1700},{"$f":"'Hull Long'!C81","v":-74.30281900952123},{"$f":"'Hull Plan'!C81","v":0},{"$f":"'Hull Long'!B132","v":1700},{"$f":"'Hull Long'!C132","v":-74.300082788354729},{"$f":"'Hull Plan'!C132","v":267.3620145554583},267.36202456945972,100.00147017470779,285.45181362937745,100.17778064810427,261.42136925496067,89.999991090933491,69.49269328719555,20.507318358893233,89.999992896008166,20.507315621870983,66.092994411421827,93.399687229684929,93.399691771781917,1699.9990098780195,-74.999979023345801,1699.9990014549135,192.36204554611356,267.36202456945949,0]
[0,1799.9997599698561,9.9999998752764441E-6,1,1799.9997579122919,271.60535980514817,null,null,null,null,null,null,null,null,{"$f":"'Hull Long'!B82","v":1800},{"$f":"'Hull Long'!C82","v":-74.690141782009434},{"$f":"'Hull Plan'!C82","v":0},{"$f":"'Hull Long'!B133","v":1800},{"$f":"'Hull Long'!C133","v":-74.688925683713208},{"$f":"'Hull Plan'!C133","v":271.60533980242593},{"$f":"((O82-R82)^2+(S82-P82)^2+(T82-Q82)^2)^0.5+0.00001","v":271.60534980514842},{"$f":"((O82-O81)^2+(P82-P81)^2+(Q82-Q81)^2)^0.5","v":100.00075009183725},{"$f":"((R82-O81)^2+(S82-P81)^2+(T82-Q81)^2)^0.5","v":289.42980096658175},{"$f":"((R82-R81)^2+(S82-S81)^2+(T82-T81)^2)^0.5","v":100.09074386749667},{"$f":"U81","v":267.36202456945972},{"$f":"ACOS((U82*U82+V82*V82-W82*W82)/2/U82/V82)*180/PI()","v":89.999993276839575},{"$f":"ACOS((V82*V82+W82*W82-U82*U82)/2/V82/W82)*180/PI()","v":69.787105185056788},{"$f":"ACOS((W82*W82+Y82*Y82-X82*X82)/2/W82/Y82)*180/PI()","v":20.212902909130349},{"$f":"AC83+Z82+AA83+AB83-180","v":89.999993710887509},{"$f":"ACOS((U82*U82+W82*W82-V82*V82)/2/U82/W82)*180/PI()","v":20.212901538103644},{"$f":"ACOS((W82*W82+X82*X82-Y82*Y82)/2/W82/X82)*180/PI()","v":67.357334904934774},{"$f":"ACOS((X82*X82+Y82*Y82-W82*W82)/2/X82/Y82)*180/PI()","v":92.429762185934834},{"$f":"180+AG83-AF83-AE82-AD82","v":92.429763991009565},{"$f":"AH83-V83*SIN(AC83*PI()/180)","v":1799.9997599698561},{"$f":"AI83+V83*COS(AC83*PI()/180)","v":-74.999990000000125},{"$f":"AJ83-X83*SIN(AG83*PI()/180)","v":1799.9997579122919},{"$f":"AK83+X83*COS(AG83*PI()/180)","v":196.6053598051482},{"$f":"((AH82-AJ82)^2+(AI82-AK82)^2)^0.5","v":271.60534980514831},{"$f":"U82-AL82","v":0}]
[0,2000,0,1,2000,275.00000999999997,null,null,null,null,null,null,null,null,{"$f":"'Hull Long'!B83","v":2000},{"$f":"'Hull Long'!C83","v":-75},{"$f":"'Hull Plan'!C83","v":0},{"$f":"'Hull Long'!B134","v":2000},{"$f":"'Hull Long'!C134","v":-75},{"$f":"'Hull Plan'!C134","v":275},{"$f":"((O83-R83)^2+(S83-P83)^2+(T83-Q83)^2)^0.5+0.00001","v":275.00000999999997},{"$f":"((O83-O82)^2+(P83-P82)^2+(Q83-Q82)^2)^0.5","v":200.00024003014408},{"$f":"((R83-O82)^2+(S83-P82)^2+(T83-Q82)^2)^0.5","v":340.03690389737881},{"$f":"((R83-R82)^2+(S83-S82)^2+(T83-T82)^2)^0.5","v":200.02904910309215},{"$f":"U82","v":271.60534980514842},{"$f":"ACOS((U83*U83+V83*V83-W83*W83)/2/U83/V83)*180/PI()","v":89.999997135214514},{"$f":"ACOS((V83*V83+W83*W83-U83*U83)/2/V83/W83)*180/PI()","v":53.972596770537372},{"$f":"ACOS((W83*W83+Y83*Y83-X83*X83)/2/W83/Y83)*180/PI()","v":36.027406528296055},{"$f":"Z83","v":89.999997135214514},{"$f":"ACOS((U83*U83+W83*W83-V83*V83)/2/U83/W83)*180/PI()","v":36.027406094248093},{"$f":"ACOS((W83*W83+X83*X83-Y83*Y83)/2/W83/X83)*180/PI()","v":53.000192810138479},{"$f":"ACOS((X83*X83+Y83*Y83-W83*W83)/2/X83/Y83)*180/PI()","v":90.972400661565459},{"$f":"180-AD83-AE83","v":90.972401095613435},{"$f":"O83","v":2000},{"$f":"P83","v":-75},{"$f":"AH83","v":2000},{"$f":"AI83+U83","v":200.00000999999997},{"$f":"((AH83-AJ83)^2+(AI83-AK83)^2)^0.5","v":275.00000999999997},{"$f":"U83-AL83","v":0}]
[0,2000,0,1,2000,275.00000999999997,null,null,null,null,null,null,null,null,{"$f":"'Hull Long'!B84","v":2000},{"$f":"'Hull Long'!C84","v":-75},{"$f":"'Hull Plan'!C84","v":0},{"$f":"'Hull Long'!B135","v":2000},{"$f":"'Hull Long'!C135","v":-75},{"$f":"'Hull Plan'!C135","v":275},{"$f":"((O84-R84)^2+(S84-P84)^2+(T84-Q84)^2)^0.5+0.00001","v":275.00000999999997},{"$f":"((O84-O85)^2+(P84-P85)^2+(Q84-Q85)^2)^0.5","v":200.00024003014408},{"$f":"((R84-O85)^2+(S84-P85)^2+(T84-Q85)^2)^0.5","v":340.03690389737881},{"$f":"((R84-R85)^2+(S84-S85)^2+(T84-T85)^2)^0.5","v":200.02904910309215},{"$f":"U85","v":271.60534980514842},{"$f":"ACOS((U84*U84+V84*V84-W84*W84)/2/U84/V84)*180/PI()","v":89.999997135214514},{"$f":"ACOS((V84*V84+W84*W84-U84*U84)/2/V84/W84)*180/PI()","v":53.972596770537372},{"$f":"ACOS((W84*W84+Y84*Y84-X84*X84)/2/W84/Y84)*180/PI()","v":36.027406528296055},{"$f":"Z84","v":89.999997135214514},{"$f":"ACOS((U84*U84+W84*W84-V84*V84)/2/U84/W84)*180/PI()","v":36.027406094248093},{"$f":"ACOS((W84*W84+X84*X84-Y84*Y84)/2/W84/X84)*180/PI()","v":53.000192810138479},{"$f":"ACOS((X84*X84+Y84*Y84-W84*W84)/2/X84/Y84)*180/PI()","v":90.972400661565459},{"$f":"180-AD84-AE84","v":90.972401095613435},{"$f":"O84","v":2000},{"$f":"P84","v":-75},{"$f":"AH84","v":2000},{"$f":"AI84+U84","v":200.00000999999997},{"$f":"((AH84-AJ84)^2+(AI84-AK84)^2)^0.5","v":275.00000999999997},{"$f":"U84-AL84","v":0}]
[0,2200.0002400301437,9.9999998752764441E-6,1,2200.0002420877081,271.60535980514817,null,null,null,null,null,null,null,null,{"$f":"'Hull Long'!B85","v":2200},{"$f":"'Hull Long'!C85","v":-74.690141782009434},{"$f":"'Hull Plan'!C85","v":0},{"$f":"'Hull Long'!B136","v":2200},{"$f":"'Hull Long'!C136","v":-74.688925683713208},{"$f":"'Hull Plan'!C136","v":271.60533980242593},{"$f":"((O85-R85)^2+(S85-P85)^2+(T85-Q85)^2)^0.5+0.00001","v":271.60534980514842},{"$f":"((O85-O86)^2+(P85-P86)^2+(Q85-Q86)^2)^0.5","v":100.00075009183725},{"$f":"((R85-O86)^2+(S85-P86)^2+(T85-Q86)^2)^0.5","v":289.42980096658175},{"$f":"((R85-R86)^2+(S85-S86)^2+(T85-T86)^2)^0.5","v":100.09074386749667},{"$f":"U86","v":267.36202456945972},{"$f":"ACOS((U85*U85+V85*V85-W85*W85)/2/U85/V85)*180/PI()","v":89.999993276839575},{"$f":"ACOS((V85*V85+W85*W85-U85*U85)/2/V85/W85)*180/PI()","v":69.787105185056788},{"$f":"ACOS((W85*W85+Y85*Y85-X85*X85)/2/W85/Y85)*180/PI()","v":20.212902909130349},{"$f":"AC84+Z85+AA84+AB84-180","v":89.999993710887509},{"$f":"ACOS((U85*U85+W85*W85-V85*V85)/2/U85/W85)*180/PI()","v":20.212901538103644},{"$f":"ACOS((W85*W85+X85*X85-Y85*Y85)/2/W85/X85)*180/PI()","v":67.357334904934774},{"$f":"ACOS((X85*X85+Y85*Y85-W85*W85)/2/X85/Y85)*180/PI()","v":92.429762185934834},{"$f":"180+AG84-AF84-AE85-AD85","v":92.429763991009565},{"$f":"AH84+V84*SIN(AC84*PI()/180)","v":2200.0002400301437},{"$f":"AI84+V84*COS(AC84*PI()/180)","v":-74.999990000000125},{"$f":"AJ84+X84*SIN(AG84*PI()/180)","v":2200.0002420877081},{"$f":"AK84+X84*COS(AG84*PI()/180)","v":196.6053598051482},{"$f":"((AH85-AJ85)^2+(AI85-AK85)^2)^0.5","v":271.60534980514831},{"$f":"U85-AL85","v":0}]
[0,2300.0009901219805,2.0976654198534561E-5,1,2300.0009985450865,267.36204554611356,null,null,null,null,null,null,null,null,{"$f":"'Hull Long'!B86","v":2300},{"$f":"'Hull Long'!C86","v":-74.30281900952123},{"$f":"'Hull Plan'!C86","v":0},{"$f":"'Hull Long'!B137","v":2300},{"$f":"'Hull Long'!C137","v":-74.300082788354729},{"$f":"'Hull Plan'!C137","v":267.3620145554583},{"$f":"((O86-R86)^2+(S86-P86)^2+(T86-Q86)^2)^0.5+0.00001","v":267.36202456945972},{"$f":"((O86-O87)^2+(P86-P87)^2+(Q86-Q87)^2)^0.5","v":100.00147017470779},{"$f":"((R86-O87)^2+(S86-P87)^2+(T86-Q87)^2)^0.5","v":285.45181362937745},{"$f":"((R86-R87)^2+(S86-S87)^2+(T86-T87)^2)^0.5","v":100.17778064810427},{"$f":"U87","v":261.42136925496067},{"$f":"ACOS((U86*U86+V86*V86-W86*W86)/2/U86/V86)*180/PI()","v":89.999991090933491},{"$f":"ACOS((V86*V86+W86*W86-U86*U86)/2/V86/W86)*180/PI()","v":69.49269328719555},{"$f":"ACOS((W86*W86+Y86*Y86-X86*X86)/2/W86/Y86)*180/PI()","v":20.507318358893233},{"$f":"AC85+Z86+AA85+AB85-180","v":89.999992896008166},{"$f":"ACOS((U86*U86+W86*W86-V86*V86)/2/U86/W86)*180/PI()","v":20.507315621870983},{"$f":"ACOS((W86*W86+X86*X86-Y86*Y86)/2/W86/X86)*180/PI()","v":66.092994411421827},{"$f":"ACOS((X86*X86+Y86*Y86-W86*W86)/2/X86/Y86)*180/PI()","v":93.399687229684929},{"$f":"180+AG85-AF85-AE86-AD86","v":93.399691771781917},{"$f":"AH85+V85*SIN(AC85*PI()/180)","v":2300.0009901219805},{"$f":"AI85+V85*COS(AC85*PI()/180)","v":-74.999979023345801},{"$f":"AJ85+X85*SIN(AG85*PI()/180)","v":2300.0009985450865},{"$f":"AK85+X85*COS(AG85*PI()/180)","v":192.36204554611356},{"$f":"((AH86-AJ86)^2+(AI86-AK86)^2)^0.5","v":267.36202456945949},{"$f":"U86-AL86","v":0}]
[0,2400.0024602966873,3.3375641251609522E-5,1,2400.0024810207483,261.42140263060082,null,null,null,null,null,null,null,null,{"$f":"'Hull Long'!B87","v":2400},{"$f":"'Hull Long'!C87","v":-73.760567128037735},{"$f":"'Hull Plan'!C87","v":0},{"$f":"'Hull Long'!B138","v":2400},{"$f":"'Hull Long'!C138","v":-73.755702734852846},{"$f":"'Hull Plan'!C138","v":261.42135920970367},261.42136925496067,100.0024302771362,279.89570620736538,100.29371219450495,253.78338387897819,89.999986837885416,69.066484736854235,20.933533137736564,89.999991379982362,20.933528425260352,64.698828541341129,94.367638320922296,94.367647575495525,2400.0024602966873,-74.999966624358748,2400.0024810207483,186.4214026306008,261.42136925496038,0]
[0,2500.0048905738222,4.8420775826230056E-5,1,2500.0049315656188,253.78343229975027,null,null,null,null,null,null,null,null,{"$f":"'Hull Long'!B88","v":2500},{"$f":"'Hull Long'!C88","v":-73.06338613755895},{"$f":"'Hull Plan'!C88","v":0},{"$f":"'Hull Long'!B139","v":2500},{"$f":"'Hull Long'!C139","v":-73.055785523207561},{"$f":"'Hull Plan'!C139","v":253.78337376516194},253.78338387897819,100.00363039220939,272.77594101367947,100.43843845098502,244.44806846685557,89.999979649259302,68.493041310247108,21.506986512742351,89.999988903832445,21.506979040493558,63.159950600727008,95.333062886530641,95.333079613352666,2500.0048905738222,-74.999951579224174,2500.0049315656188,178.78343229975027,253.78338387897779,3.979039320256561E-13]
[0,2600.0085209660297,6.7787944743713524E-5,1,2600.0085923297393,244.4481362547892,null,null,null,null,null,null,null,null,{"$f":"'Hull Long'!B89","v":2600},{"$f":"'Hull Long'!C89","v":-72.21127603808489},{"$f":"'Hull Plan'!C89","v":0},{"$f":"'Hull Long'!B140","v":2600},{"$f":"'Hull Long'!C140","v":-72.200331153418901},{"$f":"'Hull Plan'!C140","v":244.44805822183318},244.44806846685557,100.00507051128655,264.11331918766734,100.61183515737126,233.41542305510734,89.999968437907341,67.750282972827847,22.249759875925502,89.999985164729253,22.249748589264797,61.454823455079804,96.295416668994662,96.295444682477424,2600.0085209660297,-74.999932212055256,2600.0085923297393,169.4481362547892,244.44806846685486,7.1054273576010019E-13]
[0,2700.0135914773127,9.3681689619984354E-5,1,2700.0137056005346,233.41551673676815,null,null,null,null,null,null,null,null,{"$f":"'Hull Long'!B90","v":2700},{"$f":"'Hull Long'!C90","v":-71.204236829615553},{"$f":"'Hull Plan'!C90","v":0},{"$f":"'Hull Long'!B141","v":2700},{"$f":"'Hull Long'!C141","v":-71.189339625486824},{"$f":"'Hull Plan'!C141","v":233.41541257971738},233.41542305510734,100.00675062399934,253.93713907559629,100.8137543767685,220.68544769659007,89.999951783148035,66.807346363020912,23.192718431476191,89.999979796630669,23.192701853831053,59.553116247413321,97.254165321110506,97.254209912238352,2700.0135914773127,-74.99990631831038,2700.0137056005346,158.41551673676815,233.41542305510643,9.0949470177292824E-13]
[0,2800.0203421013057,1.2894560148879464E-4,1,2800.0205138524038,220.68557664212369,null,null,null,null,null,null,null,null,{"$f":"'Hull Long'!B91","v":2800},{"$f":"'Hull Long'!C91","v":-70.042268512150926},{"$f":"'Hull Plan'!C91","v":0},{"$f":"'Hull Long'!B142","v":2800},{"$f":"'Hull Long'!C142","v":-70.022810939411372},{"$f":"'Hull Plan'!C142","v":220.68543683881455},220.68544769659007,100.0086707182523,242.28855809326291,101.04402511721513,206.25814246922283,89.999927750972162,65.621313028092217,24.378783241516434,89.999972342099966,24.378759220935603,57.412430956323462,98.208785802160108,98.208854413868778,2800.0203421013057,-74.999871054398511,2800.0205138524038,145.68557664212369,220.68544769658902,1.0516032489249483E-12]
[0,2900.0290128195466,1.7722192903590894E-4,1,2900.0292598137185,206.25831969100281,null,null,null,null,null,null,null,null,{"$f":"'Hull Long'!B92","v":2900},{"$f":"'Hull Long'!C92","v":-68.725371085691009},{"$f":"'Hull Plan'!C92","v":0},{"$f":"'Hull Long'!B143","v":2900},{"$f":"'Hull Long'!C143","v":-68.700745095192516},{"$f":"'Hull Plan'!C143","v":206.25813099912466},206.25814246922283,100.01083078022336,229.22589511804594,101.30245404125712,190.13350749133315,89.999893597620613,64.132181307762693,25.867959832640285,89.999962209329226,25.867925094616687,54.973272703086593,99.158767464273083,99.158870814005411,2900.0290128195466,-74.999822778070964,2900.0292598137185,131.25831969100281,206.2581424692217,1.1368683772161603E-12]
[0,3000.0398435997481,2.4318623584917987E-4,1,3000.0401865612594,190.1337506772584,null,null,null,null,null,null,null,null,{"$f":"'Hull Long'!B93","v":3000},{"$f":"'Hull Long'!C93","v":-67.253544550235816},{"$f":"'Hull Plan'!C93","v":0},{"$f":"'Hull Long'!B144","v":3000},{"$f":"'Hull Long'!C144","v":-67.223142092830273},{"$f":"'Hull Plan'!C144","v":190.13349506064776},190.13350749133315,100.01323079436416,214.83317780891096,101.58882625671609,172.31154295022898,89.999845253593165,62.255041546049917,27.745163892311055,89.999948603325379,27.745113200356901,52.151223501311264,100.10361260637768,100.10376664806418,3000.0398435997481,-74.999756813764151,3000.0401865612594,115.1337506772584,190.13350749133187,1.2789769243681803E-12]
[0,3100.0530743940722,3.3290222408766112E-4,1,3100.0535376596199,172.3118758518288,null,null,null,null,null,null,null,null,{"$f":"'Hull Long'!B94","v":3100},{"$f":"'Hull Long'!C94","v":-65.626788905785332},{"$f":"'Hull Plan'!C94","v":0},{"$f":"'Hull Long'!B145","v":3100},{"$f":"'Hull Long'!C145","v":-65.590001932324625},{"$f":"'Hull Plan'!C145","v":172.3115290233838},172.31154295022898,100.01587074340082,199.23430352888286,101.90290618131117,152.7922491594054,89.999776367802568,59.867732997147058,30.132566178463023,89.999930409488911,30.132490635050381,48.824597829388132,101.04283599214885,101.04306557724797,3100.0530743940722,-74.999667097775912,3100.0535376596199,97.311875851828788,172.31154295022745,1.5347723092418164E-12]
[0,3200.0689451373992,4.5437985512819523E-4,1,3200.0695573783701,152.79270353803207,null,null,null,null,null,null,null,null,{"$f":"'Hull Long'!B95","v":3200},{"$f":"'Hull Long'!C95","v":-63.845104152339573},{"$f":"'Hull Plan'!C95","v":0},{"$f":"'Hull Long'!B146","v":3200},{"$f":"'Hull Long'!C146","v":-63.801324613675582},{"$f":"'Hull Plan'!C146","v":152.79223288733277},152.7922491594054,99.018548256130003,182.07134162411108,101.22023634026435,131.79619468321354,89.999676467397151,57.054568468508478,32.945870358798061,89.999906052496158,32.94575506409435,45.082816642987943,101.971312998214,101.97165787801677,3200.0689451373992,-74.999545620144872,3200.0695573783701,77.792703538032086,152.79224915940358,1.8189894035458565E-12]
[0,3299.087493393396,6.1673990192900874E-4,1,3299.0882867126602,131.79681142072593,null,null,null,null,null,null,null,null,{"$f":"'Hull Long'!B96","v":3299},{"$f":"'Hull Long'!C96","v":-61.92862332761247},{"$f":"'Hull Plan'!C96","v":0},{"$f":"'Hull Long'!B147","v":3299},{"$f":"'Hull Long'!C147","v":-61.877322190583882},{"$f":"'Hull Plan'!C147","v":131.79617469883209},131.79619468321354,2.0004056100570784,131.81134923319752,2.0485082860399886,131.35488895291172,89.999264487467968,89.131165482693532,0.86957390139240254,89.999609367270637,0.86957002983809517,76.690536110503714,102.43988998810384,102.44023873946099,3299.087493393396,-74.999383260098071,3299.0882867126602,56.79681142072593,131.79619468321161,1.9326762412674725E-12]
[0,3301.0878990034066,6.3037832190104837E-4,1,3301.0886985421535,131.35551932879832,null,null,null,null,null,null,null,null,{"$f":"'Hull Long'!B97","v":3301},{"$f":"'Hull Long'!C97","v":-61.888341759273693},{"$f":"'Hull Plan'!C97","v":0},{"$f":"'Hull Long'!B148","v":3301},{"$f":"'Hull Long'!C148","v":-61.8368825294666},{"$f":"'Hull Plan'!C148","v":131.35486887314744},131.35488895291172,99.021667704242518,164.49675290089593,101.58890977135866,108.6616766577839,89.999524674195783,52.989549228120289,37.0111159679956,89.99987342555238,37.010926097683928,40.081751663919448,102.90713236808494,102.90767098975377,3301.0878990034066,-74.999369621678099,3301.0886985421535,56.355519328798316,131.35488895290973,1.9895196601282805E-12]
[0,3400.1095667074073,8.4913113403217721E-4,1,3400.1105882055717,108.66252578411365,null,null,null,null,null,null,null,null,{"$f":"'Hull Long'!B98","v":3400},{"$f":"'Hull Long'!C98","v":-59.816947318462198},{"$f":"'Hull Plan'!C98","v":0},{"$f":"'Hull Long'!B149","v":3400},{"$f":"'Hull Long'!C149","v":-59.757358501947323},{"$f":"'Hull Plan'!C149","v":108.66165031886959},108.6616766577839,100.02523000127597,147.68932496436665,103.00874597527348,84.050401722836895,89.999288600563489,47.370201878348894,42.630855005796292,89.999827222231772,42.630509521087603,33.54715156800448,103.82199342619924,103.82287753257675,3400.1095667074073,-74.999150868865968,3400.1105882055717,33.662525784113647,108.66167665778103,2.8705926524708048E-12]
[0,3500.1347967082284,1.1507613091055191E-3,1,3500.1360936536021,84.05155247413586,null,null,null,null,null,null,null,null,{"$f":"'Hull Long'!B99","v":3500},{"$f":"'Hull Long'!C99","v":-57.570475238030589},{"$f":"'Hull Plan'!C99","v":0},{"$f":"'Hull Long'!B150","v":3500},{"$f":"'Hull Long'!C150","v":-57.502069708868099},{"$f":"'Hull Plan'!C150","v":84.050363886457433},84.050401722836895,100.02882948266755,130.65185241012361,103.43092083875487,57.74180980908686,89.99887479918506,40.039517508360504,49.962351736166752,89.999758905561976,49.961607692454429,25.303907660085073,104.73374060374817,104.73536875383797,3500.1347967082284,-74.998849238690894,3500.1360936536021,9.0515524741358568,84.050401722833058,3.836930773104541E-12]
[0,3600.1636261900103,1.5716717956166804E-3,1,3600.165267014755,57.743381457564368,null,null,null,null,null,null,null,null,{"$f":"'Hull Long'!B100","v":3600},{"$f":"'Hull Long'!C100","v":-55.16907404860369},{"$f":"'Hull Plan'!C100","v":0},{"$f":"'Hull Long'!B151","v":3600},{"$f":"'Hull Long'!C151","v":-55.091243757645479},{"$f":"'Hull Plan'!C151","v":57.741747355258241},57.74180980908686,100.03266878672503,115.50001017283709,103.87934956597847,29.735940533577782,89.998020686517606,29.995305761100159,60.009074389518162,89.999648836606809,60.006673552382217,14.354841745322156,105.6360838651597,105.64011285238544,3600.1636261900103,-74.998428328204383,3600.165267014755,-17.256618542435636,57.741809809082064,4.7961634663806763E-12]
[0,3700.1962949748563,2.184767763580453E-3,1,3700.1983859792108,29.738125227816752,null,null,null,null,null,null,null,null,{"$f":"'Hull Long'!B101","v":3700},{"$f":"'Hull Long'!C101","v":-52.612743750181508},{"$f":"'Hull Plan'!C101","v":0},{"$f":"'Hull Long'!B152","v":3700},{"$f":"'Hull Long'!C152","v":-52.524880648279463},{"$f":"'Hull Plan'!C152","v":29.735800725272014},29.735940533577782,50.017852815923355,58.187424315650553,52.116348558881917,15.096625743670071,89.99546567012068,30.732944177940034,59.27669452948043,89.999494657345792,59.271590151939272,14.419209079561826,106.30409639095777,106.31322975572459,3700.1962949748563,-74.99781523223642,3700.1983859792108,-45.261874772183248,29.735940533571938,5.844214001626824E-12]
[0,3750.214147788834,2.6259198818507912E-3,1,3750.216554300976,15.099251471737773,null,null,null,null,null,null,null,null,{"$f":"'Hull Long'!B102","v":3750},{"$f":"'Hull Long'!C102","v":-51.276480185097192},{"$f":"'Hull Plan'!C102","v":0},{"$f":"'Hull Long'!B153","v":3750},{"$f":"'Hull Long'!C153","v":-51.183372659292687},{"$f":"'Hull Plan'!C153","v":15.096328623233717},15.096625743670071,50.018902562595606,52.24502249551356,52.23814403934206,0.10374447294299451,89.990274619911759,16.795592814506328,86.141628268871102,89.999407984677987,73.214132565581863,0.11353105445465683,93.744840676674841,106.68146974473031,3750.214147788834,-74.997374080118149,3750.216554300976,-59.900748528262227,15.096625743663708,6.3629101987316972E-12]
[0,3800.2330503487597,3.1427460243378391E-3,1,3800.2562759593316,0.10425400493699044,null,null,null,null,null,null,null,null,{"$f":"'Hull Long'!B103","v":3800},{"$f":"'Hull Long'!C103","v":-49.90148434276405},{"$f":"'Hull Plan'!C103","v":0},{"$f":"'Hull Long'!B154","v":3800},{"$f":"'Hull Long'!C154","v":-49.802980380770059},{"$f":"'Hull Plan'!C154","v":3.2523996498696306E-2},0.10374447294299451,5.3246499846326054E-2,0.11534124733248427,5.5674516986533008E-2,9.9853070147189624E-2,88.472516915054726,64.044888531875685,28.854540150656337,101.40914598311014,27.482594553069589,59.943054423322977,91.202405426020661,105.51098009166287,3800.2330503487597,-74.996857253975662,3800.2562759593316,-74.89574599506301,0.10374447293874971,4.2447989567762079E-12]
[0,3800.2852446770339,-7.3901473050455024E-3,0,3800.3099227671105,8.9365356347954616E-2,null,null,null,null,null,null,null,null,{"$f":"'Hull Long'!B104","v":3800.0532258064518},{"$f":"'Hull Long'!C104","v":-49.9},{"$f":"'Hull Plan'!C104","v":0},{"$f":"'Hull Long'!B155","v":3800.0532258064518},{"$f":"'Hull Long'!C155","v":-49.801490212416752},{"$f":"'Hull Plan'!C155","v":1.6262238674926266E-2},9.9853070147189624E-2,0.11328277217827733,5.5674658617386401E-2,5.5674658617386401E-2,1.0000000000000001E-5,29.429633541571672,61.793390624805447,89.994854411231927,43.73820820721383,88.776975833622899,1.029117753539948E-2,89.994854411231927,105.52130765448389,3800.2852446770339,-75.007390147305046,3800.3099227671105,-74.910634643652045,9.9853070142952388E-2,4.237235562420949E-12]
[0,3800.363564349972,7.4457365199990022E-2,0,3800.3635670268054,7.4467000265130423E-2,null,null,null,null,null,null,null,null,{"$f":"'Hull Long'!B105","v":3800.1064516129031},{"$f":"'Hull Long'!C105","v":-49.8},{"$f":"'Hull Plan'!C105","v":0},{"$f":"'Hull Long'!B156","v":3800.1064516129031},{"$f":"'Hull Long'!C156","v":-49.8},{"$f":"'Hull Plan'!C156","v":0},1.0000000000000001E-5,282.98036490165737,282.98036490165737,282.98036490165737,1.0000000000000001E-5,89.999998968772388,1.7075472925031877E-6,89.999998968772388,105.52645221202363,89.999998968772388,1.7075472925031877E-6,89.999998968772388,105.52645256693231,3800.363564349972,-74.92554263480001,3800.3635670268054,-74.92553299973487,9.9999958779913362E-6,4.1220086646412283E-12]
[0,4073.0171189807006,-75.674642082274204,0,4073.0171211883198,-75.674634136113752,null,null,null,null,null,null,null,null,{"$f":"'Hull Long'!B106","v":3933.0645161290322},{"$f":"'Hull Long'!C106","v":200},{"$f":"'Hull Plan'!C106","v":0},{"$f":"'Hull Long'!B157","v":3933.0645161290322},{"$f":"'Hull Long'!C157","v":200},{"$f":"'Hull Plan'!C157","v":0},1.0000000000000001E-5,67.969663307043419,67.969663307043419,67.969663307043419,1.0000000000000001E-5,89.999995783322603,8.4519278833759547E-6,89.999995783322603,105.52644867166589,89.999995783322603,8.4519278833759547E-6,89.999995783322603,105.52644936290945,4073.0171189807006,-150.6746420822742,4073.0171211883198,-150.67463413611375,8.2471236520182705E-6,1.7528763479817303E-6]
[0,4138.5063646119252,-93.868977374499735,0,4138.5063666000397,-93.868970218432736,null,null,null,null,null,null,null,null,{"$f":"'Hull Long'!B107","v":3965},{"$f":"'Hull Long'!C107","v":260},{"$f":"'Hull Plan'!C107","v":0},{"$f":"'Hull Long'!B158","v":3965},{"$f":"'Hull Long'!C158","v":260},{"$f":"'Hull Plan'!C158","v":0},1.0000000000000001E-5,74.492004735497048,74.492004735497048,74.492004735497048,1.0000000000000001E-5,89.999996152524773,7.6839628162643457E-6,89.999996152524773,105.52644905944118,89.999996152524773,7.6839628162643457E-6,89.999996152524773,105.52644974309922,4138.5063646119252,-168.86897737449974,4138.5063666000397,-168.86897021843274,7.4271053667421082E-6,2.5728946332578926E-6]
[0,4210.2799316586661,-113.80923421588096,0,4210.2799334088522,-113.80922791622217,null,null,null,null,null,null,null,null,{"$f":"'Hull Long'!B108","v":4000},{"$f":"'Hull Long'!C108","v":325.75757575757575},{"$f":"'Hull Plan'!C108","v":0},{"$f":"'Hull Long'!B159","v":4000},{"$f":"'Hull Long'!C159","v":325.75757575757575},{"$f":"'Hull Plan'!C159","v":0},1.0000000000000001E-5,null,null,null,null,null,null,null,null,null,null,null,null,4210.2799316586661,-188.80923421588096,4210.2799334088522,-188.80922791622217,6.5382606550681081E-6,3.4617393449318928E-6]
[0,0,0,0,0,0,null,null,null,null,null,null,null,null,"X0","Z0","Y0","X1","Z1","Y1","F","L","D","U","F'","A1","A2","A3","A","B1","B2","B3","B","XA","YA","XB","YB","Check F","Error F"]
[0,{"$f":"AH110+$H$110","v":-75.799863907366316},{"$f":"AI110+$I$110","v":611.43315066138996},0,{"$f":"AJ110+$H$110","v":-75.799863883679052},{"$f":"AK110+$I$110","v":611.43316064808016},"Side Plank",{"$f":"0*Basic!$D$2","v":0},{"$f":"I161+AK185-AI134+5*Basic!$D$2","v":405.00001999999995},null,null,null,null,null,{"$f":"'Hull Long'!B110","v":0},{"$f":"'Hull Long'!C110","v":325.75757575757575},{"$f":"'Hull Plan'!C110","v":0},{"$f":"'Hull Long'!B161","v":0},{"$f":"'Hull Long'!C161","v":325.75757575757575},{"$f":"'Hull Plan'!C161","v":0},{"$f":"((O110-R110)^2+(S110-P110)^2+(T110-Q110)^2)^0.5+0.00001","v":1.0000000000000001E-5},null,null,null,null,null,null,null,null,null,null,null,null,{"$f":"AH111-V111*SIN(AC111*PI()/180)","v":-75.799863907366316},{"$f":"AI111+V111*COS(AC111*PI()/180)","v":206.43313066139004},{"$f":"AJ111-X111*SIN(AG111*PI()/180)","v":-75.799863883679052},{"$f":"AK111+X111*COS(AG111*PI()/180)","v":206.43314064808024},{"$f":"((AH110-AJ110)^2+(AI110-AK110)^2)^0.5","v":9.9867182935860932E-6},{"$f":"U110-AL110","v":1.3281706413907591E-8}]
[2,{"$f":"AH111+$H$110","v":-1.3080658089165524},{"$f":"AI111+$I$110","v":611.25769248086908},2,{"$f":"AJ111+$H$110","v":-1.3080657851902018},{"$f":"AK111+$I$110","v":611.25770248416245},null,null,null,null,null,null,null,null,{"$f":"'Hull Long'!B111","v":35},{"$f":"'Hull Long'!C111","v":260},{"$f":"'Hull Plan'!C111","v":0},{"$f":"'Hull Long'!B162","v":35},{"$f":"'Hull Long'!C162","v":260},{"$f":"'Hull Plan'!C162","v":0},1.0000000000000001E-5,{"$f":"((O111-O110)^2+(P111-P110)^2+(Q111-Q110)^2)^0.5","v":74.492004735497048},{"$f":"((R111-O110)^2+(S111-P110)^2+(T111-Q110)^2)^0.5","v":74.492004735497048},{"$f":"((R111-R110)^2+(S111-S110)^2+(T111-T110)^2)^0.5","v":74.492004735497048},{"$f":"U110","v":1.0000000000000001E-5},{"$f":"ACOS((U111*U111+V111*V111-W111*W111)/2/U111/V111)*180/PI()","v":89.999996152524773},{"$f":"ACOS((V111*V111+W111*W111-U111*U111)/2/V111/W111)*180/PI()","v":7.6839628162643457E-6},{"$f":"ACOS((W111*W111+Y111*Y111-X111*X111)/2/W111/Y111)*180/PI()","v":89.999996152524773},{"$f":"AC112+Z111+AA112+AB112-180","v":89.865045617229498},{"$f":"ACOS((U111*U111+W111*W111-V111*V111)/2/U111/W111)*180/PI()","v":89.999996152524773},{"$f":"ACOS((W111*W111+X111*X111-Y111*Y111)/2/W111/X111)*180/PI()","v":7.6839628162643457E-6},{"$f":"ACOS((X111*X111+Y111*Y111-W111*W111)/2/X111/Y111)*180/PI()","v":89.999996152524773},{"$f":"180+AG112-AF112-AE111-AD111","v":89.865045629999912},-1.3080658089165524,206.25767248086919,-1.3080657851902018,206.25768248416253,1.000332147801218E-5,-3.3214780121792954E-9]
[2,32.310276115109446,552.18416019819529,2,32.341942274306348,611.17844042361924,null,null,null,null,null,null,null,null,{"$f":"'Hull Long'!B112","v":66.935483870967744},{"$f":"'Hull Long'!C112","v":200},{"$f":"'Hull Plan'!C112","v":0},{"$f":"'Hull Long'!B163","v":66.935483870967744},{"$f":"'Hull Long'!C163","v":258.0655893948242},{"$f":"'Hull Plan'!C163","v":10.426516696201418},58.994288724165173,67.96966330704339,33.650101409630615,33.650101409630615,1.0000000000000001E-5,29.674661808347011,60.2211506312333,89.999991482755433,29.643907350716006,90.104187560419703,1.7032730748334001E-5,89.999991482755433,89.865040949242953,32.310276115109446,147.18414019819528,32.341942274306348,206.17842042361926,58.994288724091668,7.3505646014382364E-11]
[2,172.26567358229428,306.23625181172929,2,171.86621214167695,610.86268310657806,null,null,null,null,null,null,null,null,{"$f":"'Hull Long'!B113","v":199.89354838709676},{"$f":"'Hull Long'!C113","v":-49.8},{"$f":"'Hull Plan'!C113","v":0},{"$f":"'Hull Long'!B164","v":199.89354838709676},{"$f":"'Hull Long'!C164","v":250.35267155586732},{"$f":"'Hull Plan'!C164","v":52.0172075204772},304.62669320479205,282.98036490165731,151.39031782421412,139.52462716203948,58.994288724165173,29.566685785117421,83.163278425719398,67.164148515843536,29.641818600806062,67.270035789163188,22.934762859942776,89.901088624213656,89.870334166607051,172.26567358229428,-98.76376818827066,171.86621214167695,205.86266310657805,304.62669320477761,1.4438228390645236E-11]
[2,172.32133134410054,306.23762336665447,2,171.92188827476093,610.86255496454805,null,null,null,null,null,null,null,null,{"$f":"'Hull Long'!B114","v":199.94677419354838},{"$f":"'Hull Long'!C114","v":-49.801490212416766},{"$f":"'Hull Plan'!C114","v":1.6262238674983109E-2},{"$f":"'Hull Long'!B165","v":199.94677419354838},{"$f":"'Hull Long'!C165","v":250.34969392982092},{"$f":"'Hull Plan'!C165","v":52.033269758374445},304.62519348503616,5.56746586176751E-2,304.6264971418268,5.5676280547153595E-2,304.62669320479205,91.336504600419858,88.653026660997654,1.0471824092701513E-2,91.411634330598304,1.0468738548350993E-2,90.196530504235383,89.792997671686123,89.868130487399114,172.32133134410054,-98.762396633345503,171.92188827476093,205.86253496454805,304.62519348502184,1.432454155292362E-11]
[2,172.37698896518941,306.23899488274685,2,171.97756426750621,610.86242682885108,null,null,null,null,null,null,null,null,{"$f":"'Hull Long'!B115","v":200},{"$f":"'Hull Long'!C115","v":-49.802980380770059},{"$f":"'Hull Plan'!C115","v":3.2523996498696306E-2},{"$f":"'Hull Long'!B166","v":200},{"$f":"'Hull Long'!C166","v":250.34671639181866},{"$f":"'Hull Plan'!C166","v":52.04933152608379},304.62369381044641,5.5674516986352993E-2,304.62499743158565,5.5676140194245743E-2,304.62519348503616,91.336471302125148,88.653059934206539,1.0471849291002198E-2,91.411597946680899,1.0468763614824048E-2,90.196521208706258,89.793006942053609,89.868136672236488,172.37698896518941,-98.761025117253112,171.97756426750621,205.86240682885108,304.62369381043209,1.432454155292362E-11]
[2,224.59943387619364,307.51959637898915,2,224.21767271464682,610.75421151789362,null,null,null,null,null,null,null,null,{"$f":"'Hull Long'!B116","v":250},{"$f":"'Hull Long'!C116","v":-51.183372659292687},{"$f":"'Hull Plan'!C116","v":15.096328623233717},{"$f":"'Hull Long'!B167","v":250},{"$f":"'Hull Long'!C167","v":247.58852436726687},{"$f":"'Hull Plan'!C167","v":66.929957113680416},303.23485545041115,52.23814403934206,308.89638012441884,52.240220530952364,304.62369381044641,91.332595317551025,78.93385949572631,9.7365386027803815,91.404728546049057,9.7335451867226954,80.45727599844858,89.806185398770964,89.881312043328506,224.59943387619364,-97.480423621010829,224.21767271464682,205.7541915178937,303.23485545039841,1.2732925824820995E-11]
[2,276.70088027020432,308.76581897664352,2,276.3370325117391,610.65145570819254,null,null,null,null,null,null,null,null,{"$f":"'Hull Long'!B117","v":300},{"$f":"'Hull Long'!C117","v":-52.524880648279463},{"$f":"'Hull Plan'!C117","v":29.735800725272014},{"$f":"'Hull Long'!B168","v":300},{"$f":"'Hull Long'!C168","v":244.90802789270245},{"$f":"'Hull Plan'!C168","v":81.395542586278282},301.88585599529318,52.116348558881917,307.51537075886074,52.119461090989674,303.23485545041115,91.30114966620728,78.944060723641357,9.7578671158373833,91.370205389019304,9.7547896101513345,80.427227334961586,89.814905549200972,89.887038777700766,276.70088027020432,-96.23420102335642,276.3370325117391,205.65143570819262,301.88585599528193,1.1254996934439987E-11]
[2,380.55275295987053,311.15492029306199,2,380.22519394576852,610.46203809189728,null,null,null,null,null,null,null,null,{"$f":"'Hull Long'!B118","v":400},{"$f":"'Hull Long'!C118","v":-55.091243757645479},{"$f":"'Hull Plan'!C118","v":57.741747355258241},{"$f":"'Hull Long'!B169","v":400},{"$f":"'Hull Long'!C169","v":239.78012159353574},{"$f":"'Hull Plan'!C169","v":109.08110817853742},299.30729703760727,103.87934956597847,318.96377874366988,103.88833411493476,301.88585599529318,91.255146923564212,69.742957749212152,19.008247089986622,91.317850883613232,19.001895327223608,71.165274991679809,89.82647791833358,89.895533641147281,380.55275295987053,-93.845099706937958,380.22519394576852,205.46201809189736,299.30729703759914,8.1286088970955461E-12]
[2,483.95918325099461,313.40560019026492,2,483.66802953718616,610.29331410729969,null,null,null,null,null,null,null,null,{"$f":"'Hull Long'!B119","v":500},{"$f":"'Hull Long'!C119","v":-57.502069708868099},{"$f":"'Hull Plan'!C119","v":84.050363886457433},{"$f":"'Hull Long'!B170","v":500},{"$f":"'Hull Long'!C170","v":234.96299749431853},{"$f":"'Hull Plan'!C170","v":135.10502061285018},296.88785668223494,103.43092083875487,316.4119765707066,103.44297319284688,299.30729703760727,91.190678181512027,69.73367117836429,19.082165432144212,91.246867349540537,19.075650640123673,71.073992691182724,89.843841876673054,89.906545836723737,483.95918325099461,-91.594419809735044,483.66802953718616,205.29329410729977,296.88785668222971,5.2295945351943374E-12]
[2,586.94628440200199,315.51717398973176,2,586.69109647734422,610.14442606726698,null,null,null,null,null,null,null,null,{"$f":"'Hull Long'!B120","v":600},{"$f":"'Hull Long'!C120","v":-59.757358501947323},{"$f":"'Hull Plan'!C120","v":108.66165031886959},{"$f":"'Hull Long'!B171","v":600},{"$f":"'Hull Long'!C171","v":230.45665559505079},{"$f":"'Hull Plan'!C171","v":159.46620638225929},294.62736259152484,103.00874597527348,314.01875227127664,103.02317452595196,296.88785668223494,91.124961021777025,69.729398850534452,19.152203243455176,91.174587074038868,19.145640127688488,70.986789229002127,89.861007527542654,89.917196695572756,586.94628440200199,-89.48284601026819,586.69109647734422,205.14440606726708,294.6273625915224,2.4442670110147446E-12]
[2,688.51642547444692,317.46987239370526,2,688.29589498561381,610.01564963804162,null,null,null,null,null,null,null,null,{"$f":"'Hull Long'!B121","v":699},{"$f":"'Hull Long'!C121","v":-61.8368825294666},{"$f":"'Hull Plan'!C121","v":131.35486887314744},{"$f":"'Hull Long'!B172","v":699},{"$f":"'Hull Long'!C172","v":226.30151312083601},{"$f":"'Hull Plan'!C172","v":181.9447840573205},292.54586036583942,101.58890977135866,311.44998912285695,101.60488011544911,294.62736259152484,91.058191293184493,69.908070463263726,19.040172888336436,91.101382700661645,19.033738243551799,71.082071210052078,89.877755901611465,89.9273819538748,688.51642547444692,-87.530147606294705,688.29589498561381,205.01562963804162,292.54586036583964,0]
[2,690.56458093494473,317.50789091034346,2,690.34473710641021,610.01322024585625,null,null,null,null,null,null,null,null,{"$f":"'Hull Long'!B122","v":701},{"$f":"'Hull Long'!C122","v":-61.877322190583882},{"$f":"'Hull Plan'!C122","v":131.79617469883209},{"$f":"'Hull Long'!B173","v":701},{"$f":"'Hull Long'!C173","v":226.22070974884915},{"$f":"'Hull Plan'!C173","v":182.3820834432924},292.5054119516177,2.0485082860399886,292.54906100681302,2.0488435611085207,292.54586036583942,91.020357578432453,88.578502093079351,0.40126885849974864,91.06342045589804,0.40114032848722125,89.709860362416961,89.888870779082765,89.932062186561467,690.56458093494473,-87.492129089656515,690.34473710641021,205.01320024585627,292.50541195161799,0]
[2,791.76859601880437,319.3199548399229,2,791.58195569433383,609.90234527126313,null,null,null,null,null,null,null,null,{"$f":"'Hull Long'!B123","v":800},{"$f":"'Hull Long'!C123","v":-63.801324613675582},{"$f":"'Hull Plan'!C123","v":152.79223288733277},{"$f":"'Hull Long'!B174","v":800},{"$f":"'Hull Long'!C174","v":222.37631839636384},{"$f":"'Hull Plan'!C174","v":203.19571781617304},290.5824503706346,101.22023634026435,309.35259323997707,101.23727930302663,292.5054119516177,90.988973815414852,69.915053489334284,19.102234645472887,91.025774742658427,19.095972695250879,71.00357852923014,89.894186825296998,89.937249702762642,791.76859601880437,-85.680065160077035,791.58195569433383,204.90232527126318,290.58245037063506,-4.5474735088646412E-13]
[2,893.65749434809027,321.00953627967181,2,893.50249771070673,609.80710078025822,null,null,null,null,null,null,null,null,{"$f":"'Hull Long'!B124","v":900},{"$f":"'Hull Long'!C124","v":-65.590001932324625},{"$f":"'Hull Plan'!C124","v":172.3115290233838},{"$f":"'Hull Long'!B175","v":900},{"$f":"'Hull Long'!C175","v":218.80232309694463},{"$f":"'Hull Plan'!C175","v":222.56147403750413},288.79760609365798,101.90290618131117,307.78656356315997,101.92058651923219,290.5824503706346,90.919274688835472,69.748788957586058,19.337986840376178,90.950025129281357,19.331936353578499,70.752356833598938,89.909656326024873,89.94645725326852,893.65749434809027,-83.990483720328143,893.50249771070673,204.80708078025822,288.79760609365849,-5.1159076974727213E-13]
[2,995.23453791211659,322.55674053546909,2,995.10887768601322,609.72756218627114,null,null,null,null,null,null,null,null,{"$f":"'Hull Long'!B125","v":1000},{"$f":"'Hull Long'!C125","v":-67.223142092830273},{"$f":"'Hull Plan'!C125","v":190.13349506064776},{"$f":"'Hull Long'!B176","v":1000},{"$f":"'Hull Long'!C176","v":215.5391099974749},{"$f":"'Hull Plan'!C176","v":240.2593331832239},287.17084914400499,101.58882625671609,306.02366193577541,101.60641110714563,288.79760609365798,90.84758059857144,69.766602381922439,19.391495970768567,90.872652087754886,19.385817019506153,70.684106228140635,89.924397801090791,89.955148241536733,995.23453791211659,-82.44327946453086,995.10887768601322,204.72754218627125,287.17084914400562,-6.2527760746888816E-13]
[2,1096.527263315779,323.96065473486544,2,1096.4282797745213,609.66254296327475,null,null,null,null,null,null,null,null,{"$f":"'Hull Long'!B126","v":1100},{"$f":"'Hull Long'!C126","v":-68.700745095192516},{"$f":"'Hull Plan'!C126","v":206.25813099912466},{"$f":"'Hull Long'!B177","v":1100},{"$f":"'Hull Long'!C177","v":212.58667909795466},{"$f":"'Hull Plan'!C177","v":256.28770237212473},285.70190537519977,101.30245404125712,304.41733718668013,101.31942295074596,287.17084914400499,90.774216430008238,69.790340976363723,19.440663535223081,90.794066977596685,19.435442593628004,70.621176099811507,89.938160364965384,89.963231854148887,1096.527263315779,-81.039365265134535,1096.4282797745213,204.66252296327482,285.7019053752004,-6.2527760746888816E-13]
[2,1197.5634359770518,325.22034749498317,2,1197.4881749408539,609.61080445664993,null,null,null,null,null,null,null,null,{"$f":"'Hull Long'!B127","v":1200},{"$f":"'Hull Long'!C127","v":-70.022810939411372},{"$f":"'Hull Plan'!C127","v":220.68543683881455},{"$f":"'Hull Long'!B178","v":1200},{"$f":"'Hull Long'!C178","v":209.94503039838392},{"$f":"'Hull Plan'!C178","v":270.64481837957044},284.39046692019923,101.04402511721513,302.9671825664355,101.0599084103246,285.70190537519977,90.699149144169368,69.820113755667094,19.485424903961952,90.714311887959411,19.480737100163541,70.563758721837559,89.950816374200457,89.970666921788876,1197.5634359770518,-79.779672505016791,1197.4881749408539,204.61078445664995,284.39046692019974,-5.1159076974727213E-13]
[2,1298.3710293729696,326.33488114756091,2,1298.3163078615689,609.57106033806929,null,null,null,null,null,null,null,null,{"$f":"'Hull Long'!B128","v":1300},{"$f":"'Hull Long'!C128","v":-71.189339625486824},{"$f":"'Hull Plan'!C128","v":233.41541257971738},{"$f":"'Hull Long'!B179","v":1300},{"$f":"'Hull Long'!C179","v":207.61416389876271},{"$f":"'Hull Plan'!C179","v":283.32870694866818},283.23618447663307,100.8137543767685,301.67278479728492,100.82814075382103,284.39046692019923,90.622369512977869,69.855997338891086,19.525726290495975,90.633439114402961,19.521633148131002,70.512021123576389,89.962252585927658,89.977415329717658,1298.3710293729696,-78.665138852439028,1298.3163078615689,204.57104033806934,283.23618447663353,-4.5474735088646412E-13]
[2,1398.9782035159546,327.30332562047204,2,1398.9406845010826,609.54197980726553,null,null,null,null,null,null,null,null,{"$f":"'Hull Long'!B129","v":1400},{"$f":"'Hull Long'!C129","v":-72.200331153418901},{"$f":"'Hull Plan'!C129","v":244.44805822183318},{"$f":"'Hull Long'!B180","v":1400},{"$f":"'Hull Long'!C180","v":205.59407959909097},{"$f":"'Hull Plan'!C180","v":294.33712550858013},282.23865668056305,100.61183515737126,300.53371901308373,100.62438084166278,283.23618447663307,90.543895496959067,69.898031854783213,19.56152571254631,90.551512034095595,19.558072648257717,70.466102417639959,89.972371869813742,89.983441471238791,1398.9782035159546,-77.696694379527926,1398.9406845010826,204.54195980726564,282.23865668056339,0]
[2,1499.4132827494823,328.12477423561194,2,1499.3895611232181,609.52218795587464,null,null,null,null,null,null,null,null,{"$f":"'Hull Long'!B130","v":1500},{"$f":"'Hull Long'!C130","v":-73.055785523207561},{"$f":"'Hull Plan'!C130","v":253.78337376516194},{"$f":"'Hull Long'!B181","v":1500},{"$f":"'Hull Long'!C181","v":203.88477749936874},{"$f":"'Hull Plan'!C181","v":303.66747880833503},281.3974147201215,100.43843845098502,299.54954013388596,100.44887857196994,282.23865668056305,90.463776086835523,69.94621616839764,19.592794283478966,90.468606085259921,19.590007744766858,70.426111474372703,89.98109424214833,89.988710779284816,1499.4132827494823,-76.875245764387998,1499.3895611232181,204.52216795587464,281.39741472012179,0]
[2,1599.7047329609356,328.79836182289546,2,1599.6914359927011,609.51026008686813,null,null,null,null,null,null,null,null,{"$f":"'Hull Long'!B131","v":1600},{"$f":"'Hull Long'!C131","v":-73.755702734852846},{"$f":"'Hull Plan'!C131","v":261.42135920970367},{"$f":"'Hull Long'!B182","v":1600},{"$f":"'Hull Long'!C182","v":202.48625759959597},{"$f":"'Hull Plan'!C182","v":311.31668704824187},280.71189857890289,100.29371219450495,298.71976778515671,100.30187557871248,281.3974147201215,90.382095897866677,70.000501941804501,19.619518130013102,90.384809926606806,19.617402160328844,70.392125465368608,89.988356404618244,89.993186403042614,1599.7047329609356,-76.201658177104505,1599.6914359927011,204.51024008686821,280.711898578903,0]
[2,1699.8811383186562,329.32328580342175,2,1699.8750460253023,609.50470277001727,null,null,null,null,null,null,null,null,{"$f":"'Hull Long'!B132","v":1700},{"$f":"'Hull Long'!C132","v":-74.300082788354729},{"$f":"'Hull Plan'!C132","v":267.3620145554583},{"$f":"'Hull Long'!B183","v":1700},{"$f":"'Hull Long'!C183","v":201.39851989977274},{"$f":"'Hull Plan'!C183","v":317.28096208754306},280.18141703283112,100.17778064810427,298.04385829494123,100.18361018673687,280.71189857890289,90.298981072183039,70.060785528623626,19.641701582650551,90.30022691746592,19.64023339919332,70.364190718469033,89.994107698880441,89.996821727620528,1699.8811383186562,-75.676734196578167,1699.8750460253023,204.50468277001738,280.18141703283123,0]
[2,1799.9711776505433,329.6988313933922,2,1799.969372991281,609.50390257842628,null,null,null,null,null,null,null,null,{"$f":"'Hull Long'!B133","v":1800},{"$f":"'Hull Long'!C133","v":-74.688925683713208},{"$f":"'Hull Plan'!C133","v":271.60533980242593},{"$f":"'Hull Long'!B184","v":1800},{"$f":"'Hull Long'!C184","v":200.621564399899},{"$f":"'Hull Plan'!C184","v":321.55537802001606},{"$f":"((O133-R133)^2+(S133-P133)^2+(T133-Q133)^2)^0.5+0.00001","v":279.80507119085382},{"$f":"((O133-O132)^2+(P133-P132)^2+(Q133-Q132)^2)^0.5","v":100.09074386749667},{"$f":"((R133-O132)^2+(S133-P132)^2+(T133-Q132)^2)^0.5","v":297.5211467044054},{"$f":"((R133-R132)^2+(S133-S132)^2+(T133-T132)^2)^0.5","v":100.09432696917725},{"$f":"U132","v":280.18141703283112},{"$f":"ACOS((U133*U133+V133*V133-W133*W133)/2/U133/V133)*180/PI()","v":90.214607658749017},{"$f":"ACOS((V133*V133+W133*W133-U133*U133)/2/V133/W133)*180/PI()","v":70.126895356529516},{"$f":"ACOS((W133*W133+Y133*Y133-X133*X133)/2/W133/Y133)*180/PI()","v":19.65937328931393},{"$f":"AC134+Z133+AA134+AB134-180","v":90.214977199439431},{"$f":"ACOS((U133*U133+W133*W133-V133*V133)/2/U133/W133)*180/PI()","v":19.658496984721477},{"$f":"ACOS((W133*W133+X133*X133-Y133*Y133)/2/W133/X133)*180/PI()","v":70.342330599919578},{"$f":"ACOS((X133*X133+Y133*Y133-W133*W133)/2/X133/Y133)*180/PI()","v":89.998296110766447},{"$f":"180+AG134-AF134-AE133-AD133","v":89.999541956049313},{"$f":"AH134-V134*SIN(AC134*PI()/180)","v":1799.9711776505433},{"$f":"AI134+V134*COS(AC134*PI()/180)","v":-75.301188606607752},{"$f":"AJ134-X134*SIN(AG134*PI()/180)","v":1799.969372991281},{"$f":"AK134+X134*COS(AG134*PI()/180)","v":204.50388257842638},{"$f":"((AH133-AJ133)^2+(AI133-AK133)^2)^0.5","v":279.80507119085388},{"$f":"U133-AL133","v":0}]
[2,2000,330.00001999999995,2,2000,609.50852718747365,null,null,null,null,null,null,null,null,{"$f":"'Hull Long'!B134","v":2000},{"$f":"'Hull Long'!C134","v":-75},{"$f":"'Hull Plan'!C134","v":275},{"$f":"'Hull Long'!B185","v":2000},{"$f":"'Hull Long'!C185","v":200},{"$f":"'Hull Plan'!C185","v":325},{"$f":"((O134-R134)^2+(S134-P134)^2+(T134-Q134)^2)^0.5+0.00001","v":279.5085071874737},{"$f":"((O134-O133)^2+(P134-P133)^2+(Q134-Q133)^2)^0.5","v":200.02904910309215},{"$f":"((R134-O133)^2+(S134-P133)^2+(T134-Q133)^2)^0.5","v":343.9549325578671},{"$f":"((R134-R133)^2+(S134-S133)^2+(T134-T133)^2)^0.5","v":200.03062706217818},{"$f":"U133","v":279.80507119085382},{"$f":"ACOS((U134*U134+V134*V134-W134*W134)/2/U134/V134)*180/PI()","v":90.086271682009368},{"$f":"ACOS((V134*V134+W134*W134-U134*U134)/2/V134/W134)*180/PI()","v":54.353717938133336},{"$f":"ACOS((W134*W134+Y134*Y134-X134*X134)/2/W134/Y134)*180/PI()","v":35.560379920547703},{"$f":"Z134","v":90.086271682009368},{"$f":"ACOS((U134*U134+W134*W134-V134*V134)/2/U134/W134)*180/PI()","v":35.560010379857317},{"$f":"ACOS((W134*W134+X134*X134-Y134*Y134)/2/W134/X134)*180/PI()","v":54.438664970091708},{"$f":"ACOS((X134*X134+Y134*Y134-W134*W134)/2/X134/Y134)*180/PI()","v":90.000955109360589},{"$f":"180-AD134-AE134","v":90.001324650050975},{"$f":"O134","v":2000},{"$f":"P134","v":-75},{"$f":"AH134","v":2000},{"$f":"AI134+U134","v":204.5085071874737},{"$f":"((AH134-AJ134)^2+(AI134-AK134)^2)^0.5","v":279.5085071874737},{"$f":"U134-AL134","v":0}]
[2,2000,330.00001999999995,2,2000,609.50852718747365,null,null,null,null,null,null,null,null,{"$f":"'Hull Long'!B135","v":2000},{"$f":"'Hull Long'!C135","v":-75},{"$f":"'Hull Plan'!C135","v":275},{"$f":"'Hull Long'!B186","v":2000},{"$f":"'Hull Long'!C186","v":200},{"$f":"'Hull Plan'!C186","v":325},{"$f":"((O135-R135)^2+(S135-P135)^2+(T135-Q135)^2)^0.5+0.00001","v":279.5085071874737},{"$f":"((O135-O136)^2+(P135-P136)^2+(Q135-Q136)^2)^0.5","v":200.02904910309215},{"$f":"((R135-O136)^2+(S135-P136)^2+(T135-Q136)^2)^0.5","v":343.9549325578671},{"$f":"((R135-R136)^2+(S135-S136)^2+(T135-T136)^2)^0.5","v":200.02930218544748},{"$f":"U136","v":279.81897295464955},{"$f":"ACOS((U135*U135+V135*V135-W135*W135)/2/U135/V135)*180/PI()","v":90.086271682009368},{"$f":"ACOS((V135*V135+W135*W135-U135*U135)/2/V135/W135)*180/PI()","v":54.353717938133336},{"$f":"ACOS((W135*W135+Y135*Y135-X135*X135)/2/W135/Y135)*180/PI()","v":35.560108587104111},{"$f":"Z135","v":90.086271682009368},{"$f":"ACOS((U135*U135+W135*W135-V135*V135)/2/U135/W135)*180/PI()","v":35.560010379857317},{"$f":"ACOS((W135*W135+X135*X135-Y135*Y135)/2/W135/X135)*180/PI()","v":54.442646941431363},{"$f":"ACOS((X135*X135+Y135*Y135-W135*W135)/2/X135/Y135)*180/PI()","v":89.997244471464526},{"$f":"180-AD135-AE135","v":89.99734267871132},{"$f":"O135","v":2000},{"$f":"P135","v":-75},{"$f":"AH135","v":2000},{"$f":"AI135+U135","v":204.5085071874737},{"$f":"((AH135-AJ135)^2+(AI135-AK135)^2)^0.5","v":279.5085071874737},{"$f":"U135-AL135","v":0}]
[2,2200.0288223494567,329.6988313933922,2,2200.0293019703149,609.51780434763077,null,null,null,null,null,null,null,null,{"$f":"'Hull Long'!B136","v":2200},{"$f":"'Hull Long'!C136","v":-74.688925683713208},{"$f":"'Hull Plan'!C136","v":271.60533980242593},{"$f":"'Hull Long'!B187","v":2200},{"$f":"'Hull Long'!C187","v":200.621564399899},{"$f":"'Hull Plan'!C187","v":321.63319283388046},{"$f":"((O136-R136)^2+(S136-P136)^2+(T136-Q136)^2)^0.5+0.00001","v":279.81897295464955},{"$f":"((O136-O137)^2+(P136-P137)^2+(Q136-Q137)^2)^0.5","v":100.09074386749667},{"$f":"((R136-O137)^2+(S136-P137)^2+(T136-Q137)^2)^0.5","v":297.53533048098831},{"$f":"((R136-R137)^2+(S136-S137)^2+(T136-T137)^2)^0.5","v":100.09153414497851},{"$f":"U137","v":280.20705913279215},{"$f":"ACOS((U136*U136+V136*V136-W136*W136)/2/U136/V136)*180/PI()","v":90.21527249310995},{"$f":"ACOS((V136*V136+W136*W136-U136*U136)/2/V136/W136)*180/PI()","v":70.127207140343259},{"$f":"ACOS((W136*W136+Y136*Y136-X136*X136)/2/W136/Y136)*180/PI()","v":19.657826269148412},{"$f":"AC135+Z136+AA135+AB135-180","v":90.215370700356743},{"$f":"ACOS((U136*U136+W136*W136-V136*V136)/2/U136/W136)*180/PI()","v":19.657520366546791},{"$f":"ACOS((W136*W136+X136*X136-Y136*Y136)/2/W136/X136)*180/PI()","v":70.349362998752667},{"$f":"ACOS((X136*X136+Y136*Y136-W136*W136)/2/X136/Y136)*180/PI()","v":89.992810732098903},{"$f":"180+AG135-AF135-AE136-AD136","v":89.993214841947363},{"$f":"AH135+V135*SIN(AC135*PI()/180)","v":2200.0288223494567},{"$f":"AI135+V135*COS(AC135*PI()/180)","v":-75.301188606607752},{"$f":"AJ135+X135*SIN(AG135*PI()/180)","v":2200.0293019703149},{"$f":"AK135+X135*COS(AG135*PI()/180)","v":204.51778434763079},{"$f":"((AH136-AJ136)^2+(AI136-AK136)^2)^0.5","v":279.81897295464961},{"$f":"U136-AL136","v":0}]
[2,2300.1188590997785,329.32259839638903,2,2300.1208354134469,609.52965752221166,null,null,null,null,null,null,null,null,{"$f":"'Hull Long'!B137","v":2300},{"$f":"'Hull Long'!C137","v":-74.300082788354729},{"$f":"'Hull Plan'!C137","v":267.3620145554583},{"$f":"'Hull Long'!B188","v":2300},{"$f":"'Hull Long'!C188","v":201.39851989977274},{"$f":"'Hull Plan'!C188","v":317.42468387623097},{"$f":"((O137-R137)^2+(S137-P137)^2+(T137-Q137)^2)^0.5+0.00001","v":280.20705913279215},{"$f":"((O137-O138)^2+(P137-P138)^2+(Q137-Q138)^2)^0.5","v":100.17778064810427},{"$f":"((R137-O138)^2+(S137-P138)^2+(T137-Q138)^2)^0.5","v":298.07082817238182},{"$f":"((R137-R138)^2+(S137-S138)^2+(T137-T138)^2)^0.5","v":100.17932824036595},{"$f":"U138","v":280.75038715854055},{"$f":"ACOS((U137*U137+V137*V137-W137*W137)/2/U137/V137)*180/PI()","v":90.300696461196665},{"$f":"ACOS((V137*V137+W137*W137-U137*U137)/2/V137/W137)*180/PI()","v":70.060923447497203},{"$f":"ACOS((W137*W137+Y137*Y137-X137*X137)/2/W137/Y137)*180/PI()","v":19.638977159392862},{"$f":"AC136+Z137+AA136+AB136-180","v":90.301100571045083},{"$f":"ACOS((U137*U137+W137*W137-V137*V137)/2/U137/W137)*180/PI()","v":19.638380091306125},{"$f":"ACOS((W137*W137+X137*X137-Y137*Y137)/2/W137/X137)*180/PI()","v":70.37167623532892},{"$f":"ACOS((X137*X137+Y137*Y137-W137*W137)/2/X137/Y137)*180/PI()","v":89.989346605278229},{"$f":"180+AG136-AF136-AE137-AD137","v":89.990347783213394},{"$f":"AH136+V136*SIN(AC136*PI()/180)","v":2300.1188590997785},{"$f":"AI136+V136*COS(AC136*PI()/180)","v":-75.677421603610895},{"$f":"AJ136+X136*SIN(AG136*PI()/180)","v":2300.1208354134469},{"$f":"AK136+X136*COS(AG136*PI()/180)","v":204.52963752221169},{"$f":"((AH137-AJ137)^2+(AI137-AK137)^2)^0.5","v":280.2070591327921},{"$f":"U137-AL137","v":0}]
[2,2400.2952564417437,328.79614691292392,2,2400.3001622322799,609.54653402860276,null,null,null,null,null,null,null,null,{"$f":"'Hull Long'!B138","v":2400},{"$f":"'Hull Long'!C138","v":-73.755702734852846},{"$f":"'Hull Plan'!C138","v":261.42135920970367},{"$f":"'Hull Long'!B189","v":2400},{"$f":"'Hull Long'!C189","v":202.48625759959597},{"$f":"'Hull Plan'!C189","v":311.53277133552177},280.75038715854055,100.29371219450495,298.76146078105256,100.29626748929941,281.4489643350102,90.385401975142656,70.000053638568758,19.615525896061339,90.386403153077822,19.6145443862886,70.399139255876989,89.985334848061655,89.987317535769577,2400.2952564417437,-76.203873087076047,2400.3001622322799,204.54651402860284,280.75038715854043,0]
[2,2500.5866878839406,328.11977051676638,2,2500.5964272645133,609.56873468326353,null,null,null,null,null,null,null,null,{"$f":"'Hull Long'!B139","v":2500},{"$f":"'Hull Long'!C139","v":-73.055785523207561},{"$f":"'Hull Plan'!C139","v":253.78337376516194},{"$f":"'Hull Long'!B190","v":2500},{"$f":"'Hull Long'!C190","v":203.88477749936874},{"$f":"'Hull Plan'!C190","v":303.95745521175274},281.4489643350102,100.43843845098502,299.60700183728255,100.44225009565315,282.30279994856477,90.469178065342263,69.944740557963982,19.587537435021762,90.471160753050185,19.58608137669378,70.431821311291216,89.980641253687025,89.984079999722937,2500.5866878839406,-76.880249483233598,2500.5964272645133,204.56871468326364,281.44896433501009,0]
[2,2601.0217303914055,327.29384376698471,2,2601.0386734828853,609.59664320710885,null,null,null,null,null,null,null,null,{"$f":"'Hull Long'!B140","v":2600},{"$f":"'Hull Long'!C140","v":-72.200331153418901},{"$f":"'Hull Plan'!C140","v":244.44805822183318},{"$f":"'Hull Long'!B191","v":2600},{"$f":"'Hull Long'!C191","v":205.59407959909097},{"$f":"'Hull Plan'!C191","v":294.69873550492395},282.30279994856477,100.61183515737126,300.60723016322072,100.61714964492336,283.31190519347604,90.55182010295286,69.895111711431284,19.555085023933952,90.555258848988785,19.553068185615846,70.469777688107811,89.975137287958248,89.980592872312272,2601.0217303914055,-77.706176233015256,2601.0386734828853,204.59662320710893,282.30279994856471,0]
[2,2701.628840988566,326.31882016481256,2,2701.6558173559024,609.63072407397181,null,null,null,null,null,null,null,null,{"$f":"'Hull Long'!B141","v":2700},{"$f":"'Hull Long'!C141","v":-71.189339625486824},{"$f":"'Hull Plan'!C141","v":233.41541257971738},{"$f":"'Hull Long'!B192","v":2700},{"$f":"'Hull Long'!C192","v":207.61416389876271},{"$f":"'Hull Plan'!C192","v":283.75661221503537},283.31190519347604,100.8137543767685,301.76193093336161,100.82081564567208,284.47629308219405,90.633131129147657,69.851278494496555,19.518249699086876,90.638586713501695,19.515590376355771,70.513049216771321,89.968701084141756,89.976815991226928,2701.628840988566,-78.681199835187357,2701.6558173559024,204.63070407397191,283.31190519347592,0]
[2,2802.4363338450917,325.19522970520819,2,2802.4766247478115,609.67151993416462,null,null,null,null,null,null,null,null,{"$f":"'Hull Long'!B142","v":2800},{"$f":"'Hull Long'!C142","v":-70.022810939411372},{"$f":"'Hull Plan'!C142","v":220.68543683881455},{"$f":"'Hull Long'!B193","v":2800},{"$f":"'Hull Long'!C193","v":209.94503039838392},{"$f":"'Hull Plan'!C193","v":271.13108534208703},284.47629308219405,101.04402511721513,303.07089666545136,101.0530741672257,285.79597834255026,90.712923083959637,69.813335553931807,19.477119757741448,90.721037991044795,19.473741362108573,70.561661898200654,89.961218344057912,89.972711646775977,2802.4363338450917,-79.804790294791772,2802.4766247478115,204.6714999341647,284.47629308219399,0]
[2,2903.4723579315087,323.9236760502817,2,2903.5296874538681,609.71964864279607,null,null,null,null,null,null,null,null,{"$f":"'Hull Long'!B143","v":2900},{"$f":"'Hull Long'!C143","v":-68.700745095192516},{"$f":"'Hull Plan'!C143","v":206.25813099912466},{"$f":"'Hull Long'!B194","v":2900},{"$f":"'Hull Long'!C194","v":212.58667909795466},{"$f":"'Hull Plan'!C194","v":256.82215488607892},285.79597834255026,101.30245404125712,304.53392813302611,101.31372856742354,287.27097730337778,90.791017920571377,69.781360288774792,19.431790212246611,90.802511223289457,19.427621790653841,70.615626653027505,89.952583134725856,89.968244859036716,2903.4723579315087,-81.07634394971825,2903.5296874538681,204.71962864279615,285.79597834255014,0]
[2,3004.7648753263702,322.50483335543981,2,3004.8434004608789,609.77579992644746,null,null,null,null,null,null,null,null,{"$f":"'Hull Long'!B144","v":3000},{"$f":"'Hull Long'!C144","v":-67.223142092830273},{"$f":"'Hull Plan'!C144","v":190.13349506064776},{"$f":"'Hull Long'!B195","v":3000},{"$f":"'Hull Long'!C195","v":215.5391099974749},{"$f":"'Hull Plan'!C195","v":240.82982084701098},287.27097730337778,101.58882625671609,306.1508351921737,101.60256030346308,288.90130777016566,90.867248593293908,69.755412495169338,19.382362231950694,90.88291031760474,19.377338911536793,70.674939195881834,89.942698572167487,89.96338361689223,3004.7648753263702,-82.495186644560107,3004.8434004608789,204.77577992644754,287.27097730337772,0]
[2,3106.3416402510834,320.9394427822067,2,3106.44594001615,609.84073172511012,null,null,null,null,null,null,null,null,{"$f":"'Hull Long'!B145","v":3100},{"$f":"'Hull Long'!C145","v":-65.590001932324625},{"$f":"'Hull Plan'!C145","v":172.3115290233838},{"$f":"'Hull Long'!B196","v":3100},{"$f":"'Hull Long'!C196","v":218.80232309694463},{"$f":"'Hull Plan'!C196","v":223.15408322488329},288.90130777016566,101.90290618131117,307.9214375165721,101.91932981825704,290.686988892454,90.941459910037409,69.73553415701538,19.328942578581465,90.962144954762152,19.323005932947215,70.739580035086959,89.931477386331608,89.95809907669053,3106.3416402510834,-84.060577217793252,3106.44594001615,204.84071172511017,288.9013077701656,0]
[2,3208.2301789022331,319.22830873419133,2,3208.365242580519,609.91526624891117,null,null,null,null,null,null,null,null,{"$f":"'Hull Long'!B146","v":3200},{"$f":"'Hull Long'!C146","v":-63.801324613675582},{"$f":"'Hull Plan'!C146","v":152.79223288733277},{"$f":"'Hull Long'!B197","v":3200},{"$f":"'Hull Long'!C197","v":222.37631839636384},{"$f":"'Hull Plan'!C197","v":203.79494201969584},290.686988892454,101.22023634026435,309.49144524955375,101.23936699111491,292.60786134740454,91.013121332897043,69.899951040618419,19.093755399275203,91.039743023256051,19.086927626484577,70.987299731492683,89.918944869232106,89.952394332381658,3208.2301789022331,-85.771711265808634,3208.365242580519,204.91524624891116,290.68698889245405,0]
[2,3309.4337492110058,317.39157208014694,2,3309.6045746261179,609.9993835633328,null,null,null,null,null,null,null,null,{"$f":"'Hull Long'!B147","v":3299},{"$f":"'Hull Long'!C147","v":-61.877322190583882},{"$f":"'Hull Plan'!C147","v":131.79617469883209},{"$f":"'Hull Long'!B198","v":3299},{"$f":"'Hull Long'!C198","v":226.22070974884915},{"$f":"'Hull Plan'!C198","v":182.9711555270672},292.60786134740454,2.0485082860399886,292.65238341267616,2.0489258854995835,292.64823624130594,91.044853116191632,88.554151272349827,0.40114362133952797,91.078302579341312,0.40099561145820617,89.683458097667369,89.915398280993159,89.948995754023997,3309.4337492110058,-87.608447919853006,3309.6045746261179,204.99936356333282,292.60786134740482,0]
[2,3311.4818947274057,317.35302157269143,2,3311.6534996997902,610.00120750057454,null,null,null,null,null,null,null,null,{"$f":"'Hull Long'!B148","v":3301},{"$f":"'Hull Long'!C148","v":-61.8368825294666},{"$f":"'Hull Plan'!C148","v":131.35486887314744},{"$f":"'Hull Long'!B199","v":3301},{"$f":"'Hull Long'!C199","v":226.30151312083601},{"$f":"'Hull Plan'!C199","v":182.53347059547164},292.64823624130594,101.58890977135866,311.58903039914389,101.61117672960808,294.72448558266694,91.083571613712593,69.891673853556554,19.032591978708545,91.117169086743274,19.024754532730832,71.062714907270845,89.904693114020631,89.946128033029169,3311.4818947274057,-87.646998427308489,3311.6534996997902,205.00118750057456,292.64823624130617,0]
[2,3413.0514939284913,315.37233818957975,2,3413.264631514352,610.09674670427523,null,null,null,null,null,null,null,null,{"$f":"'Hull Long'!B149","v":3400},{"$f":"'Hull Long'!C149","v":-59.757358501947323},{"$f":"'Hull Plan'!C149","v":108.66165031886959},{"$f":"'Hull Long'!B200","v":3400},{"$f":"'Hull Long'!C200","v":230.45665559505079},{"$f":"'Hull Plan'!C200","v":160.02644886014153},294.72448558266694,103.00874597527348,314.15377280336179,103.03457468318703,296.97634489631793,91.150617504165751,69.712468187422758,19.145873228064328,91.192052423174118,19.136914308411509,70.965052749651974,89.88907402228368,89.93946786094503,3413.0514939284913,-89.627681810420228,3413.264631514352,205.09672670427526,294.72448558266689,0]
[2,3516.0379466282311,313.22937115234686,2,3516.2991486959663,610.20560118003175,null,null,null,null,null,null,null,null,{"$f":"'Hull Long'!B150","v":3500},{"$f":"'Hull Long'!C150","v":-57.502069708868099},{"$f":"'Hull Plan'!C150","v":84.050363886457433},{"$f":"'Hull Long'!B201","v":3500},{"$f":"'Hull Long'!C201","v":234.96299749431853},{"$f":"'Hull Plan'!C201","v":135.61709690577473},296.97634489631793,103.43092083875487,316.53756954880993,103.46031401519699,299.38364206226601,91.215458343752829,69.716932002502844,19.077646643973598,91.265852182414051,19.067609653744334,71.050514541556737,89.871838814469641,89.932269643360229,3516.0379466282311,-91.770648847653092,3516.2991486959663,205.20558118003183,296.97634489631764,0]
[2,3619.4436254848747,310.94442788184074,2,3619.7593904233304,610.32790342277701,null,null,null,null,null,null,null,null,{"$f":"'Hull Long'!B151","v":3600},{"$f":"'Hull Long'!C151","v":-55.091243757645479},{"$f":"'Hull Plan'!C151","v":57.741747355258241},{"$f":"'Hull Long'!B202","v":3600},{"$f":"'Hull Long'!C202","v":239.78012159353574},{"$f":"'Hull Plan'!C202","v":109.52434136834813},299.38364206226601,103.87934956597847,319.07432606453847,103.9125133874627,301.94640079611389,91.277701422375202,69.727410674589663,19.006026483441207,91.338132251265677,18.994887903035121,71.14098748829943,89.852986028259394,89.924555437556009,3619.4436254848747,-94.055592118159225,3619.7593904233304,205.32788342277703,299.38364206226555,4.5474735088646412E-13]
[2,3723.2946459822047,308.51856557867086,2,3723.6718137266371,610.46473081052079,null,null,null,null,null,null,null,null,{"$f":"'Hull Long'!B152","v":3700},{"$f":"'Hull Long'!C152","v":-52.524880648279463},{"$f":"'Hull Plan'!C152","v":29.735800725272014},{"$f":"'Hull Long'!B203","v":3700},{"$f":"'Hull Long'!C203","v":244.90802789270245},{"$f":"'Hull Plan'!C203","v":81.748182247861763},301.94640079611389,52.116348558881917,307.59159135522685,52.134410490711367,303.28608579552969,91.319690065158596,78.928034056620163,9.7582643919135936,91.391259474455126,9.7522758782212016,80.400921684363098,89.840813923723275,89.918371846712319,3723.2946459822047,-96.481454421329119,3723.6718137266371,205.46471081052084,301.94640079611327,6.2527760746888816E-13]
[2,3775.3956309177852,307.25319770596155,2,3775.8061713084066,610.53900563927164,null,null,null,null,null,null,null,null,{"$f":"'Hull Long'!B153","v":3750},{"$f":"'Hull Long'!C153","v":-51.183372659292687},{"$f":"'Hull Plan'!C153","v":15.096328623233717},{"$f":"'Hull Long'!B204","v":3750},{"$f":"'Hull Long'!C204","v":247.58852436726687},{"$f":"'Hull Plan'!C204","v":67.22882634397115},303.28608579552969,52.23814403934206,308.96124375959295,52.257223447680168,304.66464528703079,91.348656278861171,78.919926346876366,9.7376869193269542,91.42621420185003,9.7314173742624455,80.432019405650976,89.830293675022091,89.914121143075633,3775.3956309177852,-97.746822294038381,3775.8061713084066,205.53898563927166,303.28608579552895,7.3896444519050419E-13]
[2,3827.6175919372836,305.95301312173683,2,3828.063336055357,610.61733233232792,null,null,null,null,null,null,null,null,{"$f":"'Hull Long'!B154","v":3800},{"$f":"'Hull Long'!C154","v":-49.802980380770059},{"$f":"'Hull Plan'!C154","v":3.2523996498696306E-2},{"$f":"'Hull Long'!B205","v":3800},{"$f":"'Hull Long'!C205","v":250.34671639181866},{"$f":"'Hull Plan'!C205","v":52.288619544315623},304.66464528703079,5.5674516986533008E-2,304.66596150376529,5.5695379169767655E-2,304.66613350022385,91.349438006608551,88.640094692842297,1.0474074681068497E-2,91.43326547466188,1.0467300537864693E-2,90.171702000240259,89.817823925006962,89.901658167275428,3827.6175919372836,-99.047006878263119,3828.063336055357,205.61731233232797,304.66464528702988,9.0949470177292824E-13]
[2,3827.6732490357272,305.95162055771692,2,3828.1190313524876,610.61742792720452,null,null,null,null,null,null,null,null,{"$f":"'Hull Long'!B155","v":3800.0532258064518},{"$f":"'Hull Long'!C155","v":-49.801490212416752},{"$f":"'Hull Plan'!C155","v":1.6262238674926266E-2},{"$f":"'Hull Long'!B206","v":3800.0532258064518},{"$f":"'Hull Long'!C206","v":250.34969392982092},{"$f":"'Hull Plan'!C206","v":52.272491213470005},304.66613350022385,5.5674658617386401E-2,304.66744974941764,5.5695521981112432E-2,304.66762175747272,91.349467985932122,88.640064738187235,1.0474050427646995E-2,91.433302228117327,1.0467275885728856E-2,90.171713488448063,89.817812461121747,89.901653477934644,3827.6732490357272,-99.048399442283028,3828.1190313524876,205.61740792720457,304.66613350022294,9.0949470177292824E-13]
[2,3827.7289062748637,305.95022795445209,2,3828.1747267924216,610.61752352688461,null,null,null,null,null,null,null,null,{"$f":"'Hull Long'!B156","v":3800.1064516129031},{"$f":"'Hull Long'!C156","v":-49.8},{"$f":"'Hull Plan'!C156","v":0},{"$f":"'Hull Long'!B207","v":3800.1064516129031},{"$f":"'Hull Long'!C207","v":250.35267155586732},{"$f":"'Hull Plan'!C207","v":52.256362405718619},304.66762175747272,282.98036490165737,151.47265715159946,139.58066766884781,59.003419728445344,29.580250525103079,83.167012538033035,67.144914275990971,29.664091541835319,67.252736936863869,22.92535275319581,89.929732970813234,89.905751326753204,3827.7289062748637,-99.049792045547875,3828.1747267924216,205.61750352688466,304.66762175747169,1.0231815394945443E-12]
[2,3967.779902009157,551.84371203588955,2,3967.7552056184813,610.84712659569288,null,null,null,null,null,null,null,null,{"$f":"'Hull Long'!B157","v":3933.0645161290322},{"$f":"'Hull Long'!C157","v":200},{"$f":"'Hull Plan'!C157","v":0},{"$f":"'Hull Long'!B208","v":3933.0645161290322},{"$f":"'Hull Long'!C208","v":258.0655893948242},{"$f":"'Hull Plan'!C208","v":10.478057444702131},59.003419728445344,67.969663307043419,33.666107025861173,33.666107025861173,1.0000000000000001E-5,29.690219135953086,60.236736386812794,89.999991486804717,29.66623749181241,90.07304447723412,1.7011319381440576E-5,89.999991486804717,89.902956867386465,3967.779902009157,146.8436920358896,3967.7552056184813,205.84710659569291,59.003419728247287,1.9805668216577033E-10]
[2,4001.4212643720612,610.90413760530635,2,4001.4212643554606,610.90414760063288,null,null,null,null,null,null,null,null,{"$f":"'Hull Long'!B158","v":3965},{"$f":"'Hull Long'!C158","v":260},{"$f":"'Hull Plan'!C158","v":0},{"$f":"'Hull Long'!B209","v":3965},{"$f":"'Hull Long'!C209","v":260},{"$f":"'Hull Plan'!C209","v":0},1.0000000000000001E-5,74.492004735497048,74.492004735497048,74.492004735497048,1.0000000000000001E-5,89.999996152524773,7.6839628162643457E-6,89.999996152524773,89.902961517954679,89.999996152524773,7.6839628162643457E-6,89.999996152524773,89.902961544094154,4001.4212643720612,205.90411760530642,4001.4212643554606,205.9041276006329,9.9953402647334664E-6,4.6597352665344628E-9]
[0,{"$f":"AH159+$H$110","v":4075.9131622704099},{"$f":"AI159+$I$110","v":611.03030025933958},0,{"$f":"AJ159+$H$110","v":4075.9131622538671},{"$f":"AK159+$I$110","v":611.03031022068137},null,null,null,null,null,null,null,null,{"$f":"'Hull Long'!B159","v":4000},{"$f":"'Hull Long'!C159","v":325.75757575757575},{"$f":"'Hull Plan'!C159","v":0},{"$f":"'Hull Long'!B210","v":4000},{"$f":"'Hull Long'!C210","v":325.75757575757575},{"$f":"'Hull Plan'!C210","v":0},1.0000000000000001E-5,null,null,null,null,null,null,null,null,null,null,null,null,4075.9131622704099,206.03028025933966,4075.9131622538671,206.03029022068145,9.9613555250695401E-6,3.8644474930460727E-8]
[0,0,0,0,0,0,null,null,null,null,null,null,null,null,"X0","Z0","Y0","X1","Z1","Y1","F","L","D","U","F'","A1","A2","A3","A","B1","B2","B3","B","XA","YA","XB","YB","Check F","Error F"]
[0,{"$f":"AH161+$H$161","v":-37.045603203283164},{"$f":"AI161+$I$161","v":-23.08113738225255},0,{"$f":"AJ161+$H$161","v":-37.04560629772547},{"$f":"AK161+$I$161","v":-23.081127886908959},"Washboard",{"$f":"0*Basic!$D$2","v":0},{"$f":"I59+AK83-AI185","v":75.000009999999975},null,null,null,null,null,{"$f":"'Hull Long'!B212","v":0},{"$f":"'Hull Long'!C212","v":325.75757575757575},{"$f":"'Hull Plan'!C212","v":0},{"$f":"'Hull Long'!B161","v":0},{"$f":"'Hull Long'!C161","v":325.75757575757575},{"$f":"'Hull Plan'!C161","v":0},{"$f":"((O161-R161)^2+(S161-P161)^2+(T161-Q161)^2)^0.5+0.00001","v":1.0000000000000001E-5},null,null,null,null,null,null,null,null,null,null,null,null,{"$f":"AH162-V162*SIN(AC162*PI()/180)","v":-37.045603203283164},{"$f":"AI162+V162*COS(AC162*PI()/180)","v":-98.081147382252524},{"$f":"AJ162-X162*SIN(AG162*PI()/180)","v":-37.04560629772547},{"$f":"AK162+X162*COS(AG162*PI()/180)","v":-98.081137886908934},{"$f":"((AH161-AJ161)^2+(AI161-AK161)^2)^0.5","v":9.9868475049337134E-6},{"$f":"U161-AL161","v":1.3152495066287402E-8}]
[3,{"$f":"AH162+$H$161","v":33.780285877166577},{"$f":"AI162+$I$161","v":2.8816898115735512E-4},3,{"$f":"AJ162+$H$161","v":33.780282777590074},{"$f":"AK162+$I$161","v":2.9768007914299233E-4},null,null,null,null,null,null,null,null,{"$f":"'Hull Long'!B213","v":35},{"$f":"'Hull Long'!C213","v":260},{"$f":"'Hull Plan'!C213","v":0},{"$f":"'Hull Long'!B162","v":35},{"$f":"'Hull Long'!C162","v":260},{"$f":"'Hull Plan'!C162","v":0},1.0000000000000001E-5,{"$f":"((O162-O161)^2+(P162-P161)^2+(Q162-Q161)^2)^0.5","v":74.492004735497048},{"$f":"((R162-O161)^2+(S162-P161)^2+(T162-Q161)^2)^0.5","v":74.492004735497048},{"$f":"((R162-R161)^2+(S162-S161)^2+(T162-T161)^2)^0.5","v":74.492004735497048},{"$f":"U161","v":1.0000000000000001E-5},{"$f":"ACOS((U162*U162+V162*V162-W162*W162)/2/U162/V162)*180/PI()","v":89.999996152524773},{"$f":"ACOS((V162*V162+W162*W162-U162*U162)/2/V162/W162)*180/PI()","v":7.6839628162643457E-6},{"$f":"ACOS((W162*W162+Y162*Y162-X162*X162)/2/W162/Y162)*180/PI()","v":89.999996152524773},{"$f":"AC163+Z162+AA163+AB163-180","v":108.05025403539878},{"$f":"ACOS((U162*U162+W162*W162-V162*V162)/2/U162/W162)*180/PI()","v":89.999996152524773},{"$f":"ACOS((W162*W162+X162*X162-Y162*Y162)/2/W162/X162)*180/PI()","v":7.6839628162643457E-6},{"$f":"ACOS((X162*X162+Y162*Y162-W162*W162)/2/X162/Y162)*180/PI()","v":89.999996152524773},{"$f":"180+AG163-AF163-AE162-AD162","v":108.05025404814356},33.780285877166577,-74.999721831018817,33.780282777590074,-74.999712319920832,1.0003417385596579E-5,-3.4173855965776963E-9]
[3,65.774302106178169,2.8748135723333235E-4,3,65.774299071361526,10.426814177563372,null,null,null,null,null,null,null,null,{"$f":"'Hull Long'!B214","v":66.935483870967744},{"$f":"'Hull Long'!C214","v":258.0655893948242},{"$f":"'Hull Plan'!C214","v":0},{"$f":"'Hull Long'!B163","v":66.935483870967744},{"$f":"'Hull Long'!C163","v":258.0655893948242},{"$f":"'Hull Plan'!C163","v":10.426516696201418},10.426526696201417,31.994016229011599,33.650101409630615,33.650101409630615,1.0000000000000001E-5,89.999982091728754,18.050267631534687,89.999991482755433,89.999998768583851,71.949750276736538,1.7032730748334001E-5,89.999991482755433,108.0502493673866,65.774302106178169,-74.999722518642741,65.774299071361526,-64.573195822436602,10.426526696206581,-5.1638693321365281E-12]
[3,198.95589250614861,2.7635669536607566E-4,3,198.95589294540417,52.017493877175028,null,null,null,null,null,null,null,null,{"$f":"'Hull Long'!B215","v":199.89354838709676},{"$f":"'Hull Long'!C215","v":250.35267155586732},{"$f":"'Hull Plan'!C215","v":0},{"$f":"'Hull Long'!B164","v":199.89354838709676},{"$f":"'Hull Long'!C164","v":250.35267155586732},{"$f":"'Hull Plan'!C164","v":52.0172075204772},52.017217520477203,133.1815903999709,142.97945971255456,139.52462716203948,10.426526696201417,89.99999569792088,21.334306300996118,68.665715161776944,89.999995214081991,68.665698001083001,3.9914744618807823,107.34281037634231,107.34282705319617,198.95589250614861,-74.999733643304609,198.95589294540417,-22.982516122824947,52.017217520479662,-2.4584778657299466E-12]
[3,199.00920458722825,1.6528591833235851E-2,3,199.00920498895545,52.033546111535159,null,null,null,null,null,null,null,null,{"$f":"'Hull Long'!B216","v":199.94677419354838},{"$f":"'Hull Long'!C216","v":250.34969392982092},{"$f":"'Hull Plan'!C216","v":1.6262238674983109E-2},{"$f":"'Hull Long'!B165","v":199.94677419354838},{"$f":"'Hull Long'!C165","v":250.34969392982092},{"$f":"'Hull Plan'!C165","v":52.033269758374445},52.017017519699465,5.5734308428649071E-2,52.033297066402525,5.5676280547153595E-2,52.017217520477203,106.95388951504455,72.987406579143155,5.8703864480660513E-2,106.95388907253727,5.8703905823253202E-2,73.184269141089544,106.75702699442913,106.7570265105891,199.00920458722825,-74.983481408166739,199.00920498895545,-22.966463888464816,52.017017519701923,-2.4584778657299466E-12]
[3,199.06251666328851,3.2780346158375551E-2,3,199.06251702748943,52.049597875745931,null,null,null,null,null,null,null,null,{"$f":"'Hull Long'!B217","v":200},{"$f":"'Hull Long'!C217","v":250.34671639181866},{"$f":"'Hull Plan'!C217","v":3.2523996498696306E-2},{"$f":"'Hull Long'!B166","v":200},{"$f":"'Hull Long'!C166","v":250.34671639181866},{"$f":"'Hull Plan'!C166","v":52.04933152608379},52.016817529585097,5.5734163423320791E-2,52.03309659553706,5.5676140194245743E-2,52.017017519699465,106.95341817549907,72.987877698031198,5.8704085125242264E-2,106.95341777433629,5.8704126473890735E-2,73.184730754127983,106.75656516073333,106.75656471823523,199.06251666328851,-74.967229653841599,199.06251702748943,-22.95041212425404,52.016817529587556,-2.4584778657299466E-12]
[3,249.13853908191098,15.096571761547956,3,249.13853939778457,66.930210251997025,null,null,null,null,null,null,null,null,{"$f":"'Hull Long'!B218","v":250},{"$f":"'Hull Long'!C218","v":247.58852436726687},{"$f":"'Hull Plan'!C218","v":15.096328623233717},{"$f":"'Hull Long'!B167","v":250},{"$f":"'Hull Long'!C167","v":247.58852436726687},{"$f":"'Hull Plan'!C167","v":66.929957113680416},51.833638490446702,52.292693878559604,83.563593633304833,52.240220530952364,52.016817529585097,106.74225662517351,36.441080157511102,36.816663165313081,106.74225627601305,36.81666321731538,36.633470380926177,106.54986645376076,106.54986605259788,249.13853908191098,-59.903438238452019,249.13853939778457,-8.0697997480029464,51.833638490449076,-2.3732127374387346E-12]
[3,299.2103419732025,29.736030767677903,3,299.21034224359738,81.395782628686419,null,null,null,null,null,null,null,null,{"$f":"'Hull Long'!B219","v":300},{"$f":"'Hull Long'!C219","v":244.90802789270245},{"$f":"'Hull Plan'!C219","v":29.735800725272014},{"$f":"'Hull Long'!B168","v":300},{"$f":"'Hull Long'!C168","v":244.90802789270245},{"$f":"'Hull Plan'!C168","v":81.395542586278282},51.659751861006271,52.167990231333526,83.082915412662999,52.119461090989674,51.833638490446702,106.29730080195851,36.641144590246199,37.061554558530084,106.29730050206325,37.061554607795259,36.824620367994839,106.11382507347506,106.11382472431448,299.2103419732025,-45.263979232322072,299.21034224359738,6.3957726286864442,51.659751861008516,-2.2453150450019166E-12]
[3,399.34173721299436,57.741961514347537,3,399.34173743256895,109.08133233762874,null,null,null,null,null,null,null,null,{"$f":"'Hull Long'!B220","v":400},{"$f":"'Hull Long'!C220","v":239.78012159353574},{"$f":"'Hull Plan'!C220","v":57.741747355258241},{"$f":"'Hull Long'!B169","v":400},{"$f":"'Hull Long'!C169","v":239.78012159353574},{"$f":"'Hull Plan'!C169","v":109.08110817853742},51.339370823279182,103.97417212776773,127.757478207212,103.88833411493476,51.659751861006271,105.62587092093909,22.767850560453599,51.606278463762216,105.6258706758889,51.606278518607262,22.938014710849924,105.45570682538788,105.45570652549247,399.34173721299436,-17.258048485652434,399.34173743256895,34.081322337628762,51.3393708232812,-2.0179413695586845E-12]
[3,499.45769747910799,84.050562548361256,3,499.45769765461262,135.10522927475574,null,null,null,null,null,null,null,null,{"$f":"'Hull Long'!B221","v":500},{"$f":"'Hull Long'!C221","v":234.96299749431853},{"$f":"'Hull Plan'!C221","v":84.050363886457433},{"$f":"'Hull Long'!B170","v":500},{"$f":"'Hull Long'!C170","v":234.96299749431853},{"$f":"'Hull Plan'!C170","v":135.10502061285018},51.054666726392753,103.51496504550899,126.52383464674195,103.44297319284688,51.339370823279182,104.72338074897401,22.971194842856185,52.305424360079009,104.72338055201459,52.305424408169792,23.123711060750914,104.57086457917006,104.5708643341197,499.45769747910799,9.0505525483612743,499.45769765461262,60.105219274755783,51.054666726394508,-1.7550405573274475E-12]
[3,599.55918528696373,108.66183386507795,3,599.55918542470226,159.46639992846909,null,null,null,null,null,null,null,null,{"$f":"'Hull Long'!B222","v":600},{"$f":"'Hull Long'!C222","v":230.45665559505079},{"$f":"'Hull Plan'!C222","v":108.66165031886959},{"$f":"'Hull Long'!B171","v":600},{"$f":"'Hull Long'!C171","v":230.45665559505079},{"$f":"'Hull Plan'!C171","v":159.46620638225929},50.8045660633897,103.08260055494978,125.33098745587496,103.02317452595196,51.054666726392753,103.81294821486391,23.181194160006516,53.005857583507705,103.81294805952632,53.005857625129558,23.316263911144997,103.67787850534729,103.67787830838768,599.55918528696373,33.661823865077977,599.55918542470226,84.466389928469113,50.804566063391135,-1.4352963262354024E-12]
[3,698.64634830948103,131.35503772619722,3,698.64634841539157,181.94496291037137,null,null,null,null,null,null,null,null,{"$f":"'Hull Long'!B223","v":699},{"$f":"'Hull Long'!C223","v":226.30151312083601},{"$f":"'Hull Plan'!C223","v":131.35486887314744},{"$f":"'Hull Long'!B172","v":699},{"$f":"'Hull Long'!C172","v":226.30151312083601},{"$f":"'Hull Plan'!C172","v":181.9447840573205},50.589925184173069,101.65258175439148,123.24237460998836,101.60488011544911,50.8045660633897,102.89956828798643,23.586411999156851,53.514019677468838,102.89956816803675,53.514019712856722,23.704395091933577,102.7815852305976,102.78158507525983,698.64634830948103,56.355027726197235,698.64634841539157,106.94495291037138,50.589925184174149,-1.0800249583553523E-12]
[3,700.64798216484269,131.79633346125237,3,700.64798225055597,182.38225220571377,null,null,null,null,null,null,null,null,{"$f":"'Hull Long'!B224","v":701},{"$f":"'Hull Long'!C224","v":226.22070974884915},{"$f":"'Hull Plan'!C224","v":131.79617469883209},{"$f":"'Hull Long'!B173","v":701},{"$f":"'Hull Long'!C173","v":226.22070974884915},{"$f":"'Hull Plan'!C173","v":182.3820834432924},50.585918744460315,2.0497024215011455,51.066458228200425,2.0488435611085207,50.589925184173069,102.43297959045709,75.320642593025894,2.2463777936503107,102.43297949337415,2.2463778165170485,75.430054868512954,102.32356733783692,102.32356721788703,700.64798216484269,56.796323461252399,700.64798225055597,107.38224220571379,50.585918744461395,-1.0800249583553523E-12]
[3,799.72260022930152,152.79237736736886,3,799.72260028871699,203.19587229621015,null,null,null,null,null,null,null,null,{"$f":"'Hull Long'!B225","v":800},{"$f":"'Hull Long'!C225","v":222.37631839636384},{"$f":"'Hull Plan'!C225","v":152.79223288733277},{"$f":"'Hull Long'!B174","v":800},{"$f":"'Hull Long'!C174","v":222.37631839636384},{"$f":"'Hull Plan'!C174","v":203.19571781617304},50.403494928840274,101.27494164069398,122.12155461766811,101.23727930302663,50.585918744460315,101.96518334077787,23.813762425059437,54.221054204620224,101.96518327323741,54.221054234162708,23.914763110083939,101.86418268529584,101.86418258821287,799.72260022930152,77.792367367368882,799.72260028871699,128.19586229621018,50.403494928841297,-1.0231815394945443E-12]
[3,899.78644978238799,172.31165954331971,3,899.78644982038293,222.56161455744095,null,null,null,null,null,null,null,null,{"$f":"'Hull Long'!B226","v":900},{"$f":"'Hull Long'!C226","v":218.80232309694463},{"$f":"'Hull Plan'!C226","v":172.3115290233838},{"$f":"'Hull Long'!B175","v":900},{"$f":"'Hull Long'!C175","v":218.80232309694463},{"$f":"'Hull Plan'!C175","v":222.56147403750413},50.249955014120331,101.94987181966991,121.98573872822607,101.92058651923219,50.403494928840274,101.03797737674309,23.848050319135972,55.113972279903187,101.03797733342037,55.113972304120949,23.932767731522283,100.95325998857452,100.953259921034,899.78644978238799,97.311649543319717,899.78644982038293,147.56160455744097,50.249955014121255,-9.2370555648813024E-13]
[3,999.83968083668674,190.13361198296681,3,999.8396808578151,240.25946010554381,null,null,null,null,null,null,null,null,{"$f":"'Hull Long'!B227","v":1000},{"$f":"'Hull Long'!C227","v":215.5391099974749},{"$f":"'Hull Plan'!C227","v":190.13349506064776},{"$f":"'Hull Long'!B176","v":1000},{"$f":"'Hull Long'!C176","v":215.5391099974749},{"$f":"'Hull Plan'!C176","v":240.2593331832239},50.125848122576144,101.62810159186257,120.94441967232937,101.60641110714563,50.249955014120331,100.09986544182146,24.081207779083783,55.818926759922846,100.09986541767069,55.818926779094753,24.150107080414234,100.03096615966291,100.03096611634017,999.83968083668674,115.13360198296684,999.8396808578151,165.25945010554383,50.125848122576997,-8.5265128291212022E-13]
[3,1099.8832577179137,206.25823468164981,3,1099.8832577263022,256.28781605465048,null,null,null,null,null,null,null,null,{"$f":"'Hull Long'!B228","v":1100},{"$f":"'Hull Long'!C228","v":212.58667909795466},{"$f":"'Hull Plan'!C228","v":206.25813099912466},{"$f":"'Hull Long'!B177","v":1100},{"$f":"'Hull Long'!C177","v":212.58667909795466},{"$f":"'Hull Plan'!C177","v":256.28770237212473},50.02958137300007,101.33469658692852,119.93788389506592,101.31942295074596,50.125848122576144,99.155962345637803,24.318863485273635,56.525174154544729,99.155962336030882,56.525174169088551,24.372608393627843,99.102217451827414,99.10221742767655,1099.8832577179137,131.25822468164984,1099.8832577263022,181.2878060546505,50.029581373000667,-5.9685589803848416E-13]
[3,1199.918145030724,220.68552763484215,3,1199.9181450300707,270.64491917559849,null,null,null,null,null,null,null,null,{"$f":"'Hull Long'!B229","v":1200},{"$f":"'Hull Long'!C229","v":209.94503039838392},{"$f":"'Hull Plan'!C229","v":220.68543683881455},{"$f":"'Hull Long'!B178","v":1200},{"$f":"'Hull Long'!C178","v":209.94503039838392},{"$f":"'Hull Plan'!C178","v":270.64481837957044},49.959391540755888,101.06990383711609,118.96480075921279,101.0599084103246,50.02958137300007,98.206758680154394,24.56028742279139,57.23295388669807,98.20675868090359,57.232953897054209,24.599673941618263,98.167372171683652,98.167372162076646,1199.918145030724,145.68551763484217,1199.9181450300707,195.64490917559854,49.959391540756371,-4.8316906031686813E-13]
[3,1299.9453076309089,233.41549083821417,3,1299.945307624479,283.32879520716534,null,null,null,null,null,null,null,null,{"$f":"'Hull Long'!B230","v":1300},{"$f":"'Hull Long'!C230","v":207.61416389876271},{"$f":"'Hull Plan'!C230","v":233.41541257971738},{"$f":"'Hull Long'!B179","v":1300},{"$f":"'Hull Long'!C179","v":207.61416389876271},{"$f":"'Hull Plan'!C179","v":283.32870694866818},49.913304368950804,100.83394875240695,118.02377823428267,100.82814075382103,49.959391540755888,97.252762504323016,24.804610765722288,57.942626723323002,97.252762511703907,57.942626729954718,24.83059034502357,97.226782931653432,97.226782932402529,1299.9453076309089,158.41548083821419,1299.945307624479,208.32878520716537,49.913304368951174,-3.694822225952521E-13]
[3,1399.9657105975607,244.44812428770783,3,1399.9657105881774,294.33720157445498,null,null,null,null,null,null,null,null,{"$f":"'Hull Long'!B231","v":1400},{"$f":"'Hull Long'!C231","v":205.59407959909097},{"$f":"'Hull Plan'!C231","v":244.44805822183318},{"$f":"'Hull Long'!B180","v":1400},{"$f":"'Hull Long'!C180","v":205.59407959909097},{"$f":"'Hull Plan'!C180","v":294.33712550858013},49.889077286746954,100.62703419281657,117.11334615134409,100.62438084166278,49.913304368950804,96.294497923419627,25.050796669463452,58.654705403721572,96.294497934195874,58.654705407116921,25.064508468819799,96.280786127458612,96.280786134839417,1399.9657105975607,169.44811428770785,1399.9657105881774,219.33719157445501,49.889077286747153,-1.9895196601282805E-13]
[3,1499.9803192052098,253.78342797962884,3,1499.9803191952385,303.66754302280196,null,null,null,null,null,null,null,null,{"$f":"'Hull Long'!B232","v":1500},{"$f":"'Hull Long'!C232","v":203.88477749936874},{"$f":"'Hull Plan'!C232","v":253.78337376516194},{"$f":"'Hull Long'!B181","v":1500},{"$f":"'Hull Long'!C181","v":203.88477749936874},{"$f":"'Hull Plan'!C181","v":303.66747880833503},49.884115043173097,100.44933961934061,116.23192972788981,100.44887857196994,49.889077286746954,95.332503538299733,25.297597834181691,59.369898626842108,95.33250354975246,59.369898627518559,25.300416035196928,95.329685337960981,95.329685348737172,1499.9803192052098,178.78341797962887,1499.9803191952385,228.66753302280202,49.884115043173153,-5.6843418860808015E-14]
[3,1599.9900988959398,261.42140191076669,3,1599.9900988872605,311.31673974930482,null,null,null,null,null,null,null,null,{"$f":"'Hull Long'!B233","v":1600},{"$f":"'Hull Long'!C233","v":202.48625759959597},{"$f":"'Hull Plan'!C233","v":261.42135920970367},{"$f":"'Hull Long'!B182","v":1600},{"$f":"'Hull Long'!C182","v":202.48625759959597},{"$f":"'Hull Plan'!C182","v":311.31668704824187},49.895337838538211,100.30102033160527,115.37780547071904,100.30187557871248,49.884115043173097,94.367330774631682,25.543490915418023,60.089178311436463,94.367330784598209,60.089178309950277,25.537098695042879,94.373722993520644,94.373723004973272,1599.9900988959398,186.42139191076672,1599.9900988872605,236.31672974930484,49.895337838538126,8.5265128291212022E-14]
[3,1699.996015251485,267.36204607856098,3,1699.9960152454457,317.28100361064554,null,null,null,null,null,null,null,null,{"$f":"'Hull Long'!B234","v":1700},{"$f":"'Hull Long'!C234","v":201.39851989977274},{"$f":"'Hull Plan'!C234","v":267.3620145554583},{"$f":"'Hull Long'!B183","v":1700},{"$f":"'Hull Long'!C183","v":201.39851989977274},{"$f":"'Hull Plan'!C183","v":317.28096208754306},49.918957532084761,100.18220679961416,114.54902185079338,100.18361018673687,49.895337838538211,93.399542103970944,25.786566376934491,60.813891522129474,93.39954211090253,60.813891519094582,25.773081862454724,93.413026615415816,93.413026625382244,1699.996015251485,192.362036078561,1699.9960152454457,242.28099361064557,49.918957532084562,1.9895196601282805E-13]
[3,1799.9990339653186,271.60536048135685,3,1799.9990339626509,321.55540869894674,null,null,null,null,null,null,null,null,{"$f":"'Hull Long'!B235","v":1800},{"$f":"'Hull Long'!C235","v":200.621564399899},{"$f":"'Hull Plan'!C235","v":271.60533980242593},{"$f":"'Hull Long'!B184","v":1800},{"$f":"'Hull Long'!C184","v":200.621564399899},{"$f":"'Hull Plan'!C184","v":321.55537802001606},{"$f":"((O184-R184)^2+(S184-P184)^2+(T184-Q184)^2)^0.5+0.00001","v":49.950048217590137},{"$f":"((O184-O183)^2+(P184-P183)^2+(Q184-Q183)^2)^0.5","v":100.09300409619215},{"$f":"((R184-O183)^2+(S184-P183)^2+(T184-Q183)^2)^0.5","v":113.74323849552751},{"$f":"((R184-R183)^2+(S184-S183)^2+(T184-T183)^2)^0.5","v":100.09432696917725},{"$f":"U183","v":49.918957532084761},{"$f":"ACOS((U184*U184+V184*V184-W184*W184)/2/U184/V184)*180/PI()","v":92.429709170208582},{"$f":"ACOS((V184*V184+W184*W184-U184*U184)/2/V184/W184)*180/PI()","v":26.024319513039476},{"$f":"ACOS((W184*W184+Y184*Y184-X184*X184)/2/W184/Y184)*180/PI()","v":61.545971320623487},{"$f":"AC185+Z184+AA185+AB185-180","v":92.429709173268634},{"$f":"ACOS((U184*U184+W184*W184-V184*V184)/2/U184/W184)*180/PI()","v":61.545971316751931},{"$f":"ACOS((W184*W184+X184*X184-Y184*Y184)/2/W184/X184)*180/PI()","v":26.006538649156628},{"$f":"ACOS((X184*X184+Y184*Y184-W184*W184)/2/X184/Y184)*180/PI()","v":92.447490030219896},{"$f":"180+AG185-AF185-AE184-AD184","v":92.447490037151468},{"$f":"AH185-V185*SIN(AC185*PI()/180)","v":1799.9990339653186},{"$f":"AI185+V185*COS(AC185*PI()/180)","v":196.60535048135688},{"$f":"AJ185-X185*SIN(AG185*PI()/180)","v":1799.9990339626509},{"$f":"AK185+X185*COS(AG185*PI()/180)","v":246.55539869894679},{"$f":"((AH184-AJ184)^2+(AI184-AK184)^2)^0.5","v":49.950048217589909},{"$f":"U184-AL184","v":2.2737367544323206E-13}]
[3,2000,275.00000999999997,3,2000,325.00001999999995,null,null,null,null,null,null,null,null,{"$f":"'Hull Long'!B236","v":2000},{"$f":"'Hull Long'!C236","v":200},{"$f":"'Hull Plan'!C236","v":275},{"$f":"'Hull Long'!B185","v":2000},{"$f":"'Hull Long'!C185","v":200},{"$f":"'Hull Plan'!C185","v":325},{"$f":"((O185-R185)^2+(S185-P185)^2+(T185-Q185)^2)^0.5+0.00001","v":50.000010000000003},{"$f":"((O185-O184)^2+(P185-P184)^2+(Q185-Q184)^2)^0.5","v":200.0297729343315},{"$f":"((R185-O184)^2+(S185-P184)^2+(T185-Q184)^2)^0.5","v":207.00573924390991},{"$f":"((R185-R184)^2+(S185-S184)^2+(T185-T184)^2)^0.5","v":200.03062706217818},{"$f":"U184","v":49.950048217590137},{"$f":"ACOS((U185*U185+V185*V185-W185*W185)/2/U185/V185)*180/PI()","v":90.972397382809362},{"$f":"ACOS((V185*V185+W185*W185-U185*U185)/2/V185/W185)*180/PI()","v":13.975351848427728},{"$f":"ACOS((W185*W185+Y185*Y185-X185*X185)/2/W185/Y185)*180/PI()","v":75.052250771822941},{"$f":"Z185","v":90.972397382809362},{"$f":"ACOS((U185*U185+W185*W185-V185*V185)/2/U185/W185)*180/PI()","v":75.052250768762946},{"$f":"ACOS((W185*W185+X185*X185-Y185*Y185)/2/W185/X185)*180/PI()","v":13.961043104379048},{"$f":"ACOS((X185*X185+Y185*Y185-W185*W185)/2/X185/Y185)*180/PI()","v":90.986706123797973},{"$f":"180-AD185-AE185","v":90.98670612685801},{"$f":"O185","v":2000},{"$f":"P185","v":200},{"$f":"AH185","v":2000},{"$f":"AI185+U185","v":250.00001},{"$f":"((AH185-AJ185)^2+(AI185-AK185)^2)^0.5","v":50.000010000000003},{"$f":"U185-AL185","v":0}]
[3,{"$f":"AH186+$H$161","v":2000},{"$f":"AI186+$I$161","v":275.00000999999997},3,2000,325.00001999999995,null,null,null,null,null,null,null,null,{"$f":"'Hull Long'!B237","v":2000},{"$f":"'Hull Long'!C237","v":200},{"$f":"'Hull Plan'!C237","v":275},{"$f":"'Hull Long'!B186","v":2000},{"$f":"'Hull Long'!C186","v":200},{"$f":"'Hull Plan'!C186","v":325},{"$f":"((O186-R186)^2+(S186-P186)^2+(T186-Q186)^2)^0.5+0.00001","v":50.000010000000003},{"$f":"((O186-O187)^2+(P186-P187)^2+(Q186-Q187)^2)^0.5","v":200.0297729343315},{"$f":"((R186-O187)^2+(S186-P187)^2+(T186-Q187)^2)^0.5","v":207.00573924390991},{"$f":"((R186-R187)^2+(S186-S187)^2+(T186-T187)^2)^0.5","v":200.02930218544748},{"$f":"U187","v":50.02786303145453},{"$f":"ACOS((U186*U186+V186*V186-W186*W186)/2/U186/V186)*180/PI()","v":90.972397382809362},{"$f":"ACOS((V186*V186+W186*W186-U186*U186)/2/V186/W186)*180/PI()","v":13.975351848427728},{"$f":"ACOS((W186*W186+Y186*Y186-X186*X186)/2/W186/Y186)*180/PI()","v":75.052250767059704},{"$f":"Z186","v":90.972397382809362},{"$f":"ACOS((U186*U186+W186*W186-V186*V186)/2/U186/W186)*180/PI()","v":75.052250768762946},{"$f":"ACOS((W186*W186+X186*X186-Y186*Y186)/2/W186/X186)*180/PI()","v":13.983328836351077},{"$f":"ACOS((X186*X186+Y186*Y186-W186*W186)/2/X186/Y186)*180/PI()","v":90.964420396589233},{"$f":"180-AD186-AE186","v":90.964420394885977},{"$f":"O186","v":2000},{"$f":"P186","v":200},{"$f":"AH186","v":2000},{"$f":"AI186+U186","v":250.00001},{"$f":"((AH186-AJ186)^2+(AI186-AK186)^2)^0.5","v":50.000010000000003},{"$f":"U186-AL186","v":0}]
[3,2200.0009660346814,271.60536048135685,3,2200.0009660331943,321.63322351281147,null,null,null,null,null,null,null,null,{"$f":"'Hull Long'!B238","v":2200},{"$f":"'Hull Long'!C238","v":200.621564399899},{"$f":"'Hull Plan'!C238","v":271.60533980242593},{"$f":"'Hull Long'!B187","v":2200},{"$f":"'Hull Long'!C187","v":200.621564399899},{"$f":"'Hull Plan'!C187","v":321.63319283388046},{"$f":"((O187-R187)^2+(S187-P187)^2+(T187-Q187)^2)^0.5+0.00001","v":50.02786303145453},{"$f":"((O187-O188)^2+(P187-P188)^2+(Q187-Q188)^2)^0.5","v":100.09300409619215},{"$f":"((R187-O188)^2+(S187-P188)^2+(T187-Q188)^2)^0.5","v":113.78033420401377},{"$f":"((R187-R188)^2+(S187-S188)^2+(T187-T188)^2)^0.5","v":100.09153414497851},{"$f":"U188","v":50.062679320772673},{"$f":"ACOS((U187*U187+V187*V187-W187*W187)/2/U187/V187)*180/PI()","v":92.429709170965623},{"$f":"ACOS((V187*V187+W187*W187-U187*U187)/2/V187/W187)*180/PI()","v":26.058770784532111},{"$f":"ACOS((W187*W187+Y187*Y187-X187*X187)/2/W187/Y187)*180/PI()","v":61.511520040179754},{"$f":"AC186+Z187+AA186+AB186-180","v":92.429709169262424},{"$f":"ACOS((U187*U187+W187*W187-V187*V187)/2/U187/W187)*180/PI()","v":61.511520044502269},{"$f":"ACOS((W187*W187+X187*X187-Y187*Y187)/2/W187/X187)*180/PI()","v":26.078682888986645},{"$f":"ACOS((X187*X187+Y187*Y187-W187*W187)/2/X187/Y187)*180/PI()","v":92.409797070833591},{"$f":"180+AG186-AF186-AE187-AD187","v":92.409797064807833},{"$f":"AH186+V186*SIN(AC186*PI()/180)","v":2200.0009660346814},{"$f":"AI186+V186*COS(AC186*PI()/180)","v":196.60535048135688},{"$f":"AJ186+X186*SIN(AG186*PI()/180)","v":2200.0009660331943},{"$f":"AK186+X186*COS(AG186*PI()/180)","v":246.63321351281147},{"$f":"((AH187-AJ187)^2+(AI187-AK187)^2)^0.5","v":50.027863031454586},{"$f":"U187-AL187","v":-5.6843418860808015E-14}]
[3,2300.0039847488115,267.3620460855534,3,2300.0039847435469,317.42472540632616,null,null,null,null,null,null,null,null,{"$f":"'Hull Long'!B239","v":2300},{"$f":"'Hull Long'!C239","v":201.39851989977274},{"$f":"'Hull Plan'!C239","v":267.3620145554583},{"$f":"'Hull Long'!B188","v":2300},{"$f":"'Hull Long'!C188","v":201.39851989977274},{"$f":"'Hull Plan'!C188","v":317.42468387623097},{"$f":"((O188-R188)^2+(S188-P188)^2+(T188-Q188)^2)^0.5+0.00001","v":50.062679320772673},{"$f":"((O188-O189)^2+(P188-P189)^2+(Q188-Q189)^2)^0.5","v":100.18220679961416},{"$f":"((R188-O189)^2+(S188-P189)^2+(T188-Q189)^2)^0.5","v":114.61917617487957},{"$f":"((R188-R189)^2+(S188-S189)^2+(T188-T189)^2)^0.5","v":100.17932824036595},{"$f":"U189","v":50.111422125818109},{"$f":"ACOS((U188*U188+V188*V188-W188*W188)/2/U188/V188)*180/PI()","v":93.39954210592829},{"$f":"ACOS((V188*V188+W188*W188-U188*U188)/2/V188/W188)*180/PI()","v":25.849288731878929},{"$f":"ACOS((W188*W188+Y188*Y188-X188*X188)/2/W188/Y188)*180/PI()","v":60.751169155958721},{"$f":"AC187+Z188+AA187+AB187-180","v":93.399542099902533},{"$f":"ACOS((U188*U188+W188*W188-V188*V188)/2/U188/W188)*180/PI()","v":60.751169162192774},{"$f":"ACOS((W188*W188+X188*X188-Y188*Y188)/2/W188/X188)*180/PI()","v":25.877117254404027},{"$f":"ACOS((X188*X188+Y188*Y188-W188*W188)/2/X188/Y188)*180/PI()","v":93.371713589637253},{"$f":"180+AG187-AF187-AE188-AD188","v":93.371713577377449},{"$f":"AH187+V187*SIN(AC187*PI()/180)","v":2300.0039847488115},{"$f":"AI187+V187*COS(AC187*PI()/180)","v":192.3620360855534},{"$f":"AJ187+X187*SIN(AG187*PI()/180)","v":2300.0039847435469},{"$f":"AK187+X187*COS(AG187*PI()/180)","v":242.42471540632621},{"$f":"((AH188-AJ188)^2+(AI188-AK188)^2)^0.5","v":50.062679320772816},{"$f":"U188-AL188","v":-1.4210854715202004E-13}]
[3,2400.0099011054972,261.42140193695883,3,2400.0099010947752,311.53282406277708,null,null,null,null,null,null,null,null,{"$f":"'Hull Long'!B240","v":2400},{"$f":"'Hull Long'!C240","v":202.48625759959597},{"$f":"'Hull Plan'!C240","v":261.42135920970367},{"$f":"'Hull Long'!B189","v":2400},{"$f":"'Hull Long'!C189","v":202.48625759959597},{"$f":"'Hull Plan'!C189","v":311.53277133552177},50.111422125818109,100.30102033160527,115.48570810991957,100.29626748929941,50.174091446590808,94.367330778413347,25.636417069127564,59.996252144212633,94.367330766153543,59.996252152459078,25.672113927229169,94.331633928558205,94.331633908051998,2400.0099011054972,186.42139193695886,2400.0099010947752,236.53281406277711,50.111422125818251,-1.4210854715202004E-13]
[3,2500.0196807986858,253.78342803801613,3,2500.0196807807292,303.95751948460696,null,null,null,null,null,null,null,null,{"$f":"'Hull Long'!B241","v":2500},{"$f":"'Hull Long'!C241","v":203.88477749936874},{"$f":"'Hull Plan'!C241","v":253.78337376516194},{"$f":"'Hull Long'!B190","v":2500},{"$f":"'Hull Long'!C190","v":203.88477749936874},{"$f":"'Hull Plan'!C190","v":303.95745521175274},50.174091446590808,100.44933961934061,116.37993832173981,100.44225009565315,50.25068728309077,95.332503544495694,25.42043944089329,59.247057004254167,95.332503523989431,59.247057014611038,25.463943296965411,95.288999698780387,95.288999667917352,2500.0196807986858,178.78341803801615,2500.0196807807292,228.95750948460699,50.174091446590836,0]
[3,2600.0342894105324,244.44812439106667,3,2600.034289383465,294.6988116741573,null,null,null,null,null,null,null,null,{"$f":"'Hull Long'!B242","v":2600},{"$f":"'Hull Long'!C242","v":205.59407959909097},{"$f":"'Hull Plan'!C242","v":244.44805822183318},{"$f":"'Hull Long'!B191","v":2600},{"$f":"'Hull Long'!C191","v":205.59407959909097},{"$f":"'Hull Plan'!C191","v":294.69873550492395},50.25068728309077,100.62703419281657,117.30186021258541,100.61714964492336,50.341209635317995,96.294497932535677,25.201645124542509,58.503856930359582,96.294497901672571,58.503856942921786,25.252881739789935,96.243261329850512,96.243261286425209,2600.0342894105324,169.4481143910667,2600.034289383465,219.69880167415732,50.250687283090627,1.4210854715202004E-13]
[3,2700.0546923834468,233.4154909983485,3,2700.054692345293,283.75670063366624,null,null,null,null,null,null,null,null,{"$f":"'Hull Long'!B243","v":2700},{"$f":"'Hull Long'!C243","v":207.61416389876271},{"$f":"'Hull Plan'!C243","v":233.41541257971738},{"$f":"'Hull Long'!B192","v":2700},{"$f":"'Hull Long'!C192","v":207.61416389876271},{"$f":"'Hull Plan'!C192","v":283.75661221503537},50.341209635317995,100.83394875240695,118.2514528535572,100.82081564567208,50.445658503272483,97.252762516740674,24.980327405157905,57.766910063242349,97.252762473315329,57.766910078101439,25.03921006333988,97.193879873417771,97.193879815133386,2700.0546923834468,158.41548099834853,2700.054692345293,208.7566906336663,50.341209635317767,2.2737367544323206E-13]
[3,2800.081854992161,220.68552786199538,3,2800.0818549408455,271.13118636526758,null,null,null,null,null,null,null,null,{"$f":"'Hull Long'!B244","v":2800},{"$f":"'Hull Long'!C244","v":209.94503039838392},{"$f":"'Hull Plan'!C244","v":220.68543683881455},{"$f":"'Hull Long'!B193","v":2800},{"$f":"'Hull Long'!C193","v":209.94503039838392},{"$f":"'Hull Plan'!C193","v":271.13108534208703},50.445658503272483,101.06990383711609,119.22868158725913,101.0530741672257,50.564033886954263,98.206758696098163,24.756781970360635,57.036459316297488,98.206758637813778,57.036459333541181,24.823211966346932,98.140328717355587,98.140328641827523,2800.081854992161,145.68551786199541,2800.0818549408455,196.13117636526758,50.44565850327217,3.1263880373444408E-13]
[3,2900.1167423158213,206.25823498403517,3,2900.1167422491676,256.82226887098909,null,null,null,null,null,null,null,null,{"$f":"'Hull Long'!B245","v":2900},{"$f":"'Hull Long'!C245","v":212.58667909795466},{"$f":"'Hull Plan'!C245","v":206.25813099912466},{"$f":"'Hull Long'!B194","v":2900},{"$f":"'Hull Long'!C194","v":212.58667909795466},{"$f":"'Hull Plan'!C194","v":256.82215488607892},50.564033886954263,101.33469658692852,120.23349864962142,101.31372856742354,50.696335786363221,99.155962365148071,24.531305340969286,56.312732274170507,99.155962289619993,56.312732293882632,24.60517252843546,99.082095197394025,99.082095102153843,2900.1167423158213,131.25822498403519,2900.1167422491676,181.82225887098912,50.564033886953922,3.4106051316484809E-13]
[3,3000.1603192101097,190.13361236638974,3,3000.16031912584,240.82994815275259,null,null,null,null,null,null,null,null,{"$f":"'Hull Long'!B246","v":3000},{"$f":"'Hull Long'!C246","v":215.5391099974749},{"$f":"'Hull Plan'!C246","v":190.13349506064776},{"$f":"'Hull Long'!B195","v":3000},{"$f":"'Hull Long'!C195","v":215.5391099974749},{"$f":"'Hull Plan'!C195","v":240.82982084701098},50.696335786363221,101.62810159186257,121.26584380673845,101.60256030346308,50.842564201499499,100.09986546473306,24.304193352311447,55.595941160695489,100.09986536949282,55.595941182955507,24.385376744351227,100.01868209495328,100.0186819774531,3000.1603192101097,115.13360236638977,3000.16031912584,165.82993815275262,50.696335786362852,3.694822225952521E-13]
[3,3100.2135502793944,172.3116600108736,3,3100.2135501751286,223.15422421237258,null,null,null,null,null,null,null,null,{"$f":"'Hull Long'!B247","v":3100},{"$f":"'Hull Long'!C247","v":218.80232309694463},{"$f":"'Hull Plan'!C247","v":172.3115290233838},{"$f":"'Hull Long'!B196","v":3100},{"$f":"'Hull Long'!C196","v":218.80232309694463},{"$f":"'Hull Plan'!C196","v":223.15408322488329},50.842564201499499,101.94987181966991,122.32564500268997,101.91932981825704,51.002719132363069,101.03797740266786,24.075739699642366,54.886282872806831,101.03797728516764,54.886282897689767,24.164108115639085,100.94960901155409,100.94960886917093,3100.2135502793944,97.311650010873635,3100.2135501751286,148.15421421237261,50.842564201498973,5.2580162446247414E-13]
[3,3200.2773998489197,152.79237791919346,3,3200.2773997221752,203.79509705155601,null,null,null,null,null,null,null,null,{"$f":"'Hull Long'!B248","v":3200},{"$f":"'Hull Long'!C248","v":222.37631839636384},{"$f":"'Hull Plan'!C248","v":152.79223288733277},{"$f":"'Hull Long'!B197","v":3200},{"$f":"'Hull Long'!C197","v":222.37631839636384},{"$f":"'Hull Plan'!C197","v":203.79494201969584},51.002719132363069,101.27494164069398,122.47286164940763,101.23936699111491,51.17499082823511,101.96518336908092,24.041190106266448,53.993626497170609,101.96518322669777,53.99362652465264,24.136568001182315,101.86980550164704,101.86980533178185,3200.2773998489197,77.792367919193481,3200.2773997221752,128.79508705155604,51.002719132362557,5.1159076974727213E-13]
[3,3299.3520179304332,131.79633409355233,3,3299.3520177787145,182.97132492178702,null,null,null,null,null,null,null,null,{"$f":"'Hull Long'!B249","v":3299},{"$f":"'Hull Long'!C249","v":226.22070974884915},{"$f":"'Hull Plan'!C249","v":131.79617469883209},{"$f":"'Hull Long'!B198","v":3299},{"$f":"'Hull Long'!C198","v":226.22070974884915},{"$f":"'Hull Plan'!C198","v":182.9711555270672},51.17499082823511,2.0497024215011455,51.655082781121735,2.0489258854995835,51.178611722324206,102.43297961920143,75.346253587612239,2.2207667727598577,102.43297944933624,2.2207667931864994,75.445132973805954,102.33410025343422,102.33410006314236,3299.3520179304332,56.796324093552343,3299.3520177787145,107.97131492178703,51.174990828234684,4.2632564145606011E-13]
[3,3301.3536517861339,131.35503836003562,3,3301.3536516161589,182.5336500823594,null,null,null,null,null,null,null,null,{"$f":"'Hull Long'!B250","v":3301},{"$f":"'Hull Long'!C250","v":226.30151312083601},{"$f":"'Hull Plan'!C250","v":131.35486887314744},{"$f":"'Hull Long'!B199","v":3301},{"$f":"'Hull Long'!C199","v":226.30151312083601},{"$f":"'Hull Plan'!C199","v":182.53347059547164},51.178611722324206,101.65258175439148,123.59332926966414,101.61117672960808,51.364808541271941,102.89956831782192,23.805828906453797,53.29460274546895,102.89956812753024,53.2946027757243,23.908170601519547,102.79722665301149,102.79722643246434,3301.3536517861339,56.355028360035647,3301.3536516161589,107.53364008235943,51.17861172232378,4.2632564145606011E-13]
[3,3400.4408148246948,108.6618345689682,3,3400.440814626978,160.02664311024,null,null,null,null,null,null,null,null,{"$f":"'Hull Long'!B251","v":3400},{"$f":"'Hull Long'!C251","v":230.45665559505079},{"$f":"'Hull Plan'!C251","v":108.66165031886959},{"$f":"'Hull Long'!B200","v":3400},{"$f":"'Hull Long'!C200","v":230.45665559505079},{"$f":"'Hull Plan'!C200","v":160.02644886014153},51.364808541271941,103.08260055494978,125.6689007083358,103.03457468318703,51.5667430193173,103.81294824510687,23.38520527202688,52.801846449712386,103.81294802455989,52.801846482866253,23.494250217091928,103.7039033331957,103.70390307949471,3400.4408148246948,33.661824568968228,3400.440814626978,85.026633110240013,51.364808541271785,1.5631940186722204E-13]
[3,3500.5423026475705,84.050563313341371,3,3500.5423024192373,135.61730633265879,null,null,null,null,null,null,null,null,{"$f":"'Hull Long'!B252","v":3500},{"$f":"'Hull Long'!C252","v":234.96299749431853},{"$f":"'Hull Plan'!C252","v":84.050363886457433},{"$f":"'Hull Long'!B201","v":3500},{"$f":"'Hull Long'!C201","v":234.96299749431853},{"$f":"'Hull Plan'!C201","v":135.61709690577473},51.5667430193173,103.51496504550899,126.83759203092114,103.46031401519699,51.782604013089895,104.72338077825917,23.154232735290915,52.122386450421942,104.72338052455837,52.122386486449919,23.269850206662223,104.60776334291582,104.60776305318686,3500.5423026475705,9.0505533133414033,3500.5423024192373,60.617296332658803,51.5667430193174,-9.9475983006414026E-14]
[3,3600.6582629262912,57.741962327303412,3,3600.6582626644413,109.5245663403937,null,null,null,null,null,null,null,null,{"$f":"'Hull Long'!B253","v":3600},{"$f":"'Hull Long'!C253","v":239.78012159353574},{"$f":"'Hull Plan'!C253","v":57.741747355258241},{"$f":"'Hull Long'!B202","v":3600},{"$f":"'Hull Long'!C202","v":239.78012159353574},{"$f":"'Hull Plan'!C202","v":109.52434136834813},51.782604013089895,103.97417212776773,128.0332247542209,103.9125133874627,52.012391522589752,105.62587094765688,22.923309847720496,51.45081916567073,105.62587065792809,51.45081920462264,23.04532852330178,105.50385231102752,105.50385198234667,3600.6582629262912,-17.258047672696559,3600.6582626644413,34.52455634039373,51.782604013090292,-3.979039320256561E-13]
[3,3700.7896581748623,29.736031612022494,3,3700.7896578764903,81.748423134612892,null,null,null,null,null,null,null,null,{"$f":"'Hull Long'!B254","v":3700},{"$f":"'Hull Long'!C254","v":244.90802789270245},{"$f":"'Hull Plan'!C254","v":29.735800725272014},{"$f":"'Hull Long'!B203","v":3700},{"$f":"'Hull Long'!C203","v":244.90802789270245},{"$f":"'Hull Plan'!C203","v":81.748182247861763},52.012391522589752,52.167990231333526,83.364588722964356,52.134410490711367,52.132507720737436,106.29730082394354,36.787212264729952,36.915486877541177,106.29730049526285,36.915486911326482,36.913915932483285,106.17059718997552,106.17059682750936,3700.7896581748623,-45.263978387977481,3700.7896578764903,6.7484131346129246,52.012391522590406,-6.5369931689929217E-13]
[3,3750.8614610678915,15.096572611835555,3,3750.8614607380896,67.229080332573773,null,null,null,null,null,null,null,null,{"$f":"'Hull Long'!B255","v":3750},{"$f":"'Hull Long'!C255","v":247.58852436726687},{"$f":"'Hull Plan'!C255","v":15.096328623233717},{"$f":"'Hull Long'!B204","v":3750},{"$f":"'Hull Long'!C204","v":247.58852436726687},{"$f":"'Hull Plan'!C204","v":67.22882634397115},52.132507720737436,52.292693878559604,83.80304691607121,52.257223447680168,52.256105547816929,106.74225664423635,36.563529664631716,36.694213656249765,106.74225628177032,36.6942136911319,36.693300256072028,106.61248608767823,106.61248569032992,3750.8614610678915,-59.90343738816442,3750.8614607380896,-7.7709296674261985,52.132507720738218,-7.815970093361102E-13]
[3,3800.9374834850005,3.278119141417335E-2,3,3800.9374831226023,52.28888673923197,null,null,null,null,null,null,null,null,{"$f":"'Hull Long'!B256","v":3800},{"$f":"'Hull Long'!C256","v":250.34671639181866},{"$f":"'Hull Plan'!C256","v":3.2523996498696306E-2},{"$f":"'Hull Long'!B205","v":3800},{"$f":"'Hull Long'!C205","v":250.34671639181866},{"$f":"'Hull Plan'!C205","v":52.288619544315623},52.256105547816929,5.5734163423500231E-2,52.27238448876016,5.5695379169767655E-2,52.256238974795082,106.95341819090032,72.988146413280518,5.8435368367865129E-2,106.95341779355215,5.8435395823392744E-2,73.119434936556132,106.8221296950704,106.82212927027213,3800.9374834850005,-74.967228808585801,3800.9374831226023,-22.711123260768002,52.256105547817796,-8.6686213762732223E-13]
[3,3800.9907955610556,1.6529437071099551E-2,3,3800.9907951736209,52.272768411867048,null,null,null,null,null,null,null,null,{"$f":"'Hull Long'!B257","v":3800.0532258064518},{"$f":"'Hull Long'!C257","v":250.34969392982092},{"$f":"'Hull Plan'!C257","v":1.6262238674926266E-2},{"$f":"'Hull Long'!B206","v":3800.0532258064518},{"$f":"'Hull Long'!C206","v":250.34969392982092},{"$f":"'Hull Plan'!C206","v":52.272491213470005},52.256238974795082,5.5734308428361058E-2,52.272518396524845,5.5695521981112432E-2,52.256372405718622,106.95388953045656,72.987675217929848,5.8435224160663476E-2,106.95388910565708,5.8435251610020826E-2,73.118966957234292,106.82259781859817,106.8225973663574,3800.9907955610556,-74.983480562928875,3800.9907951736209,-22.727241588132923,52.256238974795949,-8.6686213762732223E-13]
[3,3801.0441076421257,2.7720190250590804E-4,3,3801.0441072296539,52.256649607621981,null,null,null,null,null,null,null,null,{"$f":"'Hull Long'!B258","v":3800.1064516129031},{"$f":"'Hull Long'!C258","v":250.35267155586732},{"$f":"'Hull Plan'!C258","v":0},{"$f":"'Hull Long'!B207","v":3800.1064516129031},{"$f":"'Hull Long'!C207","v":250.35267155586732},{"$f":"'Hull Plan'!C207","v":52.256362405718619},52.256372405718622,133.18159039997096,143.06663983383214,139.58066766884781,10.47806744470213,89.999995697920909,21.423520551764575,68.576500903626808,89.999995245668515,68.576483750314495,4.0071770296637874,107.41632206670931,107.41633876778094,3801.0441076421257,-74.999732798097469,3801.0441072296539,-22.743360392377991,52.256372405719475,-8.5265128291212022E-13]
[3,3934.2256980420962,2.8825314282698855E-4,3,3934.2257010963267,10.478355697818031,null,null,null,null,null,null,null,null,{"$f":"'Hull Long'!B259","v":3933.0645161290322},{"$f":"'Hull Long'!C259","v":258.0655893948242},{"$f":"'Hull Plan'!C259","v":0},{"$f":"'Hull Long'!B208","v":3933.0645161290322},{"$f":"'Hull Long'!C208","v":258.0655893948242},{"$f":"'Hull Plan'!C208","v":10.478057444702131},10.47806744470213,31.994016229011656,33.666107025861173,33.666107025861173,1.0000000000000001E-5,89.999982091728754,18.133667043927048,89.999991486804717,89.999998792788631,71.866350864344213,1.7011319381440576E-5,89.999991486804717,108.13364882540802,3934.2256980420962,-74.999721746857148,3934.2257010963267,-64.521654302181943,10.478067444675649,2.6481927761778934E-11]
[3,3966.2197142711079,2.8892725076445913E-4,3,3966.2197173820737,2.9842635376553517E-4,null,null,null,null,null,null,null,null,{"$f":"'Hull Long'!B260","v":3965},{"$f":"'Hull Long'!C260","v":260},{"$f":"'Hull Plan'!C260","v":0},{"$f":"'Hull Long'!B209","v":3965},{"$f":"'Hull Long'!C209","v":260},{"$f":"'Hull Plan'!C209","v":0},1.0000000000000001E-5,74.492004735497048,74.492004735497048,74.492004735497048,1.0000000000000001E-5,89.999996152524773,7.6839628162643457E-6,89.999996152524773,108.1336534760452,89.999996152524773,7.6839628162643457E-6,89.999996152524773,108.13365350211572,3966.2197142711079,-74.99972107274921,3966.2197173820737,-74.999711573646209,9.9955522925782887E-6,4.447707421712145E-9]
[0,4037.0119311282506,-23.184205933854784,0,4037.0119342286666,-23.184196466963414,null,null,null,null,null,null,null,null,{"$f":"'Hull Long'!B261","v":4000},{"$f":"'Hull Long'!C261","v":325.75757575757575},{"$f":"'Hull Plan'!C261","v":0},{"$f":"'Hull Long'!B210","v":4000},{"$f":"'Hull Long'!C210","v":325.75757575757575},{"$f":"'Hull Plan'!C210","v":0},1.0000000000000001E-5,null,null,null,null,null,null,null,null,null,null,null,null,4037.0119311282506,-98.184215933854759,4037.0119342286666,-98.184206466963388,9.9616570867206279E-6,3.8342913279372897E-8]
[0,0,0,0,0,0,null,null,null,null,null,null,null,null,"X0","Z0","Y0","X1","Z1","Y1","F","L","D","U","F'","A1","A2","A3","A","B1","B2","B3","B","XA","YA","XB","YB","Check F","Error F"]
[0,{"$f":"AH212+$H$212","v":-67.031568054978948},{"$f":"AI212+$I$212","v":708.73042811428024},0,{"$f":"AJ212+$H$212","v":-67.03156865618611},{"$f":"AK212+$I$212","v":708.73043933277745},"Coaming",{"$f":"0*Basic!$D$2","v":0},{"$f":"I110+AK134-AI236+100*Basic!$D$2","v":447.10852718747367},{"$f":"F236-C217","v":62.346608481479393},null,null,null,null,{"$f":"'Hull Long'!B263","v":0},{"$f":"'Hull Long'!C263","v":325.75757575757575},{"$f":"'Hull Plan'!C263","v":0},{"$f":"'Hull Long'!B212","v":0},{"$f":"'Hull Long'!C212","v":325.75757575757575},{"$f":"'Hull Plan'!C212","v":0},{"$f":"((O212-R212)^2+(S212-P212)^2+(T212-Q212)^2)^0.5+0.00001","v":1.0000000000000001E-5},null,null,null,null,null,null,null,null,null,null,null,null,{"$f":"AH213-V213*SIN(AC213*PI()/180)","v":-67.031568054978948},{"$f":"AI213+V213*COS(AC213*PI()/180)","v":261.62190092680657},{"$f":"AJ213-X213*SIN(AG213*PI()/180)","v":-67.03156865618611},{"$f":"AK213+X213*COS(AG213*PI()/180)","v":261.62191214530378},{"$f":"((AH212-AJ212)^2+(AI212-AK212)^2)^0.5","v":1.1234595214334524E-5},{"$f":"U212-AL212","v":-1.2345952143345228E-6}]
[0,{"$f":"AH213+$H$212","v":7.353697497656519},{"$f":"AI213+$I$212","v":712.71678461830948},0,{"$f":"AJ213+$H$212","v":7.3536969239650993},{"$f":"AK213+$I$212","v":712.71679532336407},null,null,null,null,null,null,null,null,{"$f":"'Hull Long'!B264","v":35},{"$f":"'Hull Long'!C264","v":260},{"$f":"'Hull Plan'!C264","v":0},{"$f":"'Hull Long'!B213","v":35},{"$f":"'Hull Long'!C213","v":260},{"$f":"'Hull Plan'!C213","v":0},1.0000000000000001E-5,{"$f":"((O213-O212)^2+(P213-P212)^2+(Q213-Q212)^2)^0.5","v":74.492004735497048},{"$f":"((R213-O212)^2+(S213-P212)^2+(T213-Q212)^2)^0.5","v":74.492004735497048},{"$f":"((R213-R212)^2+(S213-S212)^2+(T213-T212)^2)^0.5","v":74.492004735497048},{"$f":"U212","v":1.0000000000000001E-5},{"$f":"ACOS((U213*U213+V213*V213-W213*W213)/2/U213/V213)*180/PI()","v":89.999996152524773},{"$f":"ACOS((V213*V213+W213*W213-U213*U213)/2/V213/W213)*180/PI()","v":7.6839628162643457E-6},{"$f":"ACOS((W213*W213+Y213*Y213-X213*X213)/2/W213/Y213)*180/PI()","v":89.999996152524773},{"$f":"AC214+Z213+AA214+AB214-180","v":93.067585016617556},{"$f":"ACOS((U213*U213+W213*W213-V213*V213)/2/U213/W213)*180/PI()","v":89.999996152524773},{"$f":"ACOS((W213*W213+X213*X213-Y213*Y213)/2/W213/X213)*180/PI()","v":7.6839628162643457E-6},{"$f":"ACOS((X213*X213+Y213*Y213-W213*W213)/2/X213/Y213)*180/PI()","v":89.999996152524773},{"$f":"180+AG214-AF214-AE213-AD213","v":93.067584621134699},7.353697497656519,265.60825743083586,7.3536969239650993,265.60826813589046,1.0720415834521579E-5,-7.2041583452157787E-7]
[0,39.301869829715997,714.42890584745396,0,39.301869268389737,714.42891632177464,null,null,null,null,null,null,null,null,{"$f":"'Hull Long'!B265","v":66.935483870967744},{"$f":"'Hull Long'!C265","v":258.0655893948242},{"$f":"'Hull Plan'!C265","v":0},{"$f":"'Hull Long'!B214","v":66.935483870967744},{"$f":"'Hull Long'!C214","v":258.0655893948242},{"$f":"'Hull Plan'!C214","v":0},1.0000000000000001E-5,31.994016229011599,31.994016229011599,31.994016229011599,1.0000000000000001E-5,89.999991041882907,1.7908907089484355E-5,89.999991041882907,93.067579913302779,89.999991041882907,1.7908907089484355E-5,89.999991041882907,93.0675794995052,39.301869829715997,267.32037865998024,39.301869268389737,267.32038913430097,1.0489350883620591E-5,-4.8935088362059028E-7]
[0,172.29262487263779,721.5559735880604,0,172.29262433749861,721.5559835737314,null,null,null,null,null,null,null,null,{"$f":"'Hull Long'!B266","v":199.89354838709676},{"$f":"'Hull Long'!C266","v":250.35267155586732},{"$f":"'Hull Plan'!C266","v":0},{"$f":"'Hull Long'!B215","v":199.89354838709676},{"$f":"'Hull Long'!C215","v":250.35267155586732},{"$f":"'Hull Plan'!C215","v":0},1.0000000000000001E-5,133.1815903999709,133.1815903999709,133.1815903999709,1.0000000000000001E-5,89.999997887131983,4.4363379971221852E-6,89.999997887131983,93.067586547949873,89.999997887131983,4.4363379971221852E-6,89.999997887131983,93.067586337427187,172.29262487263779,274.44744640058678,172.29262433749861,274.44745638625773,9.999999905719064E-6,9.4280936817391428E-14]
[3,172.34827958683925,721.55895115807152,3,172.34827905170008,721.55896114374264,null,null,null,null,null,null,null,null,{"$f":"'Hull Long'!B267","v":199.94677419354838},{"$f":"'Hull Long'!C267","v":250.34969392982092},{"$f":"'Hull Plan'!C267","v":1.6262238674983109E-2},{"$f":"'Hull Long'!B216","v":199.94677419354838},{"$f":"'Hull Long'!C216","v":250.34969392982092},{"$f":"'Hull Plan'!C216","v":1.6262238674983109E-2},1.0000000000000001E-5,5.5734308428649071E-2,5.5734308428649071E-2,5.5734308428649071E-2,1.0000000000000001E-5,89.994859918313793,1.0280163339255499E-2,89.994859918313793,93.062448579164823,89.994859918313793,1.0280163339255499E-2,89.994859918313793,93.062448579210965,172.34827958683925,274.45042397059791,172.34827905170008,274.45043395626891,9.9999999624810322E-6,3.7518968644791387E-14]
[3,172.40393629596588,709.56192870599421,3,172.40393362110402,721.56193870599395,null,null,null,null,null,null,null,null,{"$f":"'Hull Long'!B268","v":200},{"$f":"'Hull Long'!C268","v":262.34671639181863},{"$f":"'Hull Plan'!C268","v":3.2523996498696306E-2},{"$f":"'Hull Long'!B217","v":200},{"$f":"'Hull Long'!C217","v":250.34671639181866},{"$f":"'Hull Plan'!C217","v":3.2523996498696306E-2},12.000009999999971,11.997151552969466,5.5734163423320791E-2,5.5734163423320791E-2,1.0000000000000001E-5,0.26579248726079724,92.806923497134036,89.994859904940682,0.26580525877631089,86.927284015604457,1.0280190106383865E-2,89.994859904940682,93.062448565804672,172.40393629596588,262.45340151852059,172.40393362110402,274.45341151852028,12.000009999999989,-1.7763568394002505E-14]
[3,224.62383872625196,709.5590089610248,3,224.62383608620334,724.32013007213573,null,null,null,null,null,null,null,null,{"$f":"'Hull Long'!B269","v":250},{"$f":"'Hull Long'!C269","v":262.34963547837793},{"$f":"'Hull Plan'!C269","v":15.096328623233717},{"$f":"'Hull Long'!B218","v":250},{"$f":"'Hull Long'!C218","v":247.58852436726687},{"$f":"'Hull Plan'!C218","v":15.096328623233717},14.761121111111063,52.219902511911201,54.265296844908043,52.292693878559604,12.000009999999971,89.996786202650867,15.784366936624981,74.218849384802382,89.996796450088141,74.218846860724128,12.757679977022779,93.023470638174842,93.023483409690343,224.62383872625196,262.45048177355119,224.62383608620334,277.211602884662,14.761121111111047,1.5987211554602254E-14]
[3,276.72291878926438,709.55616960434236,3,276.72291627786939,727.00062404878656,null,null,null,null,null,null,null,null,{"$f":"'Hull Long'!B270","v":300},{"$f":"'Hull Long'!C270","v":262.35247233714688},{"$f":"'Hull Plan'!C270","v":29.735800725272014},{"$f":"'Hull Long'!B219","v":300},{"$f":"'Hull Long'!C219","v":244.90802789270245},{"$f":"'Hull Plan'!C219","v":29.735800725272014},17.444454444444428,52.09908014038372,54.941094079013844,52.167990231333526,14.761121111111063,89.996869178906209,18.512525266358889,71.490607553570669,89.996877427507684,71.490605554734941,15.564135874725652,92.945256571703652,92.945266819140897,276.72291878926438,262.44764241686869,276.72291627786939,279.89209686131289,17.444454444444386,4.2632564145606011E-14]
[3,380.57056222263009,709.55074458106867,3,380.57055961183386,732.12853235884609,null,null,null,null,null,null,null,null,{"$f":"'Hull Long'!B271","v":400},{"$f":"'Hull Long'!C271","v":262.35789937131347},{"$f":"'Hull Plan'!C271","v":57.741747355258241},{"$f":"'Hull Long'!B220","v":400},{"$f":"'Hull Long'!C220","v":239.78012159353574},{"$f":"'Hull Plan'!C220","v":57.741747355258241},22.577787777777726,103.84764357506788,106.27249909894017,103.97417212776773,17.444454444444428,89.997000230699669,12.266075026556793,77.736926365911827,89.997006856132884,77.736924742743497,9.436161153110449,92.826912480977725,92.826920729579228,380.57056222263009,262.442217393595,380.57055961183386,285.02000517137247,22.577787777777626,9.9475983006414026E-14]
[3,483.9733828020702,709.54564628154765,3,483.97338019950587,736.94565628154737,null,null,null,null,null,null,null,null,{"$f":"'Hull Long'!B272","v":500},{"$f":"'Hull Long'!C272","v":262.36299749431851},{"$f":"'Hull Plan'!C272","v":84.050363886457433},{"$f":"'Hull Long'!B221","v":500},{"$f":"'Hull Long'!C221","v":234.96299749431853},{"$f":"'Hull Plan'!C221","v":84.050363886457433},27.400009999999977,103.40282070512653,106.97020123677373,103.51496504550899,22.577787777777726,89.997169576411622,14.841513167587507,75.161318439247339,89.997175018598398,75.161317256000928,12.171435358364832,92.667246202387858,92.667252827821017,483.9733828020702,262.43711909407398,483.97338019950587,289.8371290940737,27.400009999999849,1.2789769243681803E-13]
[3,586.95743700387595,709.54087520690166,3,586.95743448290978,741.45199631801256,null,null,null,null,null,null,null,null,{"$f":"'Hull Long'!B273","v":600},{"$f":"'Hull Long'!C273","v":262.36776670616189},{"$f":"'Hull Plan'!C273","v":108.66165031886959},{"$f":"'Hull Long'!B222","v":600},{"$f":"'Hull Long'!C222","v":230.45665559505079},{"$f":"'Hull Plan'!C222","v":108.66165031886959},31.911121111111097,102.98405431232361,107.81340395911448,103.08260055494978,27.400009999999977,89.997341058436348,17.216595379175036,72.786064478230443,89.997345584781272,72.78606356238862,14.708410713930888,92.505524807838697,92.505530250025458,586.95743700387595,262.43234801942799,586.95743448290978,294.34346913053889,31.911121111111001,9.5923269327613525E-14]
[3,688.52506062638361,709.53647440282339,3,688.52505823967465,745.6071355139344,null,null,null,null,null,null,null,null,{"$f":"'Hull Long'!B274","v":699},{"$f":"'Hull Long'!C274","v":262.37216423194707},{"$f":"'Hull Plan'!C274","v":131.35486887314744},{"$f":"'Hull Long'!B223","v":699},{"$f":"'Hull Long'!C223","v":226.30151312083601},{"$f":"'Hull Plan'!C223","v":131.35486887314744},36.070661111111065,101.56762371784846,107.7810596349528,101.65258175439148,31.911121111111097,89.997513651038659,19.55223166828134,70.450255415900401,89.9975174421632,70.450254680679976,17.207080762952302,92.342663821147312,92.342668347492307,688.52506062638361,262.42794721534972,688.52505823967465,298.49860832646073,36.070661111111086,0]
[3,690.57316971283251,709.53637899903981,3,690.57316771660021,745.68792899903974,null,null,null,null,null,null,null,null,{"$f":"'Hull Long'!B275","v":701},{"$f":"'Hull Long'!C275","v":262.37224974884913},{"$f":"'Hull Plan'!C275","v":131.79617469883209},{"$f":"'Hull Long'!B224","v":701},{"$f":"'Hull Long'!C224","v":226.22070974884915},{"$f":"'Hull Plan'!C224","v":131.79617469883209},36.151549999999986,2.0481090886709019,36.20942435437609,2.0497024215011455,36.070661111111065,89.997327918733504,86.760127576674975,3.2425451319316494,89.997331082517917,3.2425445045916264,84.498435484976795,92.259019383091371,92.259023174215912,690.57316971283251,262.42785181156614,690.57316771660021,298.57940181156607,36.151549999999986,0]
[3,791.7751186041969,709.53230487633198,3,791.77511681617261,749.53231487633184,null,null,null,null,null,null,null,null,{"$f":"'Hull Long'!B276","v":800},{"$f":"'Hull Long'!C276","v":262.37631839636384},{"$f":"'Hull Plan'!C276","v":152.79223288733277},{"$f":"'Hull Long'!B225","v":800},{"$f":"'Hull Long'!C225","v":222.37631839636384},{"$f":"'Hull Plan'!C225","v":152.79223288733277},40.000010000000003,101.20194897337106,108.81869776930628,101.27494164069398,36.151549999999986,89.997690862352002,21.566691993683765,68.435617746592612,89.997693423508053,68.435617143964222,19.388921127093283,92.175461126314104,92.175464290098446,791.7751186041969,262.42377768885831,791.77511681617261,302.42378768885811,40.000009999999847,1.5631940186722204E-13]
[3,893.66232546354138,709.528516058896,3,893.66232389811432,753.10630383667342,null,null,null,null,null,null,null,null,{"$f":"'Hull Long'!B277","v":900},{"$f":"'Hull Long'!C277","v":262.38010087472236},{"$f":"'Hull Plan'!C277","v":172.3115290233838},{"$f":"'Hull Long'!B226","v":900},{"$f":"'Hull Long'!C226","v":218.80232309694463},{"$f":"'Hull Plan'!C226","v":172.3115290233838},43.577787777777729,101.88720692979074,110.81378970146569,101.94987181966991,40.000010000000003,89.997867318570854,23.157024648856691,66.845108535515152,89.997869376784195,66.845108032572469,21.145902294397025,92.00898917008783,92.008991731243796,893.66232546354138,262.41998887142228,893.66232389811432,305.99777664919975,43.577787777777502,2.2737367544323206E-13]
[3,995.23802370571104,709.52505539173831,3,995.23802236861809,756.36950983618249,null,null,null,null,null,null,null,null,{"$f":"'Hull Long'!B278","v":1000},{"$f":"'Hull Long'!C278","v":262.38355444191933},{"$f":"'Hull Plan'!C278","v":190.13349506064776},{"$f":"'Hull Long'!B227","v":1000},{"$f":"'Hull Long'!C227","v":215.5391099974749},{"$f":"'Hull Plan'!C227","v":190.13349506064776},46.844454444444438,101.57569830112179,111.85571464970295,101.62810159186257,43.577787777777729,89.998046306907042,24.758444128011909,65.243509987886313,89.998047942315111,65.243509565081027,22.916449100309368,91.840040911804365,91.84004297001762,995.23802370571104,262.41652820426469,995.23802236861809,309.26098264870882,46.844454444444146,2.9132252166164108E-13]
[3,1096.5297009753663,709.52192299663579,3,1096.529699864089,759.32193299663527,null,null,null,null,null,null,null,null,{"$f":"'Hull Long'!B279","v":1100},{"$f":"'Hull Long'!C279","v":262.38667909795464},{"$f":"'Hull Plan'!C279","v":206.25813099912466},{"$f":"'Hull Long'!B228","v":1100},{"$f":"'Hull Long'!C228","v":212.58667909795466},{"$f":"'Hull Plan'!C228","v":206.25813099912466},49.800009999999986,101.29167731808914,112.87042428453425,101.33469658692852,46.844454444444438,89.998226877767024,26.181363998675145,63.820409480421631,89.998228156311256,63.820409123557816,24.510022561066638,91.669567958511706,91.669569593919704,1096.5297009753663,262.41339580916207,1096.529699864089,312.2134058091616,49.800009999999546,4.4053649617126212E-13]
[3,1197.5650767293348,709.51911897589639,3,1197.5650758346655,761.96357342034048,null,null,null,null,null,null,null,null,{"$f":"'Hull Long'!B280","v":1200},{"$f":"'Hull Long'!C280","v":262.38947484282835},{"$f":"'Hull Plan'!C280","v":220.68543683881455},{"$f":"'Hull Long'!B229","v":1200},{"$f":"'Hull Long'!C229","v":209.94503039838392},{"$f":"'Hull Plan'!C229","v":220.68543683881455},52.444454444444432,101.03537579287831,113.83441339121109,101.06990383711609,49.800009999999986,89.99840890076554,27.432819618461696,62.568771781886774,89.99840987819573,62.568771480772753,25.933532562734992,91.497695655378251,91.497696933922455,1197.5650767293348,262.41059178842272,1197.5650758346655,314.85504623286675,52.444454444444041,3.907985046680551E-13]
[3,1298.3720818545783,709.51664341744481,3,1298.3720811618566,764.29443119522239,null,null,null,null,null,null,null,null,{"$f":"'Hull Long'!B281","v":1300},{"$f":"'Hull Long'!C281","v":262.39194167654045},{"$f":"'Hull Plan'!C281","v":233.41541257971738},{"$f":"'Hull Long'!B230","v":1300},{"$f":"'Hull Long'!C230","v":207.61416389876271},{"$f":"'Hull Plan'!C230","v":233.41541257971738},54.777787777777746,100.80700515564007,114.72744646065757,100.83394875240695,52.444454444444432,89.998592239773402,28.51965363301661,61.481754380075465,89.998592964338116,61.481754127209996,27.193690621561107,91.324554998363453,91.324555975793658,1298.3720818545783,262.4081162299712,1298.3720811618566,317.18590400774866,54.777787777777469,2.7711166694643907E-13]
[3,1398.9788374419916,709.51449639839439,3,1398.978836932112,766.31450639839409,null,null,null,null,null,null,null,null,{"$f":"'Hull Long'!B282","v":1400},{"$f":"'Hull Long'!C282","v":262.39407959909096},{"$f":"'Hull Plan'!C282","v":244.44805822183318},{"$f":"'Hull Long'!B231","v":1400},{"$f":"'Hull Long'!C231","v":205.59407959909097},{"$f":"'Hull Plan'!C231","v":244.44805822183318},56.800009999999986,100.60675561032275,115.53231758444677,100.62703419281657,54.777787777777746,89.998776753364993,29.448261050949846,60.552962405919423,89.998777267695459,60.552962195685154,28.296755397346505,91.150282196734111,91.150282921298839,1398.9788374419916,262.40596921092066,1398.978836932112,319.20597921092036,56.800009999999702,2.8421709430404007E-13]
[3,1499.4136327883227,709.51267798765195,3,1499.4136324385802,768.02379909876288,null,null,null,null,null,null,null,null,{"$f":"'Hull Long'!B283","v":1500},{"$f":"'Hull Long'!C283","v":262.3958886104798},{"$f":"'Hull Plan'!C283","v":253.78337376516194},{"$f":"'Hull Long'!B232","v":1500},{"$f":"'Hull Long'!C232","v":203.88477749936874},{"$f":"'Hull Plan'!C232","v":253.78337376516194},58.511121111111066,100.43479536279266,116.23461854581051,100.44933961934061,56.800009999999986,89.998962295314769,30.224407662571917,59.776630213965404,89.998962637793113,59.776630042113318,29.248351599119474,90.975018186915122,90.975018701245631,1499.4136327883227,262.40415080017829,1499.4136324385802,320.91527191128921,58.511121111110924,1.4210854715202004E-13]
[3,1599.7049027056112,709.51118824788625,3,1599.7049024904302,769.42230935899727,null,null,null,null,null,null,null,null,{"$f":"'Hull Long'!B284","v":1600},{"$f":"'Hull Long'!C284","v":262.3973687107071},{"$f":"'Hull Plan'!C284","v":261.42135920970367},{"$f":"'Hull Long'!B233","v":1600},{"$f":"'Hull Long'!C233","v":202.48625759959597},{"$f":"'Hull Plan'!C233","v":261.42135920970367},59.911121111111129,100.29126992835283,116.82252654993935,100.30102033160527,58.511121111111066,89.999148715138062,30.853104633155411,59.147746788397072,89.999148920925904,59.147746651706548,30.053345110318542,90.798908101284397,90.79890844376277,1599.7049027056112,262.40266106041258,1599.7049024904302,322.3137821715236,59.911121111111015,1.1368683772161603E-13]
[3,1699.8812042240559,709.5100272370637,3,1699.8812041156345,770.51003723706344,null,null,null,null,null,null,null,null,{"$f":"'Hull Long'!B285","v":1700},{"$f":"'Hull Long'!C285","v":262.39851989977274},{"$f":"'Hull Plan'!C285","v":267.3620145554583},{"$f":"'Hull Long'!B234","v":1700},{"$f":"'Hull Long'!C234","v":201.39851989977274},{"$f":"'Hull Plan'!C234","v":267.3620145554583},61.000010000000003,100.17630152517251,117.28661876870811,100.18220679961416,59.911121111111129,89.999335858673092,31.33852460930526,58.662139635971883,89.999335960510678,58.662139532021648,30.715759667811472,90.622100696216648,90.622100902004462,1699.8812042240559,262.40150004958997,1699.8812041156345,323.40151004958983,61.000009999999861,1.4210854715202004E-13]
[3,1799.9711927800304,709.50919500969076,3,1799.9711927489241,771.28698278746833,null,null,null,null,null,null,null,null,{"$f":"'Hull Long'!B286","v":1800},{"$f":"'Hull Long'!C286","v":262.39934217767677},{"$f":"'Hull Plan'!C286","v":271.60533980242593},{"$f":"'Hull Long'!B235","v":1800},{"$f":"'Hull Long'!C235","v":200.621564399899},{"$f":"'Hull Plan'!C235","v":271.60533980242593},{"$f":"((O235-R235)^2+(S235-P235)^2+(T235-Q235)^2)^0.5+0.00001","v":61.777787777777775},{"$f":"((O235-O234)^2+(P235-P234)^2+(Q235-Q234)^2)^0.5","v":100.08998855943432},{"$f":"((R235-O234)^2+(S235-P234)^2+(T235-Q234)^2)^0.5","v":117.61971790471584},{"$f":"((R235-R234)^2+(S235-S234)^2+(T235-T234)^2)^0.5","v":100.09300409619215},{"$f":"U234","v":61.000010000000003},{"$f":"ACOS((U235*U235+V235*V235-W235*W235)/2/U235/V235)*180/PI()","v":89.999523568697555},{"$f":"ACOS((V235*V235+W235*W235-U235*U235)/2/V235/W235)*180/PI()","v":31.683947471667086},{"$f":"ACOS((W235*W235+Y235*Y235-X235*X235)/2/W235/Y235)*180/PI()","v":58.316529032623414},{"$f":"AC236+Z235+AA236+AB236-180","v":89.999523597547068},{"$f":"ACOS((U235*U235+W235*W235-V235*V235)/2/U235/W235)*180/PI()","v":58.316528959635349},{"$f":"ACOS((W235*W235+X235*X235-Y235*Y235)/2/W235/X235)*180/PI()","v":31.238723223021083},{"$f":"ACOS((X235*X235+Y235*Y235-W235*W235)/2/X235/Y235)*180/PI()","v":90.444747744355496},{"$f":"180+AG236-AF236-AE235-AD235","v":90.44474784619311},{"$f":"AH236-V236*SIN(AC236*PI()/180)","v":1799.9711927800304},{"$f":"AI236+V236*COS(AC236*PI()/180)","v":262.40066782221703},{"$f":"AJ236-X236*SIN(AG236*PI()/180)","v":1799.9711927489241},{"$f":"AK236+X236*COS(AG236*PI()/180)","v":324.17845559999472},{"$f":"((AH235-AJ235)^2+(AI235-AK235)^2)^0.5","v":61.777787777777689},{"$f":"U235-AL235","v":8.5265128291212022E-14}]
[3,2000,709.50852718747365,3,2000,771.9085371874736,null,null,null,null,null,null,null,null,{"$f":"'Hull Long'!B287","v":2000},{"$f":"'Hull Long'!C287","v":262.39999999999998},{"$f":"'Hull Plan'!C287","v":275},{"$f":"'Hull Long'!B236","v":2000},{"$f":"'Hull Long'!C236","v":200},{"$f":"'Hull Plan'!C236","v":275},{"$f":"((O236-R236)^2+(S236-P236)^2+(T236-Q236)^2)^0.5+0.00001","v":62.40000999999998},{"$f":"((O236-O235)^2+(P236-P235)^2+(Q236-Q235)^2)^0.5","v":200.02880722108435},{"$f":"((R236-O235)^2+(S236-P235)^2+(T236-Q235)^2)^0.5","v":209.5356810236953},{"$f":"((R236-R235)^2+(S236-S235)^2+(T236-T235)^2)^0.5","v":200.0297729343315},{"$f":"U235","v":61.777787777777775},{"$f":"ACOS((U236*U236+V236*V236-W236*W236)/2/U236/V236)*180/PI()","v":89.999808710580083},{"$f":"ACOS((V236*V236+W236*W236-U236*U236)/2/V236/W236)*180/PI()","v":17.325595239780395},{"$f":"ACOS((W236*W236+Y236*Y236-X236*X236)/2/W236/Y236)*180/PI()","v":72.67459607848906},{"$f":"Z236","v":89.999808710580083},{"$f":"ACOS((U236*U236+W236*W236-V236*V236)/2/U236/W236)*180/PI()","v":72.674596049639533},{"$f":"ACOS((W236*W236+X236*X236-Y236*Y236)/2/W236/X236)*180/PI()","v":17.147367947797036},{"$f":"ACOS((X236*X236+Y236*Y236-W236*W236)/2/X236/Y236)*180/PI()","v":90.178035973713889},{"$f":"180-AD236-AE236","v":90.178036002563431},{"$f":"O236","v":2000},{"$f":"P236","v":262.39999999999998},{"$f":"AH236","v":2000},{"$f":"AI236+U236","v":324.80000999999993},{"$f":"((AH236-AJ236)^2+(AI236-AK236)^2)^0.5","v":62.400009999999952},{"$f":"U236-AL236","v":0}]
[3,2000,709.50852718747365,3,2000,771.9085371874736,null,null,null,null,null,null,null,null,{"$f":"'Hull Long'!B288","v":2000},{"$f":"'Hull Long'!C288","v":262.39999999999998},{"$f":"'Hull Plan'!C288","v":275},{"$f":"'Hull Long'!B237","v":2000},{"$f":"'Hull Long'!C237","v":200},{"$f":"'Hull Plan'!C237","v":275},{"$f":"((O237-R237)^2+(S237-P237)^2+(T237-Q237)^2)^0.5+0.00001","v":62.40000999999998},{"$f":"((O237-O238)^2+(P237-P238)^2+(Q237-Q238)^2)^0.5","v":200.02880722108435},{"$f":"((R237-O238)^2+(S237-P238)^2+(T237-Q238)^2)^0.5","v":209.5356810236953},{"$f":"((R237-R238)^2+(S237-S238)^2+(T237-T238)^2)^0.5","v":200.0297729343315},{"$f":"U238","v":61.777787777777775},{"$f":"ACOS((U237*U237+V237*V237-W237*W237)/2/U237/V237)*180/PI()","v":89.999808710580083},{"$f":"ACOS((V237*V237+W237*W237-U237*U237)/2/V237/W237)*180/PI()","v":17.325595239780395},{"$f":"ACOS((W237*W237+Y237*Y237-X237*X237)/2/W237/Y237)*180/PI()","v":72.67459607848906},{"$f":"Z237","v":89.999808710580083},{"$f":"ACOS((U237*U237+W237*W237-V237*V237)/2/U237/W237)*180/PI()","v":72.674596049639533},{"$f":"ACOS((W237*W237+X237*X237-Y237*Y237)/2/W237/X237)*180/PI()","v":17.147367947797036},{"$f":"ACOS((X237*X237+Y237*Y237-W237*W237)/2/X237/Y237)*180/PI()","v":90.178035973713889},{"$f":"180-AD237-AE237","v":90.178036002563431},{"$f":"O237","v":2000},{"$f":"P237","v":262.39999999999998},{"$f":"AH237","v":2000},{"$f":"AI237+U237","v":324.80000999999993},{"$f":"((AH237-AJ237)^2+(AI237-AK237)^2)^0.5","v":62.400009999999952},{"$f":"U237-AL237","v":0}]
[3,2200.0288072199696,709.50919500969076,3,2200.0288072510757,771.28698278746833,null,null,null,null,null,null,null,null,{"$f":"'Hull Long'!B289","v":2200},{"$f":"'Hull Long'!C289","v":262.39934217767677},{"$f":"'Hull Plan'!C289","v":271.60533980242593},{"$f":"'Hull Long'!B238","v":2200},{"$f":"'Hull Long'!C238","v":200.621564399899},{"$f":"'Hull Plan'!C238","v":271.60533980242593},{"$f":"((O238-R238)^2+(S238-P238)^2+(T238-Q238)^2)^0.5+0.00001","v":61.777787777777775},{"$f":"((O238-O239)^2+(P238-P239)^2+(Q238-Q239)^2)^0.5","v":100.08998855943432},{"$f":"((R238-O239)^2+(S238-P239)^2+(T238-Q239)^2)^0.5","v":117.61971790471584},{"$f":"((R238-R239)^2+(S238-S239)^2+(T238-T239)^2)^0.5","v":100.09300409619215},{"$f":"U239","v":61.000010000000003},{"$f":"ACOS((U238*U238+V238*V238-W238*W238)/2/U238/V238)*180/PI()","v":89.999523568697555},{"$f":"ACOS((V238*V238+W238*W238-U238*U238)/2/V238/W238)*180/PI()","v":31.683947471667086},{"$f":"ACOS((W238*W238+Y238*Y238-X238*X238)/2/W238/Y238)*180/PI()","v":58.316529032623414},{"$f":"AC237+Z238+AA237+AB237-180","v":89.999523597547068},{"$f":"ACOS((U238*U238+W238*W238-V238*V238)/2/U238/W238)*180/PI()","v":58.316528959635349},{"$f":"ACOS((W238*W238+X238*X238-Y238*Y238)/2/W238/X238)*180/PI()","v":31.238723223021083},{"$f":"ACOS((X238*X238+Y238*Y238-W238*W238)/2/X238/Y238)*180/PI()","v":90.444747744355496},{"$f":"180+AG237-AF237-AE238-AD238","v":90.44474784619311},{"$f":"AH237+V237*SIN(AC237*PI()/180)","v":2200.0288072199696},{"$f":"AI237+V237*COS(AC237*PI()/180)","v":262.40066782221703},{"$f":"AJ237+X237*SIN(AG237*PI()/180)","v":2200.0288072510757},{"$f":"AK237+X237*COS(AG237*PI()/180)","v":324.17845559999472},{"$f":"((AH238-AJ238)^2+(AI238-AK238)^2)^0.5","v":61.777787777777689},{"$f":"U238-AL238","v":8.5265128291212022E-14}]
[3,2300.1187957759439,709.5100272370637,3,2300.1187958843652,770.51003723706344,null,null,null,null,null,null,null,null,{"$f":"'Hull Long'!B290","v":2300},{"$f":"'Hull Long'!C290","v":262.39851989977274},{"$f":"'Hull Plan'!C290","v":267.3620145554583},{"$f":"'Hull Long'!B239","v":2300},{"$f":"'Hull Long'!C239","v":201.39851989977274},{"$f":"'Hull Plan'!C239","v":267.3620145554583},{"$f":"((O239-R239)^2+(S239-P239)^2+(T239-Q239)^2)^0.5+0.00001","v":61.000010000000003},{"$f":"((O239-O240)^2+(P239-P240)^2+(Q239-Q240)^2)^0.5","v":100.17630152517251},{"$f":"((R239-O240)^2+(S239-P240)^2+(T239-Q240)^2)^0.5","v":117.28661876870811},{"$f":"((R239-R240)^2+(S239-S240)^2+(T239-T240)^2)^0.5","v":100.18220679961416},{"$f":"U240","v":59.911121111111129},{"$f":"ACOS((U239*U239+V239*V239-W239*W239)/2/U239/V239)*180/PI()","v":89.999335858673092},{"$f":"ACOS((V239*V239+W239*W239-U239*U239)/2/V239/W239)*180/PI()","v":31.33852460930526},{"$f":"ACOS((W239*W239+Y239*Y239-X239*X239)/2/W239/Y239)*180/PI()","v":58.662139635971883},{"$f":"AC238+Z239+AA238+AB238-180","v":89.999335960510678},{"$f":"ACOS((U239*U239+W239*W239-V239*V239)/2/U239/W239)*180/PI()","v":58.662139532021648},{"$f":"ACOS((W239*W239+X239*X239-Y239*Y239)/2/W239/X239)*180/PI()","v":30.715759667811472},{"$f":"ACOS((X239*X239+Y239*Y239-W239*W239)/2/X239/Y239)*180/PI()","v":90.622100696216648},{"$f":"180+AG238-AF238-AE239-AD239","v":90.622100902004462},{"$f":"AH238+V238*SIN(AC238*PI()/180)","v":2300.1187957759439},{"$f":"AI238+V238*COS(AC238*PI()/180)","v":262.40150004958997},{"$f":"AJ238+X238*SIN(AG238*PI()/180)","v":2300.1187958843652},{"$f":"AK238+X238*COS(AG238*PI()/180)","v":323.40151004958983},{"$f":"((AH239-AJ239)^2+(AI239-AK239)^2)^0.5","v":61.000009999999861},{"$f":"U239-AL239","v":1.4210854715202004E-13}]
[3,2400.2950972943886,709.51118824788625,3,2400.2950975095696,769.42230935899727,null,null,null,null,null,null,null,null,{"$f":"'Hull Long'!B291","v":2400},{"$f":"'Hull Long'!C291","v":262.3973687107071},{"$f":"'Hull Plan'!C291","v":261.42135920970367},{"$f":"'Hull Long'!B240","v":2400},{"$f":"'Hull Long'!C240","v":202.48625759959597},{"$f":"'Hull Plan'!C240","v":261.42135920970367},59.911121111111129,100.29126992835283,116.82252654993935,100.30102033160527,58.511121111111066,89.999148715138062,30.853104633155411,59.147746788397072,89.999148920925904,59.147746651706548,30.053345110318542,90.798908101284397,90.79890844376277,2400.2950972943886,262.40266106041258,2400.2950975095696,322.3137821715236,59.911121111111015,1.1368683772161603E-13]
[3,2500.586367211677,709.51267798765195,3,2500.5863675614196,768.02379909876288,null,null,null,null,null,null,null,null,{"$f":"'Hull Long'!B292","v":2500},{"$f":"'Hull Long'!C292","v":262.3958886104798},{"$f":"'Hull Plan'!C292","v":253.78337376516194},{"$f":"'Hull Long'!B241","v":2500},{"$f":"'Hull Long'!C241","v":203.88477749936874},{"$f":"'Hull Plan'!C241","v":253.78337376516194},58.511121111111066,100.43479536279266,116.23461854581051,100.44933961934061,56.800009999999986,89.998962295314769,30.224407662571917,59.776630213965404,89.998962637793113,59.776630042113318,29.248351599119474,90.975018186915122,90.975018701245631,2500.586367211677,262.40415080017829,2500.5863675614196,320.91527191128921,58.511121111110924,1.4210854715202004E-13]
[3,2601.0211625580082,709.51449639839439,3,2601.0211630678878,766.31450639839409,null,null,null,null,null,null,null,null,{"$f":"'Hull Long'!B293","v":2600},{"$f":"'Hull Long'!C293","v":262.39407959909096},{"$f":"'Hull Plan'!C293","v":244.44805822183318},{"$f":"'Hull Long'!B242","v":2600},{"$f":"'Hull Long'!C242","v":205.59407959909097},{"$f":"'Hull Plan'!C242","v":244.44805822183318},56.800009999999986,100.60675561032275,115.53231758444677,100.62703419281657,54.777787777777746,89.998776753364993,29.448261050949846,60.552962405919423,89.998777267695459,60.552962195685154,28.296755397346505,91.150282196734111,91.150282921298839,2601.0211625580082,262.40596921092066,2601.0211630678878,319.20597921092036,56.800009999999702,2.8421709430404007E-13]
[3,2701.6279181454215,709.51664341744481,3,2701.6279188381432,764.29443119522239,null,null,null,null,null,null,null,null,{"$f":"'Hull Long'!B294","v":2700},{"$f":"'Hull Long'!C294","v":262.39194167654045},{"$f":"'Hull Plan'!C294","v":233.41541257971738},{"$f":"'Hull Long'!B243","v":2700},{"$f":"'Hull Long'!C243","v":207.61416389876271},{"$f":"'Hull Plan'!C243","v":233.41541257971738},54.777787777777746,100.80700515564007,114.72744646065757,100.83394875240695,52.444454444444432,89.998592239773402,28.51965363301661,61.481754380075465,89.998592964338116,61.481754127209996,27.193690621561107,91.324554998363453,91.324555975793658,2701.6279181454215,262.4081162299712,2701.6279188381432,317.18590400774866,54.777787777777469,2.7711166694643907E-13]
[3,2802.434923270665,709.51911897589639,3,2802.434924165334,761.96357342034048,null,null,null,null,null,null,null,null,{"$f":"'Hull Long'!B295","v":2800},{"$f":"'Hull Long'!C295","v":262.38947484282835},{"$f":"'Hull Plan'!C295","v":220.68543683881455},{"$f":"'Hull Long'!B244","v":2800},{"$f":"'Hull Long'!C244","v":209.94503039838392},{"$f":"'Hull Plan'!C244","v":220.68543683881455},52.444454444444432,101.03537579287831,113.83441339121109,101.06990383711609,49.800009999999986,89.99840890076554,27.432819618461696,62.568771781886774,89.99840987819573,62.568771480772753,25.933532562734992,91.497695655378251,91.497696933922455,2802.434923270665,262.41059178842272,2802.434924165334,314.85504623286675,52.444454444444041,3.907985046680551E-13]
[3,2903.4702990246333,709.52192299663579,3,2903.4703001359103,759.32193299663527,null,null,null,null,null,null,null,null,{"$f":"'Hull Long'!B296","v":2900},{"$f":"'Hull Long'!C296","v":262.38667909795464},{"$f":"'Hull Plan'!C296","v":206.25813099912466},{"$f":"'Hull Long'!B245","v":2900},{"$f":"'Hull Long'!C245","v":212.58667909795466},{"$f":"'Hull Plan'!C245","v":206.25813099912466},49.800009999999986,101.29167731808914,112.87042428453425,101.33469658692852,46.844454444444438,89.998226877767024,26.181363998675145,63.820409480421631,89.998228156311256,63.820409123557816,24.510022561066638,91.669567958511706,91.669569593919704,2903.4702990246333,262.41339580916207,2903.4703001359103,312.2134058091616,49.800009999999546,4.4053649617126212E-13]
[3,3004.7619762942886,709.52505539173831,3,3004.7619776313813,756.36950983618249,null,null,null,null,null,null,null,null,{"$f":"'Hull Long'!B297","v":3000},{"$f":"'Hull Long'!C297","v":262.38355444191933},{"$f":"'Hull Plan'!C297","v":190.13349506064776},{"$f":"'Hull Long'!B246","v":3000},{"$f":"'Hull Long'!C246","v":215.5391099974749},{"$f":"'Hull Plan'!C246","v":190.13349506064776},46.844454444444438,101.57569830112179,111.85571464970295,101.62810159186257,43.577787777777729,89.998046306907042,24.758444128011909,65.243509987886313,89.998047942315111,65.243509565081027,22.916449100309368,91.840040911804365,91.84004297001762,3004.7619762942886,262.41652820426469,3004.7619776313813,309.26098264870882,46.844454444444146,2.9132252166164108E-13]
[3,3106.3376745364581,709.528516058896,3,3106.3376761018853,753.10630383667342,null,null,null,null,null,null,null,null,{"$f":"'Hull Long'!B298","v":3100},{"$f":"'Hull Long'!C298","v":262.38010087472236},{"$f":"'Hull Plan'!C298","v":172.3115290233838},{"$f":"'Hull Long'!B247","v":3100},{"$f":"'Hull Long'!C247","v":218.80232309694463},{"$f":"'Hull Plan'!C247","v":172.3115290233838},43.577787777777729,101.88720692979074,110.81378970146569,101.94987181966991,40.000010000000003,89.997867318570854,23.157024648856691,66.845108535515152,89.997869376784195,66.845108032572469,21.145902294397025,92.00898917008783,92.008991731243796,3106.3376745364581,262.41998887142228,3106.3376761018853,305.99777664919975,43.577787777777502,2.2737367544323206E-13]
[3,3208.2248813958026,709.53230487633198,3,3208.2248831838269,749.53231487633184,null,null,null,null,null,null,null,null,{"$f":"'Hull Long'!B299","v":3200},{"$f":"'Hull Long'!C299","v":262.37631839636384},{"$f":"'Hull Plan'!C299","v":152.79223288733277},{"$f":"'Hull Long'!B248","v":3200},{"$f":"'Hull Long'!C248","v":222.37631839636384},{"$f":"'Hull Plan'!C248","v":152.79223288733277},40.000010000000003,101.20194897337106,108.81869776930628,101.27494164069398,36.151549999999986,89.997690862352002,21.566691993683765,68.435617746592612,89.997693423508053,68.435617143964222,19.388921127093283,92.175461126314104,92.175464290098446,3208.2248813958026,262.42377768885831,3208.2248831838269,302.42378768885811,40.000009999999847,1.5631940186722204E-13]
[3,3309.4268302871669,709.53637899903981,3,3309.4268322833996,745.68792899903974,null,null,null,null,null,null,null,null,{"$f":"'Hull Long'!B300","v":3299},{"$f":"'Hull Long'!C300","v":262.37224974884913},{"$f":"'Hull Plan'!C300","v":131.79617469883209},{"$f":"'Hull Long'!B249","v":3299},{"$f":"'Hull Long'!C249","v":226.22070974884915},{"$f":"'Hull Plan'!C249","v":131.79617469883209},36.151549999999986,2.0481090886709019,36.20942435437609,2.0497024215011455,36.070661111111065,89.997327918733504,86.760127576674975,3.2425451319316494,89.997331082517917,3.2425445045916264,84.498435484976795,92.259019383091371,92.259023174215912,3309.4268302871669,262.42785181156614,3309.4268322833996,298.57940181156607,36.151549999999986,0]
[3,3311.4749393736156,709.53647440282339,3,3311.4749417603252,745.6071355139344,null,null,null,null,null,null,null,null,{"$f":"'Hull Long'!B301","v":3301},{"$f":"'Hull Long'!C301","v":262.37216423194707},{"$f":"'Hull Plan'!C301","v":131.35486887314744},{"$f":"'Hull Long'!B250","v":3301},{"$f":"'Hull Long'!C250","v":226.30151312083601},{"$f":"'Hull Plan'!C250","v":131.35486887314744},36.070661111111065,101.56762371784846,107.7810596349528,101.65258175439148,31.911121111111097,89.997513651038659,19.55223166828134,70.450255415900401,89.9975174421632,70.450254680679976,17.207080762952302,92.342663821147312,92.342668347492307,3311.4749393736156,262.42794721534972,3311.4749417603252,298.49860832646073,36.070661111111086,0]
[3,3413.0425629961233,709.54087520690166,3,3413.0425655170902,741.45199631801256,null,null,null,null,null,null,null,null,{"$f":"'Hull Long'!B302","v":3400},{"$f":"'Hull Long'!C302","v":262.36776670616189},{"$f":"'Hull Plan'!C302","v":108.66165031886959},{"$f":"'Hull Long'!B251","v":3400},{"$f":"'Hull Long'!C251","v":230.45665559505079},{"$f":"'Hull Plan'!C251","v":108.66165031886959},31.911121111111097,102.98405431232361,107.81340395911448,103.08260055494978,27.400009999999977,89.997341058436348,17.216595379175036,72.786064478230443,89.997345584781272,72.78606356238862,14.708410713930888,92.505524807838697,92.505530250025458,3413.0425629961233,262.43234801942799,3413.0425655170902,294.34346913053889,31.911121111111001,9.5923269327613525E-14]
[3,3516.0266171979292,709.54564628154765,3,3516.0266198004942,736.94565628154737,null,null,null,null,null,null,null,null,{"$f":"'Hull Long'!B303","v":3500},{"$f":"'Hull Long'!C303","v":262.36299749431851},{"$f":"'Hull Plan'!C303","v":84.050363886457433},{"$f":"'Hull Long'!B252","v":3500},{"$f":"'Hull Long'!C252","v":234.96299749431853},{"$f":"'Hull Plan'!C252","v":84.050363886457433},27.400009999999977,103.40282070512653,106.97020123677373,103.51496504550899,22.577787777777726,89.997169576411622,14.841513167587507,75.161318439247339,89.997175018598398,75.161317256000928,12.171435358364832,92.667246202387858,92.667252827821017,3516.0266171979292,262.43711909407398,3516.0266198004942,289.8371290940737,27.400009999999849,1.2789769243681803E-13]
[3,3619.4294377773695,709.55074458106867,3,3619.4294403881663,732.12853235884609,null,null,null,null,null,null,null,null,{"$f":"'Hull Long'!B304","v":3600},{"$f":"'Hull Long'!C304","v":262.35789937131347},{"$f":"'Hull Plan'!C304","v":57.741747355258241},{"$f":"'Hull Long'!B253","v":3600},{"$f":"'Hull Long'!C253","v":239.78012159353574},{"$f":"'Hull Plan'!C253","v":57.741747355258241},22.577787777777726,103.84764357506788,106.27249909894017,103.97417212776773,17.444454444444428,89.997000230699669,12.266075026556793,77.736926365911827,89.997006856132884,77.736924742743497,9.436161153110449,92.826912480977725,92.826920729579228,3619.4294377773695,262.442217393595,3619.4294403881663,285.02000517137247,22.577787777777626,9.9475983006414026E-14]
[3,3723.2770812107351,709.55616960434236,3,3723.2770837221306,727.00062404878656,null,null,null,null,null,null,null,null,{"$f":"'Hull Long'!B305","v":3700},{"$f":"'Hull Long'!C305","v":262.35247233714688},{"$f":"'Hull Plan'!C305","v":29.735800725272014},{"$f":"'Hull Long'!B254","v":3700},{"$f":"'Hull Long'!C254","v":244.90802789270245},{"$f":"'Hull Plan'!C254","v":29.735800725272014},17.444454444444428,52.09908014038372,54.941094079013844,52.167990231333526,14.761121111111063,89.996869178906209,18.512525266358889,71.490607553570669,89.996877427507684,71.490605554734941,15.564135874725652,92.945256571703652,92.945266819140897,3723.2770812107351,262.44764241686869,3723.2770837221306,279.89209686131289,17.444454444444386,4.2632564145606011E-14]
[3,3775.3761612737476,709.5590089610248,3,3775.3761639137965,724.32013007213573,null,null,null,null,null,null,null,null,{"$f":"'Hull Long'!B306","v":3750},{"$f":"'Hull Long'!C306","v":262.34963547837793},{"$f":"'Hull Plan'!C306","v":15.096328623233717},{"$f":"'Hull Long'!B255","v":3750},{"$f":"'Hull Long'!C255","v":247.58852436726687},{"$f":"'Hull Plan'!C255","v":15.096328623233717},14.761121111111063,52.219902511911201,54.265296844908043,52.292693878559604,12.000009999999971,89.996786202650867,15.784366936624981,74.218849384802382,89.996796450088141,74.218846860724128,12.757679977022779,93.023470638174842,93.023483409690343,3775.3761612737476,262.45048177355119,3775.3761639137965,277.211602884662,14.761121111111047,1.5987211554602254E-14]
[3,3827.5960637040339,709.56192870599421,3,3827.596066378896,721.56193870599395,null,null,null,null,null,null,null,null,{"$f":"'Hull Long'!B307","v":3800},{"$f":"'Hull Long'!C307","v":262.34671639181863},{"$f":"'Hull Plan'!C307","v":3.2523996498696306E-2},{"$f":"'Hull Long'!B256","v":3800},{"$f":"'Hull Long'!C256","v":250.34671639181866},{"$f":"'Hull Plan'!C256","v":3.2523996498696306E-2},12.000009999999971,11.997151552969466,5.5734163423500231E-2,5.5734163423500231E-2,1.0000000000000001E-5,0.26579248726217125,92.806923497124984,89.994859904940711,0.26580525877767514,86.927284015614362,1.0280190106383865E-2,89.994859904940711,93.062448565794767,3827.5960637040339,262.45340151852059,3827.596066378896,274.45341151852028,12.000009999999989,-1.7763568394002505E-14]
[3,3827.651720413161,721.55895115807152,3,3827.6517209483,721.55896114374264,null,null,null,null,null,null,null,null,{"$f":"'Hull Long'!B308","v":3800.0532258064518},{"$f":"'Hull Long'!C308","v":250.34969392982092},{"$f":"'Hull Plan'!C308","v":1.6262238674926266E-2},{"$f":"'Hull Long'!B257","v":3800.0532258064518},{"$f":"'Hull Long'!C257","v":250.34969392982092},{"$f":"'Hull Plan'!C257","v":1.6262238674926266E-2},1.0000000000000001E-5,5.5734308428361058E-2,5.5734308428361058E-2,5.5734308428361058E-2,1.0000000000000001E-5,89.994859918313779,1.0280163339255499E-2,89.994859918313779,93.062448579157149,89.994859918313779,1.0280163339255499E-2,89.994859918313779,93.062448579201003,3827.651720413161,274.45042397059791,3827.6517209483,274.45043395626891,9.9999999503133785E-6,4.9686622343087829E-14]
[0,3827.7073751273624,721.5559735880604,0,3827.7073756625014,721.5559835737314,null,null,null,null,null,null,null,null,{"$f":"'Hull Long'!B309","v":3800.1064516129031},{"$f":"'Hull Long'!C309","v":250.35267155586732},{"$f":"'Hull Plan'!C309","v":0},{"$f":"'Hull Long'!B258","v":3800.1064516129031},{"$f":"'Hull Long'!C258","v":250.35267155586732},{"$f":"'Hull Plan'!C258","v":0},1.0000000000000001E-5,133.18159039997096,133.18159039997096,133.18159039997096,1.0000000000000001E-5,89.999997887131983,4.4363379971221852E-6,89.999997887131983,93.067586547942142,89.999997887131983,4.4363379971221852E-6,89.999997887131983,93.067586337417268,3827.7073751273624,274.44744640058678,3827.7073756625014,274.44745638625773,9.9999998935514103E-6,1.0644859051568787E-13]
[0,3960.6981301702854,714.42890584747181,0,3960.6981307316114,714.42891632179771,null,null,null,null,null,null,null,null,{"$f":"'Hull Long'!B310","v":3933.0645161290322},{"$f":"'Hull Long'!C310","v":258.0655893948242},{"$f":"'Hull Plan'!C310","v":0},{"$f":"'Hull Long'!B259","v":3933.0645161290322},{"$f":"'Hull Long'!C259","v":258.0655893948242},{"$f":"'Hull Plan'!C259","v":0},1.0000000000000001E-5,31.994016229011656,31.994016229011656,31.994016229011656,1.0000000000000001E-5,89.999991041882907,1.7908907089484355E-5,89.999991041882907,93.067579913295049,89.999991041882907,1.7908907089484355E-5,89.999991041882907,93.067579499495253,3960.6981301702854,267.32037865999814,3960.6981307316114,267.32038913432399,1.048935598003008E-5,-4.8935598003007889E-7]
[0,3992.646302502345,712.71678461833176,0,3992.6463030760365,712.71679532339272,null,null,null,null,null,null,null,null,{"$f":"'Hull Long'!B311","v":3965},{"$f":"'Hull Long'!C311","v":260},{"$f":"'Hull Plan'!C311","v":0},{"$f":"'Hull Long'!B260","v":3965},{"$f":"'Hull Long'!C260","v":260},{"$f":"'Hull Plan'!C260","v":0},1.0000000000000001E-5,74.492004735497048,74.492004735497048,74.492004735497048,1.0000000000000001E-5,89.999996152524773,7.6839628162643457E-6,89.999996152524773,93.067585016609826,89.999996152524773,7.6839628162643457E-6,89.999996152524773,93.067584621124752,3992.646302502345,265.60825743085809,3992.6463030760365,265.60826813591899,1.0720422140613514E-5,-7.2042214061351292E-7]
[0,4067.0315680549811,708.73042811431242,0,4067.0315686561885,708.73043933281883,null,null,null,null,null,null,null,null,{"$f":"'Hull Long'!B312","v":4000},{"$f":"'Hull Long'!C312","v":325.75757575757575},{"$f":"'Hull Plan'!C312","v":0},{"$f":"'Hull Long'!B261","v":4000},{"$f":"'Hull Long'!C261","v":325.75757575757575},{"$f":"'Hull Plan'!C261","v":0},1.0000000000000001E-5,null,null,null,null,null,null,null,null,null,null,null,null,4067.0315680549811,261.6219009268388,4067.0315686561885,261.62191214534522,1.1234604421180545E-5,-1.2346044211805441E-6]
[0,0,0,0,0,0]
[{"$f":"A59","v":0},-210.27993152454252,{"$f":"$I$263-C59","v":113.80923469865743},{"$f":"D59","v":0},-210.27993380947862,{"$f":"$I$263-F59","v":113.80922647419317},"Bottom Plank Mirror",null,{"$f":"2*$C$83+0*Basic!$D$2","v":0}]
[0,-138.50636454794139,93.868977604811704,0,-138.50636693051911,93.868969028893218]
[0,-73.017118980715253,75.674642082226853,0,-73.017121454794108,75.674633176956377]
[0,199.6364356500267,-7.445736519994739E-2,0,199.63643297319493,-7.4467000265102001E-2]
[0,199.71475532296509,7.3901473050170807E-3,0,199.69007723288991,-8.9365356347997249E-2]
[0,199.76694965123914,-3.1427460243378391E-3,1,199.74372404066872,-0.10425400493699044]
[0,249.78585221116467,-2.6259198818507912E-3,1,249.78344569902416,-15.099251471737773]
[0,299.80370502514256,-2.184767763580453E-3,1,299.80161402078954,-29.738125227816752]
[0,399.8363738099888,-1.5716717956166804E-3,1,399.83473298524518,-57.743381457564368]
[0,499.8652032917708,-1.1507613091055191E-3,1,499.86390634639821,-84.05155247413586]
[0,599.89043329259198,-8.4913113403217721E-4,1,599.88941179442872,-108.66252578411365]
[0,698.91210099659281,-6.3037832190104837E-4,1,698.91130145784689,-131.35551932879832]
[0,700.91250660660342,-6.1673990192900874E-4,1,700.91171328734015,-131.79681142072593]
[0,799.93105486260026,-4.5437985512819523E-4,1,799.93044262163028,-152.79270353803207]
[0,899.94692560592728,-3.3290222408766112E-4,1,899.94646234038044,-172.3118758518288]
[0,999.96015640025121,-2.4318623584917987E-4,1,999.95981343874109,-190.1337506772584]
[0,1099.9709871804528,-1.7722192903590894E-4,1,1099.970740186282,-206.25831969100281]
[0,1199.9796578986934,-1.2894560148879464E-4,1,1199.9794861475964,-220.68557664212369]
[0,1299.9864085226866,-9.3681689619984354E-5,1,1299.9862943994658,-233.41551673676815]
[0,1399.9914790339699,-6.7787944743713524E-5,1,1399.9914076702612,-244.4481362547892]
[{"$f":"A79","v":0},1499.9951094261774,-4.8420775826230056E-5,{"$f":"D79","v":1},1499.9950684343814,-253.78343229975027]
[0,1599.9975397033124,-3.3375641251609522E-5,1,1599.9975189792517,-261.42140263060082]
[0,1699.9990098780195,-2.0976654198534561E-5,1,1699.9990014549135,-267.36204554611356]
[0,1799.9997599698561,-9.9999998752764441E-6,1,1799.9997579122919,-271.60535980514817]
[0,2000,0,1,2000,-275.00000999999997]
[0,2000,0,1,2000,-275.00000999999997]
[0,2200.0002400301437,-9.9999998752764441E-6,1,2200.0002420877081,-271.60535980514817]
[0,2300.0009901219805,-2.0976654198534561E-5,1,2300.0009985450865,-267.36204554611356]
[0,2400.0024602966873,-3.3375641251609522E-5,1,2400.0024810207483,-261.42140263060082]
[0,2500.0048905738222,-4.8420775826230056E-5,1,2500.0049315656188,-253.78343229975027]
[0,2600.0085209660297,-6.7787944743713524E-5,1,2600.0085923297393,-244.4481362547892]
[0,2700.0135914773127,-9.3681689619984354E-5,1,2700.0137056005346,-233.41551673676815]
[0,2800.0203421013057,{"$f":"$I$263-C91","v":-1.2894560148879464E-4},1,2800.0205138524038,{"$f":"$I$263-F91","v":-220.68557664212369}]
[0,2900.0290128195466,-1.7722192903590894E-4,1,2900.0292598137185,-206.25831969100281]
[0,3000.0398435997481,-2.4318623584917987E-4,1,3000.0401865612594,-190.1337506772584]
[0,3100.0530743940722,-3.3290222408766112E-4,1,3100.0535376596199,-172.3118758518288]
[0,3200.0689451373992,-4.5437985512819523E-4,1,3200.0695573783701,-152.79270353803207]
[0,3299.087493393396,-6.1673990192900874E-4,1,3299.0882867126602,-131.79681142072593]
[0,3301.0878990034066,-6.3037832190104837E-4,1,3301.0886985421535,-131.35551932879832]
[0,3400.1095667074073,-8.4913113403217721E-4,1,3400.1105882055717,-108.66252578411365]
[{"$f":"A99","v":0},3500.1347967082284,-1.1507613091055191E-3,{"$f":"D99","v":1},3500.1360936536021,-84.05155247413586]
[0,3600.1636261900103,-1.5716717956166804E-3,1,3600.165267014755,-57.743381457564368]
[0,3700.1962949748563,-2.184767763580453E-3,1,3700.1983859792108,-29.738125227816752]
[0,3750.214147788834,-2.6259198818507912E-3,1,3750.216554300976,-15.099251471737773]
[0,3800.2330503487597,-3.1427460243378391E-3,1,3800.2562759593316,-0.10425400493699044]
[0,3800.2852446770339,7.3901473050455024E-3,0,3800.3099227671105,-8.9365356347954616E-2]
[0,3800.363564349972,-7.4457365199990022E-2,0,3800.3635670268054,-7.4467000265130423E-2]
[0,4073.0171189807006,75.674642082274204,0,4073.0171211883198,75.674634136113752]
[0,4138.5063646119252,93.868977374499735,0,4138.5063666000397,93.868970218432736]
[0,4210.2799316586661,113.80923421588096,0,4210.2799334088522,113.80922791622217]
[0,0,0,0,0,0]
[{"$f":"A110","v":0},-75.799863907366316,{"$f":"$I$314-C110","v":-611.43315066138996},{"$f":"D110","v":0},-75.799863883679052,{"$f":"$I$314-F110","v":-611.43316064808016},"Side Plank Mirror",null,{"$f":"2*$C$83+0*Basic!$D$2","v":0}]
[2,-1.3080658089165524,-611.25769248086908,2,-1.3080657851902018,-611.25770248416245]
[2,32.310276115109446,-552.18416019819529,2,32.341942274306348,-611.17844042361924]
[2,172.26567358229428,-306.23625181172929,2,171.86621214167695,-610.86268310657806]
[2,172.32133134410054,-306.23762336665447,2,171.92188827476093,-610.86255496454805]
[2,172.37698896518941,-306.23899488274685,2,171.97756426750621,-610.86242682885108]
[2,224.59943387619364,-307.51959637898915,2,224.21767271464682,-610.75421151789362]
[2,276.70088027020432,-308.76581897664352,2,276.3370325117391,-610.65145570819254]
[2,380.55275295987053,-311.15492029306199,2,380.22519394576852,-610.46203809189728]
[2,483.95918325099461,-313.40560019026492,2,483.66802953718616,-610.29331410729969]
[2,586.94628440200199,-315.51717398973176,2,586.69109647734422,-610.14442606726698]
[2,688.51642547444692,-317.46987239370526,2,688.29589498561381,-610.01564963804162]
[2,690.56458093494473,-317.50789091034346,2,690.34473710641021,-610.01322024585625]
[2,791.76859601880437,-319.3199548399229,2,791.58195569433383,-609.90234527126313]
[2,893.65749434809027,-321.00953627967181,2,893.50249771070673,-609.80710078025822]
[2,995.23453791211659,-322.55674053546909,2,995.10887768601322,-609.72756218627114]
[2,1096.527263315779,-323.96065473486544,2,1096.4282797745213,-609.66254296327475]
[2,1197.5634359770518,-325.22034749498317,2,1197.4881749408539,-609.61080445664993]
[2,1298.3710293729696,-326.33488114756091,2,1298.3163078615689,-609.57106033806929]
[2,1398.9782035159546,-327.30332562047204,2,1398.9406845010826,-609.54197980726553]
[{"$f":"A130","v":2},1499.4132827494823,-328.12477423561194,{"$f":"D130","v":2},1499.3895611232181,-609.52218795587464]
[2,1599.7047329609356,-328.79836182289546,2,1599.6914359927011,-609.51026008686813]
[2,1699.8811383186562,-329.32328580342175,2,1699.8750460253023,-609.50470277001727]
[2,1799.9711776505433,-329.6988313933922,2,1799.969372991281,-609.50390257842628]
[2,2000,-330.00001999999995,2,2000,-609.50852718747365]
[2,2000,-330.00001999999995,2,2000,-609.50852718747365]
[2,2200.0288223494567,-329.6988313933922,2,2200.0293019703149,-609.51780434763077]
[2,2300.1188590997785,-329.32259839638903,2,2300.1208354134469,-609.52965752221166]
[2,2400.2952564417437,-328.79614691292392,2,2400.3001622322799,-609.54653402860276]
[2,2500.5866878839406,-328.11977051676638,2,2500.5964272645133,-609.56873468326353]
[2,2601.0217303914055,-327.29384376698471,2,2601.0386734828853,-609.59664320710885]
[2,2701.628840988566,-326.31882016481256,2,2701.6558173559024,-609.63072407397181]
[2,2802.4363338450917,{"$f":"$I$314-C142","v":-325.19522970520819},2,2802.4766247478115,{"$f":"$I$314-F142","v":-609.67151993416462}]
[2,2903.4723579315087,-323.9236760502817,2,2903.5296874538681,-609.71964864279607]
[2,3004.7648753263702,-322.50483335543981,2,3004.8434004608789,-609.77579992644746]
[2,3106.3416402510834,-320.9394427822067,2,3106.44594001615,-609.84073172511012]
[2,3208.2301789022331,-319.22830873419133,2,3208.365242580519,-609.91526624891117]
[2,3309.4337492110058,-317.39157208014694,2,3309.6045746261179,-609.9993835633328]
[2,3311.4818947274057,-317.35302157269143,2,3311.6534996997902,-610.00120750057454]
[2,3413.0514939284913,-315.37233818957975,2,3413.264631514352,-610.09674670427523]
[{"$f":"A150","v":2},3516.0379466282311,-313.22937115234686,{"$f":"D150","v":2},3516.2991486959663,-610.20560118003175]
[2,3619.4436254848747,-310.94442788184074,2,3619.7593904233304,-610.32790342277701]
[2,3723.2946459822047,-308.51856557867086,2,3723.6718137266371,-610.46473081052079]
[2,3775.3956309177852,-307.25319770596155,2,3775.8061713084066,-610.53900563927164]
[2,3827.6175919372836,-305.95301312173683,2,3828.063336055357,-610.61733233232792]
[2,3827.6732490357272,-305.95162055771692,2,3828.1190313524876,-610.61742792720452]
[2,3827.7289062748637,-305.95022795445209,2,3828.1747267924216,-610.61752352688461]
[2,3967.779902009157,-551.84371203588955,2,3967.7552056184813,-610.84712659569288]
[2,4001.4212643720612,-610.90413760530635,2,4001.4212643554606,-610.90414760063288]
[0,4075.9131622704099,-611.03030025933958,0,4075.9131622538671,-611.03031022068137]
[0,0,0,0,0,0]
[{"$f":"A161","v":0},-37.045603203283164,{"$f":"$I$365-C161","v":23.08113738225255},0,{"$f":"E161","v":-37.04560629772547},{"$f":"$I$365-F161","v":23.081127886908959},"Washboard Mirror",null,{"$f":"2*$C$83+0*Basic!$D$2","v":0}]
[3,{"$f":"B162","v":33.780285877166577},{"$f":"$I$365-C162","v":-2.8816898115735512E-4},{"$f":"D162","v":3},33.780282777590074,{"$f":"$I$365-F162","v":-2.9768007914299233E-4}]
[3,65.774302106178169,-2.8748135723333235E-4,3,65.774299071361526,-10.426814177563372]
[3,198.95589250614861,-2.7635669536607566E-4,3,198.95589294540417,-52.017493877175028]
[3,199.00920458722825,-1.6528591833235851E-2,3,199.00920498895545,-52.033546111535159]
[3,199.06251666328851,-3.2780346158375551E-2,3,199.06251702748943,-52.049597875745931]
[3,249.13853908191098,-15.096571761547956,3,249.13853939778457,-66.930210251997025]
[3,299.2103419732025,-29.736030767677903,3,299.21034224359738,-81.395782628686419]
[3,399.34173721299436,-57.741961514347537,3,399.34173743256895,-109.08133233762874]
[3,499.45769747910799,-84.050562548361256,3,499.45769765461262,-135.10522927475574]
[3,599.55918528696373,-108.66183386507795,3,599.55918542470226,-159.46639992846909]
[3,698.64634830948103,-131.35503772619722,3,698.64634841539157,-181.94496291037137]
[3,700.64798216484269,-131.79633346125237,3,700.64798225055597,-182.38225220571377]
[3,799.72260022930152,-152.79237736736886,3,799.72260028871699,-203.19587229621015]
[3,899.78644978238799,-172.31165954331971,3,899.78644982038293,-222.56161455744095]
[3,999.83968083668674,-190.13361198296681,3,999.8396808578151,-240.25946010554381]
[3,1099.8832577179137,-206.25823468164981,3,1099.8832577263022,-256.28781605465048]
[3,1199.918145030724,-220.68552763484215,3,1199.9181450300707,-270.64491917559849]
[3,1299.9453076309089,-233.41549083821417,3,1299.945307624479,-283.32879520716534]
[3,1399.9657105975607,-244.44812428770783,3,1399.9657105881774,-294.33720157445498]
[3,1499.9803192052098,-253.78342797962884,3,1499.9803191952385,-303.66754302280196]
[3,1599.9900988959398,-261.42140191076669,3,1599.9900988872605,-311.31673974930482]
[3,1699.996015251485,-267.36204607856098,3,1699.9960152454457,-317.28100361064554]
[3,1799.9990339653186,-271.60536048135685,3,1799.9990339626509,-321.55540869894674]
[3,2000,-275.00000999999997,3,2000,-325.00001999999995]
[3,2000,-275.00000999999997,3,2000,-325.00001999999995]
[3,2200.0009660346814,-271.60536048135685,3,2200.0009660331943,-321.63322351281147]
[3,2300.0039847488115,-267.3620460855534,3,2300.0039847435469,-317.42472540632616]
[3,2400.0099011054972,-261.42140193695883,3,2400.0099010947752,-311.53282406277708]
[3,2500.0196807986858,-253.78342803801613,3,2500.0196807807292,-303.95751948460696]
[3,2600.0342894105324,-244.44812439106667,3,2600.034289383465,-294.6988116741573]
[3,2700.0546923834468,-233.4154909983485,3,2700.054692345293,-283.75670063366624]
[{"$f":"A193","v":3},2800.081854992161,-220.68552786199538,3,{"$f":"E193","v":2800.0818549408455},-271.13118636526758]
[3,{"$f":"B194","v":2900.1167423158213},-206.25823498403517,{"$f":"D194","v":3},2900.1167422491676,-256.82226887098909]
[3,3000.1603192101097,-190.13361236638974,3,3000.16031912584,-240.82994815275259]
[3,3100.2135502793944,-172.3116600108736,3,3100.2135501751286,-223.15422421237258]
[3,3200.2773998489197,-152.79237791919346,3,3200.2773997221752,-203.79509705155601]
[3,3299.3520179304332,-131.79633409355233,3,3299.3520177787145,-182.97132492178702]
[3,3301.3536517861339,-131.35503836003562,3,3301.3536516161589,-182.5336500823594]
[3,3400.4408148246948,-108.6618345689682,3,3400.440814626978,-160.02664311024]
[3,3500.5423026475705,-84.050563313341371,3,3500.5423024192373,-135.61730633265879]
[3,3600.6582629262912,-57.741962327303412,3,3600.6582626644413,-109.5245663403937]
[3,3700.7896581748623,-29.736031612022494,3,3700.7896578764903,-81.748423134612892]
[3,3750.8614610678915,-15.096572611835555,3,3750.8614607380896,-67.229080332573773]
[3,3800.9374834850005,-3.278119141417335E-2,3,3800.9374831226023,-52.28888673923197]
[3,3800.9907955610556,-1.6529437071099551E-2,3,3800.9907951736209,-52.272768411867048]
[3,3801.0441076421257,-2.7720190250590804E-4,3,3801.0441072296539,-52.256649607621981]
[3,3934.2256980420962,-2.8825314282698855E-4,3,3934.2257010963267,-10.478355697818031]
[3,3966.2197142711079,-2.8892725076445913E-4,3,3966.2197173820737,-2.9842635376553517E-4]
[0,4037.0119311282506,23.184205933854784,0,4037.0119342286666,23.184196466963414]
[0,0,0,0,0,0]
[]
[]
[]
[]
[]
[]
[]
[]
[]
[]
[]
[]
[]
[]
[]
[]
[]
[]
[]
[]
[]
[]
[]
[]
[]
[]
[]
[]
[]
[]
[]
[]
[]
[]
[]
[]
[]
[]
[]
[]
[]
[]
[]
[]
[]
[]
[]
[]
[]
[]
[]
[]
[]
[]
[]
[]
[]
[]
[]
[]
[]
[]
[]
[]
[]
[]
[]
[]
[]
[]
[]
[]
[]
[]
[]
[]
[]
[]
[]
[]
[]
[]
[]
[]
[]
[]
[]
[]
[]
[]
[]
[]
[]
[]
[]
[]
[]
[]
[]
[]
[]
[]
[]
[]
[]
[]
[]
[]
[null,null,null,null,null,null,null,null,null,{"$f":"17.358058688555-90","v":-72.641941311444995}]

{"sheet":"Offsets","index":6,"n_rows":49,"n_cols":8,"rows_kept":49,"cut":false,"hidden":false,"merged":[]}
["Bottom Plank",null,"Washboard",null,"Topside",null,"Coaming"]
[null,null,{"$f":"'Hull Unfold'!E162","v":33.780282777590074},{"$f":"'Hull Unfold'!F162","v":2.9768007914299233E-4},{"$f":"'Hull Unfold'!B111","v":-1.3080658089165524},{"$f":"'Hull Unfold'!C111","v":611.25769248086908}]
[null,null,{"$f":"INT(-'Hull Unfold'!E163/50)*-50","v":100},{"$f":"('Hull Unfold'!F164-'Hull Unfold'!F162)/('Hull Unfold'!E164-'Hull Unfold'!E162)*(C3-'Hull Unfold'!E162)+'Hull Unfold'!F162","v":20.854248329177512},{"$f":"INT(-'Hull Unfold'!E212/50)*-50","v":-50},{"$f":"('Hull Unfold'!F113-'Hull Unfold'!F111)/('Hull Unfold'!E113-'Hull Unfold'!E111)*(E3-'Hull Unfold'!E111)+'Hull Unfold'!F111","v":611.36877127438447}]
[null,null,{"$f":"INT(-'Hull Unfold'!E164/50)*-50","v":200},{"$f":"('Hull Unfold'!F165-'Hull Unfold'!F163)/('Hull Unfold'!E165-'Hull Unfold'!E163)*(C4-'Hull Unfold'!E163)+'Hull Unfold'!F163","v":52.34295258532773},{"$f":"'Hull Unfold'!B113","v":172.26567358229428},{"$f":"'Hull Unfold'!C113","v":306.23625181172929}]
[null,null,{"$f":"INT(-'Hull Unfold'!E165/50)*-50","v":200},{"$f":"('Hull Unfold'!F166-'Hull Unfold'!F164)/('Hull Unfold'!E166-'Hull Unfold'!E164)*(C5-'Hull Unfold'!E164)+'Hull Unfold'!F164","v":52.331869492261781},{"$f":"'Hull Unfold'!B114","v":172.32133134410054},{"$f":"'Hull Unfold'!C114","v":306.23762336665447}]
[{"$f":"'Hull Unfold'!E64","v":199.74372404066872},{"$f":"'Hull Unfold'!F64","v":0.10425400493699044},{"$f":"INT(-'Hull Unfold'!E166/50)*-50","v":200},{"$f":"('Hull Unfold'!F167-'Hull Unfold'!F165)/('Hull Unfold'!E167-'Hull Unfold'!E165)*(C6-'Hull Unfold'!E165)+'Hull Unfold'!F165","v":52.327975325200846},{"$f":"'Hull Unfold'!B115","v":172.37698896518941},{"$f":"'Hull Unfold'!C115","v":306.23899488274685},{"$f":"'Hull Unfold'!B217","v":172.40393629596588},{"$f":"'Hull Unfold'!F217-'Hull Unfold'!C217","v":12.000009999999747}]
[{"$f":"'Hull Unfold'!E65","v":249.78344569902416},{"$f":"'Hull Unfold'!F65","v":15.099251471737773},{"$f":"INT(-'Hull Unfold'!E167/50)*-50","v":250},{"$f":"('Hull Unfold'!F168-'Hull Unfold'!F166)/('Hull Unfold'!E168-'Hull Unfold'!E166)*(C7-'Hull Unfold'!E166)+'Hull Unfold'!F166","v":66.975741133828649},{"$f":"'Hull Unfold'!B116","v":224.59943387619364},{"$f":"'Hull Unfold'!C116","v":307.51959637898915},{"$f":"'Hull Unfold'!B218","v":224.62383872625196},{"$f":"'Hull Unfold'!F218-'Hull Unfold'!C218","v":14.761121111110924}]
[{"$f":"'Hull Unfold'!E66","v":299.80161402078954},{"$f":"'Hull Unfold'!F66","v":29.738125227816752},{"$f":"INT(-'Hull Unfold'!E168/50)*-50","v":300},{"$f":"('Hull Unfold'!F169-'Hull Unfold'!F167)/('Hull Unfold'!E169-'Hull Unfold'!E167)*(C8-'Hull Unfold'!E167)+'Hull Unfold'!F167","v":81.203326026809279},{"$f":"'Hull Unfold'!B117","v":276.70088027020432},{"$f":"'Hull Unfold'!C117","v":308.76581897664352},{"$f":"'Hull Unfold'!B219","v":276.72291878926438},{"$f":"'Hull Unfold'!F219-'Hull Unfold'!C219","v":17.444454444444204}]
[{"$f":"'Hull Unfold'!E67","v":399.83473298524518},{"$f":"'Hull Unfold'!F67","v":57.743381457564368},{"$f":"INT(-'Hull Unfold'!E169/50)*-50","v":400},{"$f":"('Hull Unfold'!F170-'Hull Unfold'!F168)/('Hull Unfold'!E170-'Hull Unfold'!E168)*(C9-'Hull Unfold'!E168)+'Hull Unfold'!F168","v":108.42913213101555},{"$f":"'Hull Unfold'!B118","v":380.55275295987053},{"$f":"'Hull Unfold'!C118","v":311.15492029306199},{"$f":"'Hull Unfold'!B220","v":380.57056222263009},{"$f":"'Hull Unfold'!F220-'Hull Unfold'!C220","v":22.577787777777417}]
[{"$f":"'Hull Unfold'!E68","v":499.86390634639821},{"$f":"'Hull Unfold'!F68","v":84.05155247413586},{"$f":"INT(-'Hull Unfold'!E170/50)*-50","v":500},{"$f":"('Hull Unfold'!F171-'Hull Unfold'!F169)/('Hull Unfold'!E171-'Hull Unfold'!E169)*(C10-'Hull Unfold'!E169)+'Hull Unfold'!F169","v":134.41215846640767},{"$f":"'Hull Unfold'!B119","v":483.95918325099461},{"$f":"'Hull Unfold'!C119","v":313.40560019026492},{"$f":"'Hull Unfold'!B221","v":483.9733828020702},{"$f":"'Hull Unfold'!F221-'Hull Unfold'!C221","v":27.400009999999725}]
[{"$f":"'Hull Unfold'!E69","v":599.88941179442872},{"$f":"'Hull Unfold'!F69","v":108.66252578411365},{"$f":"INT(-'Hull Unfold'!E171/50)*-50","v":600},{"$f":"('Hull Unfold'!F172-'Hull Unfold'!F170)/('Hull Unfold'!E172-'Hull Unfold'!E170)*(C11-'Hull Unfold'!E170)+'Hull Unfold'!F170","v":158.7480153621284},{"$f":"'Hull Unfold'!B120","v":586.94628440200199},{"$f":"'Hull Unfold'!C120","v":315.51717398973176},{"$f":"'Hull Unfold'!B222","v":586.95743700387595},{"$f":"'Hull Unfold'!F222-'Hull Unfold'!C222","v":31.911121111110901}]
[{"$f":"'Hull Unfold'!E70","v":698.91130145784689},{"$f":"'Hull Unfold'!F70","v":131.35551932879832},{"$f":"INT(-'Hull Unfold'!E172/50)*-50","v":700},{"$f":"('Hull Unfold'!F173-'Hull Unfold'!F171)/('Hull Unfold'!E173-'Hull Unfold'!E171)*(C12-'Hull Unfold'!E171)+'Hull Unfold'!F171","v":182.23536089828633},{"$f":"'Hull Unfold'!B121","v":688.51642547444692},{"$f":"'Hull Unfold'!C121","v":317.46987239370526},{"$f":"'Hull Unfold'!B223","v":688.52506062638361},{"$f":"'Hull Unfold'!F223-'Hull Unfold'!C223","v":36.070661111111008}]
[{"$f":"'Hull Unfold'!E71","v":700.91171328734015},{"$f":"'Hull Unfold'!F71","v":131.79681142072593},{"$f":"INT(-'Hull Unfold'!E173/50)*-50","v":750},{"$f":"('Hull Unfold'!F174-'Hull Unfold'!F172)/('Hull Unfold'!E174-'Hull Unfold'!E172)*(C13-'Hull Unfold'!E172)+'Hull Unfold'!F172","v":192.74187886471586},{"$f":"'Hull Unfold'!B122","v":690.56458093494473},{"$f":"'Hull Unfold'!C122","v":317.50789091034346},{"$f":"'Hull Unfold'!B224","v":690.57316971283251},{"$f":"'Hull Unfold'!F224-'Hull Unfold'!C224","v":36.151549999999929}]
[{"$f":"'Hull Unfold'!E72","v":799.93044262163028},{"$f":"'Hull Unfold'!F72","v":152.79270353803207},{"$f":"INT(-'Hull Unfold'!E174/50)*-50","v":800},{"$f":"('Hull Unfold'!F175-'Hull Unfold'!F173)/('Hull Unfold'!E175-'Hull Unfold'!E173)*(C14-'Hull Unfold'!E173)+'Hull Unfold'!F173","v":202.42810658154099},{"$f":"'Hull Unfold'!B123","v":791.76859601880437},{"$f":"'Hull Unfold'!C123","v":319.3199548399229},{"$f":"'Hull Unfold'!B225","v":791.7751186041969},{"$f":"'Hull Unfold'!F225-'Hull Unfold'!C225","v":40.000009999999861}]
[{"$f":"'Hull Unfold'!E73","v":899.94646234038044},{"$f":"'Hull Unfold'!F73","v":172.3118758518288},{"$f":"INT(-'Hull Unfold'!E175/50)*-50","v":900},{"$f":"('Hull Unfold'!F176-'Hull Unfold'!F174)/('Hull Unfold'!E176-'Hull Unfold'!E174)*(C15-'Hull Unfold'!E174)+'Hull Unfold'!F174","v":221.76820104956448},{"$f":"'Hull Unfold'!B124","v":893.65749434809027},{"$f":"'Hull Unfold'!C124","v":321.00953627967181},{"$f":"'Hull Unfold'!B226","v":893.66232546354138},{"$f":"'Hull Unfold'!F226-'Hull Unfold'!C226","v":43.577787777777417}]
[{"$f":"'Hull Unfold'!E74","v":999.95981343874109},{"$f":"'Hull Unfold'!F74","v":190.1337506772584},{"$f":"INT(-'Hull Unfold'!E176/50)*-50","v":1000},{"$f":"('Hull Unfold'!F177-'Hull Unfold'!F175)/('Hull Unfold'!E177-'Hull Unfold'!E175)*(C16-'Hull Unfold'!E175)+'Hull Unfold'!F175","v":239.45255060724338},{"$f":"'Hull Unfold'!B125","v":995.23453791211659},{"$f":"'Hull Unfold'!C125","v":322.55674053546909},{"$f":"'Hull Unfold'!B227","v":995.23802370571104},{"$f":"'Hull Unfold'!F227-'Hull Unfold'!C227","v":46.844454444444182}]
[{"$f":"'Hull Unfold'!E75","v":1099.970740186282},{"$f":"'Hull Unfold'!F75","v":206.25831969100281},{"$f":"INT(-'Hull Unfold'!E177/50)*-50","v":1100},{"$f":"('Hull Unfold'!F178-'Hull Unfold'!F176)/('Hull Unfold'!E178-'Hull Unfold'!E176)*(C17-'Hull Unfold'!E176)+'Hull Unfold'!F176","v":255.47057885502738},{"$f":"'Hull Unfold'!B126","v":1096.527263315779},{"$f":"'Hull Unfold'!C126","v":323.96065473486544},{"$f":"'Hull Unfold'!B228","v":1096.5297009753663},{"$f":"'Hull Unfold'!F228-'Hull Unfold'!C228","v":49.800009999999475}]
[{"$f":"'Hull Unfold'!E76","v":1199.9794861475964},{"$f":"'Hull Unfold'!F76","v":220.68557664212369},{"$f":"INT(-'Hull Unfold'!E178/50)*-50","v":1200},{"$f":"('Hull Unfold'!F179-'Hull Unfold'!F177)/('Hull Unfold'!E179-'Hull Unfold'!E177)*(C18-'Hull Unfold'!E177)+'Hull Unfold'!F177","v":269.81989143835591},{"$f":"'Hull Unfold'!B127","v":1197.5634359770518},{"$f":"'Hull Unfold'!C127","v":325.22034749498317},{"$f":"'Hull Unfold'!B229","v":1197.5650767293348},{"$f":"'Hull Unfold'!F229-'Hull Unfold'!C229","v":52.444454444444091}]
[{"$f":"'Hull Unfold'!E77","v":1299.9862943994658},{"$f":"'Hull Unfold'!F77","v":233.41551673676815},{"$f":"INT(-'Hull Unfold'!E179/50)*-50","v":1300},{"$f":"('Hull Unfold'!F180-'Hull Unfold'!F178)/('Hull Unfold'!E180-'Hull Unfold'!E178)*(C19-'Hull Unfold'!E178)+'Hull Unfold'!F178","v":282.49793805305251},{"$f":"'Hull Unfold'!B128","v":1298.3710293729696},{"$f":"'Hull Unfold'!C128","v":326.33488114756091},{"$f":"'Hull Unfold'!B230","v":1298.3720818545783},{"$f":"'Hull Unfold'!F230-'Hull Unfold'!C230","v":54.777787777777576}]
[{"$f":"'Hull Unfold'!E78","v":1399.9914076702612},{"$f":"'Hull Unfold'!F78","v":244.4481362547892},{"$f":"INT(-'Hull Unfold'!E180/50)*-50","v":1400},{"$f":"('Hull Unfold'!F181-'Hull Unfold'!F179)/('Hull Unfold'!E181-'Hull Unfold'!E179)*(C20-'Hull Unfold'!E179)+'Hull Unfold'!F179","v":293.5019500964882},{"$f":"'Hull Unfold'!B129","v":1398.9782035159546},{"$f":"'Hull Unfold'!C129","v":327.30332562047204},{"$f":"'Hull Unfold'!B231","v":1398.9788374419916},{"$f":"'Hull Unfold'!F231-'Hull Unfold'!C231","v":56.800009999999702}]
[{"$f":"'Hull Unfold'!E79","v":1499.9950684343814},{"$f":"'Hull Unfold'!F79","v":253.78343229975027},{"$f":"INT(-'Hull Unfold'!E181/50)*-50","v":1500},{"$f":"('Hull Unfold'!F182-'Hull Unfold'!F180)/('Hull Unfold'!E182-'Hull Unfold'!E180)*(C21-'Hull Unfold'!E180)+'Hull Unfold'!F180","v":302.82884626991239},{"$f":"'Hull Unfold'!B130","v":1499.4132827494823},{"$f":"'Hull Unfold'!C130","v":328.12477423561194},{"$f":"'Hull Unfold'!B232","v":1499.4136327883227},{"$f":"'Hull Unfold'!F232-'Hull Unfold'!C232","v":58.511121111110924}]
[{"$f":"'Hull Unfold'!E80","v":1599.9975189792517},{"$f":"'Hull Unfold'!F80","v":261.42140263060082},{"$f":"INT(-'Hull Unfold'!E182/50)*-50","v":1600},{"$f":"('Hull Unfold'!F183-'Hull Unfold'!F181)/('Hull Unfold'!E183-'Hull Unfold'!E181)*(C22-'Hull Unfold'!E181)+'Hull Unfold'!F181","v":310.4750786789163},{"$f":"'Hull Unfold'!B131","v":1599.7047329609356},{"$f":"'Hull Unfold'!C131","v":328.79836182289546},{"$f":"'Hull Unfold'!B233","v":1599.7049027056112},{"$f":"'Hull Unfold'!F233-'Hull Unfold'!C233","v":59.911121111111015}]
[{"$f":"'Hull Unfold'!E81","v":1699.9990014549135},{"$f":"'Hull Unfold'!F81","v":267.36204554611356},{"$f":"INT(-'Hull Unfold'!E183/50)*-50","v":1700},{"$f":"('Hull Unfold'!F184-'Hull Unfold'!F182)/('Hull Unfold'!E184-'Hull Unfold'!E182)*(C23-'Hull Unfold'!E182)+'Hull Unfold'!F182","v":316.43635237457977},{"$f":"'Hull Unfold'!B132","v":1699.8811383186562},{"$f":"'Hull Unfold'!C132","v":329.32328580342175},{"$f":"'Hull Unfold'!B234","v":1699.8812042240559},{"$f":"'Hull Unfold'!F234-'Hull Unfold'!C234","v":61.000009999999747}]
[{"$f":"'Hull Unfold'!E82","v":1799.9997579122919},{"$f":"'Hull Unfold'!F82","v":271.60535980514817},{"$f":"INT(-'Hull Unfold'!E184/50)*-50","v":1800},{"$f":"('Hull Unfold'!F185-'Hull Unfold'!F183)/('Hull Unfold'!E185-'Hull Unfold'!E183)*(C24-'Hull Unfold'!E183)+'Hull Unfold'!F183","v":319.85407742482403},{"$f":"'Hull Unfold'!B133","v":1799.9711776505433},{"$f":"'Hull Unfold'!C133","v":329.6988313933922},{"$f":"'Hull Unfold'!B235","v":1799.9711927800304},{"$f":"'Hull Unfold'!F235-'Hull Unfold'!C235","v":61.777787777777576}]
[{"$f":"'Hull Unfold'!E83","v":2000},{"$f":"'Hull Unfold'!F83","v":275.00000999999997},{"$f":"'Hull Unfold'!E185","v":2000},{"$f":"'Hull Unfold'!F185","v":325.00001999999995},{"$f":"'Hull Unfold'!B134","v":2000},{"$f":"'Hull Unfold'!C134","v":330.00001999999995},{"$f":"'Hull Unfold'!B236","v":2000},{"$f":"'Hull Unfold'!F236-'Hull Unfold'!C236","v":62.400009999999952}]
[{"$f":"'Hull Unfold'!E84","v":2000},{"$f":"'Hull Unfold'!F84","v":275.00000999999997},{"$f":"'Hull Unfold'!E186","v":2000},{"$f":"'Hull Unfold'!F186","v":325.00001999999995},{"$f":"'Hull Unfold'!B135","v":2000},{"$f":"'Hull Unfold'!C135","v":330.00001999999995},{"$f":"'Hull Unfold'!B237","v":2000},{"$f":"'Hull Unfold'!F237-'Hull Unfold'!C237","v":62.400009999999952}]
[{"$f":"'Hull Unfold'!E85","v":2200.0002420877081},{"$f":"'Hull Unfold'!F85","v":271.60535980514817},{"$f":"INT('Hull Unfold'!E187/50)*50","v":2200},{"$f":"('Hull Unfold'!F188-'Hull Unfold'!F186)/('Hull Unfold'!E188-'Hull Unfold'!E186)*(C27-'Hull Unfold'!E186)+'Hull Unfold'!F186","v":319.94989068245144},{"$f":"'Hull Unfold'!B136","v":2200.0288223494567},{"$f":"'Hull Unfold'!C136","v":329.6988313933922},{"$f":"'Hull Unfold'!B238","v":2200.0288072199696},{"$f":"'Hull Unfold'!F238-'Hull Unfold'!C238","v":61.777787777777576}]
[{"$f":"'Hull Unfold'!E86","v":2300.0009985450865},{"$f":"'Hull Unfold'!F86","v":267.36204554611356},{"$f":"INT('Hull Unfold'!E188/50)*50","v":2300},{"$f":"('Hull Unfold'!F189-'Hull Unfold'!F187)/('Hull Unfold'!E189-'Hull Unfold'!E187)*(C28-'Hull Unfold'!E187)+'Hull Unfold'!F187","v":316.58329818136906},{"$f":"'Hull Unfold'!B137","v":2300.1188590997785},{"$f":"'Hull Unfold'!C137","v":329.32259839638903},{"$f":"'Hull Unfold'!B239","v":2300.1187957759439},{"$f":"'Hull Unfold'!F239-'Hull Unfold'!C239","v":61.000009999999747}]
[{"$f":"'Hull Unfold'!E87","v":2400.0024810207483},{"$f":"'Hull Unfold'!F87","v":261.42140263060082},{"$f":"INT('Hull Unfold'!E189/50)*50","v":2400},{"$f":"('Hull Unfold'!F190-'Hull Unfold'!F188)/('Hull Unfold'!E190-'Hull Unfold'!E188)*(C29-'Hull Unfold'!E188)+'Hull Unfold'!F188","v":310.69191915416241},{"$f":"'Hull Unfold'!B138","v":2400.2952564417437},{"$f":"'Hull Unfold'!C138","v":328.79614691292392},{"$f":"'Hull Unfold'!B240","v":2400.2950972943886},{"$f":"'Hull Unfold'!F240-'Hull Unfold'!C240","v":59.911121111111015}]
[{"$f":"'Hull Unfold'!E88","v":2500.0049315656188},{"$f":"'Hull Unfold'!F88","v":253.78343229975027},{"$f":"INT('Hull Unfold'!E190/50)*50","v":2500},{"$f":"('Hull Unfold'!F191-'Hull Unfold'!F189)/('Hull Unfold'!E191-'Hull Unfold'!E189)*(C30-'Hull Unfold'!E189)+'Hull Unfold'!F189","v":303.11767739935868},{"$f":"'Hull Unfold'!B139","v":2500.5866878839406},{"$f":"'Hull Unfold'!C139","v":328.11977051676638},{"$f":"'Hull Unfold'!B241","v":2500.586367211677},{"$f":"'Hull Unfold'!F241-'Hull Unfold'!C241","v":58.511121111110924}]
[{"$f":"'Hull Unfold'!E89","v":2600.0085923297393},{"$f":"'Hull Unfold'!F89","v":244.4481362547892},{"$f":"INT('Hull Unfold'!E191/50)*50","v":2600},{"$f":"('Hull Unfold'!F192-'Hull Unfold'!F190)/('Hull Unfold'!E192-'Hull Unfold'!E190)*(C31-'Hull Unfold'!E190)+'Hull Unfold'!F190","v":293.86086539685073},{"$f":"'Hull Unfold'!B140","v":2601.0217303914055},{"$f":"'Hull Unfold'!C140","v":327.29384376698471},{"$f":"'Hull Unfold'!B242","v":2601.0211625580082},{"$f":"'Hull Unfold'!F242-'Hull Unfold'!C242","v":56.800009999999702}]
[{"$f":"'Hull Unfold'!E90","v":2700.0137056005346},{"$f":"'Hull Unfold'!F90","v":233.41551673676815},{"$f":"INT('Hull Unfold'!E192/50)*50","v":2700},{"$f":"('Hull Unfold'!F193-'Hull Unfold'!F191)/('Hull Unfold'!E193-'Hull Unfold'!E191)*(C32-'Hull Unfold'!E191)+'Hull Unfold'!F191","v":282.92184050740934},{"$f":"'Hull Unfold'!B141","v":2701.628840988566},{"$f":"'Hull Unfold'!C141","v":326.31882016481256},{"$f":"'Hull Unfold'!B243","v":2701.6279181454215},{"$f":"'Hull Unfold'!F243-'Hull Unfold'!C243","v":54.777787777777576}]
[{"$f":"'Hull Unfold'!E91","v":2800.0205138524038},{"$f":"'Hull Unfold'!F91","v":220.68557664212369},{"$f":"INT('Hull Unfold'!E193/50)*50","v":2800},{"$f":"('Hull Unfold'!F194-'Hull Unfold'!F192)/('Hull Unfold'!E194-'Hull Unfold'!E192)*(C33-'Hull Unfold'!E192)+'Hull Unfold'!F192","v":270.30102490546636},{"$f":"'Hull Unfold'!B142","v":2802.4363338450917},{"$f":"'Hull Unfold'!C142","v":325.19522970520819},{"$f":"'Hull Unfold'!B244","v":2802.434923270665},{"$f":"'Hull Unfold'!F244-'Hull Unfold'!C244","v":52.444454444444091}]
[{"$f":"'Hull Unfold'!E92","v":2900.0292598137185},{"$f":"'Hull Unfold'!F92","v":206.25831969100281},{"$f":"INT('Hull Unfold'!E194/50)*50","v":2900},{"$f":"('Hull Unfold'!F195-'Hull Unfold'!F193)/('Hull Unfold'!E195-'Hull Unfold'!E193)*(C34-'Hull Unfold'!E193)+'Hull Unfold'!F193","v":255.99890549974336},{"$f":"'Hull Unfold'!B143","v":2903.4723579315087},{"$f":"'Hull Unfold'!C143","v":323.9236760502817},{"$f":"'Hull Unfold'!B245","v":2903.4702990246333},{"$f":"'Hull Unfold'!F245-'Hull Unfold'!C245","v":49.800009999999475}]
[{"$f":"'Hull Unfold'!E93","v":3000.0401865612594},{"$f":"'Hull Unfold'!F93","v":190.1337506772584},{"$f":"INT('Hull Unfold'!E195/50)*50","v":3000},{"$f":"('Hull Unfold'!F196-'Hull Unfold'!F194)/('Hull Unfold'!E196-'Hull Unfold'!E194)*(C35-'Hull Unfold'!E194)+'Hull Unfold'!F194","v":240.01603384175542},{"$f":"'Hull Unfold'!B144","v":3004.7648753263702},{"$f":"'Hull Unfold'!C144","v":322.50483335543981},{"$f":"'Hull Unfold'!B246","v":3004.7619762942886},{"$f":"'Hull Unfold'!F246-'Hull Unfold'!C246","v":46.844454444444182}]
[{"$f":"'Hull Unfold'!E94","v":3100.0535376596199},{"$f":"'Hull Unfold'!F94","v":172.3118758518288},{"$f":"INT('Hull Unfold'!E196/50)*50","v":3100},{"$f":"('Hull Unfold'!F197-'Hull Unfold'!F195)/('Hull Unfold'!E197-'Hull Unfold'!E195)*(C36-'Hull Unfold'!E195)+'Hull Unfold'!F195","v":222.35302602223251},{"$f":"'Hull Unfold'!B145","v":3106.3416402510834},{"$f":"'Hull Unfold'!C145","v":320.9394427822067},{"$f":"'Hull Unfold'!B247","v":3106.3376745364581},{"$f":"'Hull Unfold'!F247-'Hull Unfold'!C247","v":43.577787777777417}]
[{"$f":"'Hull Unfold'!E95","v":3200.0695573783701},{"$f":"'Hull Unfold'!F95","v":152.79270353803207},{"$f":"INT('Hull Unfold'!E197/50)*50","v":3200},{"$f":"('Hull Unfold'!F198-'Hull Unfold'!F196)/('Hull Unfold'!E198-'Hull Unfold'!E196)*(C37-'Hull Unfold'!E196)+'Hull Unfold'!F196","v":203.01894391153294},{"$f":"'Hull Unfold'!B146","v":3208.2301789022331},{"$f":"'Hull Unfold'!C146","v":319.22830873419133},{"$f":"'Hull Unfold'!B248","v":3208.2248813958026},{"$f":"'Hull Unfold'!F248-'Hull Unfold'!C248","v":40.000009999999861}]
[{"$f":"'Hull Unfold'!E96","v":3299.0882867126602},{"$f":"'Hull Unfold'!F96","v":131.79681142072593},{"$f":"INT('Hull Unfold'!E198/50)*50","v":3250},{"$f":"('Hull Unfold'!F199-'Hull Unfold'!F197)/('Hull Unfold'!E199-'Hull Unfold'!E197)*(C38-'Hull Unfold'!E197)+'Hull Unfold'!F197","v":193.33591985445955},{"$f":"'Hull Unfold'!B147","v":3309.4337492110058},{"$f":"'Hull Unfold'!C147","v":317.39157208014694},{"$f":"'Hull Unfold'!B249","v":3309.4268302871669},{"$f":"'Hull Unfold'!F249-'Hull Unfold'!C249","v":36.151549999999929}]
[{"$f":"'Hull Unfold'!E97","v":3301.0886985421535},{"$f":"'Hull Unfold'!F97","v":131.35551932879832},{"$f":"INT('Hull Unfold'!E199/50)*50","v":3300},{"$f":"('Hull Unfold'!F200-'Hull Unfold'!F198)/('Hull Unfold'!E200-'Hull Unfold'!E198)*(C39-'Hull Unfold'!E198)+'Hull Unfold'!F198","v":182.82424882284747},{"$f":"'Hull Unfold'!B148","v":3311.4818947274057},{"$f":"'Hull Unfold'!C148","v":317.35302157269143},{"$f":"'Hull Unfold'!B250","v":3311.4749393736156},{"$f":"'Hull Unfold'!F250-'Hull Unfold'!C250","v":36.070661111111008}]
[{"$f":"'Hull Unfold'!E98","v":3400.1105882055717},{"$f":"'Hull Unfold'!F98","v":108.66252578411365},{"$f":"INT('Hull Unfold'!E200/50)*50","v":3400},{"$f":"('Hull Unfold'!F201-'Hull Unfold'!F199)/('Hull Unfold'!E201-'Hull Unfold'!E199)*(C40-'Hull Unfold'!E199)+'Hull Unfold'!F199","v":159.29876209165525},{"$f":"'Hull Unfold'!B149","v":3413.0514939284913},{"$f":"'Hull Unfold'!C149","v":315.37233818957975},{"$f":"'Hull Unfold'!B251","v":3413.0425629961233},{"$f":"'Hull Unfold'!F251-'Hull Unfold'!C251","v":31.911121111110901}]
[{"$f":"'Hull Unfold'!E99","v":3500.1360936536021},{"$f":"'Hull Unfold'!F99","v":84.05155247413586},{"$f":"INT('Hull Unfold'!E201/50)*50","v":3500},{"$f":"('Hull Unfold'!F202-'Hull Unfold'!F200)/('Hull Unfold'!E202-'Hull Unfold'!E200)*(C41-'Hull Unfold'!E200)+'Hull Unfold'!F200","v":134.91421823350836},{"$f":"'Hull Unfold'!B150","v":3516.0379466282311},{"$f":"'Hull Unfold'!C150","v":313.22937115234686},{"$f":"'Hull Unfold'!B252","v":3516.0266171979292},{"$f":"'Hull Unfold'!F252-'Hull Unfold'!C252","v":27.400009999999725}]
[{"$f":"'Hull Unfold'!E100","v":3600.165267014755},{"$f":"'Hull Unfold'!F100","v":57.743381457564368},{"$f":"INT('Hull Unfold'!E202/50)*50","v":3600},{"$f":"('Hull Unfold'!F203-'Hull Unfold'!F201)/('Hull Unfold'!E203-'Hull Unfold'!E201)*(C42-'Hull Unfold'!E201)+'Hull Unfold'!F201","v":108.86202119098617},{"$f":"'Hull Unfold'!B151","v":3619.4436254848747},{"$f":"'Hull Unfold'!C151","v":310.94442788184074},{"$f":"'Hull Unfold'!B253","v":3619.4294377773695},{"$f":"'Hull Unfold'!F253-'Hull Unfold'!C253","v":22.577787777777417}]
[{"$f":"'Hull Unfold'!E101","v":3700.1983859792108},{"$f":"'Hull Unfold'!F101","v":29.738125227816752},{"$f":"INT('Hull Unfold'!E203/50)*50","v":3700},{"$f":"('Hull Unfold'!F204-'Hull Unfold'!F202)/('Hull Unfold'!E204-'Hull Unfold'!E202)*(C43-'Hull Unfold'!E202)+'Hull Unfold'!F202","v":81.551080320419302},{"$f":"'Hull Unfold'!B152","v":3723.2946459822047},{"$f":"'Hull Unfold'!C152","v":308.51856557867086},{"$f":"'Hull Unfold'!B254","v":3723.2770812107351},{"$f":"'Hull Unfold'!F254-'Hull Unfold'!C254","v":17.444454444444204}]
[{"$f":"'Hull Unfold'!E102","v":3750.216554300976},{"$f":"'Hull Unfold'!F102","v":15.099251471737773},{"$f":"INT('Hull Unfold'!E204/50)*50","v":3750},{"$f":"('Hull Unfold'!F205-'Hull Unfold'!F203)/('Hull Unfold'!E205-'Hull Unfold'!E203)*(C44-'Hull Unfold'!E203)+'Hull Unfold'!F203","v":67.272683284506044},{"$f":"'Hull Unfold'!B153","v":3775.3956309177852},{"$f":"'Hull Unfold'!C153","v":307.25319770596155},{"$f":"'Hull Unfold'!B255","v":3775.3761612737476},{"$f":"'Hull Unfold'!F255-'Hull Unfold'!C255","v":14.761121111110924}]
[{"$f":"'Hull Unfold'!E103","v":3800.2562759593316},{"$f":"'Hull Unfold'!F103","v":0.10425400493699044},{"$f":"INT('Hull Unfold'!E205/50)*50","v":3800},{"$f":"('Hull Unfold'!F206-'Hull Unfold'!F204)/('Hull Unfold'!E206-'Hull Unfold'!E204)*(C45-'Hull Unfold'!E204)+'Hull Unfold'!F204","v":52.568376598831151},{"$f":"'Hull Unfold'!B154","v":3827.6175919372836},{"$f":"'Hull Unfold'!C154","v":305.95301312173683},{"$f":"'Hull Unfold'!B256","v":3827.5960637040339},{"$f":"'Hull Unfold'!F256-'Hull Unfold'!C256","v":12.000009999999747}]
[null,null,{"$f":"INT('Hull Unfold'!E206/50)*50","v":3800},{"$f":"('Hull Unfold'!F207-'Hull Unfold'!F205)/('Hull Unfold'!E207-'Hull Unfold'!E205)*(C46-'Hull Unfold'!E205)+'Hull Unfold'!F205","v":52.572328895430665},{"$f":"'Hull Unfold'!B155","v":3827.6732490357272},{"$f":"'Hull Unfold'!C155","v":305.95162055771692}]
[null,null,{"$f":"INT('Hull Unfold'!E207/50)*50","v":3800},{"$f":"('Hull Unfold'!F208-'Hull Unfold'!F206)/('Hull Unfold'!E208-'Hull Unfold'!E206)*(C47-'Hull Unfold'!E206)+'Hull Unfold'!F206","v":52.583570615798671},{"$f":"'Hull Unfold'!B156","v":3827.7289062748637},{"$f":"'Hull Unfold'!C156","v":305.95022795445209}]
[null,null,{"$f":"INT('Hull Unfold'!E208/50)*50","v":3900},{"$f":"('Hull Unfold'!F209-'Hull Unfold'!F207)/('Hull Unfold'!E209-'Hull Unfold'!E207)*(C48-'Hull Unfold'!E207)+'Hull Unfold'!F207","v":20.950127541250364},{"$f":"'Hull Unfold'!B157","v":3967.779902009157},{"$f":"'Hull Unfold'!C157","v":551.84371203588955}]
[null,null,{"$f":"'Hull Unfold'!E209","v":3966.2197173820737},{"$f":"'Hull Unfold'!F209","v":2.9842635376553517E-4},{"$f":"'Hull Unfold'!B158","v":4001.4212643720612},{"$f":"'Hull Unfold'!C158","v":610.90413760530635}]

{"sheet":"Righting Moments","index":7,"n_rows":808,"n_cols":25,"rows_kept":808,"cut":false,"hidden":false,"merged":[[0,0,0,3],[79,26,79,28],[5,18,5,20],[5,17,6,17]]}
["Righting Moments"]
[]
[]
[]
["Parameters",{"$f":"1500*Basic!$D$2","v":1500},{"$f":"1500*Basic!$D$2","v":1500},null,null,null,"DWL",{"$f":"H7*1025-S10","v":1.0554130479858799}]
["Number of Lines",{"$f":"COUNT(A8:A1454)","v":801},null,null,{"$f":"COUNT(D8:D1454)","v":801},null,{"$f":"N7-L7","v":-16.214437279409168},"vol","cbx","cby","CGX0","CGY0","cgx","cgy","Heel","Righting Moment",null,"Righting Moment","4m Canoe"]
["Line Id","X","Y","Line Id","X","Y","Mid Section",{"$f":"SUM(H8:H808)","v":0.1083467444370594},{"$f":"IF(H7>0,SUMPRODUCT(H8:H808,I8:I808)/H7,0)","v":23.42856928959263},{"$f":"IF(H7>0,SUMPRODUCT(H8:H808,J8:J808)/H7,0)","v":-63.929140214693277},{"$f":"U10*1000","v":0},{"$f":"T10*1000","v":156.81818181818184},0,140.60374453877267,45,{"$f":"(I7-M7)*H7*1025*9.81/1000","v":25.524339202270646},null,null,"Wt","cgy","cgx"]
[0,0,0,0,0,0,{"$f":"'Hull Long'!B59","v":0},null,null,null,"A","Acy","A","Acx","GZ","GM",null,"Hull",20,7.4999999999999997E-2,0]
[3,{"$f":"M7-100*Basic!$D$2","v":-100},{"$f":"N7","v":140.60374453877267},5,{"$f":"I7-100*Basic!$D$2","v":-76.57143071040737},{"$f":"J7","v":-63.929140214693277},0,null,null,null,null,null,null,null,{"$f":"I7-M7","v":23.42856928959263},{"$f":"O9/(SIN(RADIANS(O7))+0.000001)","v":33.132953579267372},null,"Crew",90,0.17499999999999999,0]
[3,{"$f":"M7+100*Basic!$D$2","v":100},{"$f":"N7","v":140.60374453877267},5,{"$f":"I7+100*Basic!$D$2","v":123.42856928959263},{"$f":"J7","v":-63.929140214693277},null,null,null,null,null,null,null,null,null,null,null,"Total",{"$f":"S8+S9","v":110},{"$f":"(S8*T8+S9*T9)/S10","v":0.15681818181818183},{"$f":"(S8*U8+S9*U9)/S10","v":0}]
[0,0,0,0,0,0]
[3,{"$f":"M7","v":0},{"$f":"N7-100*Basic!$D$2","v":40.603744538772673},5,{"$f":"I7","v":23.42856928959263},{"$f":"J7-100*Basic!$D$2","v":-163.92914021469329},null,null,null,null,null,null,null,null,null,"Heel","Data","HCG","LCG","MCG","X4","X5","X6","X7","X8"]
[3,{"$f":"M7","v":0},{"$f":"N7+100*Basic!$D$2","v":240.60374453877267},5,{"$f":"I7","v":23.42856928959263},{"$f":"J7+100*Basic!$D$2","v":36.070859785306723},null,null,null,null,null,null,null,null,null,0,-2.1525038403238864E-15,-2.1582724270677593E-15,-5.6669407718223969E-15,-2.1525038403238864E-15]
[0,0,0,0,0,0,null,null,null,null,null,null,null,null,null,5,6.1673342040711985,3.8161094784144707,12.366044680049599,6.1673342040711985]
[0,0,0,0,0,0,null,null,null,null,null,null,null,null,null,10,12.861801968659114,8.1772190592888769,25.212065590575982,12.861801968659114]
[0,0,0,0,0,0,null,null,null,null,null,null,null,null,null,15,20.658781973585686,13.676706299346414,39.066856118632778,20.658781973585686]
[0,0,0,0,0,0,null,null,null,null,null,null,null,null,null,20,28.932645490473366,19.705810261826969,53.257970009614539,28.932645490473366]
[0,0,0,0,0,0,null,null,null,null,null,null,null,null,null,25,33.270944131344379,21.869853515558201,63.328640969829657,33.270944131344379]
[0,0,0,0,0,0,null,null,null,null,null,null,null,null,null,30,34.58814904834135,21.099482807838232,70.149413091297319,34.58814904834135]
[0,0,0,0,0,0,null,null,null,null,null,null,null,null,null,35,34.15582794832352,18.682169746008203,74.950082929395137,34.15582794832352]
[0,0,0,0,0,0,null,null,null,null,null,null,null,null,null,40,30.791479363785225,13.450676857699431,76.508214920763535,30.791479363785225]
[0,0,0,0,0,0,null,null,null,null,null,null,null,null,null,45,24.247833889683037,5.17191438545788,74.539089429600466,24.247833889683037]
[0,0,0,0,0,0,null,null,null,null,0,0,0,0]
[0,0,0,0,0,0,{"$f":"'Hull Long'!B60","v":35},"vol","cx","cy","A","Acy","A","Acx"]
[1,{"$f":"('Hull Long'!C9-$L$7)*SIN(RADIANS($O$7))+('Hull Plan'!C9-$K$7)*COS(RADIANS($O$7))+$M$7","v":72.960563331521016},{"$f":"('Hull Long'!C9-$L$7)*COS(RADIANS($O$7))-('Hull Plan'!C9-$K$7)*SIN(RADIANS($O$7))+$N$7","v":213.5643078702937},2,{"$f":"B25","v":72.960563331521016},{"$f":"IF(C25<0,C25,0)","v":0},{"$f":"ABS(K39)/1000000","v":0},{"$f":"(G24-G8)*(G25+G9)/2000","v":0},{"$f":"IF(M39+M23<>0,(N39+N23)/(M39+M23),0)","v":0},{"$f":"IF(K39+K23<>0,(L39+L23)/(K39+K23),0)","v":0},{"$f":"(F26+F25)/2*(E26-E25)","v":0},{"$f":"(E26-E25)*(F25^2+F25*F26+F26^2)/6","v":0},{"$f":"(E26+E25)/2*(F26-F25)","v":0},{"$f":"(F26-F25)*(E25^2+E25*E26+E26^2)/6","v":0}]
[1,{"$f":"IF(C25*C27<0,(B27-B25)/(C27-C25)*(0-C25)+B25,B25)","v":72.960563331521016},{"$f":"IF(AND(C25*C27<0,B27<>B25),(C27-C25)/(B27-B25)*(B26-B25)+C25,C25)","v":213.5643078702937},2,72.960563331521016,0,null,null,null,null,0,0,0,0]
[1,{"$f":"('Hull Long'!C60-$L$7)*SIN(RADIANS($O$7))+('Hull Plan'!C60-$K$7)*COS(RADIANS($O$7))+$M$7","v":72.960563331521016},{"$f":"('Hull Long'!C60-$L$7)*COS(RADIANS($O$7))-('Hull Plan'!C60-$K$7)*SIN(RADIANS($O$7))+$N$7","v":213.5643078702937},2,72.960563331521016,0,null,null,null,null,0,0,0,0]
[1,{"$f":"IF(C27*C29<0,(B29-B27)/(C29-C27)*(0-C27)+B27,B27)","v":72.960563331521016},{"$f":"IF(AND(C27*C29<0,B29<>B27),(C29-C27)/(B29-B27)*(B28-B27)+C27,C27)","v":213.5643078702937},2,72.960563331521016,0,null,null,null,null,0,0,0,0]
[1,{"$f":"('Hull Long'!C111-$L$7)*SIN(RADIANS($O$7))+('Hull Plan'!C111-$K$7)*COS(RADIANS($O$7))+$M$7","v":72.960563331521016},{"$f":"('Hull Long'!C111-$L$7)*COS(RADIANS($O$7))-('Hull Plan'!C111-$K$7)*SIN(RADIANS($O$7))+$N$7","v":213.5643078702937},2,72.960563331521016,0,null,null,null,null,0,0,0,0]
[1,{"$f":"IF(C29*C31<0,(B31-B29)/(C31-C29)*(0-C29)+B29,B29)","v":72.960563331521016},{"$f":"IF(AND(C29*C31<0,B31<>B29),(C31-C29)/(B31-B29)*(B30-B29)+C29,C29)","v":213.5643078702937},2,72.960563331521016,0,null,null,null,null,0,0,0,0]
[1,{"$f":"('Hull Long'!C162-$L$7)*SIN(RADIANS($O$7))+('Hull Plan'!C162-$K$7)*COS(RADIANS($O$7))+$M$7","v":72.960563331521016},{"$f":"('Hull Long'!C162-$L$7)*COS(RADIANS($O$7))-('Hull Plan'!C162-$K$7)*SIN(RADIANS($O$7))+$N$7","v":213.5643078702937},2,72.960563331521016,0,null,null,null,null,0,0,0,0]
[1,{"$f":"IF(C31*C33<0,(B33-B31)/(C33-C31)*(0-C31)+B31,B31)","v":72.960563331521016},{"$f":"IF(AND(C31*C33<0,B33<>B31),(C33-C31)/(B33-B31)*(B32-B31)+C31,C31)","v":213.5643078702937},2,72.960563331521016,0,null,null,null,null,0,0,0,0]
[1,{"$f":"('Hull Long'!C162-$L$7)*SIN(RADIANS($O$7))+('Hull Plan'!F162-$K$7)*COS(RADIANS($O$7))+$M$7","v":72.960563331521016},{"$f":"('Hull Long'!C162-$L$7)*COS(RADIANS($O$7))-('Hull Plan'!F162-$K$7)*SIN(RADIANS($O$7))+$N$7","v":213.5643078702937},2,72.960563331521016,0,null,null,null,null,0,0,0,0]
[1,{"$f":"IF(C33*C35<0,(B35-B33)/(C35-C33)*(0-C33)+B33,B33)","v":72.960563331521016},{"$f":"IF(AND(C33*C35<0,B35<>B33),(C35-C33)/(B35-B33)*(B34-B33)+C33,C33)","v":213.5643078702937},2,72.960563331521016,0,null,null,null,null,0,0,0,0]
[1,{"$f":"('Hull Long'!C111-$L$7)*SIN(RADIANS($O$7))+('Hull Plan'!F111-$K$7)*COS(RADIANS($O$7))+$M$7","v":72.960563331521016},{"$f":"('Hull Long'!C111-$L$7)*COS(RADIANS($O$7))-('Hull Plan'!F111-$K$7)*SIN(RADIANS($O$7))+$N$7","v":213.5643078702937},2,72.960563331521016,0,null,null,null,null,0,0,0,0]
[1,{"$f":"IF(C35*C37<0,(B37-B35)/(C37-C35)*(0-C35)+B35,B35)","v":72.960563331521016},{"$f":"IF(AND(C35*C37<0,B37<>B35),(C37-C35)/(B37-B35)*(B36-B35)+C35,C35)","v":213.5643078702937},2,72.960563331521016,0,null,null,null,null,0,0,0,0]
[1,{"$f":"('Hull Long'!C60-$L$7)*SIN(RADIANS($O$7))+('Hull Plan'!F60-$K$7)*COS(RADIANS($O$7))+$M$7","v":72.960563331521016},{"$f":"('Hull Long'!C60-$L$7)*COS(RADIANS($O$7))-('Hull Plan'!F60-$K$7)*SIN(RADIANS($O$7))+$N$7","v":213.5643078702937},2,72.960563331521016,0,null,null,null,null,0,0,0,0]
[1,{"$f":"IF(C37*C39<0,(B39-B37)/(C39-C37)*(0-C37)+B37,B37)","v":72.960563331521016},{"$f":"IF(AND(C37*C39<0,B39<>B37),(C39-C37)/(B39-B37)*(B38-B37)+C37,C37)","v":213.5643078702937},2,72.960563331521016,0,null,null,null,null,0,0,0,0]
[1,{"$f":"('Hull Long'!C9-$L$7)*SIN(RADIANS($O$7))+('Hull Plan'!F9-$K$7)*COS(RADIANS($O$7))+$M$7","v":72.960563331521016},{"$f":"('Hull Long'!C9-$L$7)*COS(RADIANS($O$7))-('Hull Plan'!F9-$K$7)*SIN(RADIANS($O$7))+$N$7","v":213.5643078702937},2,72.960563331521016,0,null,null,null,null,{"$f":"SUM(K25:K38)","v":0},{"$f":"SUM(L25:L38)","v":0},{"$f":"SUM(M25:M38)","v":0},{"$f":"SUM(N25:N38)","v":0}]
[0,0,0,0,0,0,{"$f":"'Hull Long'!B61","v":66.935483870967744},"vol","cx","cy","A","Acy","A","Acx"]
[1,{"$f":"('Hull Long'!C10-$L$7)*SIN(RADIANS($O$7))+('Hull Plan'!C10-$K$7)*COS(RADIANS($O$7))+$M$7","v":30.53415646032817},{"$f":"('Hull Long'!C10-$L$7)*COS(RADIANS($O$7))-('Hull Plan'!C10-$K$7)*SIN(RADIANS($O$7))+$N$7","v":171.13790099910085},2,{"$f":"B41","v":30.53415646032817},{"$f":"IF(C41<0,C41,0)","v":0},{"$f":"ABS(K55)/1000000","v":0},{"$f":"(G40-G24)*(G41+G25)/2000","v":0},{"$f":"IF(M55+M39<>0,(N55+N39)/(M55+M39),0)","v":0},{"$f":"IF(K55+K39<>0,(L55+L39)/(K55+K39),0)","v":0},{"$f":"(F42+F41)/2*(E42-E41)","v":0},{"$f":"(E42-E41)*(F41^2+F41*F42+F42^2)/6","v":0},{"$f":"(E42+E41)/2*(F42-F41)","v":0},{"$f":"(F42-F41)*(E41^2+E41*E42+E42^2)/6","v":0}]
[1,{"$f":"IF(C41*C43<0,(B43-B41)/(C43-C41)*(0-C41)+B41,B41)","v":30.53415646032817},{"$f":"IF(AND(C41*C43<0,B43<>B41),(C43-C41)/(B43-B41)*(B42-B41)+C41,C41)","v":171.13790099910085},2,30.53415646032817,0,null,null,null,null,0,0,0,0]
[1,{"$f":"('Hull Long'!C61-$L$7)*SIN(RADIANS($O$7))+('Hull Plan'!C61-$K$7)*COS(RADIANS($O$7))+$M$7","v":30.53415646032817},{"$f":"('Hull Long'!C61-$L$7)*COS(RADIANS($O$7))-('Hull Plan'!C61-$K$7)*SIN(RADIANS($O$7))+$N$7","v":171.13790099910085},2,30.53415646032817,0,null,null,null,null,0,0,0,0]
[1,{"$f":"IF(C43*C45<0,(B45-B43)/(C45-C43)*(0-C43)+B43,B43)","v":30.53415646032817},{"$f":"IF(AND(C43*C45<0,B45<>B43),(C45-C43)/(B45-B43)*(B44-B43)+C43,C43)","v":171.13790099910085},2,30.53415646032817,0,null,null,null,null,0,0,0,0]
[1,{"$f":"('Hull Long'!C112-$L$7)*SIN(RADIANS($O$7))+('Hull Plan'!C112-$K$7)*COS(RADIANS($O$7))+$M$7","v":30.53415646032817},{"$f":"('Hull Long'!C112-$L$7)*COS(RADIANS($O$7))-('Hull Plan'!C112-$K$7)*SIN(RADIANS($O$7))+$N$7","v":171.13790099910085},2,30.53415646032817,0,null,null,null,null,0,0,0,0]
[1,{"$f":"IF(C45*C47<0,(B47-B45)/(C47-C45)*(0-C45)+B45,B45)","v":30.53415646032817},{"$f":"IF(AND(C45*C47<0,B47<>B45),(C47-C45)/(B47-B45)*(B46-B45)+C45,C45)","v":171.13790099910085},2,30.53415646032817,0,null,null,null,null,0,0,0,0]
[1,{"$f":"('Hull Long'!C163-$L$7)*SIN(RADIANS($O$7))+('Hull Plan'!C163-$K$7)*COS(RADIANS($O$7))+$M$7","v":78.965389135040809},{"$f":"('Hull Long'!C163-$L$7)*COS(RADIANS($O$7))-('Hull Plan'!C163-$K$7)*SIN(RADIANS($O$7))+$N$7","v":204.82381235373595},2,78.965389135040809,0,null,null,null,null,0,0,0,0]
[1,{"$f":"IF(C47*C49<0,(B49-B47)/(C49-C47)*(0-C47)+B47,B47)","v":78.965389135040809},{"$f":"IF(AND(C47*C49<0,B49<>B47),(C49-C47)/(B49-B47)*(B48-B47)+C47,C47)","v":204.82381235373595},2,78.965389135040809,0,null,null,null,null,0,0,0,0]
[1,{"$f":"('Hull Long'!C163-$L$7)*SIN(RADIANS($O$7))+('Hull Plan'!F163-$K$7)*COS(RADIANS($O$7))+$M$7","v":64.220067814963258},{"$f":"('Hull Long'!C163-$L$7)*COS(RADIANS($O$7))-('Hull Plan'!F163-$K$7)*SIN(RADIANS($O$7))+$N$7","v":219.5691336738135},2,64.220067814963258,0,null,null,null,null,0,0,0,0]
[1,{"$f":"IF(C49*C51<0,(B51-B49)/(C51-C49)*(0-C49)+B49,B49)","v":64.220067814963258},{"$f":"IF(AND(C49*C51<0,B51<>B49),(C51-C49)/(B51-B49)*(B50-B49)+C49,C49)","v":219.5691336738135},2,64.220067814963258,0,null,null,null,null,0,0,0,0]
[1,{"$f":"('Hull Long'!C112-$L$7)*SIN(RADIANS($O$7))+('Hull Plan'!F112-$K$7)*COS(RADIANS($O$7))+$M$7","v":30.53415646032817},{"$f":"('Hull Long'!C112-$L$7)*COS(RADIANS($O$7))-('Hull Plan'!F112-$K$7)*SIN(RADIANS($O$7))+$N$7","v":171.13790099910085},2,30.53415646032817,0,null,null,null,null,0,0,0,0]
[1,{"$f":"IF(C51*C53<0,(B53-B51)/(C53-C51)*(0-C51)+B51,B51)","v":30.53415646032817},{"$f":"IF(AND(C51*C53<0,B53<>B51),(C53-C51)/(B53-B51)*(B52-B51)+C51,C51)","v":171.13790099910085},2,30.53415646032817,0,null,null,null,null,0,0,0,0]
[1,{"$f":"('Hull Long'!C61-$L$7)*SIN(RADIANS($O$7))+('Hull Plan'!F61-$K$7)*COS(RADIANS($O$7))+$M$7","v":30.53415646032817},{"$f":"('Hull Long'!C61-$L$7)*COS(RADIANS($O$7))-('Hull Plan'!F61-$K$7)*SIN(RADIANS($O$7))+$N$7","v":171.13790099910085},2,30.53415646032817,0,null,null,null,null,0,0,0,0]
[1,{"$f":"IF(C53*C55<0,(B55-B53)/(C55-C53)*(0-C53)+B53,B53)","v":30.53415646032817},{"$f":"IF(AND(C53*C55<0,B55<>B53),(C55-C53)/(B55-B53)*(B54-B53)+C53,C53)","v":171.13790099910085},2,30.53415646032817,0,null,null,null,null,0,0,0,0]
[1,{"$f":"('Hull Long'!C10-$L$7)*SIN(RADIANS($O$7))+('Hull Plan'!F10-$K$7)*COS(RADIANS($O$7))+$M$7","v":30.53415646032817},{"$f":"('Hull Long'!C10-$L$7)*COS(RADIANS($O$7))-('Hull Plan'!F10-$K$7)*SIN(RADIANS($O$7))+$N$7","v":171.13790099910085},2,30.53415646032817,0,null,null,null,null,{"$f":"SUM(K41:K54)","v":0},{"$f":"SUM(L41:L54)","v":0},{"$f":"SUM(M41:M54)","v":0},{"$f":"SUM(N41:N54)","v":0}]
[0,0,0,0,0,0,{"$f":"'Hull Long'!B62","v":199.89354838709676},"vol","cx","cy","A","Acy","A","Acx"]
[1,{"$f":"('Hull Long'!C11-$L$7)*SIN(RADIANS($O$7))+('Hull Plan'!C11-$K$7)*COS(RADIANS($O$7))+$M$7","v":-146.10111748007137},{"$f":"('Hull Long'!C11-$L$7)*COS(RADIANS($O$7))-('Hull Plan'!C11-$K$7)*SIN(RADIANS($O$7))+$N$7","v":-5.4973729412987211},2,{"$f":"B57","v":-146.10111748007137},{"$f":"IF(C57<0,C57,0)","v":-5.4973729412987211},{"$f":"ABS(K71)/1000000","v":1.0799125705478082E-5},{"$f":"(G56-G40)*(G57+G41)/2000","v":7.1791542613337094E-7},{"$f":"IF(M71+M55<>0,(N71+N55)/(M71+M55),0)","v":-142.20924342184301},{"$f":"IF(K71+K55<>0,(L71+L55)/(K71+K55),0)","v":-1.8324576470997864},{"$f":"(F58+F57)/2*(E58-E57)","v":0},{"$f":"(E58-E57)*(F57^2+F57*F58+F58^2)/6","v":0},{"$f":"(E58+E57)/2*(F58-F57)","v":0},{"$f":"(F58-F57)*(E57^2+E57*E58+E58^2)/6","v":0}]
[1,{"$f":"IF(C57*C59<0,(B59-B57)/(C59-C57)*(0-C57)+B57,B57)","v":-146.10111748007137},{"$f":"IF(AND(C57*C59<0,B59<>B57),(C59-C57)/(B59-B57)*(B58-B57)+C57,C57)","v":-5.4973729412987211},2,-146.10111748007137,-5.4973729412987211,null,null,null,null,0,0,0,0]
[1,{"$f":"('Hull Long'!C62-$L$7)*SIN(RADIANS($O$7))+('Hull Plan'!C62-$K$7)*COS(RADIANS($O$7))+$M$7","v":-146.10111748007137},{"$f":"('Hull Long'!C62-$L$7)*COS(RADIANS($O$7))-('Hull Plan'!C62-$K$7)*SIN(RADIANS($O$7))+$N$7","v":-5.4973729412987211},2,-146.10111748007137,-5.4973729412987211,null,null,null,null,0,0,0,0]
[1,{"$f":"IF(C59*C61<0,(B61-B59)/(C61-C59)*(0-C59)+B59,B59)","v":-146.10111748007137},{"$f":"IF(AND(C59*C61<0,B61<>B59),(C61-C59)/(B61-B59)*(B60-B59)+C59,C59)","v":-5.4973729412987211},2,-146.10111748007137,-5.4973729412987211,null,null,null,null,0,0,0,0]
[1,{"$f":"('Hull Long'!C113-$L$7)*SIN(RADIANS($O$7))+('Hull Plan'!C113-$K$7)*COS(RADIANS($O$7))+$M$7","v":-146.10111748007137},{"$f":"('Hull Long'!C113-$L$7)*COS(RADIANS($O$7))-('Hull Plan'!C113-$K$7)*SIN(RADIANS($O$7))+$N$7","v":-5.4973729412987211},2,-146.10111748007137,-5.4973729412987211,null,null,null,null,-21.445875206744219,39.298658021341588,-781.72645472170439,55594.696326759447]
[1,{"$f":"IF(C61*C63<0,(B63-B61)/(C63-C61)*(0-C61)+B61,B61)","v":-138.29889069438863},{"$f":"IF(AND(C61*C63<0,B63<>B61),(C63-C61)/(B63-B61)*(B62-B61)+C61,C61)","v":-9.7699626167013776E-15},2,-138.29889069438863,-9.7699626167013776E-15,null,null,null,null,-1.1783526648777869E-12,3.8374871617154739E-27,-1.7282232713766017E-13,2.5215341673358865E-11]
[1,{"$f":"('Hull Long'!C164-$L$7)*SIN(RADIANS($O$7))+('Hull Plan'!C164-$K$7)*COS(RADIANS($O$7))+$M$7","v":102.92059214445825},{"$f":"('Hull Long'!C164-$L$7)*COS(RADIANS($O$7))-('Hull Plan'!C164-$K$7)*SIN(RADIANS($O$7))+$N$7","v":169.96089633099632},2,102.92059214445825,0,null,null,null,null,0,0,0,0]
[1,{"$f":"IF(C63*C65<0,(B65-B63)/(C65-C63)*(0-C63)+B63,B63)","v":102.92059214445825},{"$f":"IF(AND(C63*C65<0,B65<>B63),(C65-C63)/(B65-B63)*(B64-B63)+C63,C63)","v":169.96089633099632},2,102.92059214445825,0,null,null,null,null,0,0,0,0]
[1,{"$f":"('Hull Long'!C164-$L$7)*SIN(RADIANS($O$7))+('Hull Plan'!F164-$K$7)*COS(RADIANS($O$7))+$M$7","v":29.357151792223625},{"$f":"('Hull Long'!C164-$L$7)*COS(RADIANS($O$7))-('Hull Plan'!F164-$K$7)*SIN(RADIANS($O$7))+$N$7","v":243.5243366832309},2,29.357151792223625,0,null,null,null,null,2.4383677140815315E-12,-2.3100859551367909E-26,1.6039872761386876E-12,-8.0126324377605542E-11]
[1,{"$f":"IF(C65*C67<0,(B67-B65)/(C67-C65)*(0-C65)+B65,B65)","v":-142.22772209105503},{"$f":"IF(AND(C65*C67<0,B67<>B65),(C67-C65)/(B67-B65)*(B66-B65)+C65,C65)","v":-2.8421709430404007E-14},2,-142.22772209105503,-2.8421709430404007E-14,null,null,null,null,10.64674950126488,-19.509717540346401,792.52558042718113,-57130.431822952807]
[1,{"$f":"('Hull Long'!C113-$L$7)*SIN(RADIANS($O$7))+('Hull Plan'!F113-$K$7)*COS(RADIANS($O$7))+$M$7","v":-146.10111748007137},{"$f":"('Hull Long'!C113-$L$7)*COS(RADIANS($O$7))-('Hull Plan'!F113-$K$7)*SIN(RADIANS($O$7))+$N$7","v":-5.4973729412987211},2,-146.10111748007137,-5.4973729412987211,null,null,null,null,0,0,0,0]
[1,{"$f":"IF(C67*C69<0,(B69-B67)/(C69-C67)*(0-C67)+B67,B67)","v":-146.10111748007137},{"$f":"IF(AND(C67*C69<0,B69<>B67),(C69-C67)/(B69-B67)*(B68-B67)+C67,C67)","v":-5.4973729412987211},2,-146.10111748007137,-5.4973729412987211,null,null,null,null,0,0,0,0]
[1,{"$f":"('Hull Long'!C62-$L$7)*SIN(RADIANS($O$7))+('Hull Plan'!F62-$K$7)*COS(RADIANS($O$7))+$M$7","v":-146.10111748007137},{"$f":"('Hull Long'!C62-$L$7)*COS(RADIANS($O$7))-('Hull Plan'!F62-$K$7)*SIN(RADIANS($O$7))+$N$7","v":-5.4973729412987211},2,-146.10111748007137,-5.4973729412987211,null,null,null,null,0,0,0,0]
[1,{"$f":"IF(C69*C71<0,(B71-B69)/(C71-C69)*(0-C69)+B69,B69)","v":-146.10111748007137},{"$f":"IF(AND(C69*C71<0,B71<>B69),(C71-C69)/(B71-B69)*(B70-B69)+C69,C69)","v":-5.4973729412987211},2,-146.10111748007137,-5.4973729412987211,null,null,null,null,0,0,0,0]
[1,{"$f":"('Hull Long'!C11-$L$7)*SIN(RADIANS($O$7))+('Hull Plan'!F11-$K$7)*COS(RADIANS($O$7))+$M$7","v":-146.10111748007137},{"$f":"('Hull Long'!C11-$L$7)*COS(RADIANS($O$7))-('Hull Plan'!F11-$K$7)*SIN(RADIANS($O$7))+$N$7","v":-5.4973729412987211},2,-146.10111748007137,-5.4973729412987211,null,null,null,null,{"$f":"SUM(K57:K70)","v":-10.799125705478081},{"$f":"SUM(L57:L70)","v":19.788940480995187},{"$f":"SUM(M57:M70)","v":10.799125705478104},{"$f":"SUM(N57:N70)","v":-1535.7354961934179}]
[0,0,0,0,0,0,{"$f":"'Hull Long'!B63","v":199.94677419354838},"vol","cx","cy","A","Acy","A","Acx"]
[1,{"$f":"('Hull Long'!C12-$L$7)*SIN(RADIANS($O$7))+('Hull Plan'!C12-$K$7)*COS(RADIANS($O$7))+$M$7","v":-146.17182815819004},{"$f":"('Hull Long'!C12-$L$7)*COS(RADIANS($O$7))-('Hull Plan'!C12-$K$7)*SIN(RADIANS($O$7))+$N$7","v":-5.5680836194173935},2,{"$f":"B73","v":-146.17182815819004},{"$f":"IF(C73<0,C73,0)","v":-5.5680836194173935},{"$f":"ABS(K87)/1000000","v":1.106566775440225E-5},{"$f":"(G72-G56)*(G73+G57)/2000","v":5.8188563240013332E-10},{"$f":"IF(M87+M71<>0,(N87+N71)/(M87+M71),0)","v":-142.21921976736158},{"$f":"IF(K87+K71<>0,(L87+L71)/(K87+K71),0)","v":-1.8438418630021589},{"$f":"(F74+F73)/2*(E74-E73)","v":0},{"$f":"(E74-E73)*(F73^2+F73*F74+F74^2)/6","v":0},{"$f":"(E74+E73)/2*(F74-F73)","v":0},{"$f":"(F74-F73)*(E73^2+E73*E74+E74^2)/6","v":0}]
[1,{"$f":"IF(C73*C75<0,(B75-B73)/(C75-C73)*(0-C73)+B73,B73)","v":-146.17182815819004},{"$f":"IF(AND(C73*C75<0,B75<>B73),(C75-C73)/(B75-B73)*(B74-B73)+C73,C73)","v":-5.5680836194173935},2,-146.17182815819004,-5.5680836194173935,null,null,null,null,0,0,0,0]
[1,{"$f":"('Hull Long'!C63-$L$7)*SIN(RADIANS($O$7))+('Hull Plan'!C63-$K$7)*COS(RADIANS($O$7))+$M$7","v":-146.17182815819004},{"$f":"('Hull Long'!C63-$L$7)*COS(RADIANS($O$7))-('Hull Plan'!C63-$K$7)*SIN(RADIANS($O$7))+$N$7","v":-5.5680836194173935},2,-146.17182815819004,-5.5680836194173935,null,null,null,null,0,0,0,0]
[1,{"$f":"IF(C75*C77<0,(B77-B75)/(C77-C75)*(0-C75)+B75,B75)","v":-146.17182815819004},{"$f":"IF(AND(C75*C77<0,B77<>B75),(C77-C75)/(B77-B75)*(B76-B75)+C75,C75)","v":-5.5680836194173935},2,-146.17182815819004,-5.5680836194173935,null,null,null,null,-0.44952389938843157,1.2449689375088679,-8.4986719551958849,620.96079454293351]
[1,{"$f":"('Hull Long'!C114-$L$7)*SIN(RADIANS($O$7))+('Hull Plan'!C114-$K$7)*COS(RADIANS($O$7))+$M$7","v":-146.09067208013235},{"$f":"('Hull Long'!C114-$L$7)*COS(RADIANS($O$7))-('Hull Plan'!C114-$K$7)*SIN(RADIANS($O$7))+$N$7","v":-5.5099258198484051},2,-146.09067208013235,-5.5099258198484051,null,null,null,null,-21.543935982287902,39.568496376656405,-783.40483015103916,55706.543218647021]
[1,{"$f":"IF(C77*C79<0,(B79-B77)/(C79-C77)*(0-C77)+B77,B77)","v":-138.27062633480483},{"$f":"IF(AND(C77*C79<0,B79<>B77),(C79-C77)/(B79-B77)*(B78-B77)+C77,C77)","v":-5.3290705182007514E-15},2,-138.27062633480483,-5.3290705182007514E-15,null,null,null,null,-6.4268715868384873E-13,1.1416417299227688E-27,-9.4166759650112137E-14,1.3750018829254884E-11]
[1,{"$f":"('Hull Long'!C165-$L$7)*SIN(RADIANS($O$7))+('Hull Plan'!C165-$K$7)*COS(RADIANS($O$7))+$M$7","v":102.92984436222716},{"$f":"('Hull Long'!C165-$L$7)*COS(RADIANS($O$7))-('Hull Plan'!C165-$K$7)*SIN(RADIANS($O$7))+$N$7","v":169.94743311408888},2,102.92984436222716,0,null,null,null,null,0,0,0,0]
[1,{"$f":"IF(C79*C81<0,(B81-B79)/(C81-C79)*(0-C79)+B79,B79)","v":102.92984436222716},{"$f":"IF(AND(C79*C81<0,B81<>B79),(C81-C79)/(B81-B79)*(B80-B79)+C79,C79)","v":169.94743311408888},2,102.92984436222716,0,null,null,null,null,0,0,0,0]
[1,{"$f":"('Hull Long'!C165-$L$7)*SIN(RADIANS($O$7))+('Hull Plan'!F165-$K$7)*COS(RADIANS($O$7))+$M$7","v":29.3436885753162},{"$f":"('Hull Long'!C165-$L$7)*COS(RADIANS($O$7))-('Hull Plan'!F165-$K$7)*SIN(RADIANS($O$7))+$N$7","v":243.53358890099986},2,29.3436885753162,0,null,null,null,null,0,0,0,0]
[1,{"$f":"IF(C81*C83<0,(B83-B81)/(C83-C81)*(0-C81)+B81,B81)","v":-142.24763623090016},{"$f":"IF(AND(C81*C83<0,B83<>B81),(C83-C81)/(B83-B81)*(B82-B81)+C81,C81)","v":0},2,-142.24763623090016,0,null,null,null,null,10.606324565614182,-19.398711457222721,791.10879749425283,-57034.70865937195]
[1,{"$f":"('Hull Long'!C114-$L$7)*SIN(RADIANS($O$7))+('Hull Plan'!F114-$K$7)*COS(RADIANS($O$7))+$M$7","v":-146.11367035862108},{"$f":"('Hull Long'!C114-$L$7)*COS(RADIANS($O$7))-('Hull Plan'!F114-$K$7)*SIN(RADIANS($O$7))+$N$7","v":-5.4869275413596768},2,-146.11367035862108,-5.4869275413596768,null,null,null,null,0,0,0,0]
[1,{"$f":"IF(C83*C85<0,(B85-B83)/(C85-C83)*(0-C83)+B83,B83)","v":-146.11367035862108},{"$f":"IF(AND(C83*C85<0,B85<>B83),(C85-C83)/(B85-B83)*(B84-B83)+C83,C83)","v":-5.4869275413596768},2,-146.11367035862108,-5.4869275413596768,null,null,null,null,0.32146756166054402,-0.88847283071457017,11.860372366384487,-866.65372386328374]
[1,{"$f":"('Hull Long'!C63-$L$7)*SIN(RADIANS($O$7))+('Hull Plan'!F63-$K$7)*COS(RADIANS($O$7))+$M$7","v":-146.17182815819004},{"$f":"('Hull Long'!C63-$L$7)*COS(RADIANS($O$7))-('Hull Plan'!F63-$K$7)*SIN(RADIANS($O$7))+$N$7","v":-5.5680836194173935},2,-146.17182815819004,-5.5680836194173935,null,null,null,null,0,0,0,0]
[1,{"$f":"IF(C85*C87<0,(B87-B85)/(C87-C85)*(0-C85)+B85,B85)","v":-146.17182815819004},{"$f":"IF(AND(C85*C87<0,B87<>B85),(C87-C85)/(B87-B85)*(B86-B85)+C85,C85)","v":-5.5680836194173935},2,-146.17182815819004,-5.5680836194173935,null,null,null,null,0,0,0,0]
[1,{"$f":"('Hull Long'!C12-$L$7)*SIN(RADIANS($O$7))+('Hull Plan'!F12-$K$7)*COS(RADIANS($O$7))+$M$7","v":-146.17182815819004},{"$f":"('Hull Long'!C12-$L$7)*COS(RADIANS($O$7))-('Hull Plan'!F12-$K$7)*SIN(RADIANS($O$7))+$N$7","v":-5.5680836194173935},2,-146.17182815819004,-5.5680836194173935,null,null,null,null,{"$f":"SUM(K73:K86)","v":-11.06566775440225},{"$f":"SUM(L73:L86)","v":20.526281026227981},{"$f":"SUM(M73:M86)","v":11.06566775440219},{"$f":"SUM(N73:N86)","v":-1573.8583700452682}]
[0,0,0,0,0,0,{"$f":"'Hull Long'!B64","v":200},"vol","cx","cy","A","Acy","A","Acx"]
[1,{"$f":"('Hull Long'!C13-$L$7)*SIN(RADIANS($O$7))+('Hull Plan'!C13-$K$7)*COS(RADIANS($O$7))+$M$7","v":-146.24253883630868},{"$f":"('Hull Long'!C13-$L$7)*COS(RADIANS($O$7))-('Hull Plan'!C13-$K$7)*SIN(RADIANS($O$7))+$N$7","v":-5.6387942975360374},2,{"$f":"B89","v":-146.24253883630868},{"$f":"IF(C89<0,C89,0)","v":-5.6387942975360374},{"$f":"ABS(K103)/1000000","v":1.1332397004449483E-5},{"$f":"(G88-G72)*(G89+G73)/2000","v":5.9607752987276156E-10},{"$f":"IF(M103+M87<>0,(N103+N87)/(M103+M87),0)","v":-142.2383939999028},{"$f":"IF(K103+K87<>0,(L103+L87)/(K103+K87),0)","v":-1.8658291977869572},{"$f":"(F90+F89)/2*(E90-E89)","v":0},{"$f":"(E90-E89)*(F89^2+F89*F90+F90^2)/6","v":0},{"$f":"(E90+E89)/2*(F90-F89)","v":0},{"$f":"(F90-F89)*(E89^2+E89*E90+E90^2)/6","v":0}]
[1,{"$f":"IF(C89*C91<0,(B91-B89)/(C91-C89)*(0-C89)+B89,B89)","v":-146.24253883630868},{"$f":"IF(AND(C89*C91<0,B91<>B89),(C91-C89)/(B91-B89)*(B90-B89)+C89,C89)","v":-5.6387942975360374},2,-146.24253883630868,-5.6387942975360374,null,null,null,null,-0.39037821933787969,1.0938467806316019,-10.184988221399557,744.56190749930965]
[1,{"$f":"('Hull Long'!C64-$L$7)*SIN(RADIANS($O$7))+('Hull Plan'!C64-$K$7)*COS(RADIANS($O$7))+$M$7","v":-146.1728777470241},{"$f":"('Hull Long'!C64-$L$7)*COS(RADIANS($O$7))-('Hull Plan'!C64-$K$7)*SIN(RADIANS($O$7))+$N$7","v":-5.5691332082514577},2,-146.1728777470241,-5.5691332082514577,null,null,null,null,0,0,0,0]
[1,{"$f":"IF(C91*C93<0,(B93-B91)/(C93-C91)*(0-C91)+B91,B91)","v":-146.1728777470241},{"$f":"IF(AND(C91*C93<0,B93<>B91),(C93-C91)/(B93-B91)*(B92-B91)+C91,C91)","v":-5.5691332082514577},2,-146.1728777470241,-5.5691332082514577,null,null,null,null,-0.51382310796432817,1.4247899808256506,-6.8175169152004615,498.11013795171999]
[1,{"$f":"('Hull Long'!C115-$L$7)*SIN(RADIANS($O$7))+('Hull Plan'!C115-$K$7)*COS(RADIANS($O$7))+$M$7","v":-146.0802269890489},{"$f":"('Hull Long'!C115-$L$7)*COS(RADIANS($O$7))-('Hull Plan'!C115-$K$7)*SIN(RADIANS($O$7))+$N$7","v":-5.5224783272273044},2,-146.0802269890489,-5.5224783272273044,null,null,null,null,-21.642217567470055,39.839559156497138,-785.08267001599665,55818.32021385774]
[1,{"$f":"IF(C93*C95<0,(B95-B93)/(C95-C93)*(0-C93)+B93,B93)","v":-138.24236279652936},{"$f":"IF(AND(C93*C95<0,B95<>B93),(C95-C93)/(B95-B93)*(B94-B93)+C93,C93)","v":-7.1054273576010019E-15},2,-138.24236279652936,-7.1054273576010019E-15,null,null,null,null,-8.5684866884004764E-13,2.0294253243000252E-27,-1.2542239775381503E-13,1.832828943150595E-11]
[1,{"$f":"('Hull Long'!C166-$L$7)*SIN(RADIANS($O$7))+('Hull Plan'!C166-$K$7)*COS(RADIANS($O$7))+$M$7","v":102.93909630977964},{"$f":"('Hull Long'!C166-$L$7)*COS(RADIANS($O$7))-('Hull Plan'!C166-$K$7)*SIN(RADIANS($O$7))+$N$7","v":169.93397029191112},2,102.93909630977964,0,null,null,null,null,0,0,0,0]
[1,{"$f":"IF(C95*C97<0,(B97-B95)/(C97-C95)*(0-C95)+B95,B95)","v":102.93909630977964},{"$f":"IF(AND(C95*C97<0,B97<>B95),(C97-C95)/(B97-B95)*(B96-B95)+C95,C95)","v":169.93397029191112},2,102.93909630977964,0,null,null,null,null,0,0,0,0]
[1,{"$f":"('Hull Long'!C166-$L$7)*SIN(RADIANS($O$7))+('Hull Plan'!F166-$K$7)*COS(RADIANS($O$7))+$M$7","v":29.330225753138443},{"$f":"('Hull Long'!C166-$L$7)*COS(RADIANS($O$7))-('Hull Plan'!F166-$K$7)*SIN(RADIANS($O$7))+$N$7","v":243.54284084855232},2,29.330225753138443,0,null,null,null,null,2.4385510574994385E-12,-2.3102596529151152E-26,1.6049359036155849E-12,-8.0185119627528206E-11]
[1,{"$f":"IF(C97*C99<0,(B99-B97)/(C99-C97)*(0-C97)+B97,B97)","v":-142.26754977621155},{"$f":"IF(AND(C97*C99<0,B99<>B97),(C99-C97)/(B99-B97)*(B98-B97)+C97,C97)","v":-2.8421709430404007E-14},2,-142.26754977621155,-2.8421709430404007E-14,null,null,null,null,10.565977728789751,-19.28813053390893,789.69171732201107,-56938.940950194519]
[1,{"$f":"('Hull Long'!C115-$L$7)*SIN(RADIANS($O$7))+('Hull Plan'!F115-$K$7)*COS(RADIANS($O$7))+$M$7","v":-146.12622286599995},{"$f":"('Hull Long'!C115-$L$7)*COS(RADIANS($O$7))-('Hull Plan'!F115-$K$7)*SIN(RADIANS($O$7))+$N$7","v":-5.4764824502762508},2,-146.12622286599995,-5.4764824502762508,null,null,null,null,0,0,0,0]
[1,{"$f":"IF(C99*C101<0,(B101-B99)/(C101-C99)*(0-C99)+B99,B99)","v":-146.12622286599995},{"$f":"IF(AND(C99*C101<0,B101<>B99),(C101-C99)/(B101-B99)*(B100-B99)+C99,C99)","v":-5.4764824502762508},2,-146.12622286599995,-5.4764824502762508,null,null,null,null,0.25766594219356792,-0.71153642865319577,13.540866613633977,-989.49579157448659]
[1,{"$f":"('Hull Long'!C64-$L$7)*SIN(RADIANS($O$7))+('Hull Plan'!F64-$K$7)*COS(RADIANS($O$7))+$M$7","v":-146.1728777470241},{"$f":"('Hull Long'!C64-$L$7)*COS(RADIANS($O$7))-('Hull Plan'!F64-$K$7)*SIN(RADIANS($O$7))+$N$7","v":-5.5691332082514577},2,-146.1728777470241,-5.5691332082514577,null,null,null,null,0,0,0,0]
[1,{"$f":"IF(C101*C103<0,(B103-B101)/(C103-C101)*(0-C101)+B101,B101)","v":-146.1728777470241},{"$f":"IF(AND(C101*C103<0,B103<>B101),(C103-C101)/(B103-B101)*(B102-B101)+C101,C101)","v":-5.5691332082514577},2,-146.1728777470241,-5.5691332082514577,null,null,null,null,0.39037821933787969,-1.0938467806316019,10.184988221399557,-744.56190749930965]
[1,{"$f":"('Hull Long'!C13-$L$7)*SIN(RADIANS($O$7))+('Hull Plan'!F13-$K$7)*COS(RADIANS($O$7))+$M$7","v":-146.24253883630868},{"$f":"('Hull Long'!C13-$L$7)*COS(RADIANS($O$7))-('Hull Plan'!F13-$K$7)*SIN(RADIANS($O$7))+$N$7","v":-5.6387942975360374},2,-146.24253883630868,-5.6387942975360374,null,null,null,null,{"$f":"SUM(K89:K102)","v":-11.332397004449483},{"$f":"SUM(L89:L102)","v":21.264682174760662},{"$f":"SUM(M89:M102)","v":11.332397004449422},{"$f":"SUM(N89:N102)","v":-1612.0063899596053}]
[0,0,0,0,0,0,{"$f":"'Hull Long'!B65","v":250},"vol","cx","cy","A","Acy","A","Acx"]
[1,{"$f":"('Hull Long'!C14-$L$7)*SIN(RADIANS($O$7))+('Hull Plan'!C14-$K$7)*COS(RADIANS($O$7))+$M$7","v":-147.21099141085045},{"$f":"('Hull Long'!C14-$L$7)*COS(RADIANS($O$7))-('Hull Plan'!C14-$K$7)*SIN(RADIANS($O$7))+$N$7","v":-6.607246872077809},2,{"$f":"B105","v":-147.21099141085045},{"$f":"IF(C105<0,C105,0)","v":-6.607246872077809},{"$f":"ABS(K119)/1000000","v":3.5716952204383899E-4},{"$f":"(G104-G88)*(G105+G89)/2000","v":9.2125479762072121E-6},{"$f":"IF(M119+M103<>0,(N119+N103)/(M119+M103),0)","v":-134.30193542027482},{"$f":"IF(K119+K103<>0,(L119+L103)/(K119+K103),0)","v":-5.6037262806081847},{"$f":"(F106+F105)/2*(E106-E105)","v":0},{"$f":"(E106-E105)*(F105^2+F105*F106+F106^2)/6","v":0},{"$f":"(E106+E105)/2*(F106-F105)","v":0},{"$f":"(F106-F105)*(E105^2+E105*E106+E106^2)/6","v":0}]
[1,{"$f":"IF(C105*C107<0,(B107-B105)/(C107-C105)*(0-C105)+B105,B105)","v":-147.21099141085045},{"$f":"IF(AND(C105*C107<0,B107<>B105),(C107-C105)/(B107-B105)*(B106-B105)+C105,C105)","v":-6.607246872077809},2,-147.21099141085045,-6.607246872077809,null,null,null,null,-0.43288494661516219,1.4229749459508991,-9.6909075180099702,713.14453967580278]
[1,{"$f":"('Hull Long'!C65-$L$7)*SIN(RADIANS($O$7))+('Hull Plan'!C65-$K$7)*COS(RADIANS($O$7))+$M$7","v":-147.14514663124118},{"$f":"('Hull Long'!C65-$L$7)*COS(RADIANS($O$7))-('Hull Plan'!C65-$K$7)*SIN(RADIANS($O$7))+$N$7","v":-6.5414020924685303},2,-147.14514663124118,-6.5414020924685303,null,null,null,null,0,0,0,0]
[1,{"$f":"IF(C107*C109<0,(B109-B107)/(C109-C107)*(0-C107)+B107,B107)","v":-147.14514663124118},{"$f":"IF(AND(C107*C109<0,B109<>B107),(C109-C107)/(B109-B107)*(B108-B107)+C107,C107)","v":-6.5414020924685303},2,-147.14514663124118,-6.5414020924685303,null,null,null,null,-127.23089507535867,803.94649503864127,1504.0724943926743,-106670.83428551089]
[1,{"$f":"('Hull Long'!C116-$L$7)*SIN(RADIANS($O$7))+('Hull Plan'!C116-$K$7)*COS(RADIANS($O$7))+$M$7","v":-136.40459332785616},{"$f":"('Hull Long'!C116-$L$7)*COS(RADIANS($O$7))-('Hull Plan'!C116-$K$7)*SIN(RADIANS($O$7))+$N$7","v":-17.150281470101817},2,-136.40459332785616,-17.150281470101817,null,null,null,null,-208.80594816785975,1193.693594570095,-2130.5712212196454,132763.62386894095]
[1,{"$f":"IF(C109*C111<0,(B111-B109)/(C111-C109)*(0-C109)+B109,B109)","v":-112.05444507730152},{"$f":"IF(AND(C109*C111<0,B111<>B109),(C111-C109)/(B111-B109)*(B110-B109)+C109,C109)","v":-3.5527136788005009E-15},2,-112.05444507730152,-3.5527136788005009E-15,null,null,null,null,-3.9713192088440789E-13,4.7029866920478478E-28,-9.6543891212068251E-16,7.3988774526232206E-12]
[1,{"$f":"('Hull Long'!C167-$L$7)*SIN(RADIANS($O$7))+('Hull Plan'!C167-$K$7)*COS(RADIANS($O$7))+$M$7","v":111.51095128669206},{"$f":"('Hull Long'!C167-$L$7)*COS(RADIANS($O$7))-('Hull Plan'!C167-$K$7)*SIN(RADIANS($O$7))+$N$7","v":157.46144274624828},2,111.51095128669206,0,null,null,null,null,0,0,0,0]
[1,{"$f":"IF(C111*C113<0,(B113-B111)/(C113-C111)*(0-C111)+B111,B111)","v":111.51095128669206},{"$f":"IF(AND(C111*C113<0,B113<>B111),(C113-C111)/(B113-B111)*(B112-B111)+C111,C111)","v":157.46144274624828},2,111.51095128669206,0,null,null,null,null,0,0,0,0]
[1,{"$f":"('Hull Long'!C167-$L$7)*SIN(RADIANS($O$7))+('Hull Plan'!F167-$K$7)*COS(RADIANS($O$7))+$M$7","v":16.857698207475586},{"$f":"('Hull Long'!C167-$L$7)*COS(RADIANS($O$7))-('Hull Plan'!F167-$K$7)*SIN(RADIANS($O$7))+$N$7","v":252.11469582546474},2,16.857698207475586,0,null,null,null,null,0,0,0,0]
[1,{"$f":"IF(C113*C115<0,(B115-B113)/(C115-C113)*(0-C113)+B113,B113)","v":16.857698207475586},{"$f":"IF(AND(C113*C115<0,B115<>B113),(C115-C113)/(B115-B113)*(B114-B113)+C113,C113)","v":252.11469582546474},2,16.857698207475586,0,null,null,null,null,0,0,0,0]
[1,{"$f":"('Hull Long'!C116-$L$7)*SIN(RADIANS($O$7))+('Hull Plan'!F116-$K$7)*COS(RADIANS($O$7))+$M$7","v":-157.75402600887446},{"$f":"('Hull Long'!C116-$L$7)*COS(RADIANS($O$7))-('Hull Plan'!F116-$K$7)*SIN(RADIANS($O$7))+$N$7","v":4.199151210916483},2,-157.75402600887446,0,null,null,null,null,-1.1051617414952316E-14,1.9631616181485462E-29,8.2963071171641518E-13,-6.4582353359873255E-11]
[1,{"$f":"IF(C115*C117<0,(B117-B115)/(C117-C115)*(0-C115)+B115,B115)","v":-153.60635433622275},{"$f":"IF(AND(C115*C117<0,B117<>B115),(C117-C115)/(B117-B115)*(B116-B115)+C115,C115)","v":-5.3290705182007514E-15},2,-153.60635433622275,-5.3290705182007514E-15,null,null,null,null,-21.132678800620152,46.079116441947328,983.66824887080907,-73971.30412774095]
[1,{"$f":"('Hull Long'!C65-$L$7)*SIN(RADIANS($O$7))+('Hull Plan'!F65-$K$7)*COS(RADIANS($O$7))+$M$7","v":-147.14514663124118},{"$f":"('Hull Long'!C65-$L$7)*COS(RADIANS($O$7))-('Hull Plan'!F65-$K$7)*SIN(RADIANS($O$7))+$N$7","v":-6.5414020924685303},2,-147.14514663124118,-6.5414020924685303,null,null,null,null,0,0,0,0]
[1,{"$f":"IF(C117*C119<0,(B119-B117)/(C119-C117)*(0-C117)+B117,B117)","v":-147.14514663124118},{"$f":"IF(AND(C117*C119<0,B119<>B117),(C119-C117)/(B119-B117)*(B118-B117)+C117,C117)","v":-6.5414020924685303},2,-147.14514663124118,-6.5414020924685303,null,null,null,null,0.43288494661516219,-1.4229749459508991,9.6909075180099702,-713.14453967580266]
[1,{"$f":"('Hull Long'!C14-$L$7)*SIN(RADIANS($O$7))+('Hull Plan'!F14-$K$7)*COS(RADIANS($O$7))+$M$7","v":-147.21099141085045},{"$f":"('Hull Long'!C14-$L$7)*COS(RADIANS($O$7))-('Hull Plan'!F14-$K$7)*SIN(RADIANS($O$7))+$N$7","v":-6.607246872077809},2,-147.21099141085045,-6.607246872077809,null,null,null,null,{"$f":"SUM(K105:K118)","v":-357.16952204383898},{"$f":"SUM(L105:L118)","v":2043.7192060506834},{"$f":"SUM(M105:M118)","v":357.16952204383887},{"$f":"SUM(N105:N118)","v":-47878.51454431095}]
[0,0,0,0,0,0,{"$f":"'Hull Long'!B66","v":300},"vol","cx","cy","A","Acy","A","Acx"]
[1,{"$f":"('Hull Long'!C15-$L$7)*SIN(RADIANS($O$7))+('Hull Plan'!C15-$K$7)*COS(RADIANS($O$7))+$M$7","v":-148.15216363117977},{"$f":"('Hull Long'!C15-$L$7)*COS(RADIANS($O$7))-('Hull Plan'!C15-$K$7)*SIN(RADIANS($O$7))+$N$7","v":-7.5484190924071015},2,{"$f":"B121","v":-148.15216363117977},{"$f":"IF(C121<0,C121,0)","v":-7.5484190924071015},{"$f":"ABS(K135)/1000000","v":9.8163788751614699E-4},{"$f":"(G120-G104)*(G121+G105)/2000","v":3.3470185238999652E-5},{"$f":"IF(M135+M119<>0,(N135+N119)/(M135+M119),0)","v":-125.99252222635555},{"$f":"IF(K135+K119<>0,(L135+L119)/(K135+K119),0)","v":-8.4817352153676371},{"$f":"(F122+F121)/2*(E122-E121)","v":0},{"$f":"(E122-E121)*(F121^2+F121*F122+F122^2)/6","v":0},{"$f":"(E122+E121)/2*(F122-F121)","v":0},{"$f":"(F122-F121)*(E121^2+E121*E122+E122^2)/6","v":0}]
[1,{"$f":"IF(C121*C123<0,(B123-B121)/(C123-C121)*(0-C121)+B121,B121)","v":-148.15216363117977},{"$f":"IF(AND(C121*C123<0,B123<>B121),(C123-C121)/(B123-B121)*(B122-B121)+C121,C121)","v":-7.5484190924071015},2,-148.15216363117977,-7.5484190924071015,null,null,null,null,-0.46709791497939374,1.7556795098414471,-9.2036481945940238,681.62723725472074]
[1,{"$f":"('Hull Long'!C66-$L$7)*SIN(RADIANS($O$7))+('Hull Plan'!C66-$K$7)*COS(RADIANS($O$7))+$M$7","v":-148.09002765956481},{"$f":"('Hull Long'!C66-$L$7)*COS(RADIANS($O$7))-('Hull Plan'!C66-$K$7)*SIN(RADIANS($O$7))+$N$7","v":-7.4862831207921658},2,-148.09002765956481,-7.4862831207921658,null,null,null,null,0,0,0,0]
[1,{"$f":"IF(C123*C125<0,(B125-B123)/(C125-C123)*(0-C123)+B123,B123)","v":-148.09002765956481},{"$f":"IF(AND(C123*C125<0,B125<>B123),(C125-C123)/(B125-B123)*(B124-B123)+C123,C123)","v":-7.4862831207921658},2,-148.09002765956481,-7.4862831207921658,null,null,null,null,-378.92712459027814,3790.5428646198402,2883.5449776156311,-198698.17988404972]
[1,{"$f":"('Hull Long'!C117-$L$7)*SIN(RADIANS($O$7))+('Hull Plan'!C117-$K$7)*COS(RADIANS($O$7))+$M$7","v":-127.00151272754208},{"$f":"('Hull Long'!C117-$L$7)*COS(RADIANS($O$7))-('Hull Plan'!C117-$K$7)*SIN(RADIANS($O$7))+$N$7","v":-28.45054086247282},2,-127.00151272754208,-28.45054086247282,null,null,null,null,-574.85365721280084,5451.632488158245,-3038.408070237997,164180.98848893118]
[1,{"$f":"IF(C125*C127<0,(B127-B125)/(C127-C125)*(0-C125)+B125,B125)","v":-86.590776074654656},{"$f":"IF(AND(C125*C127<0,B127<>B125),(C127-C125)/(B127-B125)*(B126-B125)+C125,C125)","v":0},2,-86.590776074654656,0,null,null,null,null,0,0,0,0]
[1,{"$f":"('Hull Long'!C168-$L$7)*SIN(RADIANS($O$7))+('Hull Plan'!C168-$K$7)*COS(RADIANS($O$7))+$M$7","v":119.84426763408848},{"$f":"('Hull Long'!C168-$L$7)*COS(RADIANS($O$7))-('Hull Plan'!C168-$K$7)*SIN(RADIANS($O$7))+$N$7","v":145.3373319306296},2,119.84426763408848,0,null,null,null,null,0,0,0,0]
[1,{"$f":"IF(C127*C129<0,(B129-B127)/(C129-C127)*(0-C127)+B127,B127)","v":119.84426763408848},{"$f":"IF(AND(C127*C129<0,B129<>B127),(C129-C127)/(B129-B127)*(B128-B127)+C127,C127)","v":145.3373319306296},2,119.84426763408848,0,null,null,null,null,0,0,0,0]
[1,{"$f":"('Hull Long'!C168-$L$7)*SIN(RADIANS($O$7))+('Hull Plan'!F168-$K$7)*COS(RADIANS($O$7))+$M$7","v":4.7335873918569007},{"$f":"('Hull Long'!C168-$L$7)*COS(RADIANS($O$7))-('Hull Plan'!F168-$K$7)*SIN(RADIANS($O$7))+$N$7","v":260.44801217286113},2,4.7335873918569007,0,null,null,null,null,0,0,0,0]
[1,{"$f":"IF(C129*C131<0,(B131-B129)/(C131-C129)*(0-C129)+B129,B129)","v":4.7335873918569007},{"$f":"IF(AND(C129*C131<0,B131<>B129),(C131-C129)/(B131-B129)*(B130-B129)+C129,C129)","v":260.44801217286113},2,4.7335873918569007,0,null,null,null,null,0,0,0,0]
[1,{"$f":"('Hull Long'!C117-$L$7)*SIN(RADIANS($O$7))+('Hull Plan'!F117-$K$7)*COS(RADIANS($O$7))+$M$7","v":-169.05428540124547},{"$f":"('Hull Long'!C117-$L$7)*COS(RADIANS($O$7))-('Hull Plan'!F117-$K$7)*SIN(RADIANS($O$7))+$N$7","v":13.602231811230567},2,-169.05428540124547,0,null,null,null,null,-1.2010024175560009E-14,7.111362861872792E-30,2.8829071192686429E-13,-2.3407350641967447E-11]
[1,{"$f":"IF(C131*C133<0,(B133-B131)/(C133-C131)*(0-C131)+B131,B131)","v":-155.53220030080479},{"$f":"IF(AND(C131*C133<0,B133<>B131),(C133-C131)/(B133-B131)*(B132-B131)+C131,C131)","v":-1.7763568394002505E-15},2,-155.53220030080479,-1.7763568394002505E-15,null,null,null,null,-27.857105713068055,69.515393431288132,1136.5009801385129,-86284.016366366573]
[1,{"$f":"('Hull Long'!C66-$L$7)*SIN(RADIANS($O$7))+('Hull Plan'!F66-$K$7)*COS(RADIANS($O$7))+$M$7","v":-148.09002765956481},{"$f":"('Hull Long'!C66-$L$7)*COS(RADIANS($O$7))-('Hull Plan'!F66-$K$7)*SIN(RADIANS($O$7))+$N$7","v":-7.4862831207921658},2,-148.09002765956481,-7.4862831207921658,null,null,null,null,0,0,0,0]
[1,{"$f":"IF(C133*C135<0,(B135-B133)/(C135-C133)*(0-C133)+B133,B133)","v":-148.09002765956481},{"$f":"IF(AND(C133*C135<0,B135<>B133),(C135-C133)/(B135-B133)*(B134-B133)+C133,C133)","v":-7.4862831207921658},2,-148.09002765956481,-7.4862831207921658,null,null,null,null,0.46709791497939374,-1.7556795098414468,9.2036481945940238,-681.62723725472074]
[1,{"$f":"('Hull Long'!C15-$L$7)*SIN(RADIANS($O$7))+('Hull Plan'!F15-$K$7)*COS(RADIANS($O$7))+$M$7","v":-148.15216363117977},{"$f":"('Hull Long'!C15-$L$7)*COS(RADIANS($O$7))-('Hull Plan'!F15-$K$7)*SIN(RADIANS($O$7))+$N$7","v":-7.5484190924071015},2,-148.15216363117977,-7.5484190924071015,null,null,null,null,{"$f":"SUM(K121:K134)","v":-981.63788751614709},{"$f":"SUM(L121:L134)","v":9311.6907462093732},{"$f":"SUM(M121:M134)","v":981.63788751614743},{"$f":"SUM(N121:N134)","v":-120801.20776148513}]
[0,0,0,0,0,0,{"$f":"'Hull Long'!B67","v":400},"vol","cx","cy","A","Acy","A","Acx"]
[1,{"$f":"('Hull Long'!C16-$L$7)*SIN(RADIANS($O$7))+('Hull Plan'!C16-$K$7)*COS(RADIANS($O$7))+$M$7","v":-149.95266700920106},{"$f":"('Hull Long'!C16-$L$7)*COS(RADIANS($O$7))-('Hull Plan'!C16-$K$7)*SIN(RADIANS($O$7))+$N$7","v":-9.3489224704284197},2,{"$f":"B137","v":-149.95266700920106},{"$f":"IF(C137<0,C137,0)","v":-9.3489224704284197},{"$f":"ABS(K151)/1000000","v":3.0384706435811213E-3},{"$f":"(G136-G120)*(G137+G121)/2000","v":2.0100542655486343E-4},{"$f":"IF(M151+M135<>0,(N151+N135)/(M151+M135),0)","v":-107.15572097222356},{"$f":"IF(K151+K135<>0,(L151+L135)/(K151+K135),0)","v":-14.931273224295959},{"$f":"(F138+F137)/2*(E138-E137)","v":0},{"$f":"(E138-E137)*(F137^2+F137*F138+F138^2)/6","v":0},{"$f":"(E138+E137)/2*(F138-F137)","v":0},{"$f":"(F138-F137)*(E137^2+E137*E138+E138^2)/6","v":0}]
[1,{"$f":"IF(C137*C139<0,(B139-B137)/(C139-C137)*(0-C137)+B137,B137)","v":-149.95266700920106},{"$f":"IF(AND(C137*C139<0,B139<>B137),(C139-C137)/(B139-B137)*(B138-B137)+C137,C137)","v":-9.3489224704284197},2,-149.95266700920106,-9.3489224704284197,null,null,null,null,-0.51305799093127369,2.3912168494301782,-8.2520091036751335,618.5918441670708]
[1,{"$f":"('Hull Long'!C67-$L$7)*SIN(RADIANS($O$7))+('Hull Plan'!C67-$K$7)*COS(RADIANS($O$7))+$M$7","v":-149.89762614853177},{"$f":"('Hull Long'!C67-$L$7)*COS(RADIANS($O$7))-('Hull Plan'!C67-$K$7)*SIN(RADIANS($O$7))+$N$7","v":-9.2938816097590973},2,-149.89762614853177,-9.2938816097590973,null,null,null,null,0,0,0,0]
[1,{"$f":"IF(C139*C141<0,(B141-B139)/(C141-C139)*(0-C139)+B139,B139)","v":-149.89762614853177},{"$f":"IF(AND(C139*C141<0,B141<>B139),(C141-C139)/(B141-B139)*(B140-B139)+C139,C139)","v":-9.2938816097590973},2,-149.89762614853177,-9.2938816097590973,null,null,null,null,-1213.5026080714965,20841.299341146685,5278.4819379743694,-344503.64531129651]
[1,{"$f":"('Hull Long'!C118-$L$7)*SIN(RADIANS($O$7))+('Hull Plan'!C118-$K$7)*COS(RADIANS($O$7))+$M$7","v":-109.01301070955},{"$f":"('Hull Long'!C118-$L$7)*COS(RADIANS($O$7))-('Hull Plan'!C118-$K$7)*SIN(RADIANS($O$7))+$N$7","v":-50.068428395704359},2,-109.01301070955,-50.068428395704359,null,null,null,null,-1781.8961879121125,29738.91389768539,-3676.2139329991442,145530.16764212269]
[1,{"$f":"IF(C141*C143<0,(B143-B141)/(C143-C141)*(0-C141)+B141,B141)","v":-37.834575715373475},{"$f":"IF(AND(C141*C143<0,B143<>B141),(C143-C141)/(B143-B141)*(B142-B141)+C141,C141)","v":7.1054273576010019E-15},2,-37.834575715373475,0,null,null,null,null,0,0,0,0]
[1,{"$f":"('Hull Long'!C169-$L$7)*SIN(RADIANS($O$7))+('Hull Plan'!C169-$K$7)*COS(RADIANS($O$7))+$M$7","v":135.79494148792989},{"$f":"('Hull Long'!C169-$L$7)*COS(RADIANS($O$7))-('Hull Plan'!C169-$K$7)*SIN(RADIANS($O$7))+$N$7","v":122.13470344192821},2,135.79494148792989,0,null,null,null,null,0,0,0,0]
[1,{"$f":"IF(C143*C145<0,(B145-B143)/(C145-C143)*(0-C143)+B143,B143)","v":135.79494148792989},{"$f":"IF(AND(C143*C145<0,B145<>B143),(C145-C143)/(B145-B143)*(B144-B143)+C143,C143)","v":122.13470344192821},2,135.79494148792989,0,null,null,null,null,0,0,0,0]
[1,{"$f":"('Hull Long'!C169-$L$7)*SIN(RADIANS($O$7))+('Hull Plan'!F169-$K$7)*COS(RADIANS($O$7))+$M$7","v":-18.469041096844485},{"$f":"('Hull Long'!C169-$L$7)*COS(RADIANS($O$7))-('Hull Plan'!F169-$K$7)*SIN(RADIANS($O$7))+$N$7","v":276.39868602670253},2,-18.469041096844485,0,null,null,null,null,0,0,0,0]
[1,{"$f":"IF(C145*C147<0,(B147-B145)/(C147-C145)*(0-C145)+B145,B145)","v":-18.469041096844485},{"$f":"IF(AND(C145*C147<0,B147<>B145),(C147-C145)/(B147-B145)*(B146-B145)+C145,C145)","v":276.39868602670253},2,-18.469041096844485,0,null,null,null,null,0,0,0,0]
[1,{"$f":"('Hull Long'!C118-$L$7)*SIN(RADIANS($O$7))+('Hull Plan'!F118-$K$7)*COS(RADIANS($O$7))+$M$7","v":-190.672172934477},{"$f":"('Hull Long'!C118-$L$7)*COS(RADIANS($O$7))-('Hull Plan'!F118-$K$7)*SIN(RADIANS($O$7))+$N$7","v":31.590733829222643},2,-190.672172934477,0,null,null,null,null,0,0,0,0]
[1,{"$f":"IF(C147*C149<0,(B149-B147)/(C149-C147)*(0-C147)+B147,B147)","v":-159.16648697677482},{"$f":"IF(AND(C147*C149<0,B149<>B147),(C149-C147)/(B149-B147)*(B148-B147)+C147,C147)","v":1.4210854715202004E-14},2,-159.16648697677482,0,null,null,null,null,-43.071847597512274,133.43488409495529,1436.202638605896,-111002.94260565551]
[1,{"$f":"('Hull Long'!C67-$L$7)*SIN(RADIANS($O$7))+('Hull Plan'!F67-$K$7)*COS(RADIANS($O$7))+$M$7","v":-149.89762614853177},{"$f":"('Hull Long'!C67-$L$7)*COS(RADIANS($O$7))-('Hull Plan'!F67-$K$7)*SIN(RADIANS($O$7))+$N$7","v":-9.2938816097590973},2,-149.89762614853177,-9.2938816097590973,null,null,null,null,0,0,0,0]
[1,{"$f":"IF(C149*C151<0,(B151-B149)/(C151-C149)*(0-C149)+B149,B149)","v":-149.89762614853177},{"$f":"IF(AND(C149*C151<0,B151<>B149),(C151-C149)/(B151-B149)*(B150-B149)+C149,C149)","v":-9.2938816097590973},2,-149.89762614853177,-9.2938816097590973,null,null,null,null,0.51305799093127369,-2.3912168494301782,8.2520091036751335,-618.5918441670708]
[1,{"$f":"('Hull Long'!C16-$L$7)*SIN(RADIANS($O$7))+('Hull Plan'!F16-$K$7)*COS(RADIANS($O$7))+$M$7","v":-149.95266700920106},{"$f":"('Hull Long'!C16-$L$7)*COS(RADIANS($O$7))-('Hull Plan'!F16-$K$7)*SIN(RADIANS($O$7))+$N$7","v":-9.3489224704284197},2,-149.95266700920106,-9.3489224704284197,null,null,null,null,{"$f":"SUM(K137:K150)","v":-3038.4706435811213},{"$f":"SUM(L137:L150)","v":50713.648122927028},{"$f":"SUM(M137:M150)","v":3038.4706435811213},{"$f":"SUM(N137:N150)","v":-309976.42027482932}]
[0,0,0,0,0,0,{"$f":"'Hull Long'!B68","v":500},"vol","cx","cy","A","Acy","A","Acx"]
[1,{"$f":"('Hull Long'!C17-$L$7)*SIN(RADIANS($O$7))+('Hull Plan'!C17-$K$7)*COS(RADIANS($O$7))+$M$7","v":-151.64404897037261},{"$f":"('Hull Long'!C17-$L$7)*COS(RADIANS($O$7))-('Hull Plan'!C17-$K$7)*SIN(RADIANS($O$7))+$N$7","v":-11.040304431599935},2,{"$f":"B153","v":-151.64404897037261},{"$f":"IF(C153<0,C153,0)","v":-11.040304431599935},{"$f":"ABS(K167)/1000000","v":6.0040814065835859E-3},{"$f":"(G152-G136)*(G153+G137)/2000","v":4.5212760250823539E-4},{"$f":"IF(M167+M151<>0,(N167+N151)/(M167+M151),0)","v":-88.877631361722933},{"$f":"IF(K167+K151<>0,(L167+L151)/(K167+K151),0)","v":-21.184900724690205},{"$f":"(F154+F153)/2*(E154-E153)","v":0},{"$f":"(E154-E153)*(F153^2+F153*F154+F154^2)/6","v":0},{"$f":"(E154+E153)/2*(F154-F153)","v":0},{"$f":"(F154-F153)*(E153^2+E153*E154+E154^2)/6","v":0}]
[1,{"$f":"IF(C153*C155<0,(B155-B153)/(C155-C153)*(0-C153)+B153,B153)","v":-151.64404897037261},{"$f":"IF(AND(C153*C155<0,B155<>B153),(C155-C153)/(B155-B153)*(B154-B153)+C153,C153)","v":-11.040304431599935},2,-151.64404897037261,-11.040304431599935,null,null,null,null,-0.53291297138510163,2.9353204198593619,-7.3347254728167304,556.04503338582629]
[1,{"$f":"('Hull Long'!C68-$L$7)*SIN(RADIANS($O$7))+('Hull Plan'!C68-$K$7)*COS(RADIANS($O$7))+$M$7","v":-151.59567321392495},{"$f":"('Hull Long'!C68-$L$7)*COS(RADIANS($O$7))-('Hull Plan'!C68-$K$7)*SIN(RADIANS($O$7))+$N$7","v":-10.991928675152309},2,-151.59567321392495,-10.991928675152309,null,null,null,null,0,0,0,0]
[1,{"$f":"IF(C155*C157<0,(B157-B155)/(C157-C155)*(0-C155)+B155,B155)","v":-151.59567321392495},{"$f":"IF(AND(C155*C157<0,B157<>B155),(C157-C155)/(B157-B155)*(B156-B155)+C155,C155)","v":-10.991928675152309},2,-151.59567321392495,-10.991928675152309,null,null,null,null,-2419.9251325116556,57966.103572541091,7236.2748870532359,-449643.0334749716]
[1,{"$f":"('Hull Long'!C119-$L$7)*SIN(RADIANS($O$7))+('Hull Plan'!C119-$K$7)*COS(RADIANS($O$7))+$M$7","v":-92.114720935072555},{"$f":"('Hull Long'!C119-$L$7)*COS(RADIANS($O$7))-('Hull Plan'!C119-$K$7)*SIN(RADIANS($O$7))+$N$7","v":-70.376140926921806},2,-92.114720935072555,-70.376140926921806,null,null,null,null,-3523.843279135383,82664.830405605986,-2958.8353028353577,91606.781300092334]
[1,{"$f":"IF(C157*C159<0,(B159-B157)/(C159-C157)*(0-C157)+B157,B157)","v":8.0284023656074908},{"$f":"IF(AND(C157*C159<0,B159<>B157),(C159-C157)/(B159-B157)*(B158-B157)+C157,C157)","v":0},2,8.0284023656074908,0,null,null,null,null,0,0,0,0]
[1,{"$f":"('Hull Long'!C170-$L$7)*SIN(RADIANS($O$7))+('Hull Plan'!C170-$K$7)*COS(RADIANS($O$7))+$M$7","v":150.79040532686372},{"$f":"('Hull Long'!C170-$L$7)*COS(RADIANS($O$7))-('Hull Plan'!C170-$K$7)*SIN(RADIANS($O$7))+$N$7","v":100.32679737024711},2,150.79040532686372,0,null,null,null,null,0,0,0,0]
[1,{"$f":"IF(C159*C161<0,(B161-B159)/(C161-C159)*(0-C159)+B159,B159)","v":150.79040532686372},{"$f":"IF(AND(C159*C161<0,B161<>B159),(C161-C159)/(B161-B159)*(B160-B159)+C159,C159)","v":100.32679737024711},2,150.79040532686372,0,null,null,null,null,0,0,0,0]
[1,{"$f":"('Hull Long'!C170-$L$7)*SIN(RADIANS($O$7))+('Hull Plan'!F170-$K$7)*COS(RADIANS($O$7))+$M$7","v":-40.276947168525588},{"$f":"('Hull Long'!C170-$L$7)*COS(RADIANS($O$7))-('Hull Plan'!F170-$K$7)*SIN(RADIANS($O$7))+$N$7","v":291.39414986563639},2,-40.276947168525588,0,null,null,null,null,0,0,0,0]
[1,{"$f":"IF(C161*C163<0,(B163-B161)/(C163-C161)*(0-C161)+B161,B161)","v":-40.276947168525588},{"$f":"IF(AND(C161*C163<0,B163<>B161),(C163-C161)/(B163-B161)*(B162-B161)+C161,C161)","v":291.39414986563639},2,-40.276947168525588,0,null,null,null,null,0,0,0,0]
[1,{"$f":"('Hull Long'!C119-$L$7)*SIN(RADIANS($O$7))+('Hull Plan'!F119-$K$7)*COS(RADIANS($O$7))+$M$7","v":-210.97988546569445},{"$f":"('Hull Long'!C119-$L$7)*COS(RADIANS($O$7))-('Hull Plan'!F119-$K$7)*SIN(RADIANS($O$7))+$N$7","v":48.489023603700076},2,-210.97988546569445,0,null,null,null,null,0,0,0,0]
[1,{"$f":"IF(C163*C165<0,(B165-B163)/(C165-C163)*(0-C163)+B163,B163)","v":-162.56972457815692},{"$f":"IF(AND(C163*C165<0,B165<>B163),(C165-C163)/(B165-B163)*(B164-B163)+C163,C163)","v":7.1054273576010019E-15},2,-162.56972457815692,0,null,null,null,null,-60.312994936547845,220.98537950911876,1726.6418223657083,-135667.93523402236]
[1,{"$f":"('Hull Long'!C68-$L$7)*SIN(RADIANS($O$7))+('Hull Plan'!F68-$K$7)*COS(RADIANS($O$7))+$M$7","v":-151.59567321392495},{"$f":"('Hull Long'!C68-$L$7)*COS(RADIANS($O$7))-('Hull Plan'!F68-$K$7)*SIN(RADIANS($O$7))+$N$7","v":-10.991928675152309},2,-151.59567321392495,-10.991928675152309,null,null,null,null,0,0,0,0]
[1,{"$f":"IF(C165*C167<0,(B167-B165)/(C167-C165)*(0-C165)+B165,B165)","v":-151.59567321392495},{"$f":"IF(AND(C165*C167<0,B167<>B165),(C167-C165)/(B167-B165)*(B166-B165)+C165,C165)","v":-10.991928675152309},2,-151.59567321392495,-10.991928675152309,null,null,null,null,0.53291297138510163,-2.9353204198593619,7.3347254728167304,-556.04503338582629]
[1,{"$f":"('Hull Long'!C17-$L$7)*SIN(RADIANS($O$7))+('Hull Plan'!F17-$K$7)*COS(RADIANS($O$7))+$M$7","v":-151.64404897037261},{"$f":"('Hull Long'!C17-$L$7)*COS(RADIANS($O$7))-('Hull Plan'!F17-$K$7)*SIN(RADIANS($O$7))+$N$7","v":-11.040304431599935},2,-151.64404897037261,-11.040304431599935,null,null,null,null,{"$f":"SUM(K153:K166)","v":-6004.0814065835857},{"$f":"SUM(L153:L166)","v":140851.91935765621},{"$f":"SUM(M153:M166)","v":6004.0814065835866},{"$f":"SUM(N153:N166)","v":-493704.18740890158}]
[0,0,0,0,0,0,{"$f":"'Hull Long'!B69","v":600},"vol","cx","cy","A","Acy","A","Acx"]
[1,{"$f":"('Hull Long'!C18-$L$7)*SIN(RADIANS($O$7))+('Hull Plan'!C18-$K$7)*COS(RADIANS($O$7))+$M$7","v":-153.22630951469435},{"$f":"('Hull Long'!C18-$L$7)*COS(RADIANS($O$7))-('Hull Plan'!C18-$K$7)*SIN(RADIANS($O$7))+$N$7","v":-12.622564975921705},2,{"$f":"B169","v":-153.22630951469435},{"$f":"IF(C169<0,C169,0)","v":-12.622564975921705},{"$f":"ABS(K183)/1000000","v":9.6869061829363817E-3},{"$f":"(G168-G152)*(G169+G153)/2000","v":7.8454937947599831E-4},{"$f":"IF(M183+M167<>0,(N183+N167)/(M183+M167),0)","v":-70.785810877907636},{"$f":"IF(K183+K167<>0,(L183+L167)/(K183+K167),0)","v":-27.368651786371316},{"$f":"(F170+F169)/2*(E170-E169)","v":0},{"$f":"(E170-E169)*(F169^2+F169*F170+F170^2)/6","v":0},{"$f":"(E170+E169)/2*(F170-F169)","v":0},{"$f":"(F170-F169)*(E169^2+E169*E170+E170^2)/6","v":0}]
[1,{"$f":"IF(C169*C171<0,(B171-B169)/(C171-C169)*(0-C169)+B169,B169)","v":-153.22630951469435},{"$f":"IF(AND(C169*C171<0,B171<>B169),(C171-C169)/(B171-B169)*(B170-B169)+C169,C169)","v":-12.622564975921705},2,-153.22630951469435,-12.622564975921705,null,null,null,null,-0.53103528815567214,3.3459222885032833,-6.4561697338515467,494.55951726566946]
[1,{"$f":"('Hull Long'!C69-$L$7)*SIN(RADIANS($O$7))+('Hull Plan'!C69-$K$7)*COS(RADIANS($O$7))+$M$7","v":-153.18416885574439},{"$f":"('Hull Long'!C69-$L$7)*COS(RADIANS($O$7))-('Hull Plan'!C69-$K$7)*SIN(RADIANS($O$7))+$N$7","v":-12.580424316971744},2,-153.18416885574439,-12.580424316971744,null,null,null,null,0,0,0,0]
[1,{"$f":"IF(C171*C173<0,(B173-B171)/(C173-C171)*(0-C171)+B171,B171)","v":-153.18416885574439},{"$f":"IF(AND(C171*C173<0,B173<>B171),(C173-C171)/(B173-B171)*(B172-B171)+C171,C171)","v":-12.580424316971744},2,-153.18416885574439,-12.580424316971744,null,null,null,null,-3918.989565418668,118779.36795804031,8811.6731342358762,-524460.33756714838]
[1,{"$f":"('Hull Long'!C120-$L$7)*SIN(RADIANS($O$7))+('Hull Plan'!C120-$K$7)*COS(RADIANS($O$7))+$M$7","v":-76.306643404109792},{"$f":"('Hull Long'!C120-$L$7)*COS(RADIANS($O$7))-('Hull Plan'!C120-$K$7)*SIN(RADIANS($O$7))+$N$7","v":-89.373678456125276},2,-76.306643404109792,-89.373678456125276,null,null,null,null,-5688.8698238198922,169478.40747094437,-1130.9355878452291,67507.358634127522]
[1,{"$f":"IF(C173*C175<0,(B175-B173)/(C175-C173)*(0-C173)+B173,B173)","v":50.998619668678103},{"$f":"IF(AND(C173*C175<0,B175<>B173),(C175-C173)/(B175-B173)*(B174-B173)+C173,C173)","v":0},2,50.998619668678103,0,null,null,null,null,0,0,0,0]
[1,{"$f":"('Hull Long'!C171-$L$7)*SIN(RADIANS($O$7))+('Hull Plan'!C171-$K$7)*COS(RADIANS($O$7))+$M$7","v":164.82990006684085},{"$f":"('Hull Long'!C171-$L$7)*COS(RADIANS($O$7))-('Hull Plan'!C171-$K$7)*SIN(RADIANS($O$7))+$N$7","v":79.91437279963543},2,164.82990006684085,0,null,null,null,null,0,0,0,0]
[1,{"$f":"IF(C175*C177<0,(B177-B175)/(C177-C175)*(0-C175)+B175,B175)","v":164.82990006684085},{"$f":"IF(AND(C175*C177<0,B177<>B175),(C177-C175)/(B177-B175)*(B176-B175)+C175,C175)","v":79.91437279963543},2,164.82990006684085,0,null,null,null,null,0,0,0,0]
[1,{"$f":"('Hull Long'!C171-$L$7)*SIN(RADIANS($O$7))+('Hull Plan'!F171-$K$7)*COS(RADIANS($O$7))+$M$7","v":-60.689371739137279},{"$f":"('Hull Long'!C171-$L$7)*COS(RADIANS($O$7))-('Hull Plan'!F171-$K$7)*SIN(RADIANS($O$7))+$N$7","v":305.43364460561349},2,-60.689371739137279,0,null,null,null,null,0,0,0,0]
[1,{"$f":"IF(C177*C179<0,(B179-B177)/(C179-C177)*(0-C177)+B177,B177)","v":-60.689371739137279},{"$f":"IF(AND(C177*C179<0,B179<>B177),(C179-C177)/(B179-B177)*(B178-B177)+C177,C177)","v":305.43364460561349},2,-60.689371739137279,0,null,null,null,null,0,0,0,0]
[1,{"$f":"('Hull Long'!C120-$L$7)*SIN(RADIANS($O$7))+('Hull Plan'!F120-$K$7)*COS(RADIANS($O$7))+$M$7","v":-229.97742299489792},{"$f":"('Hull Long'!C120-$L$7)*COS(RADIANS($O$7))-('Hull Plan'!F120-$K$7)*SIN(RADIANS($O$7))+$N$7","v":64.297101134662839},2,-229.97742299489792,0,null,null,null,null,0,0,0,0]
[1,{"$f":"IF(C179*C181<0,(B181-B179)/(C181-C179)*(0-C179)+B179,B179)","v":-165.75080281119588},{"$f":"IF(AND(C179*C181<0,B181<>B179),(C181-C179)/(B181-B179)*(B180-B179)+C179,C179)","v":0},2,-165.75080281119588,0,null,null,null,null,-79.046793697822395,331.48073520491118,2006.1686365457347,-160042.11365743392]
[1,{"$f":"('Hull Long'!C69-$L$7)*SIN(RADIANS($O$7))+('Hull Plan'!F69-$K$7)*COS(RADIANS($O$7))+$M$7","v":-153.18416885574439},{"$f":"('Hull Long'!C69-$L$7)*COS(RADIANS($O$7))-('Hull Plan'!F69-$K$7)*SIN(RADIANS($O$7))+$N$7","v":-12.580424316971744},2,-153.18416885574439,-12.580424316971744,null,null,null,null,0,0,0,0]
[1,{"$f":"IF(C181*C183<0,(B183-B181)/(C183-C181)*(0-C181)+B181,B181)","v":-153.18416885574439},{"$f":"IF(AND(C181*C183<0,B183<>B181),(C183-C181)/(B183-B181)*(B182-B181)+C181,C181)","v":-12.580424316971744},2,-153.18416885574439,-12.580424316971744,null,null,null,null,0.53103528815567214,-3.3459222885032833,6.4561697338515467,-494.55951726566946]
[1,{"$f":"('Hull Long'!C18-$L$7)*SIN(RADIANS($O$7))+('Hull Plan'!F18-$K$7)*COS(RADIANS($O$7))+$M$7","v":-153.22630951469435},{"$f":"('Hull Long'!C18-$L$7)*COS(RADIANS($O$7))-('Hull Plan'!F18-$K$7)*SIN(RADIANS($O$7))+$N$7","v":-12.622564975921705},2,-153.22630951469435,-12.622564975921705,null,null,null,null,{"$f":"SUM(K169:K182)","v":-9686.9061829363818},{"$f":"SUM(L169:L182)","v":288589.2561641896},{"$f":"SUM(M169:M182)","v":9686.9061829363818},{"$f":"SUM(N169:N182)","v":-616995.09259045473}]
[0,0,0,0,0,0,{"$f":"'Hull Long'!B70","v":699},"vol","cx","cy","A","Acy","A","Acx"]
[1,{"$f":"('Hull Long'!C19-$L$7)*SIN(RADIANS($O$7))+('Hull Plan'!C19-$K$7)*COS(RADIANS($O$7))+$M$7","v":-154.68525740190501},{"$f":"('Hull Long'!C19-$L$7)*COS(RADIANS($O$7))-('Hull Plan'!C19-$K$7)*SIN(RADIANS($O$7))+$N$7","v":-14.08151286313236},2,{"$f":"B185","v":-154.68525740190501},{"$f":"IF(C185<0,C185,0)","v":-14.08151286313236},{"$f":"ABS(K199)/1000000","v":1.3863209668912741E-2},{"$f":"(G184-G168)*(G185+G169)/2000","v":1.1657307346665316E-3},{"$f":"IF(M199+M183<>0,(N199+N183)/(M199+M183),0)","v":-53.620048788189344},{"$f":"IF(K199+K183<>0,(L199+L183)/(K199+K183),0)","v":-33.228847844674227},{"$f":"(F186+F185)/2*(E186-E185)","v":0},{"$f":"(E186-E185)*(F185^2+F185*F186+F186^2)/6","v":0},{"$f":"(E186+E185)/2*(F186-F185)","v":0},{"$f":"(F186-F185)*(E185^2+E185*E186+E186^2)/6","v":0}]
[1,{"$f":"IF(C185*C187<0,(B187-B185)/(C187-C185)*(0-C185)+B185,B185)","v":-154.68525740190501},{"$f":"IF(AND(C185*C187<0,B187<>B185),(C187-C185)/(B187-B185)*(B186-B185)+C185,C185)","v":-14.08151286313236},2,-154.68525740190501,-14.08151286313236,null,null,null,null,-0.51178507200557477,3.598699890013505,-5.6285649127771897,435.27680020953972]
[1,{"$f":"('Hull Long'!C70-$L$7)*SIN(RADIANS($O$7))+('Hull Plan'!C70-$K$7)*COS(RADIANS($O$7))+$M$7","v":-154.64886591135433},{"$f":"('Hull Long'!C70-$L$7)*COS(RADIANS($O$7))-('Hull Plan'!C70-$K$7)*SIN(RADIANS($O$7))+$N$7","v":-14.04512137258169},2,-154.64886591135433,-14.04512137258169,null,null,null,null,0,0,0,0]
[1,{"$f":"IF(C187*C189<0,(B189-B187)/(C189-C187)*(0-C187)+B187,B187)","v":-154.64886591135433},{"$f":"IF(AND(C187*C189<0,B189<>B187),(C189-C187)/(B189-B187)*(B188-B187)+C187,C187)","v":-14.04512137258169},2,-154.64886591135433,-14.04512137258169,null,null,null,null,-5618.5736133420924,203245.92862545874,10044.9313963234,-576779.57356983749]
[1,{"$f":"('Hull Long'!C121-$L$7)*SIN(RADIANS($O$7))+('Hull Plan'!C121-$K$7)*COS(RADIANS($O$7))+$M$7","v":-61.730560218930805},{"$f":"('Hull Long'!C121-$L$7)*COS(RADIANS($O$7))-('Hull Plan'!C121-$K$7)*SIN(RADIANS($O$7))+$N$7","v":-106.89065272430275},2,-61.730560218930805,-106.89065272430275,null,null,null,null,-8146.0805882976638,290246.62374263647,1547.6607134592725,114672.31251218454]
[1,{"$f":"IF(C189*C191<0,(B191-B189)/(C191-C189)*(0-C189)+B189,B189)","v":90.688390936852784},{"$f":"IF(AND(C189*C191<0,B191<>B189),(C191-C189)/(B191-B189)*(B190-B189)+C189,C189)","v":0},2,90.688390936852784,0,null,null,null,null,0,0,0,0]
[1,{"$f":"('Hull Long'!C172-$L$7)*SIN(RADIANS($O$7))+('Hull Plan'!C172-$K$7)*COS(RADIANS($O$7))+$M$7","v":177.78652535199166},{"$f":"('Hull Long'!C172-$L$7)*COS(RADIANS($O$7))-('Hull Plan'!C172-$K$7)*SIN(RADIANS($O$7))+$N$7","v":61.081488673857592},2,177.78652535199166,0,null,null,null,null,0,0,0,0]
[1,{"$f":"IF(C191*C193<0,(B193-B191)/(C193-C191)*(0-C191)+B191,B191)","v":177.78652535199166},{"$f":"IF(AND(C191*C193<0,B193<>B191),(C193-C191)/(B193-B191)*(B192-B191)+C191,C191)","v":61.081488673857592},2,177.78652535199166,0,null,null,null,null,0,0,0,0]
[1,{"$f":"('Hull Long'!C172-$L$7)*SIN(RADIANS($O$7))+('Hull Plan'!F172-$K$7)*COS(RADIANS($O$7))+$M$7","v":-79.522255864915124},{"$f":"('Hull Long'!C172-$L$7)*COS(RADIANS($O$7))-('Hull Plan'!F172-$K$7)*SIN(RADIANS($O$7))+$N$7","v":318.39026989076433},2,-79.522255864915124,0,null,null,null,null,0,0,0,0]
[1,{"$f":"IF(C193*C195<0,(B195-B193)/(C195-C193)*(0-C193)+B193,B193)","v":-79.522255864915124},{"$f":"IF(AND(C193*C195<0,B195<>B193),(C195-C193)/(B195-B193)*(B194-B193)+C193,C193)","v":318.39026989076433},2,-79.522255864915124,0,null,null,null,null,0,0,0,0]
[1,{"$f":"('Hull Long'!C121-$L$7)*SIN(RADIANS($O$7))+('Hull Plan'!F121-$K$7)*COS(RADIANS($O$7))+$M$7","v":-247.49439726307543},{"$f":"('Hull Long'!C121-$L$7)*COS(RADIANS($O$7))-('Hull Plan'!F121-$K$7)*SIN(RADIANS($O$7))+$N$7","v":78.873184319841826},2,-247.49439726307543,0,null,null,null,null,-5.5998875032221432E-13,2.6526395909921722E-27,2.957118172009839E-12,-3.1134921839924096E-10]
[1,{"$f":"IF(C195*C197<0,(B197-B195)/(C197-C195)*(0-C195)+B195,B195)","v":-168.68298703548811},{"$f":"IF(AND(C195*C197<0,B197<>B195),(C197-C195)/(B197-B195)*(B196-B195)+C195,C195)","v":-1.4210854715202004E-14},2,-168.68298703548811,-1.4210854715202004E-14,null,null,null,null,-98.555467272985837,461.40783326019618,2270.6175591300662,-183656.00729555311]
[1,{"$f":"('Hull Long'!C70-$L$7)*SIN(RADIANS($O$7))+('Hull Plan'!F70-$K$7)*COS(RADIANS($O$7))+$M$7","v":-154.64886591135433},{"$f":"('Hull Long'!C70-$L$7)*COS(RADIANS($O$7))-('Hull Plan'!F70-$K$7)*SIN(RADIANS($O$7))+$N$7","v":-14.04512137258169},2,-154.64886591135433,-14.04512137258169,null,null,null,null,0,0,0,0]
[1,{"$f":"IF(C197*C199<0,(B199-B197)/(C199-C197)*(0-C197)+B197,B197)","v":-154.64886591135433},{"$f":"IF(AND(C197*C199<0,B199<>B197),(C199-C197)/(B199-B197)*(B198-B197)+C197,C197)","v":-14.04512137258169},2,-154.64886591135433,-14.04512137258169,null,null,null,null,0.51178507200557477,-3.598699890013505,5.6285649127771897,-435.27680020953972]
[1,{"$f":"('Hull Long'!C19-$L$7)*SIN(RADIANS($O$7))+('Hull Plan'!F19-$K$7)*COS(RADIANS($O$7))+$M$7","v":-154.68525740190501},{"$f":"('Hull Long'!C19-$L$7)*COS(RADIANS($O$7))-('Hull Plan'!F19-$K$7)*SIN(RADIANS($O$7))+$N$7","v":-14.08151286313236},2,-154.68525740190501,-14.08151286313236,null,null,null,null,{"$f":"SUM(K185:K198)","v":-13863.209668912741},{"$f":"SUM(L185:L198)","v":493953.9602013554},{"$f":"SUM(M185:M198)","v":13863.209668912741},{"$f":"SUM(N185:N198)","v":-645763.26835320634}]
[0,0,0,0,0,0,{"$f":"'Hull Long'!B71","v":701},"vol","cx","cy","A","Acy","A","Acx"]
[1,{"$f":"('Hull Long'!C20-$L$7)*SIN(RADIANS($O$7))+('Hull Plan'!C20-$K$7)*COS(RADIANS($O$7))+$M$7","v":-154.71362897028595},{"$f":"('Hull Long'!C20-$L$7)*COS(RADIANS($O$7))-('Hull Plan'!C20-$K$7)*SIN(RADIANS($O$7))+$N$7","v":-14.109884431513308},2,{"$f":"B201","v":-154.71362897028595},{"$f":"IF(C201<0,C201,0)","v":-14.109884431513308},{"$f":"ABS(K215)/1000000","v":1.395186401575956E-2},{"$f":"(G200-G184)*(G201+G185)/2000","v":2.78150736846723E-5},{"$f":"IF(M215+M199<>0,(N215+N199)/(M215+M199),0)","v":-46.414034855367163},{"$f":"IF(K215+K199<>0,(L215+L199)/(K215+K199),0)","v":-35.687516892264412},{"$f":"(F202+F201)/2*(E202-E201)","v":0},{"$f":"(E202-E201)*(F201^2+F201*F202+F202^2)/6","v":0},{"$f":"(E202+E201)/2*(F202-F201)","v":0},{"$f":"(F202-F201)*(E201^2+E201*E202+E202^2)/6","v":0}]
[1,{"$f":"IF(C201*C203<0,(B203-B201)/(C203-C201)*(0-C201)+B201,B201)","v":-154.71362897028595},{"$f":"IF(AND(C201*C203<0,B203<>B201),(C203-C201)/(B203-B201)*(B202-B201)+C201,C201)","v":-14.109884431513308},2,-154.71362897028595,-14.109884431513308,null,null,null,null,-0.51124410830386202,3.6021626876044572,-5.6123042046323803,434.09907401909533]
[1,{"$f":"('Hull Long'!C71-$L$7)*SIN(RADIANS($O$7))+('Hull Plan'!C71-$K$7)*COS(RADIANS($O$7))+$M$7","v":-154.67734928148352},{"$f":"('Hull Long'!C71-$L$7)*COS(RADIANS($O$7))-('Hull Plan'!C71-$K$7)*SIN(RADIANS($O$7))+$N$7","v":-14.073604742710842},2,-154.67734928148352,-14.073604742710842,null,null,null,null,0,0,0,0]
[1,{"$f":"IF(C203*C205<0,(B205-B203)/(C205-C203)*(0-C203)+B203,B203)","v":-154.67734928148352},{"$f":"IF(AND(C203*C205<0,B205<>B203),(C205-C203)/(B205-B203)*(B204-B203)+C203,C203)","v":-14.073604742710842},2,-154.67734928148352,-14.073604742710842,null,null,null,null,-5654.6428659423209,205195.86087586917,10066.827834630967,-577660.05760333128]
[1,{"$f":"('Hull Long'!C122-$L$7)*SIN(RADIANS($O$7))+('Hull Plan'!C122-$K$7)*COS(RADIANS($O$7))+$M$7","v":-61.447105035616957},{"$f":"('Hull Long'!C122-$L$7)*COS(RADIANS($O$7))-('Hull Plan'!C122-$K$7)*SIN(RADIANS($O$7))+$N$7","v":-107.23129822482642},2,-61.447105035616957,-107.23129822482642,null,null,null,null,-8198.2650411318427,293036.86785059242,1609.2121960053669,116539.73327009195]
[1,{"$f":"IF(C205*C207<0,(B207-B205)/(C207-C205)*(0-C205)+B205,B205)","v":91.460957756702427},{"$f":"IF(AND(C205*C207<0,B207<>B205),(C207-C205)/(B207-B205)*(B206-B205)+C205,C205)","v":0},2,91.460957756702427,0,null,null,null,null,0,0,0,0]
[1,{"$f":"('Hull Long'!C173-$L$7)*SIN(RADIANS($O$7))+('Hull Plan'!C173-$K$7)*COS(RADIANS($O$7))+$M$7","v":178.03860610094642},{"$f":"('Hull Long'!C173-$L$7)*COS(RADIANS($O$7))-('Hull Plan'!C173-$K$7)*SIN(RADIANS($O$7))+$N$7","v":60.715134700353474},2,178.03860610094642,0,null,null,null,null,0,0,0,0]
[1,{"$f":"IF(C207*C209<0,(B209-B207)/(C209-C207)*(0-C207)+B207,B207)","v":178.03860610094642},{"$f":"IF(AND(C207*C209<0,B209<>B207),(C209-C207)/(B209-B207)*(B208-B207)+C207,C207)","v":60.715134700353474},2,178.03860610094642,0,null,null,null,null,0,0,0,0]
[1,{"$f":"('Hull Long'!C173-$L$7)*SIN(RADIANS($O$7))+('Hull Plan'!F173-$K$7)*COS(RADIANS($O$7))+$M$7","v":-79.8886098384192},{"$f":"('Hull Long'!C173-$L$7)*COS(RADIANS($O$7))-('Hull Plan'!F173-$K$7)*SIN(RADIANS($O$7))+$N$7","v":318.6423506397191},2,-79.8886098384192,0,null,null,null,null,0,0,0,0]
[1,{"$f":"IF(C209*C211<0,(B211-B209)/(C211-C209)*(0-C209)+B209,B209)","v":-79.8886098384192},{"$f":"IF(AND(C209*C211<0,B211<>B209),(C211-C209)/(B211-B209)*(B210-B209)+C209,C209)","v":318.6423506397191},2,-79.8886098384192,0,null,null,null,null,0,0,0,0]
[1,{"$f":"('Hull Long'!C122-$L$7)*SIN(RADIANS($O$7))+('Hull Plan'!F122-$K$7)*COS(RADIANS($O$7))+$M$7","v":-247.83504276359906},{"$f":"('Hull Long'!C122-$L$7)*COS(RADIANS($O$7))-('Hull Plan'!F122-$K$7)*SIN(RADIANS($O$7))+$N$7","v":79.156639503155674},2,-247.83504276359906,0,null,null,null,null,0,0,0,0]
[1,{"$f":"IF(C211*C213<0,(B213-B211)/(C213-C211)*(0-C211)+B211,B211)","v":-168.74000209779888},{"$f":"IF(AND(C211*C213<0,B213<>B211),(C213-C211)/(B213-B211)*(B212-B211)+C211,C211)","v":0},2,-168.74000209779888,0,null,null,null,null,-98.956108685395932,464.22305350499931,2275.8239851232238,-184126.20681854046]
[1,{"$f":"('Hull Long'!C71-$L$7)*SIN(RADIANS($O$7))+('Hull Plan'!F71-$K$7)*COS(RADIANS($O$7))+$M$7","v":-154.67734928148352},{"$f":"('Hull Long'!C71-$L$7)*COS(RADIANS($O$7))-('Hull Plan'!F71-$K$7)*SIN(RADIANS($O$7))+$N$7","v":-14.073604742710842},2,-154.67734928148352,-14.073604742710842,null,null,null,null,0,0,0,0]
[1,{"$f":"IF(C213*C215<0,(B215-B213)/(C215-C213)*(0-C213)+B213,B213)","v":-154.67734928148352},{"$f":"IF(AND(C213*C215<0,B215<>B213),(C215-C213)/(B215-B213)*(B214-B213)+C213,C213)","v":-14.073604742710842},2,-154.67734928148352,-14.073604742710842,null,null,null,null,0.51124410830386202,-3.6021626876044572,5.6123042046323803,-434.09907401909527]
[1,{"$f":"('Hull Long'!C20-$L$7)*SIN(RADIANS($O$7))+('Hull Plan'!F20-$K$7)*COS(RADIANS($O$7))+$M$7","v":-154.71362897028595},{"$f":"('Hull Long'!C20-$L$7)*COS(RADIANS($O$7))-('Hull Plan'!F20-$K$7)*SIN(RADIANS($O$7))+$N$7","v":-14.109884431513308},2,-154.71362897028595,-14.109884431513308,null,null,null,null,{"$f":"SUM(K201:K214)","v":-13951.86401575956},{"$f":"SUM(L201:L214)","v":498696.95177996659},{"$f":"SUM(M201:M214)","v":13951.864015759556},{"$f":"SUM(N201:N214)","v":-645246.53115177981}]
[0,0,0,0,0,0,{"$f":"'Hull Long'!B72","v":800},"vol","cx","cy","A","Acy","A","Acx"]
[1,{"$f":"('Hull Long'!C21-$L$7)*SIN(RADIANS($O$7))+('Hull Plan'!C21-$K$7)*COS(RADIANS($O$7))+$M$7","v":-156.06346635278851},{"$f":"('Hull Long'!C21-$L$7)*COS(RADIANS($O$7))-('Hull Plan'!C21-$K$7)*SIN(RADIANS($O$7))+$N$7","v":-15.459721814015865},2,{"$f":"B217","v":-156.06346635278851},{"$f":"IF(C217<0,C217,0)","v":-15.459721814015865},{"$f":"ABS(K231)/1000000","v":1.8498571677865575E-2},{"$f":"(G216-G200)*(G217+G201)/2000","v":1.6062965668344443E-3},{"$f":"IF(M231+M215<>0,(N231+N215)/(M231+M215),0)","v":-37.20887055701801},{"$f":"IF(K231+K215<>0,(L231+L215)/(K231+K215),0)","v":-38.823685275865138},{"$f":"(F218+F217)/2*(E218-E217)","v":0},{"$f":"(E218-E217)*(F217^2+F217*F218+F218^2)/6","v":0},{"$f":"(E218+E217)/2*(F218-F217)","v":0},{"$f":"(F218-F217)*(E217^2+E217*E218+E218^2)/6","v":0}]
[1,{"$f":"IF(C217*C219<0,(B219-B217)/(C219-C217)*(0-C217)+B217,B217)","v":-156.06346635278851},{"$f":"IF(AND(C217*C219<0,B219<>B217),(C219-C217)/(B219-B217)*(B218-B217)+C217,C217)","v":-15.459721814015865},2,-156.06346635278851,-15.459721814015865,null,null,null,null,-0.47816119603376483,3.6924197474905012,-4.8313211969482897,376.95897275547054]
[1,{"$f":"('Hull Long'!C72-$L$7)*SIN(RADIANS($O$7))+('Hull Plan'!C72-$K$7)*COS(RADIANS($O$7))+$M$7","v":-156.03250586866204},{"$f":"('Hull Long'!C72-$L$7)*COS(RADIANS($O$7))-('Hull Plan'!C72-$K$7)*SIN(RADIANS($O$7))+$N$7","v":-15.428761329889397},2,-156.03250586866204,-15.428761329889397,null,null,null,null,0,0,0,0]
[1,{"$f":"IF(C219*C221<0,(B221-B219)/(C221-C219)*(0-C219)+B219,B219)","v":-156.03250586866204},{"$f":"IF(AND(C219*C221<0,B221<>B219),(C221-C219)/(B221-B219)*(B220-B219)+C219,C219)","v":-15.428761329889397},2,-156.03250586866204,-15.428761329889397,null,null,null,null,-7503.7736694042878,313038.51512465288,11016.621692903844,-614392.17715569655]
[1,{"$f":"('Hull Long'!C123-$L$7)*SIN(RADIANS($O$7))+('Hull Plan'!C123-$K$7)*COS(RADIANS($O$7))+$M$7","v":-47.961125072728279},{"$f":"('Hull Long'!C123-$L$7)*COS(RADIANS($O$7))-('Hull Plan'!C123-$K$7)*SIN(RADIANS($O$7))+$N$7","v":-123.43822850849011},2,-47.961125072728279,-123.43822850849011,null,null,null,null,-10875.842858319294,447498.25865588244,4955.606542067585,259182.35757490771]
[1,{"$f":"IF(C221*C223<0,(B223-B221)/(C223-C221)*(0-C221)+B221,B221)","v":128.25402301765848},{"$f":"IF(AND(C221*C223<0,B223<>B221),(C223-C221)/(B223-B221)*(B222-B221)+C221,C221)","v":1.4210854715202004E-14},2,128.25402301765848,0,null,null,null,null,0,0,0,0]
[1,{"$f":"('Hull Long'!C174-$L$7)*SIN(RADIANS($O$7))+('Hull Plan'!C174-$K$7)*COS(RADIANS($O$7))+$M$7","v":190.03767291227047},{"$f":"('Hull Long'!C174-$L$7)*COS(RADIANS($O$7))-('Hull Plan'!C174-$K$7)*SIN(RADIANS($O$7))+$N$7","v":43.279277499274883},2,190.03767291227047,0,null,null,null,null,0,0,0,0]
[1,{"$f":"IF(C223*C225<0,(B225-B223)/(C225-C223)*(0-C223)+B223,B223)","v":190.03767291227047},{"$f":"IF(AND(C223*C225<0,B225<>B223),(C225-C223)/(B225-B223)*(B224-B223)+C223,C223)","v":43.279277499274883},2,190.03767291227047,0,null,null,null,null,0,0,0,0]
[1,{"$f":"('Hull Long'!C174-$L$7)*SIN(RADIANS($O$7))+('Hull Plan'!F174-$K$7)*COS(RADIANS($O$7))+$M$7","v":-97.32446703949779},{"$f":"('Hull Long'!C174-$L$7)*COS(RADIANS($O$7))-('Hull Plan'!F174-$K$7)*SIN(RADIANS($O$7))+$N$7","v":330.64141745104314},2,-97.32446703949779,0,null,null,null,null,0,0,0,0]
[1,{"$f":"IF(C225*C227<0,(B227-B225)/(C227-C225)*(0-C225)+B225,B225)","v":-97.32446703949779},{"$f":"IF(AND(C225*C227<0,B227<>B225),(C227-C225)/(B227-B225)*(B226-B225)+C225,C225)","v":330.64141745104314},2,-97.32446703949779,0,null,null,null,null,0,0,0,0]
[1,{"$f":"('Hull Long'!C123-$L$7)*SIN(RADIANS($O$7))+('Hull Plan'!F123-$K$7)*COS(RADIANS($O$7))+$M$7","v":-264.04197304726273},{"$f":"('Hull Long'!C123-$L$7)*COS(RADIANS($O$7))-('Hull Plan'!F123-$K$7)*SIN(RADIANS($O$7))+$N$7","v":92.642619466044351},2,-264.04197304726273,0,null,null,null,null,0,0,0,0]
[1,{"$f":"IF(C227*C229<0,(B229-B227)/(C229-C227)*(0-C227)+B227,B227)","v":-171.45242812924496},{"$f":"IF(AND(C227*C229<0,B229<>B227),(C229-C227)/(B229-B227)*(B228-B227)+C227,C227)","v":0},2,-171.45242812924496,0,null,null,null,null,-118.95515014199124,611.77687350064718,2526.3434428941446,-206987.71051036564]
[1,{"$f":"('Hull Long'!C72-$L$7)*SIN(RADIANS($O$7))+('Hull Plan'!F72-$K$7)*COS(RADIANS($O$7))+$M$7","v":-156.03250586866204},{"$f":"('Hull Long'!C72-$L$7)*COS(RADIANS($O$7))-('Hull Plan'!F72-$K$7)*SIN(RADIANS($O$7))+$N$7","v":-15.428761329889397},2,-156.03250586866204,-15.428761329889397,null,null,null,null,0,0,0,0]
[1,{"$f":"IF(C229*C231<0,(B231-B229)/(C231-C229)*(0-C229)+B229,B229)","v":-156.03250586866204},{"$f":"IF(AND(C229*C231<0,B231<>B229),(C231-C229)/(B231-B229)*(B230-B229)+C229,C229)","v":-15.428761329889397},2,-156.03250586866204,-15.428761329889397,null,null,null,null,0.47816119603376483,-3.6924197474905021,4.8313211969482897,-376.95897275547054]
[1,{"$f":"('Hull Long'!C21-$L$7)*SIN(RADIANS($O$7))+('Hull Plan'!F21-$K$7)*COS(RADIANS($O$7))+$M$7","v":-156.06346635278851},{"$f":"('Hull Long'!C21-$L$7)*COS(RADIANS($O$7))-('Hull Plan'!F21-$K$7)*SIN(RADIANS($O$7))+$N$7","v":-15.459721814015865},2,-156.06346635278851,-15.459721814015865,null,null,null,null,{"$f":"SUM(K217:K230)","v":-18498.571677865573},{"$f":"SUM(L217:L230)","v":761148.55065403599},{"$f":"SUM(M217:M230)","v":18498.57167786557},{"$f":"SUM(N217:N230)","v":-562197.53009115451}]
[0,0,0,0,0,0,{"$f":"'Hull Long'!B73","v":900},"vol","cx","cy","A","Acy","A","Acx"]
[1,{"$f":"('Hull Long'!C22-$L$7)*SIN(RADIANS($O$7))+('Hull Plan'!C22-$K$7)*COS(RADIANS($O$7))+$M$7","v":-157.31836264656096},{"$f":"('Hull Long'!C22-$L$7)*COS(RADIANS($O$7))-('Hull Plan'!C22-$K$7)*SIN(RADIANS($O$7))+$N$7","v":-16.714618107788311},2,{"$f":"B233","v":-157.31836264656096},{"$f":"IF(C233<0,C233,0)","v":-16.714618107788311},{"$f":"ABS(K247)/1000000","v":2.3304746700704915E-2},{"$f":"(G232-G216)*(G233+G217)/2000","v":2.0901659189285242E-3},{"$f":"IF(M247+M231<>0,(N247+N231)/(M247+M231),0)","v":-22.159880949860291},{"$f":"IF(K247+K231<>0,(L247+L231)/(K247+K231),0)","v":-43.946189847701014},{"$f":"(F234+F233)/2*(E234-E233)","v":0},{"$f":"(E234-E233)*(F233^2+F233*F234+F234^2)/6","v":0},{"$f":"(E234+E233)/2*(F234-F233)","v":0},{"$f":"(F234-F233)*(E233^2+E233*E234+E234^2)/6","v":0}]
[1,{"$f":"IF(C233*C235<0,(B235-B233)/(C235-C233)*(0-C233)+B233,B233)","v":-157.31836264656096},{"$f":"IF(AND(C233*C235<0,B235<>B233),(C235-C233)/(B235-B233)*(B234-B233)+C233,C233)","v":-16.714618107788311},2,-157.31836264656096,-16.714618107788311,null,null,null,null,-0.43449918889782951,3.6284188206330339,-4.0923628007830564,321.87529220031871]
[1,{"$f":"('Hull Long'!C73-$L$7)*SIN(RADIANS($O$7))+('Hull Plan'!C73-$K$7)*COS(RADIANS($O$7))+$M$7","v":-157.2923472397602},{"$f":"('Hull Long'!C73-$L$7)*COS(RADIANS($O$7))-('Hull Plan'!C73-$K$7)*SIN(RADIANS($O$7))+$N$7","v":-16.688602700987559},2,-157.2923472397602,-16.688602700987559,null,null,null,null,0,0,0,0]
[1,{"$f":"IF(C235*C237<0,(B237-B235)/(C237-C235)*(0-C235)+B235,B235)","v":-157.2923472397602},{"$f":"IF(AND(C235*C237<0,B237<>B235),(C237-C235)/(B237-B235)*(B236-B235)+C235,C235)","v":-16.688602700987559},2,-157.2923472397602,-16.688602700987559,null,null,null,null,-9456.6331182380945,442254.67905108235,11738.009555613311,-640909.70407904929]
[1,{"$f":"('Hull Long'!C124-$L$7)*SIN(RADIANS($O$7))+('Hull Plan'!C124-$K$7)*COS(RADIANS($O$7))+$M$7","v":-35.423684272309529},{"$f":"('Hull Long'!C124-$L$7)*COS(RADIANS($O$7))-('Hull Plan'!C124-$K$7)*SIN(RADIANS($O$7))+$N$7","v":-138.50524103165145},2,-35.423684272309529,-138.50524103165145,null,null,null,null,-13708.918299003666,632919.01109557331,8802.5523706383137,505864.40208687377]
[1,{"$f":"IF(C237*C239<0,(B239-B237)/(C239-C237)*(0-C237)+B237,B237)","v":162.53154394711765},{"$f":"IF(AND(C237*C239<0,B239<>B237),(C239-C237)/(B239-B237)*(B238-B237)+C237,C237)","v":0},2,162.53154394711765,0,null,null,null,null,0,0,0,0]
[1,{"$f":"('Hull Long'!C175-$L$7)*SIN(RADIANS($O$7))+('Hull Plan'!C175-$K$7)*COS(RADIANS($O$7))+$M$7","v":201.20413414703108},{"$f":"('Hull Long'!C175-$L$7)*COS(RADIANS($O$7))-('Hull Plan'!C175-$K$7)*SIN(RADIANS($O$7))+$N$7","v":27.058423640217967},2,201.20413414703108,0,null,null,null,null,0,0,0,0]
[1,{"$f":"IF(C239*C241<0,(B241-B239)/(C241-C239)*(0-C239)+B239,B239)","v":201.20413414703108},{"$f":"IF(AND(C239*C241<0,B241<>B239),(C241-C239)/(B241-B239)*(B240-B239)+C239,C239)","v":27.058423640217967},2,201.20413414703108,0,null,null,null,null,0,0,0,0]
[1,{"$f":"('Hull Long'!C175-$L$7)*SIN(RADIANS($O$7))+('Hull Plan'!F175-$K$7)*COS(RADIANS($O$7))+$M$7","v":-113.54532089855473},{"$f":"('Hull Long'!C175-$L$7)*COS(RADIANS($O$7))-('Hull Plan'!F175-$K$7)*SIN(RADIANS($O$7))+$N$7","v":341.80787868580376},2,-113.54532089855473,0,null,null,null,null,0,0,0,0]
[1,{"$f":"IF(C241*C243<0,(B243-B241)/(C243-C241)*(0-C241)+B241,B241)","v":-113.54532089855473},{"$f":"IF(AND(C241*C243<0,B243<>B241),(C243-C241)/(B243-B241)*(B242-B241)+C241,C241)","v":341.80787868580376},2,-113.54532089855473,0,null,null,null,null,0,0,0,0]
[1,{"$f":"('Hull Long'!C124-$L$7)*SIN(RADIANS($O$7))+('Hull Plan'!F124-$K$7)*COS(RADIANS($O$7))+$M$7","v":-279.10898557042412},{"$f":"('Hull Long'!C124-$L$7)*COS(RADIANS($O$7))-('Hull Plan'!F124-$K$7)*SIN(RADIANS($O$7))+$N$7","v":105.18006026646313},2,-279.10898557042412,0,null,null,null,null,0,0,0,0]
[1,{"$f":"IF(C243*C245<0,(B245-B243)/(C245-C243)*(0-C243)+B243,B243)","v":-173.97382572626265},{"$f":"IF(AND(C243*C245<0,B245<>B243),(C245-C243)/(B245-B243)*(B244-B243)+C243,C243)","v":1.4210854715202004E-14},2,-173.97382572626265,0,null,null,null,null,-139.19528346315525,774.32492785598049,2764.1847744532906,-229113.72649489876]
[1,{"$f":"('Hull Long'!C73-$L$7)*SIN(RADIANS($O$7))+('Hull Plan'!F73-$K$7)*COS(RADIANS($O$7))+$M$7","v":-157.2923472397602},{"$f":"('Hull Long'!C73-$L$7)*COS(RADIANS($O$7))-('Hull Plan'!F73-$K$7)*SIN(RADIANS($O$7))+$N$7","v":-16.688602700987559},2,-157.2923472397602,-16.688602700987559,null,null,null,null,0,0,0,0]
[1,{"$f":"IF(C245*C247<0,(B247-B245)/(C247-C245)*(0-C245)+B245,B245)","v":-157.2923472397602},{"$f":"IF(AND(C245*C247<0,B247<>B245),(C247-C245)/(B247-B245)*(B246-B245)+C245,C245)","v":-16.688602700987559},2,-157.2923472397602,-16.688602700987559,null,null,null,null,0.43449918889782951,-3.6284188206330339,4.0923628007830564,-321.87529220031871]
[1,{"$f":"('Hull Long'!C22-$L$7)*SIN(RADIANS($O$7))+('Hull Plan'!F22-$K$7)*COS(RADIANS($O$7))+$M$7","v":-157.31836264656096},{"$f":"('Hull Long'!C22-$L$7)*COS(RADIANS($O$7))-('Hull Plan'!F22-$K$7)*SIN(RADIANS($O$7))+$N$7","v":-16.714618107788311},2,-157.31836264656096,-16.714618107788311,null,null,null,null,{"$f":"SUM(K233:K246)","v":-23304.746700704916},{"$f":"SUM(L233:L246)","v":1075948.0150745115},{"$f":"SUM(M233:M246)","v":23304.746700704916},{"$f":"SUM(N233:N246)","v":-364159.02848707425}]
[0,0,0,0,0,0,{"$f":"'Hull Long'!B74","v":1000},"vol","cx","cy","A","Acy","A","Acx"]
[1,{"$f":"('Hull Long'!C23-$L$7)*SIN(RADIANS($O$7))+('Hull Plan'!C23-$K$7)*COS(RADIANS($O$7))+$M$7","v":-158.4641375234836},{"$f":"('Hull Long'!C23-$L$7)*COS(RADIANS($O$7))-('Hull Plan'!C23-$K$7)*SIN(RADIANS($O$7))+$N$7","v":-17.860392984710927},2,{"$f":"B249","v":-158.4641375234836},{"$f":"IF(C249<0,C249,0)","v":-17.860392984710927},{"$f":"ABS(K263)/1000000","v":2.8182714176139659E-2},{"$f":"(G248-G232)*(G249+G233)/2000","v":2.5743730438422285E-3},{"$f":"IF(M263+M247<>0,(N263+N247)/(M263+M247),0)","v":-8.2333530582986825},{"$f":"IF(K263+K247<>0,(L263+L247)/(K263+K247),0)","v":-48.678624769443303},{"$f":"(F250+F249)/2*(E250-E249)","v":0},{"$f":"(E250-E249)*(F249^2+F249*F250+F250^2)/6","v":0},{"$f":"(E250+E249)/2*(F250-F249)","v":0},{"$f":"(F250-F249)*(E249^2+E249*E250+E250^2)/6","v":0}]
[1,{"$f":"IF(C249*C251<0,(B251-B249)/(C251-C249)*(0-C249)+B249,B249)","v":-158.4641375234836},{"$f":"IF(AND(C249*C251<0,B251<>B249),(C251-C249)/(B251-B249)*(B250-B249)+C249,C249)","v":-17.860392984710927},2,-158.4641375234836,-17.860392984710927,null,null,null,null,-0.38377332158840011,3.4251087705671384,-3.4068010999994254,269.9095875845972]
[1,{"$f":"('Hull Long'!C74-$L$7)*SIN(RADIANS($O$7))+('Hull Plan'!C74-$K$7)*COS(RADIANS($O$7))+$M$7","v":-158.44263718728465},{"$f":"('Hull Long'!C74-$L$7)*COS(RADIANS($O$7))-('Hull Plan'!C74-$K$7)*SIN(RADIANS($O$7))+$N$7","v":-17.838892648512001},2,-158.44263718728465,-17.838892648512001,null,null,null,null,0,0,0,0]
[1,{"$f":"IF(C251*C253<0,(B253-B251)/(C253-C251)*(0-C251)+B251,B251)","v":-158.44263718728465},{"$f":"IF(AND(C251*C253<0,B253<>B251),(C253-C251)/(B253-B251)*(B252-B251)+C251,C251)","v":-17.838892648512001},2,-158.44263718728465,-17.838892648512001,null,null,null,null,-11436.414031049175,587575.83173455065,12260.677818874834,-660417.36152611801]
[1,{"$f":"('Hull Long'!C125-$L$7)*SIN(RADIANS($O$7))+('Hull Plan'!C125-$K$7)*COS(RADIANS($O$7))+$M$7","v":-23.97645571540545},{"$f":"('Hull Long'!C125-$L$7)*COS(RADIANS($O$7))-('Hull Plan'!C125-$K$7)*SIN(RADIANS($O$7))+$N$7","v":-152.26207855279876},2,-23.97645571540545,-152.26207855279876,null,null,null,null,-16587.237976031382,841869.11056015221,12936.532992474617,850724.10309104796]
[1,{"$f":"IF(C253*C255<0,(B255-B253)/(C255-C253)*(0-C253)+B253,B253)","v":193.90101100103047},{"$f":"IF(AND(C253*C255<0,B255<>B253),(C255-C253)/(B255-B253)*(B254-B253)+C253,C253)","v":0},2,193.90101100103047,0,null,null,null,null,0,0,0,0]
[1,{"$f":"('Hull Long'!C176-$L$7)*SIN(RADIANS($O$7))+('Hull Plan'!C176-$K$7)*COS(RADIANS($O$7))+$M$7","v":211.41097025036208},{"$f":"('Hull Long'!C176-$L$7)*COS(RADIANS($O$7))-('Hull Plan'!C176-$K$7)*SIN(RADIANS($O$7))+$N$7","v":12.236707314703295},2,211.41097025036208,0,null,null,null,null,0,0,0,0]
[1,{"$f":"IF(C255*C257<0,(B257-B255)/(C257-C255)*(0-C255)+B255,B255)","v":211.41097025036208},{"$f":"IF(AND(C255*C257<0,B257<>B255),(C257-C255)/(B257-B255)*(B256-B255)+C255,C255)","v":12.236707314703295},2,211.41097025036208,0,null,null,null,null,0,0,0,0]
[1,{"$f":"('Hull Long'!C176-$L$7)*SIN(RADIANS($O$7))+('Hull Plan'!F176-$K$7)*COS(RADIANS($O$7))+$M$7","v":-128.36703722406941},{"$f":"('Hull Long'!C176-$L$7)*COS(RADIANS($O$7))-('Hull Plan'!F176-$K$7)*SIN(RADIANS($O$7))+$N$7","v":352.0147147891347},2,-128.36703722406941,0,null,null,null,null,0,0,0,0]
[1,{"$f":"IF(C257*C259<0,(B259-B257)/(C259-C257)*(0-C257)+B257,B257)","v":-128.36703722406941},{"$f":"IF(AND(C257*C259<0,B259<>B257),(C259-C257)/(B259-B257)*(B258-B257)+C257,C257)","v":352.0147147891347},2,-128.36703722406941,0,null,null,null,null,0,0,0,0]
[1,{"$f":"('Hull Long'!C125-$L$7)*SIN(RADIANS($O$7))+('Hull Plan'!F125-$K$7)*COS(RADIANS($O$7))+$M$7","v":-292.86582309157143},{"$f":"('Hull Long'!C125-$L$7)*COS(RADIANS($O$7))-('Hull Plan'!F125-$K$7)*SIN(RADIANS($O$7))+$N$7","v":116.62728882336717},2,-292.86582309157143,0,null,null,null,null,0,0,0,0]
[1,{"$f":"IF(C259*C261<0,(B261-B259)/(C261-C259)*(0-C259)+B259,B259)","v":-176.27582584906745},{"$f":"IF(AND(C259*C261<0,B261<>B259),(C261-C259)/(B261-B259)*(B260-B259)+C259,C259)","v":0},2,-176.27582584906745,0,null,null,null,null,-159.06216905910236,945.83098609493152,2985.5033647902087,-250062.15655225769]
[1,{"$f":"('Hull Long'!C74-$L$7)*SIN(RADIANS($O$7))+('Hull Plan'!F74-$K$7)*COS(RADIANS($O$7))+$M$7","v":-158.44263718728465},{"$f":"('Hull Long'!C74-$L$7)*COS(RADIANS($O$7))-('Hull Plan'!F74-$K$7)*SIN(RADIANS($O$7))+$N$7","v":-17.838892648512001},2,-158.44263718728465,-17.838892648512001,null,null,null,null,0,0,0,0]
[1,{"$f":"IF(C261*C263<0,(B263-B261)/(C263-C261)*(0-C261)+B261,B261)","v":-158.44263718728465},{"$f":"IF(AND(C261*C263<0,B263<>B261),(C263-C261)/(B263-B261)*(B262-B261)+C261,C261)","v":-17.838892648512001},2,-158.44263718728465,-17.838892648512001,null,null,null,null,0.38377332158840011,-3.4251087705671384,3.4068010999994254,-269.9095875845972]
[1,{"$f":"('Hull Long'!C23-$L$7)*SIN(RADIANS($O$7))+('Hull Plan'!F23-$K$7)*COS(RADIANS($O$7))+$M$7","v":-158.4641375234836},{"$f":"('Hull Long'!C23-$L$7)*COS(RADIANS($O$7))-('Hull Plan'!F23-$K$7)*SIN(RADIANS($O$7))+$N$7","v":-17.860392984710927},2,-158.4641375234836,-17.860392984710927,null,null,null,null,{"$f":"SUM(K249:K262)","v":-28182.71417613966},{"$f":"SUM(L249:L262)","v":1430390.7732807978},{"$f":"SUM(M249:M262)","v":28182.714176139656},{"$f":"SUM(N249:N262)","v":-59755.414987327778}]
[0,0,0,0,0,0,{"$f":"'Hull Long'!B75","v":1100},"vol","cx","cy","A","Acy","A","Acx"]
[1,{"$f":"('Hull Long'!C24-$L$7)*SIN(RADIANS($O$7))+('Hull Plan'!C24-$K$7)*COS(RADIANS($O$7))+$M$7","v":-159.50079098355647},{"$f":"('Hull Long'!C24-$L$7)*COS(RADIANS($O$7))-('Hull Plan'!C24-$K$7)*SIN(RADIANS($O$7))+$N$7","v":-18.897046444783825},2,{"$f":"B265","v":-159.50079098355647},{"$f":"IF(C265<0,C265,0)","v":-18.897046444783825},{"$f":"ABS(K279)/1000000","v":3.2999409379803543E-2},{"$f":"(G264-G248)*(G265+G249)/2000","v":3.05910617779716E-3},{"$f":"IF(M279+M263<>0,(N279+N263)/(M279+M263),0)","v":4.4773921852674841},{"$f":"IF(K279+K263<>0,(L279+L263)/(K279+K263),0)","v":-52.993448206831381},{"$f":"(F266+F265)/2*(E266-E265)","v":0},{"$f":"(E266-E265)*(F265^2+F265*F266+F266^2)/6","v":0},{"$f":"(E266+E265)/2*(F266-F265)","v":0},{"$f":"(F266-F265)*(E265^2+E265*E266+E266^2)/6","v":0}]
[1,{"$f":"IF(C265*C267<0,(B267-B265)/(C267-C265)*(0-C265)+B265,B265)","v":-159.50079098355647},{"$f":"IF(AND(C265*C267<0,B267<>B265),(C267-C265)/(B267-B265)*(B266-B265)+C265,C265)","v":-18.897046444783825},2,-159.50079098355647,-18.897046444783825,null,null,null,null,-0.32894556404649233,3.1066178517314014,-2.7775980645639096,221.50245122957577]
[1,{"$f":"('Hull Long'!C75-$L$7)*SIN(RADIANS($O$7))+('Hull Plan'!C75-$K$7)*COS(RADIANS($O$7))+$M$7","v":-159.48337571123531},{"$f":"('Hull Long'!C75-$L$7)*COS(RADIANS($O$7))-('Hull Plan'!C75-$K$7)*SIN(RADIANS($O$7))+$N$7","v":-18.879631172462666},2,-159.48337571123531,-18.879631172462666,null,null,null,null,0,0,0,0]
[1,{"$f":"IF(C267*C269<0,(B269-B267)/(C269-C267)*(0-C267)+B267,B267)","v":-159.48337571123531},{"$f":"IF(AND(C267*C269<0,B269<>B267),(C269-C267)/(B269-B267)*(B268-B267)+C267,C267)","v":-18.879631172462666},2,-159.48337571123531,-18.879631172462666,null,null,null,null,-13389.46131808481,743785.74085803889,12621.714724528931,-675492.84295557078]
[1,{"$f":"('Hull Long'!C126-$L$7)*SIN(RADIANS($O$7))+('Hull Plan'!C126-$K$7)*COS(RADIANS($O$7))+$M$7","v":-13.61943940201607},{"$f":"('Hull Long'!C126-$L$7)*COS(RADIANS($O$7))-('Hull Plan'!C126-$K$7)*SIN(RADIANS($O$7))+$N$7","v":-164.70874107193202},2,-13.61943940201607,-164.70874107193202,null,null,null,null,0,0,0,0]
[1,{"$f":"IF(C269*C271<0,(B271-B269)/(C271-C269)*(0-C269)+B269,B269)","v":-13.61943940201607},{"$f":"IF(AND(C269*C271<0,B271<>B269),(C271-C269)/(B271-B269)*(B270-B269)+C269,C269)","v":-164.70874107193202},2,-13.61943940201607,-164.70874107193202,null,null,null,null,-19432.472187424079,1066954.1492050232,16927.809095994133,1250135.4875397983]
[1,{"$f":"('Hull Long'!C177-$L$7)*SIN(RADIANS($O$7))+('Hull Plan'!C177-$K$7)*COS(RADIANS($O$7))+$M$7","v":220.65705488515991},{"$f":"('Hull Long'!C177-$L$7)*COS(RADIANS($O$7))-('Hull Plan'!C177-$K$7)*SIN(RADIANS($O$7))+$N$7","v":-1.1847451401654325},2,220.65705488515991,-1.1847451401654325,null,null,null,null,0.70181052357280527,-0.27715553570661294,260.72056289483749,28687.763212114183]
[1,{"$f":"IF(C271*C273<0,(B273-B271)/(C273-C271)*(0-C271)+B271,B271)","v":219.47230974499448},{"$f":"IF(AND(C271*C273<0,B273<>B271),(C273-C271)/(B273-B271)*(B272-B271)+C271,C271)","v":-2.2204460492503131E-16},2,219.47230974499448,-2.2204460492503131E-16,null,null,null,null,4.0108005741494047E-14,-2.9685887630669778E-30,8.62463656781735E-15,1.3749528636066814E-12]
[1,{"$f":"('Hull Long'!C177-$L$7)*SIN(RADIANS($O$7))+('Hull Plan'!F177-$K$7)*COS(RADIANS($O$7))+$M$7","v":-141.78848967893813},{"$f":"('Hull Long'!C177-$L$7)*COS(RADIANS($O$7))-('Hull Plan'!F177-$K$7)*SIN(RADIANS($O$7))+$N$7","v":361.26079942393255},2,-141.78848967893813,0,null,null,null,null,0,0,0,0]
[1,{"$f":"IF(C273*C275<0,(B275-B273)/(C275-C273)*(0-C273)+B273,B273)","v":-141.78848967893813},{"$f":"IF(AND(C273*C275<0,B275<>B273),(C275-C273)/(B275-B273)*(B274-B273)+C273,C273)","v":361.26079942393255},2,-141.78848967893813,0,null,null,null,null,0,0,0,0]
[1,{"$f":"('Hull Long'!C126-$L$7)*SIN(RADIANS($O$7))+('Hull Plan'!F126-$K$7)*COS(RADIANS($O$7))+$M$7","v":-305.3124856107047},{"$f":"('Hull Long'!C126-$L$7)*COS(RADIANS($O$7))-('Hull Plan'!F126-$K$7)*SIN(RADIANS($O$7))+$N$7","v":126.98430513675655},2,-305.3124856107047,0,null,null,null,null,0,0,0,0]
[1,{"$f":"IF(C275*C277<0,(B277-B275)/(C277-C275)*(0-C275)+B275,B275)","v":-178.35849919120199},{"$f":"IF(AND(C275*C277<0,B277<>B275),(C277-C275)/(B277-B275)*(B276-B275)+C275,C275)","v":0},2,-178.35849919120199,0,null,null,null,null,-178.1776848182304,1121.3096575104971,3189.1649963856439,-269638.63092156424]
[1,{"$f":"('Hull Long'!C75-$L$7)*SIN(RADIANS($O$7))+('Hull Plan'!F75-$K$7)*COS(RADIANS($O$7))+$M$7","v":-159.48337571123531},{"$f":"('Hull Long'!C75-$L$7)*COS(RADIANS($O$7))-('Hull Plan'!F75-$K$7)*SIN(RADIANS($O$7))+$N$7","v":-18.879631172462666},2,-159.48337571123531,-18.879631172462666,null,null,null,null,0,0,0,0]
[1,{"$f":"IF(C277*C279<0,(B279-B277)/(C279-C277)*(0-C277)+B277,B277)","v":-159.48337571123531},{"$f":"IF(AND(C277*C279<0,B279<>B277),(C279-C277)/(B279-B277)*(B278-B277)+C277,C277)","v":-18.879631172462666},2,-159.48337571123531,-18.879631172462666,null,null,null,null,0.32894556404649233,-3.1066178517314005,2.7775980645639096,-221.50245122957577]
[1,{"$f":"('Hull Long'!C24-$L$7)*SIN(RADIANS($O$7))+('Hull Plan'!F24-$K$7)*COS(RADIANS($O$7))+$M$7","v":-159.50079098355647},{"$f":"('Hull Long'!C24-$L$7)*COS(RADIANS($O$7))-('Hull Plan'!F24-$K$7)*SIN(RADIANS($O$7))+$N$7","v":-18.897046444783825},2,-159.50079098355647,-18.897046444783825,null,null,null,null,{"$f":"SUM(K265:K278)","v":-32999.409379803546},{"$f":"SUM(L265:L278)","v":1811860.9225650372},{"$f":"SUM(M265:M278)","v":32999.409379803546},{"$f":"SUM(N265:N278)","v":333691.77687477751}]
[0,0,0,0,0,0,{"$f":"'Hull Long'!B76","v":1200},"vol","cx","cy","A","Acy","A","Acx"]
[1,{"$f":"('Hull Long'!C25-$L$7)*SIN(RADIANS($O$7))+('Hull Plan'!C25-$K$7)*COS(RADIANS($O$7))+$M$7","v":-160.42832302677957},{"$f":"('Hull Long'!C25-$L$7)*COS(RADIANS($O$7))-('Hull Plan'!C25-$K$7)*SIN(RADIANS($O$7))+$N$7","v":-19.824578488006921},2,{"$f":"B281","v":-160.42832302677957},{"$f":"IF(C281<0,C281,0)","v":-19.824578488006921},{"$f":"ABS(K295)/1000000","v":3.7428332058465526E-2},{"$f":"(G280-G264)*(G281+G265)/2000","v":3.5213870719134539E-3},{"$f":"IF(M295+M279<>0,(N295+N279)/(M295+M279),0)","v":15.319721540172626},{"$f":"IF(K295+K279<>0,(L295+L279)/(K295+K279),0)","v":-57.040522311316096},{"$f":"(F282+F281)/2*(E282-E281)","v":0},{"$f":"(E282-E281)*(F281^2+F281*F282+F282^2)/6","v":0},{"$f":"(E282+E281)/2*(F282-F281)","v":0},{"$f":"(F282-F281)*(E281^2+E281*E282+E282^2)/6","v":0}]
[1,{"$f":"IF(C281*C283<0,(B283-B281)/(C283-C281)*(0-C281)+B281,B281)","v":-160.42832302677957},{"$f":"IF(AND(C281*C283<0,B283<>B281),(C283-C281)/(B283-B281)*(B282-B281)+C281,C281)","v":-19.824578488006921},2,-160.42832302677957,-19.824578488006921,null,null,null,null,-0.27269579383602421,2.7021016044848545,-2.2074335720229215,177.05983949465454]
[1,{"$f":"('Hull Long'!C76-$L$7)*SIN(RADIANS($O$7))+('Hull Plan'!C76-$K$7)*COS(RADIANS($O$7))+$M$7","v":-160.41456281161223},{"$f":"('Hull Long'!C76-$L$7)*COS(RADIANS($O$7))-('Hull Plan'!C76-$K$7)*SIN(RADIANS($O$7))+$N$7","v":-19.810818272839583},2,-160.41456281161223,-19.810818272839583,null,null,null,null,0,0,0,0]
[1,{"$f":"IF(C283*C285<0,(B285-B283)/(C285-C283)*(0-C283)+B283,B283)","v":-160.41456281161223},{"$f":"IF(AND(C283*C285<0,B285<>B283),(C285-C283)/(B285-B283)*(B284-B283)+C283,C283)","v":-19.810818272839583},2,-160.41456281161223,-19.810818272839583,null,null,null,null,-15267.229898140182,905098.07608768821,12854.676300907498,-687851.78291072033]
[1,{"$f":"('Hull Long'!C127-$L$7)*SIN(RADIANS($O$7))+('Hull Plan'!C127-$K$7)*COS(RADIANS($O$7))+$M$7","v":-4.3526353321413467},{"$f":"('Hull Long'!C127-$L$7)*COS(RADIANS($O$7))-('Hull Plan'!C127-$K$7)*SIN(RADIANS($O$7))+$N$7","v":-175.84522858905126},2,-4.3526353321413467,-175.84522858905126,null,null,null,null,0,0,0,0]
[1,{"$f":"IF(C285*C287<0,(B287-B285)/(C287-C285)*(0-C285)+B285,B285)","v":-4.3526353321413467},{"$f":"IF(AND(C285*C287<0,B287<>B285),(C287-C285)/(B287-B285)*(B286-B285)+C285,C285)","v":-175.84522858905126},2,-4.3526353321413467,-175.84522858905126,null,null,null,null,-22052.084378980777,1299364.2693942806,18263.598126816112,1394276.5488596887]
[1,{"$f":"('Hull Long'!C178-$L$7)*SIN(RADIANS($O$7))+('Hull Plan'!C178-$K$7)*COS(RADIANS($O$7))+$M$7","v":228.94114126332761},{"$f":"('Hull Long'!C178-$L$7)*COS(RADIANS($O$7))-('Hull Plan'!C178-$K$7)*SIN(RADIANS($O$7))+$N$7","v":-13.204686936291324},2,228.94114126332761,-13.204686936291324,null,null,null,null,87.181878542731397,-383.7364708915141,2935.9142186767567,326479.75302290835]
[1,{"$f":"IF(C287*C289<0,(B289-B287)/(C289-C287)*(0-C287)+B287,B287)","v":215.73645432703628},{"$f":"IF(AND(C287*C289<0,B289<>B287),(C289-C287)/(B289-B287)*(B288-B287)+C287,C287)","v":-3.5527136788005009E-15},2,215.73645432703628,-3.5527136788005009E-15,null,null,null,null,6.5644358535994545E-13,-7.7738536835637412E-28,1.1000626694363593E-13,2.1918565135566601E-11]
[1,{"$f":"('Hull Long'!C178-$L$7)*SIN(RADIANS($O$7))+('Hull Plan'!F178-$K$7)*COS(RADIANS($O$7))+$M$7","v":-153.80843147506403},{"$f":"('Hull Long'!C178-$L$7)*COS(RADIANS($O$7))-('Hull Plan'!F178-$K$7)*SIN(RADIANS($O$7))+$N$7","v":369.54488580210023},2,-153.80843147506403,0,null,null,null,null,0,0,0,0]
[1,{"$f":"IF(C289*C291<0,(B291-B289)/(C291-C289)*(0-C289)+B289,B289)","v":-153.80843147506403},{"$f":"IF(AND(C289*C291<0,B291<>B289),(C291-C289)/(B291-B289)*(B290-B289)+C289,C289)","v":369.54488580210023},2,-153.80843147506403,0,null,null,null,null,0,0,0,0]
[1,{"$f":"('Hull Long'!C127-$L$7)*SIN(RADIANS($O$7))+('Hull Plan'!F127-$K$7)*COS(RADIANS($O$7))+$M$7","v":-316.44897312782393},{"$f":"('Hull Long'!C127-$L$7)*COS(RADIANS($O$7))-('Hull Plan'!F127-$K$7)*SIN(RADIANS($O$7))+$N$7","v":136.2511092066313},2,-316.44897312782393,0,null,null,null,null,0,0,0,0]
[1,{"$f":"IF(C291*C293<0,(B293-B291)/(C293-C291)*(0-C291)+B291,B291)","v":-180.22188799981859},{"$f":"IF(AND(C291*C293<0,B293<>B291),(C293-C291)/(B293-B291)*(B292-B291)+C291,C291)","v":0},2,-180.22188799981859,0,null,null,null,null,-196.19965988729717,1295.6252690733927,3374.1434120651575,-287662.90830909519]
[1,{"$f":"('Hull Long'!C76-$L$7)*SIN(RADIANS($O$7))+('Hull Plan'!F76-$K$7)*COS(RADIANS($O$7))+$M$7","v":-160.41456281161223},{"$f":"('Hull Long'!C76-$L$7)*COS(RADIANS($O$7))-('Hull Plan'!F76-$K$7)*SIN(RADIANS($O$7))+$N$7","v":-19.810818272839583},2,-160.41456281161223,-19.810818272839583,null,null,null,null,0,0,0,0]
[1,{"$f":"IF(C293*C295<0,(B295-B293)/(C295-C293)*(0-C293)+B293,B293)","v":-160.41456281161223},{"$f":"IF(AND(C293*C295<0,B295<>B293),(C295-C293)/(B295-B293)*(B294-B293)+C293,C293)","v":-19.810818272839583},2,-160.41456281161223,-19.810818272839583,null,null,null,null,0.27269579383602421,-2.702101604484854,2.2074335720229215,-177.05983949465454]
[1,{"$f":"('Hull Long'!C25-$L$7)*SIN(RADIANS($O$7))+('Hull Plan'!F25-$K$7)*COS(RADIANS($O$7))+$M$7","v":-160.42832302677957},{"$f":"('Hull Long'!C25-$L$7)*COS(RADIANS($O$7))-('Hull Plan'!F25-$K$7)*SIN(RADIANS($O$7))+$N$7","v":-19.824578488006921},2,-160.42832302677957,-19.824578488006921,null,null,null,null,{"$f":"SUM(K281:K294)","v":-37428.332058465523},{"$f":"SUM(L281:L294)","v":2205374.2342801508},{"$f":"SUM(M281:M294)","v":37428.33205846553},{"$f":"SUM(N281:N294)","v":745241.61066278152}]
[0,0,0,0,0,0,{"$f":"'Hull Long'!B77","v":1300},"vol","cx","cy","A","Acy","A","Acx"]
[1,{"$f":"('Hull Long'!C26-$L$7)*SIN(RADIANS($O$7))+('Hull Plan'!C26-$K$7)*COS(RADIANS($O$7))+$M$7","v":-161.24673365315289},{"$f":"('Hull Long'!C26-$L$7)*COS(RADIANS($O$7))-('Hull Plan'!C26-$K$7)*SIN(RADIANS($O$7))+$N$7","v":-20.642989114380242},2,{"$f":"B297","v":-161.24673365315289},{"$f":"IF(C297<0,C297,0)","v":-20.642989114380242},{"$f":"ABS(K311)/1000000","v":4.1302454043713452E-2},{"$f":"(G296-G280)*(G297+G281)/2000","v":3.9365393051089496E-3},{"$f":"IF(M311+M295<>0,(N311+N295)/(M311+M295),0)","v":23.79392206362785},{"$f":"IF(K311+K295<>0,(L311+L295)/(K311+K295),0)","v":-60.953267763751015},{"$f":"(F298+F297)/2*(E298-E297)","v":0},{"$f":"(E298-E297)*(F297^2+F297*F298+F298^2)/6","v":0},{"$f":"(E298+E297)/2*(F298-F297)","v":0},{"$f":"(F298-F297)*(E297^2+E297*E298+E298^2)/6","v":0}]
[1,{"$f":"IF(C297*C299<0,(B299-B297)/(C299-C297)*(0-C297)+B297,B297)","v":-161.24673365315289},{"$f":"IF(AND(C297*C299<0,B299<>B297),(C299-C297)/(B299-B297)*(B298-B297)+C297,C297)","v":-20.642989114380242},2,-161.24673365315289,-20.642989114380242,null,null,null,null,-0.21742179614619134,2.2435452906480475,-1.6987054075701602,136.95087521821137]
[1,{"$f":"('Hull Long'!C77-$L$7)*SIN(RADIANS($O$7))+('Hull Plan'!C77-$K$7)*COS(RADIANS($O$7))+$M$7","v":-161.2361984884154},{"$f":"('Hull Long'!C77-$L$7)*COS(RADIANS($O$7))-('Hull Plan'!C77-$K$7)*SIN(RADIANS($O$7))+$N$7","v":-20.632453949642752},2,-161.2361984884154,-20.632453949642752,null,null,null,null,0,0,0,0]
[1,{"$f":"IF(C299*C301<0,(B301-B299)/(C301-C299)*(0-C299)+B299,B299)","v":-161.2361984884154},{"$f":"IF(AND(C299*C301<0,B301<>B299),(C301-C299)/(B301-B299)*(B300-B299)+C299,C299)","v":-20.632453949642752},2,-161.2361984884154,-20.632453949642752,null,null,null,null,-17026.284698558342,1065476.4736869091,12989.586362833821,-698532.72630959831]
[1,{"$f":"('Hull Long'!C128-$L$7)*SIN(RADIANS($O$7))+('Hull Plan'!C128-$K$7)*COS(RADIANS($O$7))+$M$7","v":3.8239564942186917},{"$f":"('Hull Long'!C128-$L$7)*COS(RADIANS($O$7))-('Hull Plan'!C128-$K$7)*SIN(RADIANS($O$7))+$N$7","v":-185.67154110415652},2,3.8239564942186917,-185.67154110415652,null,null,null,null,0,0,0,0]
[1,{"$f":"IF(C301*C303<0,(B303-B301)/(C303-C301)*(0-C301)+B301,B301)","v":3.8239564942186917},{"$f":"IF(AND(C301*C303<0,B303<>B301),(C303-C301)/(B303-B301)*(B302-B301)+C301,C301)","v":-185.67154110415652},2,3.8239564942186917,-185.67154110415652,null,null,null,null,-24347.084655668066,1528837.3355530463,19428.920822268312,1530498.5966797562]
[1,{"$f":"('Hull Long'!C179-$L$7)*SIN(RADIANS($O$7))+('Hull Plan'!C179-$K$7)*COS(RADIANS($O$7))+$M$7","v":236.26183337442845},{"$f":"('Hull Long'!C179-$L$7)*COS(RADIANS($O$7))-('Hull Plan'!C179-$K$7)*SIN(RADIANS($O$7))+$N$7","v":-23.821722063237587},2,236.26183337442845,-23.821722063237587,null,null,null,null,283.73722102907027,-2253.036406116641,5344.4265077675136,600076.90091769327]
[1,{"$f":"IF(C303*C305<0,(B305-B303)/(C305-C303)*(0-C303)+B303,B303)","v":212.44011131119086},{"$f":"IF(AND(C303*C305<0,B305<>B303),(C305-C303)/(B305-B303)*(B304-B303)+C303,C303)","v":-3.5527136788005009E-15},2,212.44011131119086,-3.5527136788005009E-15,null,null,null,null,6.6944774686064283E-13,-7.92785389171327E-28,8.529114252052596E-14,2.2048123643184663E-11]
[1,{"$f":"('Hull Long'!C179-$L$7)*SIN(RADIANS($O$7))+('Hull Plan'!F179-$K$7)*COS(RADIANS($O$7))+$M$7","v":-164.42546660201029},{"$f":"('Hull Long'!C179-$L$7)*COS(RADIANS($O$7))-('Hull Plan'!F179-$K$7)*SIN(RADIANS($O$7))+$N$7","v":376.86557791320109},2,-164.42546660201029,0,null,null,null,null,0,0,0,0]
[1,{"$f":"IF(C305*C307<0,(B307-B305)/(C307-C305)*(0-C305)+B305,B305)","v":-164.42546660201029},{"$f":"IF(AND(C305*C307<0,B307<>B305),(C307-C305)/(B307-B305)*(B306-B305)+C305,C305)","v":376.86557791320109},2,-164.42546660201029,0,null,null,null,null,0,0,0,0]
[1,{"$f":"('Hull Long'!C128-$L$7)*SIN(RADIANS($O$7))+('Hull Plan'!F128-$K$7)*COS(RADIANS($O$7))+$M$7","v":-326.27528564292919},{"$f":"('Hull Long'!C128-$L$7)*COS(RADIANS($O$7))-('Hull Plan'!F128-$K$7)*SIN(RADIANS($O$7))+$N$7","v":144.42770103299131},2,-326.27528564292919,0,null,null,null,null,0,0,0,0]
[1,{"$f":"IF(C307*C309<0,(B309-B307)/(C309-C307)*(0-C307)+B307,B307)","v":-181.86601896789355},{"$f":"IF(AND(C307*C309<0,B309<>B307),(C309-C307)/(B309-B307)*(B308-B307)+C307,C307)","v":0},2,-181.86601896789355,0,null,null,null,null,-212.821910516115,1463.679422732911,3539.520350843804,-303970.19342723105]
[1,{"$f":"('Hull Long'!C77-$L$7)*SIN(RADIANS($O$7))+('Hull Plan'!F77-$K$7)*COS(RADIANS($O$7))+$M$7","v":-161.2361984884154},{"$f":"('Hull Long'!C77-$L$7)*COS(RADIANS($O$7))-('Hull Plan'!F77-$K$7)*SIN(RADIANS($O$7))+$N$7","v":-20.632453949642752},2,-161.2361984884154,-20.632453949642752,null,null,null,null,0,0,0,0]
[1,{"$f":"IF(C309*C311<0,(B311-B309)/(C311-C309)*(0-C309)+B309,B309)","v":-161.2361984884154},{"$f":"IF(AND(C309*C311<0,B311<>B309),(C311-C309)/(B311-B309)*(B310-B309)+C309,C309)","v":-20.632453949642752},2,-161.2361984884154,-20.632453949642752,null,null,null,null,0.21742179614619134,-2.2435452906480475,1.6987054075701602,-136.95087521821137]
[1,{"$f":"('Hull Long'!C26-$L$7)*SIN(RADIANS($O$7))+('Hull Plan'!F26-$K$7)*COS(RADIANS($O$7))+$M$7","v":-161.24673365315289},{"$f":"('Hull Long'!C26-$L$7)*COS(RADIANS($O$7))-('Hull Plan'!F26-$K$7)*SIN(RADIANS($O$7))+$N$7","v":-20.642989114380242},2,-161.24673365315289,-20.642989114380242,null,null,null,null,{"$f":"SUM(K297:K310)","v":-41302.454043713449},{"$f":"SUM(L297:L310)","v":2593524.4522565715},{"$f":"SUM(M297:M310)","v":41302.454043713456},{"$f":"SUM(N297:N310)","v":1128072.5778606201}]
[0,0,0,0,0,0,{"$f":"'Hull Long'!B78","v":1400},"vol","cx","cy","A","Acy","A","Acx"]
[1,{"$f":"('Hull Long'!C27-$L$7)*SIN(RADIANS($O$7))+('Hull Plan'!C27-$K$7)*COS(RADIANS($O$7))+$M$7","v":-161.95602286267643},{"$f":"('Hull Long'!C27-$L$7)*COS(RADIANS($O$7))-('Hull Plan'!C27-$K$7)*SIN(RADIANS($O$7))+$N$7","v":-21.352278323903761},2,{"$f":"B313","v":-161.95602286267643},{"$f":"IF(C313<0,C313,0)","v":-21.352278323903761},{"$f":"ABS(K327)/1000000","v":4.4634924798750614E-2},{"$f":"(G312-G296)*(G313+G297)/2000","v":4.2968689421232029E-3},{"$f":"IF(M327+M311<>0,(N327+N311)/(M327+M311),0)","v":30.286881283856591},{"$f":"IF(K327+K311<>0,(L327+L311)/(K327+K311),0)","v":-64.630354982398032},{"$f":"(F314+F313)/2*(E314-E313)","v":0},{"$f":"(E314-E313)*(F313^2+F313*F314+F314^2)/6","v":0},{"$f":"(E314+E313)/2*(F314-F313)","v":0},{"$f":"(F314-F313)*(E313^2+E313*E314+E314^2)/6","v":0}]
[1,{"$f":"IF(C313*C315<0,(B315-B313)/(C315-C313)*(0-C313)+B313,B313)","v":-161.95602286267643},{"$f":"IF(AND(C313*C315<0,B315<>B313),(C315-C313)/(B315-B313)*(B314-B313)+C313,C313)","v":-21.352278323903761},2,-161.95602286267643,-21.352278323903761,null,null,null,null,-0.16523926379159792,1.7637976516034526,-1.2535292640196225,101.50588147356403]
[1,{"$f":"('Hull Long'!C78-$L$7)*SIN(RADIANS($O$7))+('Hull Plan'!C78-$K$7)*COS(RADIANS($O$7))+$M$7","v":-161.94828274164479},{"$f":"('Hull Long'!C78-$L$7)*COS(RADIANS($O$7))-('Hull Plan'!C78-$K$7)*SIN(RADIANS($O$7))+$N$7","v":-21.344538202872144},2,-161.94828274164479,-21.344538202872144,null,null,null,null,0,0,0,0]
[1,{"$f":"IF(C315*C317<0,(B317-B315)/(C317-C315)*(0-C315)+B315,B315)","v":-161.94828274164479},{"$f":"IF(AND(C315*C317<0,B317<>B315),(C317-C315)/(B317-B315)*(B316-B315)+C315,C315)","v":-21.344538202872144},2,-161.94828274164479,-21.344538202872144,null,null,null,null,-18628.300655230207,1218920.9101184786,13052.936511622549,-708062.62728343939]
[1,{"$f":"('Hull Long'!C129-$L$7)*SIN(RADIANS($O$7))+('Hull Plan'!C129-$K$7)*COS(RADIANS($O$7))+$M$7","v":10.910336077064073},{"$f":"('Hull Long'!C129-$L$7)*COS(RADIANS($O$7))-('Hull Plan'!C129-$K$7)*SIN(RADIANS($O$7))+$N$7","v":-194.18767861724774},2,10.910336077064073,-194.18767861724774,null,null,null,null,0,0,0,0]
[1,{"$f":"IF(C317*C319<0,(B319-B317)/(C319-C317)*(0-C317)+B317,B317)","v":10.910336077064073},{"$f":"IF(AND(C317*C319<0,B319<>B317),(C319-C317)/(B319-B317)*(B318-B317)+C317,C317)","v":-194.18767861724774},2,10.910336077064073,-194.18767861724774,null,null,null,null,-26324.481210463397,1746105.5362404485,20428.441807535535,1655296.6308590278]
[1,{"$f":"('Hull Long'!C180-$L$7)*SIN(RADIANS($O$7))+('Hull Plan'!C180-$K$7)*COS(RADIANS($O$7))+$M$7","v":242.61754548141568},{"$f":"('Hull Long'!C180-$L$7)*COS(RADIANS($O$7))-('Hull Plan'!C180-$K$7)*SIN(RADIANS($O$7))+$N$7","v":-33.034264783957525},2,242.61754548141568,-33.034264783957525,null,null,null,null,545.63132490830822,-6008.1765538142035,7469.0609137586334,845880.92313395068]
[1,{"$f":"IF(C319*C321<0,(B321-B319)/(C321-C319)*(0-C319)+B319,B319)","v":209.58328069745815},{"$f":"IF(AND(C319*C321<0,B321<>B319),(C321-C319)/(B321-B319)*(B320-B319)+C319,C319)","v":-7.1054273576010019E-15},2,209.58328069745815,-7.1054273576010019E-15,null,null,null,null,1.361475519062297E-12,-3.2246217999497567E-27,1.2770325730119198E-13,4.4626449121945264E-11]
[1,{"$f":"('Hull Long'!C180-$L$7)*SIN(RADIANS($O$7))+('Hull Plan'!F180-$K$7)*COS(RADIANS($O$7))+$M$7","v":-173.63800932273023},{"$f":"('Hull Long'!C180-$L$7)*COS(RADIANS($O$7))-('Hull Plan'!F180-$K$7)*SIN(RADIANS($O$7))+$N$7","v":383.22129002018835},2,-173.63800932273023,0,null,null,null,null,0,0,0,0]
[1,{"$f":"IF(C321*C323<0,(B323-B321)/(C323-C321)*(0-C321)+B321,B321)","v":-173.63800932273023},{"$f":"IF(AND(C321*C323<0,B323<>B321),(C323-C321)/(B323-B321)*(B322-B321)+C321,C321)","v":383.22129002018835},2,-173.63800932273023,0,null,null,null,null,0,0,0,0]
[1,{"$f":"('Hull Long'!C129-$L$7)*SIN(RADIANS($O$7))+('Hull Plan'!F129-$K$7)*COS(RADIANS($O$7))+$M$7","v":-334.79142315602041},{"$f":"('Hull Long'!C129-$L$7)*COS(RADIANS($O$7))-('Hull Plan'!F129-$K$7)*SIN(RADIANS($O$7))+$N$7","v":151.51408061583672},2,-334.79142315602041,0,null,null,null,null,0,0,0,0]
[1,{"$f":"IF(C323*C325<0,(B325-B323)/(C325-C323)*(0-C323)+B323,B323)","v":-183.29090967509418},{"$f":"IF(AND(C323*C325<0,B325<>B323),(C325-C323)/(B325-B323)*(B324-B323)+C323,C323)","v":2.8421709430404007E-14},2,-183.29090967509418,0,null,null,null,null,-227.7742579653293,1620.5787835906085,3684.4855658339061,-318412.31372264045]
[1,{"$f":"('Hull Long'!C78-$L$7)*SIN(RADIANS($O$7))+('Hull Plan'!F78-$K$7)*COS(RADIANS($O$7))+$M$7","v":-161.94828274164479},{"$f":"('Hull Long'!C78-$L$7)*COS(RADIANS($O$7))-('Hull Plan'!F78-$K$7)*SIN(RADIANS($O$7))+$N$7","v":-21.344538202872144},2,-161.94828274164479,-21.344538202872144,null,null,null,null,0,0,0,0]
[1,{"$f":"IF(C325*C327<0,(B327-B325)/(C327-C325)*(0-C325)+B325,B325)","v":-161.94828274164479},{"$f":"IF(AND(C325*C327<0,B327<>B325),(C327-C325)/(B327-B325)*(B326-B325)+C325,C325)","v":-21.344538202872144},2,-161.94828274164479,-21.344538202872144,null,null,null,null,0.16523926379159792,-1.7637976516034524,1.2535292640196225,-101.50588147356403]
[1,{"$f":"('Hull Long'!C27-$L$7)*SIN(RADIANS($O$7))+('Hull Plan'!F27-$K$7)*COS(RADIANS($O$7))+$M$7","v":-161.95602286267643},{"$f":"('Hull Long'!C27-$L$7)*COS(RADIANS($O$7))-('Hull Plan'!F27-$K$7)*SIN(RADIANS($O$7))+$N$7","v":-21.352278323903761},2,-161.95602286267643,-21.352278323903761,null,null,null,null,{"$f":"SUM(K313:K326)","v":-44634.924798750617},{"$f":"SUM(L313:L326)","v":2960638.8485887037},{"$f":"SUM(M313:M326)","v":44634.924798750624},{"$f":"SUM(N313:N326)","v":1474702.6129868985}]
[0,0,0,0,0,0,{"$f":"'Hull Long'!B79","v":1500},"vol","cx","cy","A","Acy","A","Acx"]
[1,{"$f":"('Hull Long'!C28-$L$7)*SIN(RADIANS($O$7))+('Hull Plan'!C28-$K$7)*COS(RADIANS($O$7))+$M$7","v":-162.55619065535018},{"$f":"('Hull Long'!C28-$L$7)*COS(RADIANS($O$7))-('Hull Plan'!C28-$K$7)*SIN(RADIANS($O$7))+$N$7","v":-21.952446116577534},2,{"$f":"B329","v":-162.55619065535018},{"$f":"IF(C329<0,C329,0)","v":-21.952446116577534},{"$f":"ABS(K343)/1000000","v":4.7437058159920144E-2},{"$f":"(G328-G312)*(G329+G313)/2000","v":4.6035991479335377E-3},{"$f":"IF(M343+M327<>0,(N343+N327)/(M343+M327),0)","v":35.336093025446083},{"$f":"IF(K343+K327<>0,(L343+L327)/(K343+K327),0)","v":-67.925373402809896},{"$f":"(F330+F329)/2*(E330-E329)","v":0},{"$f":"(E330-E329)*(F329^2+F329*F330+F330^2)/6","v":0},{"$f":"(E330+E329)/2*(F330-F329)","v":0},{"$f":"(F330-F329)*(E329^2+E329*E330+E330^2)/6","v":0}]
[1,{"$f":"IF(C329*C331<0,(B331-B329)/(C331-C329)*(0-C329)+B329,B329)","v":-162.55619065535018},{"$f":"IF(AND(C329*C331<0,B331<>B329),(C331-C329)/(B331-B329)*(B330-B329)+C329,C329)","v":-21.952446116577534},2,-162.55619065535018,-21.952446116577534,null,null,null,null,-0.11798179720984774,1.294835988944594,-0.87373874181472888,71.014646650377344]
[1,{"$f":"('Hull Long'!C79-$L$7)*SIN(RADIANS($O$7))+('Hull Plan'!C79-$K$7)*COS(RADIANS($O$7))+$M$7","v":-162.55081557130043},{"$f":"('Hull Long'!C79-$L$7)*COS(RADIANS($O$7))-('Hull Plan'!C79-$K$7)*SIN(RADIANS($O$7))+$N$7","v":-21.947071032527788},2,-162.55081557130043,-21.947071032527788,null,null,null,null,0,0,0,0]
[1,{"$f":"IF(C331*C333<0,(B333-B331)/(C333-C331)*(0-C331)+B331,B331)","v":-162.55081557130043},{"$f":"IF(AND(C331*C333<0,B333<>B331),(C333-C331)/(B333-B331)*(B332-B331)+C331,C331)","v":-21.947071032527788},2,-162.55081557130043,-21.947071032527788,null,null,null,null,-20040.062712594576,1359720.3846346277,13067.686135079715,-716602.87756358401]
[1,{"$f":"('Hull Long'!C130-$L$7)*SIN(RADIANS($O$7))+('Hull Plan'!C130-$K$7)*COS(RADIANS($O$7))+$M$7","v":16.90650341639477},{"$f":"('Hull Long'!C130-$L$7)*COS(RADIANS($O$7))-('Hull Plan'!C130-$K$7)*SIN(RADIANS($O$7))+$N$7","v":-201.39364112832487},2,16.90650341639477,-201.39364112832487,null,null,null,null,0,0,0,0]
[1,{"$f":"IF(C333*C335<0,(B335-B333)/(C335-C333)*(0-C333)+B333,B333)","v":16.90650341639477},{"$f":"IF(AND(C333*C335<0,B335<>B333),(C335-C333)/(B335-B333)*(B334-B333)+C333,C333)","v":-201.39364112832487},2,16.90650341639477,-201.39364112832487,null,null,null,null,-27990.145311652101,1943256.083799809,21266.305445311697,1765708.7338226198]
[1,{"$f":"('Hull Long'!C181-$L$7)*SIN(RADIANS($O$7))+('Hull Plan'!C181-$K$7)*COS(RADIANS($O$7))+$M$7","v":248.00644246472865},{"$f":"('Hull Long'!C181-$L$7)*COS(RADIANS($O$7))-('Hull Plan'!C181-$K$7)*SIN(RADIANS($O$7))+$N$7","v":-40.8404799788905},2,248.00644246472865,-40.8404799788905,null,null,null,null,833.97240245307796,-11353.277735110714,9294.7297456635297,1060514.4423585872]
[1,{"$f":"IF(C335*C337<0,(B337-B335)/(C337-C335)*(0-C335)+B335,B335)","v":207.16596248583815},{"$f":"IF(AND(C335*C337<0,B337<>B335),(C337-C335)/(B337-B335)*(B336-B335)+C335,C335)","v":-7.1054273576010019E-15},2,207.16596248583815,-7.1054273576010019E-15,null,null,null,null,1.3806207270885598E-12,-3.2699667615753467E-27,9.1381970322057346E-14,4.5297899018476142E-11]
[1,{"$f":"('Hull Long'!C181-$L$7)*SIN(RADIANS($O$7))+('Hull Plan'!F181-$K$7)*COS(RADIANS($O$7))+$M$7","v":-181.4442245176632},{"$f":"('Hull Long'!C181-$L$7)*COS(RADIANS($O$7))-('Hull Plan'!F181-$K$7)*SIN(RADIANS($O$7))+$N$7","v":388.61018700350132},2,-181.4442245176632,0,null,null,null,null,0,0,0,0]
[1,{"$f":"IF(C337*C339<0,(B339-B337)/(C339-C337)*(0-C337)+B337,B337)","v":-181.4442245176632},{"$f":"IF(AND(C337*C339<0,B339<>B337),(C339-C337)/(B339-B337)*(B338-B337)+C337,C337)","v":388.61018700350132},2,-181.4442245176632,0,null,null,null,null,0,0,0,0]
[1,{"$f":"('Hull Long'!C130-$L$7)*SIN(RADIANS($O$7))+('Hull Plan'!F130-$K$7)*COS(RADIANS($O$7))+$M$7","v":-341.99738566709755},{"$f":"('Hull Long'!C130-$L$7)*COS(RADIANS($O$7))-('Hull Plan'!F130-$K$7)*SIN(RADIANS($O$7))+$N$7","v":157.51024795516739},2,-341.99738566709755,0,null,null,null,null,0,0,0,0]
[1,{"$f":"IF(C339*C341<0,(B341-B339)/(C341-C339)*(0-C339)+B339,B339)","v":-184.49657204783608},{"$f":"IF(AND(C339*C341<0,B341<>B339),(C341-C339)/(B341-B339)*(B340-B339)+C339,C339)","v":0},2,-184.49657204783608,0,null,null,null,null,-240.82253812654233,1761.7831168322853,3808.3368338651971,-330858.75673964474]
[1,{"$f":"('Hull Long'!C79-$L$7)*SIN(RADIANS($O$7))+('Hull Plan'!F79-$K$7)*COS(RADIANS($O$7))+$M$7","v":-162.55081557130043},{"$f":"('Hull Long'!C79-$L$7)*COS(RADIANS($O$7))-('Hull Plan'!F79-$K$7)*SIN(RADIANS($O$7))+$N$7","v":-21.947071032527788},2,-162.55081557130043,-21.947071032527788,null,null,null,null,0,0,0,0]
[1,{"$f":"IF(C341*C343<0,(B343-B341)/(C343-C341)*(0-C341)+B341,B341)","v":-162.55081557130043},{"$f":"IF(AND(C341*C343<0,B343<>B341),(C343-C341)/(B343-B341)*(B342-B341)+C341,C341)","v":-21.947071032527788},2,-162.55081557130043,-21.947071032527788,null,null,null,null,0.11798179720984774,-1.2948359889445942,0.87373874181472888,-71.014646650377344]
[1,{"$f":"('Hull Long'!C28-$L$7)*SIN(RADIANS($O$7))+('Hull Plan'!F28-$K$7)*COS(RADIANS($O$7))+$M$7","v":-162.55619065535018},{"$f":"('Hull Long'!C28-$L$7)*COS(RADIANS($O$7))-('Hull Plan'!F28-$K$7)*SIN(RADIANS($O$7))+$N$7","v":-21.952446116577534},2,-162.55619065535018,-21.952446116577534,null,null,null,null,{"$f":"SUM(K329:K342)","v":-47437.058159920147},{"$f":"SUM(L329:L342)","v":3293384.9738161582},{"$f":"SUM(M329:M342)","v":47437.05815992014},{"$f":"SUM(N329:N342)","v":1778761.541877978}]
[0,0,0,0,0,0,{"$f":"'Hull Long'!B80","v":1600},"vol","cx","cy","A","Acy","A","Acx"]
[1,{"$f":"('Hull Long'!C29-$L$7)*SIN(RADIANS($O$7))+('Hull Plan'!C29-$K$7)*COS(RADIANS($O$7))+$M$7","v":-163.04723703117418},{"$f":"('Hull Long'!C29-$L$7)*COS(RADIANS($O$7))-('Hull Plan'!C29-$K$7)*SIN(RADIANS($O$7))+$N$7","v":-22.443492492401532},2,{"$f":"B345","v":-163.04723703117418},{"$f":"IF(C345<0,C345,0)","v":-22.443492492401532},{"$f":"ABS(K359)/1000000","v":4.9718313003572309E-2},{"$f":"(G344-G328)*(G345+G329)/2000","v":4.857768558174623E-3},{"$f":"IF(M359+M343<>0,(N359+N343)/(M359+M343),0)","v":39.253520842603052},{"$f":"IF(K359+K343<>0,(L359+L343)/(K359+K343),0)","v":-70.753038888175922},{"$f":"(F346+F345)/2*(E346-E345)","v":0},{"$f":"(E346-E345)*(F345^2+F345*F346+F346^2)/6","v":0},{"$f":"(E346+E345)/2*(F346-F345)","v":0},{"$f":"(F346-F345)*(E345^2+E345*E346+E346^2)/6","v":0}]
[1,{"$f":"IF(C345*C347<0,(B347-B345)/(C347-C345)*(0-C345)+B345,B345)","v":-163.04723703117418},{"$f":"IF(AND(C345*C347<0,B347<>B345),(C347-C345)/(B347-B345)*(B346-B345)+C345,C345)","v":-22.443492492401532},2,-163.04723703117418,-22.443492492401532,null,null,null,null,-7.72009044651292E-2,0.86626256776506227,-0.56088534900985554,45.724920856414691]
[1,{"$f":"('Hull Long'!C80-$L$7)*SIN(RADIANS($O$7))+('Hull Plan'!C80-$K$7)*COS(RADIANS($O$7))+$M$7","v":-163.04379697738236},{"$f":"('Hull Long'!C80-$L$7)*COS(RADIANS($O$7))-('Hull Plan'!C80-$K$7)*SIN(RADIANS($O$7))+$N$7","v":-22.440052438609712},2,-163.04379697738236,-22.440052438609712,null,null,null,null,0,0,0,0]
[1,{"$f":"IF(C347*C349<0,(B349-B347)/(C349-C347)*(0-C347)+B347,B347)","v":-163.04379697738236},{"$f":"IF(AND(C347*C349<0,B349<>B347),(C349-C347)/(B349-B347)*(B348-B347)+C347,C347)","v":-22.440052438609712},2,-163.04379697738236,-22.440052438609712,null,null,null,null,-21233.465823638155,1482671.910855121,13053.262407502747,-724075.86441679078]
[1,{"$f":"('Hull Long'!C131-$L$7)*SIN(RADIANS($O$7))+('Hull Plan'!C131-$K$7)*COS(RADIANS($O$7))+$M$7","v":21.81245851221081},{"$f":"('Hull Long'!C131-$L$7)*COS(RADIANS($O$7))-('Hull Plan'!C131-$K$7)*SIN(RADIANS($O$7))+$N$7","v":-207.28942863738808},2,21.81245851221081,-207.28942863738808,null,null,null,null,0,0,0,0]
[1,{"$f":"IF(C349*C351<0,(B351-B349)/(C351-C349)*(0-C349)+B349,B349)","v":21.81245851221081},{"$f":"IF(AND(C349*C351<0,B351<>B349),(C351-C349)/(B351-B349)*(B350-B349)+C349,C349)","v":-207.28942863738808},2,21.81245851221081,-207.28942863738808,null,null,null,null,-29348.801865495832,2113665.8854634804,21946.130232095995,1859285.4443234112]
[1,{"$f":"('Hull Long'!C182-$L$7)*SIN(RADIANS($O$7))+('Hull Plan'!C182-$K$7)*COS(RADIANS($O$7))+$M$7","v":252.42634657712117},{"$f":"('Hull Long'!C182-$L$7)*COS(RADIANS($O$7))-('Hull Plan'!C182-$K$7)*SIN(RADIANS($O$7))+$N$7","v":-47.238189900790275},2,252.42634657712117,-47.238189900790275,null,null,null,null,1115.7232925515623,-17568.249590095227,10808.440403021188,1240916.8338907943]
[1,{"$f":"IF(C351*C353<0,(B353-B351)/(C353-C351)*(0-C351)+B351,B351)","v":205.18815667633089},{"$f":"IF(AND(C351*C353<0,B353<>B351),(C353-C351)/(B353-B351)*(B352-B351)+C351,C351)","v":-7.1054273576010019E-15},2,205.18815667633089,-7.1054273576010019E-15,null,null,null,null,1.3963233808876436E-12,-3.3071581168723286E-27,6.1626161016078691E-14,4.6000337405939561E-11]
[1,{"$f":"('Hull Long'!C182-$L$7)*SIN(RADIANS($O$7))+('Hull Plan'!F182-$K$7)*COS(RADIANS($O$7))+$M$7","v":-187.841934439563},{"$f":"('Hull Long'!C182-$L$7)*COS(RADIANS($O$7))-('Hull Plan'!F182-$K$7)*SIN(RADIANS($O$7))+$N$7","v":393.03009111589381},2,-187.841934439563,0,null,null,null,null,0,0,0,0]
[1,{"$f":"IF(C353*C355<0,(B355-B353)/(C355-C353)*(0-C353)+B353,B353)","v":-187.841934439563},{"$f":"IF(AND(C353*C355<0,B355<>B353),(C355-C353)/(B355-B353)*(B354-B353)+C353,C353)","v":393.03009111589381},2,-187.841934439563,0,null,null,null,null,0,0,0,0]
[1,{"$f":"('Hull Long'!C131-$L$7)*SIN(RADIANS($O$7))+('Hull Plan'!F131-$K$7)*COS(RADIANS($O$7))+$M$7","v":-347.89317317616076},{"$f":"('Hull Long'!C131-$L$7)*COS(RADIANS($O$7))-('Hull Plan'!F131-$K$7)*SIN(RADIANS($O$7))+$N$7","v":162.41620305098343},2,-347.89317317616076,0,null,null,null,null,0,0,0,0]
[1,{"$f":"IF(C355*C357<0,(B357-B355)/(C357-C355)*(0-C355)+B355,B355)","v":-185.48301432579609},{"$f":"IF(AND(C355*C357<0,B357<>B355),(C357-C355)/(B357-B355)*(B356-B355)+C355,C355)","v":0},2,-185.48301432579609,0,null,null,null,null,-251.7686069898825,1883.2335810828943,3910.479960952378,-341197.56873840693]
[1,{"$f":"('Hull Long'!C80-$L$7)*SIN(RADIANS($O$7))+('Hull Plan'!F80-$K$7)*COS(RADIANS($O$7))+$M$7","v":-163.04379697738236},{"$f":"('Hull Long'!C80-$L$7)*COS(RADIANS($O$7))-('Hull Plan'!F80-$K$7)*SIN(RADIANS($O$7))+$N$7","v":-22.440052438609712},2,-163.04379697738236,-22.440052438609712,null,null,null,null,0,0,0,0]
[1,{"$f":"IF(C357*C359<0,(B359-B357)/(C359-C357)*(0-C357)+B357,B357)","v":-163.04379697738236},{"$f":"IF(AND(C357*C359<0,B359<>B357),(C359-C357)/(B359-B357)*(B358-B357)+C357,C357)","v":-22.440052438609712},2,-163.04379697738236,-22.440052438609712,null,null,null,null,7.72009044651292E-2,-0.86626256776506205,0.56088534900985554,-45.724920856414691]
[1,{"$f":"('Hull Long'!C29-$L$7)*SIN(RADIANS($O$7))+('Hull Plan'!F29-$K$7)*COS(RADIANS($O$7))+$M$7","v":-163.04723703117418},{"$f":"('Hull Long'!C29-$L$7)*COS(RADIANS($O$7))-('Hull Plan'!F29-$K$7)*SIN(RADIANS($O$7))+$N$7","v":-22.443492492401532},2,-163.04723703117418,-22.443492492401532,null,null,null,null,{"$f":"SUM(K345:K358)","v":-49718.313003572308},{"$f":"SUM(L345:L358)","v":3580652.7803095891},{"$f":"SUM(M345:M358)","v":49718.313003572308},{"$f":"SUM(N345:N358)","v":2034928.8450590079}]
[0,0,0,0,0,0,{"$f":"'Hull Long'!B81","v":1700},"vol","cx","cy","A","Acy","A","Acx"]
[1,{"$f":"('Hull Long'!C30-$L$7)*SIN(RADIANS($O$7))+('Hull Plan'!C30-$K$7)*COS(RADIANS($O$7))+$M$7","v":-163.4291619901484},{"$f":"('Hull Long'!C30-$L$7)*COS(RADIANS($O$7))-('Hull Plan'!C30-$K$7)*SIN(RADIANS($O$7))+$N$7","v":-22.825417451375756},2,{"$f":"B361","v":-163.4291619901484},{"$f":"IF(C361<0,C361,0)","v":-22.825417451375756},{"$f":"ABS(K375)/1000000","v":5.1486261043397451E-2},{"$f":"(G360-G344)*(G361+G345)/2000","v":5.0602287023484875E-3},{"$f":"IF(M375+M359<>0,(N375+N359)/(M375+M359),0)","v":42.229391319404137},{"$f":"IF(K375+K359<>0,(L375+L359)/(K375+K359),0)","v":-73.060993739135057},{"$f":"(F362+F361)/2*(E362-E361)","v":0},{"$f":"(E362-E361)*(F361^2+F361*F362+F362^2)/6","v":0},{"$f":"(E362+E361)/2*(F362-F361)","v":0},{"$f":"(F362-F361)*(E361^2+E361*E362+E362^2)/6","v":0}]
[1,{"$f":"IF(C361*C363<0,(B363-B361)/(C363-C361)*(0-C361)+B361,B361)","v":-163.4291619901484},{"$f":"IF(AND(C361*C363<0,B363<>B361),(C363-C361)/(B363-B361)*(B362-B361)+C361,C361)","v":-22.825417451375756},2,-163.4291619901484,-22.825417451375756,null,null,null,null,-4.4166001246495036E-2,0.50403234246931228,-0.31623850130265374,25.841143645991291]
[1,{"$f":"('Hull Long'!C81-$L$7)*SIN(RADIANS($O$7))+('Hull Plan'!C81-$K$7)*COS(RADIANS($O$7))+$M$7","v":-163.4272269598905},{"$f":"('Hull Long'!C81-$L$7)*COS(RADIANS($O$7))-('Hull Plan'!C81-$K$7)*SIN(RADIANS($O$7))+$N$7","v":-22.823482421117859},2,-163.4272269598905,-22.823482421117859,null,null,null,null,0,0,0,0]
[1,{"$f":"IF(C363*C365<0,(B365-B363)/(C365-C363)*(0-C363)+B363,B363)","v":-163.4272269598905},{"$f":"IF(AND(C363*C365<0,B365<>B363),(C365-C363)/(B365-B363)*(B364-B363)+C363,C363)","v":-22.823482421117859},2,-163.4272269598905,-22.823482421117859,null,null,null,null,-22185.514949895456,1583265.8173333087,13025.560289680423,-730272.0581289609]
[1,{"$f":"('Hull Long'!C132-$L$7)*SIN(RADIANS($O$7))+('Hull Plan'!C132-$K$7)*COS(RADIANS($O$7))+$M$7","v":25.628201364512165},{"$f":"('Hull Long'!C132-$L$7)*COS(RADIANS($O$7))-('Hull Plan'!C132-$K$7)*SIN(RADIANS($O$7))+$N$7","v":-211.87504114443715},2,25.628201364512165,-211.87504114443715,null,null,null,null,0,0,0,0]
[1,{"$f":"IF(C365*C367<0,(B367-B365)/(C367-C365)*(0-C365)+B365,B365)","v":25.628201364512165},{"$f":"IF(AND(C365*C367<0,B367<>B365),(C367-C365)/(B367-B365)*(B366-B365)+C365,C365)","v":-211.87504114443715},2,25.628201364512165,-211.87504114443715,null,null,null,null,-30404.006226581037,2251946.4893161026,22471.005232883428,1934062.8501751097]
[1,{"$f":"('Hull Long'!C183-$L$7)*SIN(RADIANS($O$7))+('Hull Plan'!C183-$K$7)*COS(RADIANS($O$7))+$M$7","v":255.87457919857539},{"$f":"('Hull Long'!C183-$L$7)*COS(RADIANS($O$7))-('Hull Plan'!C183-$K$7)*SIN(RADIANS($O$7))+$N$7","v":-52.224715929639103},2,255.87457919857539,-52.224715929639103,null,null,null,null,1363.7104769657508,-23739.797423269662,11999.266735295792,1384424.0384947567]
[1,{"$f":"IF(C367*C369<0,(B369-B367)/(C369-C367)*(0-C367)+B367,B367)","v":203.64986326893626},{"$f":"IF(AND(C367*C369<0,B369<>B367),(C369-C367)/(B369-B367)*(B368-B367)+C367,C367)","v":2.1316282072803006E-14},2,203.64986326893626,0,null,null,null,null,0,0,0,0]
[1,{"$f":"('Hull Long'!C183-$L$7)*SIN(RADIANS($O$7))+('Hull Plan'!F183-$K$7)*COS(RADIANS($O$7))+$M$7","v":-192.82846046841181},{"$f":"('Hull Long'!C183-$L$7)*COS(RADIANS($O$7))-('Hull Plan'!F183-$K$7)*SIN(RADIANS($O$7))+$N$7","v":396.47832373734803},2,-192.82846046841181,0,null,null,null,null,0,0,0,0]
[1,{"$f":"IF(C369*C371<0,(B371-B369)/(C371-C369)*(0-C369)+B369,B369)","v":-192.82846046841181},{"$f":"IF(AND(C369*C371<0,B371<>B369),(C371-C369)/(B371-B369)*(B370-B369)+C369,C369)","v":396.47832373734803},2,-192.82846046841181,0,null,null,null,null,0,0,0,0]
[1,{"$f":"('Hull Long'!C132-$L$7)*SIN(RADIANS($O$7))+('Hull Plan'!F132-$K$7)*COS(RADIANS($O$7))+$M$7","v":-352.47878568320982},{"$f":"('Hull Long'!C132-$L$7)*COS(RADIANS($O$7))-('Hull Plan'!F132-$K$7)*SIN(RADIANS($O$7))+$N$7","v":166.23194590328478},2,-352.47878568320982,0,null,null,null,null,0,0,0,0]
[1,{"$f":"IF(C371*C373<0,(B373-B371)/(C373-C371)*(0-C371)+B371,B371)","v":-186.25024222821045},{"$f":"IF(AND(C371*C373<0,B373<>B371),(C373-C371)/(B373-B371)*(B372-B371)+C371,C371)","v":0},2,-186.25024222821045,0,null,null,null,null,-260.45034388670246,1981.461281757418,3990.4287855378025,-349336.11485681526]
[1,{"$f":"('Hull Long'!C81-$L$7)*SIN(RADIANS($O$7))+('Hull Plan'!F81-$K$7)*COS(RADIANS($O$7))+$M$7","v":-163.4272269598905},{"$f":"('Hull Long'!C81-$L$7)*COS(RADIANS($O$7))-('Hull Plan'!F81-$K$7)*SIN(RADIANS($O$7))+$N$7","v":-22.823482421117859},2,-163.4272269598905,-22.823482421117859,null,null,null,null,0,0,0,0]
[1,{"$f":"IF(C373*C375<0,(B375-B373)/(C375-C373)*(0-C373)+B373,B373)","v":-163.4272269598905},{"$f":"IF(AND(C373*C375<0,B375<>B373),(C375-C373)/(B375-B373)*(B374-B373)+C373,C373)","v":-22.823482421117859},2,-163.4272269598905,-22.823482421117859,null,null,null,null,4.4166001246495036E-2,-0.50403234246931228,0.31623850130265374,-25.841143645991291]
[1,{"$f":"('Hull Long'!C30-$L$7)*SIN(RADIANS($O$7))+('Hull Plan'!F30-$K$7)*COS(RADIANS($O$7))+$M$7","v":-163.4291619901484},{"$f":"('Hull Long'!C30-$L$7)*COS(RADIANS($O$7))-('Hull Plan'!F30-$K$7)*SIN(RADIANS($O$7))+$N$7","v":-22.825417451375756},2,-163.4291619901484,-22.825417451375756,null,null,null,null,{"$f":"SUM(K361:K374)","v":-51486.261043397448},{"$f":"SUM(L361:L374)","v":3813453.9705078988},{"$f":"SUM(M361:M374)","v":51486.261043397455},{"$f":"SUM(N361:N374)","v":2238878.7156840903}]
[0,0,0,0,0,0,{"$f":"'Hull Long'!B82","v":1800},"vol","cx","cy","A","Acy","A","Acx"]
[1,{"$f":"('Hull Long'!C31-$L$7)*SIN(RADIANS($O$7))+('Hull Plan'!C31-$K$7)*COS(RADIANS($O$7))+$M$7","v":-163.70196553227285},{"$f":"('Hull Long'!C31-$L$7)*COS(RADIANS($O$7))-('Hull Plan'!C31-$K$7)*SIN(RADIANS($O$7))+$N$7","v":-23.098220993500178},2,{"$f":"B377","v":-163.70196553227285},{"$f":"IF(C377<0,C377,0)","v":-23.098220993500178},{"$f":"ABS(K391)/1000000","v":5.2746526016555752E-2},{"$f":"(G376-G360)*(G377+G361)/2000","v":5.2116393529976603E-3},{"$f":"IF(M391+M375<>0,(N391+N375)/(M391+M375),0)","v":44.382469096891107},{"$f":"IF(K391+K375<>0,(L391+L375)/(K391+K375),0)","v":-74.816104369007959},{"$f":"(F378+F377)/2*(E378-E377)","v":0},{"$f":"(E378-E377)*(F377^2+F377*F378+F378^2)/6","v":0},{"$f":"(E378+E377)/2*(F378-F377)","v":0},{"$f":"(F378-F377)*(E377^2+E377*E378+E378^2)/6","v":0}]
[1,{"$f":"IF(C377*C379<0,(B379-B377)/(C379-C377)*(0-C377)+B377,B377)","v":-163.70196553227285},{"$f":"IF(AND(C377*C379<0,B379<>B377),(C379-C377)/(B379-B377)*(B378-B377)+C377,C377)","v":-23.098220993500178},2,-163.70196553227285,-23.098220993500178,null,null,null,null,-1.9864410867174949E-2,0.22941200516922997,-0.140785522001701,11.523403065748703]
[1,{"$f":"('Hull Long'!C82-$L$7)*SIN(RADIANS($O$7))+('Hull Plan'!C82-$K$7)*COS(RADIANS($O$7))+$M$7","v":-163.70110551882487},{"$f":"('Hull Long'!C82-$L$7)*COS(RADIANS($O$7))-('Hull Plan'!C82-$K$7)*SIN(RADIANS($O$7))+$N$7","v":-23.09736098005223},2,-163.70110551882487,-23.09736098005223,null,null,null,null,0,0,0,0]
[1,{"$f":"IF(C379*C381<0,(B381-B379)/(C381-C379)*(0-C379)+B379,B379)","v":-163.70110551882487},{"$f":"IF(AND(C379*C381<0,B381<>B379),(C381-C379)/(B381-B379)*(B380-B379)+C379,C379)","v":-23.09736098005223},2,-163.70110551882487,-23.09736098005223,null,null,null,null,-22878.325061448941,1657837.3571101923,12996.942528892925,-734937.62903728057]
[1,{"$f":"('Hull Long'!C133-$L$7)*SIN(RADIANS($O$7))+('Hull Plan'!C133-$K$7)*COS(RADIANS($O$7))+$M$7","v":28.353731973298864},{"$f":"('Hull Long'!C133-$L$7)*COS(RADIANS($O$7))-('Hull Plan'!C133-$K$7)*SIN(RADIANS($O$7))+$N$7","v":-215.15047864947223},2,28.353731973298864,-215.15047864947223,null,null,null,null,0,0,0,0]
[1,{"$f":"IF(C381*C383<0,(B383-B381)/(C383-C381)*(0-C381)+B381,B381)","v":28.353731973298864},{"$f":"IF(AND(C381*C383<0,B383<>B381),(C383-C381)/(B383-B381)*(B382-B381)+C381,C381)","v":-215.15047864947223},2,28.353731973298864,-215.15047864947223,null,null,null,null,-31158.088188249345,2353897.5917458353,22843.492783173187,1988539.287478768]
[1,{"$f":"('Hull Long'!C184-$L$7)*SIN(RADIANS($O$7))+('Hull Plan'!C184-$K$7)*COS(RADIANS($O$7))+$M$7","v":258.347657187398},{"$f":"('Hull Long'!C184-$L$7)*COS(RADIANS($O$7))-('Hull Plan'!C184-$K$7)*SIN(RADIANS($O$7))+$N$7","v":-55.796574923743492},2,258.347657187398,-55.796574923743492,null,null,null,null,1556.628886610461,-28951.520100074664,12858.285524019788,1488829.7774056278]
[1,{"$f":"IF(C383*C385<0,(B385-B383)/(C385-C383)*(0-C383)+B383,B383)","v":202.55108226365451},{"$f":"IF(AND(C383*C385<0,B385<>B383),(C385-C383)/(B385-B383)*(B384-B383)+C383,C383)","v":-1.4210854715202004E-14},2,202.55108226365451,-1.4210854715202004E-14,null,null,null,null,2.8347202041784011E-12,-1.3427932326609005E-26,4.3703798277322742E-14,9.4310169504050632E-11]
[1,{"$f":"('Hull Long'!C184-$L$7)*SIN(RADIANS($O$7))+('Hull Plan'!F184-$K$7)*COS(RADIANS($O$7))+$M$7","v":-196.40031946251619},{"$f":"('Hull Long'!C184-$L$7)*COS(RADIANS($O$7))-('Hull Plan'!F184-$K$7)*SIN(RADIANS($O$7))+$N$7","v":398.95140172617062},2,-196.40031946251619,0,null,null,null,null,0,0,0,0]
[1,{"$f":"IF(C385*C387<0,(B387-B385)/(C387-C385)*(0-C385)+B385,B385)","v":-196.40031946251619},{"$f":"IF(AND(C385*C387<0,B387<>B385),(C387-C385)/(B387-B385)*(B386-B385)+C385,C385)","v":398.95140172617062},2,-196.40031946251619,0,null,null,null,null,0,0,0,0]
[1,{"$f":"('Hull Long'!C133-$L$7)*SIN(RADIANS($O$7))+('Hull Plan'!F133-$K$7)*COS(RADIANS($O$7))+$M$7","v":-355.75422318824491},{"$f":"('Hull Long'!C133-$L$7)*COS(RADIANS($O$7))-('Hull Plan'!F133-$K$7)*SIN(RADIANS($O$7))+$N$7","v":168.95747651207148},2,-355.75422318824491,0,null,null,null,null,-2.4010086508898207E-12,2.274692340515894E-26,7.710134509205572E-12,-1.0795935494461137E-9]
[1,{"$f":"IF(C387*C389<0,(B389-B387)/(C389-C387)*(0-C387)+B387,B387)","v":-186.79825966542094},{"$f":"IF(AND(C387*C389<0,B389<>B387),(C389-C387)/(B389-B387)*(B388-B387)+C387,C387)","v":-2.8421709430404007E-14},2,-186.79825966542094,-2.8421709430404007E-14,null,null,null,null,-266.74165346792012,2053.6760861881839,4047.805180469833,-355201.7009600001]
[1,{"$f":"('Hull Long'!C82-$L$7)*SIN(RADIANS($O$7))+('Hull Plan'!F82-$K$7)*COS(RADIANS($O$7))+$M$7","v":-163.70110551882487},{"$f":"('Hull Long'!C82-$L$7)*COS(RADIANS($O$7))-('Hull Plan'!F82-$K$7)*SIN(RADIANS($O$7))+$N$7","v":-23.09736098005223},2,-163.70110551882487,-23.09736098005223,null,null,null,null,0,0,0,0]
[1,{"$f":"IF(C389*C391<0,(B391-B389)/(C391-C389)*(0-C389)+B389,B389)","v":-163.70110551882487},{"$f":"IF(AND(C389*C391<0,B391<>B389),(C391-C389)/(B391-B389)*(B390-B389)+C389,C389)","v":-23.09736098005223},2,-163.70110551882487,-23.09736098005223,null,null,null,null,1.9864410867174949E-2,-0.22941200516922997,0.140785522001701,-11.523403065748701]
[1,{"$f":"('Hull Long'!C31-$L$7)*SIN(RADIANS($O$7))+('Hull Plan'!F31-$K$7)*COS(RADIANS($O$7))+$M$7","v":-163.70196553227285},{"$f":"('Hull Long'!C31-$L$7)*COS(RADIANS($O$7))-('Hull Plan'!F31-$K$7)*SIN(RADIANS($O$7))+$N$7","v":-23.098220993500178},2,-163.70196553227285,-23.098220993500178,null,null,null,null,{"$f":"SUM(K377:K390)","v":-52746.526016555748},{"$f":"SUM(L377:L390)","v":3984837.1048421413},{"$f":"SUM(M377:M390)","v":52746.526016555741},{"$f":"SUM(N377:N390)","v":2387229.7348871143}]
[0,0,0,0,0,0,{"$f":"'Hull Long'!B83","v":2000},"vol","cx","cy","A","Acy","A","Acx"]
[1,{"$f":"('Hull Long'!C32-$L$7)*SIN(RADIANS($O$7))+('Hull Plan'!C32-$K$7)*COS(RADIANS($O$7))+$M$7","v":-163.92020836597237},{"$f":"('Hull Long'!C32-$L$7)*COS(RADIANS($O$7))-('Hull Plan'!C32-$K$7)*SIN(RADIANS($O$7))+$N$7","v":-23.316463827199726},2,{"$f":"B393","v":-163.92020836597237},{"$f":"IF(C393<0,C393,0)","v":-23.316463827199726},{"$f":"ABS(K407)/1000000","v":5.3755476327027055E-2},{"$f":"(G392-G376)*(G393+G377)/2000","v":1.0650200234358281E-2},{"$f":"IF(M407+M391<>0,(N407+N391)/(M407+M391),0)","v":45.963108721541971},{"$f":"IF(K407+K391<>0,(L407+L391)/(K407+K391),0)","v":-76.14965386628748},{"$f":"(F394+F393)/2*(E394-E393)","v":0},{"$f":"(E394-E393)*(F393^2+F393*F394+F394^2)/6","v":0},{"$f":"(E394+E393)/2*(F394-F393)","v":0},{"$f":"(F394-F393)*(E393^2+E393*E394+E394^2)/6","v":0}]
[1,{"$f":"IF(C393*C395<0,(B395-B393)/(C395-C393)*(0-C393)+B393,B393)","v":-163.92020836597237},{"$f":"IF(AND(C393*C395<0,B395<>B393),(C395-C393)/(B395-B393)*(B394-B393)+C393,C393)","v":-23.316463827199726},2,-163.92020836597237,-23.316463827199726,null,null,null,null,0,0,0,0]
[1,{"$f":"('Hull Long'!C83-$L$7)*SIN(RADIANS($O$7))+('Hull Plan'!C83-$K$7)*COS(RADIANS($O$7))+$M$7","v":-163.92020836597237},{"$f":"('Hull Long'!C83-$L$7)*COS(RADIANS($O$7))-('Hull Plan'!C83-$K$7)*SIN(RADIANS($O$7))+$N$7","v":-23.316463827199726},2,-163.92020836597237,-23.316463827199726,null,null,null,null,0,0,0,0]
[1,{"$f":"IF(C395*C397<0,(B397-B395)/(C397-C395)*(0-C395)+B395,B395)","v":-163.92020836597237},{"$f":"IF(AND(C395*C397<0,B397<>B395),(C397-C395)/(B397-B395)*(B396-B395)+C395,C395)","v":-23.316463827199726},2,-163.92020836597237,-23.316463827199726,null,null,null,null,-23440.238163513532,1719152.7914025001,12968.749999999995,-738829.49307926744]
[1,{"$f":"('Hull Long'!C134-$L$7)*SIN(RADIANS($O$7))+('Hull Plan'!C134-$K$7)*COS(RADIANS($O$7))+$M$7","v":30.534156460328205},{"$f":"('Hull Long'!C134-$L$7)*COS(RADIANS($O$7))-('Hull Plan'!C134-$K$7)*SIN(RADIANS($O$7))+$N$7","v":-217.77082865350025},2,30.534156460328205,-217.77082865350025,null,null,null,null,0,0,0,0]
[1,{"$f":"IF(C397*C399<0,(B399-B397)/(C399-C397)*(0-C397)+B397,B397)","v":30.534156460328205},{"$f":"IF(AND(C397*C399<0,B399<>B397),(C399-C397)/(B399-B397)*(B398-B397)+C397,C397)","v":-217.77082865350025},2,30.534156460328205,-217.77082865350025,null,null,null,null,-31764.599647788709,2437649.8011794067,23139.204545454544,2032772.2029274553]
[1,{"$f":"('Hull Long'!C185-$L$7)*SIN(RADIANS($O$7))+('Hull Plan'!C185-$K$7)*COS(RADIANS($O$7))+$M$7","v":260.3438603459561},{"$f":"('Hull Long'!C185-$L$7)*COS(RADIANS($O$7))-('Hull Plan'!C185-$K$7)*SIN(RADIANS($O$7))+$N$7","v":-58.671802886527075},2,260.3438603459561,-58.671802886527075,null,null,null,null,1721.1902269777434,-33661.77790915165,13553.653429957725,1573916.3517417943]
[1,{"$f":"IF(C399*C401<0,(B401-B399)/(C401-C399)*(0-C399)+B399,B399)","v":201.67205745942903},{"$f":"IF(AND(C399*C401<0,B401<>B399),(C401-C399)/(B401-B399)*(B400-B399)+C399,C399)","v":0},2,201.67205745942903,0,null,null,null,null,0,0,0,0]
[1,{"$f":"('Hull Long'!C185-$L$7)*SIN(RADIANS($O$7))+('Hull Plan'!F185-$K$7)*COS(RADIANS($O$7))+$M$7","v":-199.27554742529978},{"$f":"('Hull Long'!C185-$L$7)*COS(RADIANS($O$7))-('Hull Plan'!F185-$K$7)*SIN(RADIANS($O$7))+$N$7","v":400.94760488472878},2,-199.27554742529978,0,null,null,null,null,0,0,0,0]
[1,{"$f":"IF(C401*C403<0,(B403-B401)/(C403-C401)*(0-C401)+B401,B401)","v":-199.27554742529978},{"$f":"IF(AND(C401*C403<0,B403<>B401),(C403-C401)/(B403-B401)*(B402-B401)+C401,C401)","v":400.94760488472878},2,-199.27554742529978,0,null,null,null,null,0,0,0,0]
[1,{"$f":"('Hull Long'!C134-$L$7)*SIN(RADIANS($O$7))+('Hull Plan'!F134-$K$7)*COS(RADIANS($O$7))+$M$7","v":-358.37457319227292},{"$f":"('Hull Long'!C134-$L$7)*COS(RADIANS($O$7))-('Hull Plan'!F134-$K$7)*SIN(RADIANS($O$7))+$N$7","v":171.13790099910082},2,-358.37457319227292,0,null,null,null,null,0,0,0,0]
[1,{"$f":"IF(C403*C405<0,(B405-B403)/(C405-C403)*(0-C403)+B403,B403)","v":-187.2366721931721},{"$f":"IF(AND(C403*C405<0,B405<>B403),(C405-C403)/(B405-B403)*(B404-B403)+C403,C403)","v":0},2,-187.2366721931721,0,null,null,null,null,-271.82874270255667,2112.6950154724482,4093.8683516147939,-359925.68369708251]
[1,{"$f":"('Hull Long'!C83-$L$7)*SIN(RADIANS($O$7))+('Hull Plan'!F83-$K$7)*COS(RADIANS($O$7))+$M$7","v":-163.92020836597237},{"$f":"('Hull Long'!C83-$L$7)*COS(RADIANS($O$7))-('Hull Plan'!F83-$K$7)*SIN(RADIANS($O$7))+$N$7","v":-23.316463827199726},2,-163.92020836597237,-23.316463827199726,null,null,null,null,0,0,0,0]
[1,{"$f":"IF(C405*C407<0,(B407-B405)/(C407-C405)*(0-C405)+B405,B405)","v":-163.92020836597237},{"$f":"IF(AND(C405*C407<0,B407<>B405),(C407-C405)/(B407-B405)*(B406-B405)+C405,C405)","v":-23.316463827199726},2,-163.92020836597237,-23.316463827199726,null,null,null,null,0,0,0,0]
[1,{"$f":"('Hull Long'!C32-$L$7)*SIN(RADIANS($O$7))+('Hull Plan'!F32-$K$7)*COS(RADIANS($O$7))+$M$7","v":-163.92020836597237},{"$f":"('Hull Long'!C32-$L$7)*COS(RADIANS($O$7))-('Hull Plan'!F32-$K$7)*SIN(RADIANS($O$7))+$N$7","v":-23.316463827199726},2,-163.92020836597237,-23.316463827199726,null,null,null,null,{"$f":"SUM(K393:K406)","v":-53755.476327027056},{"$f":"SUM(L393:L406)","v":4125253.5096882274},{"$f":"SUM(M393:M406)","v":53755.476327027056},{"$f":"SUM(N393:N406)","v":2507933.3778928998}]
[0,0,0,0,0,0,{"$f":"'Hull Long'!B84","v":2000},"vol","cx","cy","A","Acy","A","Acx"]
[1,{"$f":"('Hull Long'!C33-$L$7)*SIN(RADIANS($O$7))+('Hull Plan'!C33-$K$7)*COS(RADIANS($O$7))+$M$7","v":-163.92020836597237},{"$f":"('Hull Long'!C33-$L$7)*COS(RADIANS($O$7))-('Hull Plan'!C33-$K$7)*SIN(RADIANS($O$7))+$N$7","v":-23.316463827199726},2,{"$f":"B409","v":-163.92020836597237},{"$f":"IF(C409<0,C409,0)","v":-23.316463827199726},{"$f":"ABS(K423)/1000000","v":5.3755476327027055E-2},{"$f":"(G424-G408)*(G409+G425)/2000","v":1.0651271396085319E-2},{"$f":"IF(M423+M439<>0,(N423+N439)/(M423+M439),0)","v":45.976759450228819},{"$f":"IF(K423+K439<>0,(L423+L439)/(K423+K439),0)","v":-76.152950762973248},{"$f":"(F410+F409)/2*(E410-E409)","v":0},{"$f":"(E410-E409)*(F409^2+F409*F410+F410^2)/6","v":0},{"$f":"(E410+E409)/2*(F410-F409)","v":0},{"$f":"(F410-F409)*(E409^2+E409*E410+E410^2)/6","v":0}]
[1,{"$f":"IF(C409*C411<0,(B411-B409)/(C411-C409)*(0-C409)+B409,B409)","v":-163.92020836597237},{"$f":"IF(AND(C409*C411<0,B411<>B409),(C411-C409)/(B411-B409)*(B410-B409)+C409,C409)","v":-23.316463827199726},2,-163.92020836597237,-23.316463827199726,null,null,null,null,0,0,0,0]
[1,{"$f":"('Hull Long'!C84-$L$7)*SIN(RADIANS($O$7))+('Hull Plan'!C84-$K$7)*COS(RADIANS($O$7))+$M$7","v":-163.92020836597237},{"$f":"('Hull Long'!C84-$L$7)*COS(RADIANS($O$7))-('Hull Plan'!C84-$K$7)*SIN(RADIANS($O$7))+$N$7","v":-23.316463827199726},2,-163.92020836597237,-23.316463827199726,null,null,null,null,0,0,0,0]
[1,{"$f":"IF(C411*C413<0,(B413-B411)/(C413-C411)*(0-C411)+B411,B411)","v":-163.92020836597237},{"$f":"IF(AND(C411*C413<0,B413<>B411),(C413-C411)/(B413-B411)*(B412-B411)+C411,C411)","v":-23.316463827199726},2,-163.92020836597237,-23.316463827199726,null,null,null,null,-23440.238163513532,1719152.7914025001,12968.749999999995,-738829.49307926744]
[1,{"$f":"('Hull Long'!C135-$L$7)*SIN(RADIANS($O$7))+('Hull Plan'!C135-$K$7)*COS(RADIANS($O$7))+$M$7","v":30.534156460328205},{"$f":"('Hull Long'!C135-$L$7)*COS(RADIANS($O$7))-('Hull Plan'!C135-$K$7)*SIN(RADIANS($O$7))+$N$7","v":-217.77082865350025},2,30.534156460328205,-217.77082865350025,null,null,null,null,0,0,0,0]
[1,{"$f":"IF(C413*C415<0,(B415-B413)/(C415-C413)*(0-C413)+B413,B413)","v":30.534156460328205},{"$f":"IF(AND(C413*C415<0,B415<>B413),(C415-C413)/(B415-B413)*(B414-B413)+C413,C413)","v":-217.77082865350025},2,30.534156460328205,-217.77082865350025,null,null,null,null,-31764.599647788709,2437649.8011794067,23139.204545454544,2032772.2029274553]
[1,{"$f":"('Hull Long'!C186-$L$7)*SIN(RADIANS($O$7))+('Hull Plan'!C186-$K$7)*COS(RADIANS($O$7))+$M$7","v":260.3438603459561},{"$f":"('Hull Long'!C186-$L$7)*COS(RADIANS($O$7))-('Hull Plan'!C186-$K$7)*SIN(RADIANS($O$7))+$N$7","v":-58.671802886527075},2,260.3438603459561,-58.671802886527075,null,null,null,null,1721.1902269777434,-33661.77790915165,13553.653429957725,1573916.3517417943]
[1,{"$f":"IF(C415*C417<0,(B417-B415)/(C417-C415)*(0-C415)+B415,B415)","v":201.67205745942903},{"$f":"IF(AND(C415*C417<0,B417<>B415),(C417-C415)/(B417-B415)*(B416-B415)+C415,C415)","v":0},2,201.67205745942903,0,null,null,null,null,0,0,0,0]
[1,{"$f":"('Hull Long'!C186-$L$7)*SIN(RADIANS($O$7))+('Hull Plan'!F186-$K$7)*COS(RADIANS($O$7))+$M$7","v":-199.27554742529978},{"$f":"('Hull Long'!C186-$L$7)*COS(RADIANS($O$7))-('Hull Plan'!F186-$K$7)*SIN(RADIANS($O$7))+$N$7","v":400.94760488472878},2,-199.27554742529978,0,null,null,null,null,0,0,0,0]
[1,{"$f":"IF(C417*C419<0,(B419-B417)/(C419-C417)*(0-C417)+B417,B417)","v":-199.27554742529978},{"$f":"IF(AND(C417*C419<0,B419<>B417),(C419-C417)/(B419-B417)*(B418-B417)+C417,C417)","v":400.94760488472878},2,-199.27554742529978,0,null,null,null,null,0,0,0,0]
[1,{"$f":"('Hull Long'!C135-$L$7)*SIN(RADIANS($O$7))+('Hull Plan'!F135-$K$7)*COS(RADIANS($O$7))+$M$7","v":-358.37457319227292},{"$f":"('Hull Long'!C135-$L$7)*COS(RADIANS($O$7))-('Hull Plan'!F135-$K$7)*SIN(RADIANS($O$7))+$N$7","v":171.13790099910082},2,-358.37457319227292,0,null,null,null,null,0,0,0,0]
[1,{"$f":"IF(C419*C421<0,(B421-B419)/(C421-C419)*(0-C419)+B419,B419)","v":-187.2366721931721},{"$f":"IF(AND(C419*C421<0,B421<>B419),(C421-C419)/(B421-B419)*(B420-B419)+C419,C419)","v":0},2,-187.2366721931721,0,null,null,null,null,-271.82874270255667,2112.6950154724482,4093.8683516147939,-359925.68369708251]
[1,{"$f":"('Hull Long'!C84-$L$7)*SIN(RADIANS($O$7))+('Hull Plan'!F84-$K$7)*COS(RADIANS($O$7))+$M$7","v":-163.92020836597237},{"$f":"('Hull Long'!C84-$L$7)*COS(RADIANS($O$7))-('Hull Plan'!F84-$K$7)*SIN(RADIANS($O$7))+$N$7","v":-23.316463827199726},2,-163.92020836597237,-23.316463827199726,null,null,null,null,0,0,0,0]
[1,{"$f":"IF(C421*C423<0,(B423-B421)/(C423-C421)*(0-C421)+B421,B421)","v":-163.92020836597237},{"$f":"IF(AND(C421*C423<0,B423<>B421),(C423-C421)/(B423-B421)*(B422-B421)+C421,C421)","v":-23.316463827199726},2,-163.92020836597237,-23.316463827199726,null,null,null,null,0,0,0,0]
[1,{"$f":"('Hull Long'!C33-$L$7)*SIN(RADIANS($O$7))+('Hull Plan'!F33-$K$7)*COS(RADIANS($O$7))+$M$7","v":-163.92020836597237},{"$f":"('Hull Long'!C33-$L$7)*COS(RADIANS($O$7))-('Hull Plan'!F33-$K$7)*SIN(RADIANS($O$7))+$N$7","v":-23.316463827199726},2,-163.92020836597237,-23.316463827199726,null,null,null,null,{"$f":"SUM(K409:K422)","v":-53755.476327027056},{"$f":"SUM(L409:L422)","v":4125253.5096882274},{"$f":"SUM(M409:M422)","v":53755.476327027056},{"$f":"SUM(N409:N422)","v":2507933.3778928998}]
[0,0,0,0,0,0,{"$f":"'Hull Long'!B85","v":2200},"vol","cx","cy","A","Acy","A","Acx"]
[1,{"$f":"('Hull Long'!C34-$L$7)*SIN(RADIANS($O$7))+('Hull Plan'!C34-$K$7)*COS(RADIANS($O$7))+$M$7","v":-163.70196553227285},{"$f":"('Hull Long'!C34-$L$7)*COS(RADIANS($O$7))-('Hull Plan'!C34-$K$7)*SIN(RADIANS($O$7))+$N$7","v":-23.098220993500178},2,{"$f":"B425","v":-163.70196553227285},{"$f":"IF(C425<0,C425,0)","v":-23.098220993500178},{"$f":"ABS(K439)/1000000","v":5.2757237633826122E-2},{"$f":"(G440-G424)*(G425+G441)/2000","v":5.2131655312691073E-3},{"$f":"IF(M439+M455<>0,(N439+N455)/(M439+M455),0)","v":44.422186866289771},{"$f":"IF(K439+K455<>0,(L439+L455)/(K439+K455),0)","v":-74.825435221755512},{"$f":"(F426+F425)/2*(E426-E425)","v":0},{"$f":"(E426-E425)*(F425^2+F425*F426+F426^2)/6","v":0},{"$f":"(E426+E425)/2*(F426-F425)","v":0},{"$f":"(F426-F425)*(E425^2+E425*E426+E426^2)/6","v":0}]
[1,{"$f":"IF(C425*C427<0,(B427-B425)/(C427-C425)*(0-C425)+B425,B425)","v":-163.70196553227285},{"$f":"IF(AND(C425*C427<0,B427<>B425),(C427-C425)/(B427-B425)*(B426-B425)+C425,C425)","v":-23.098220993500178},2,-163.70196553227285,-23.098220993500178,null,null,null,null,-1.9864410867174949E-2,0.22941200516922997,-0.140785522001701,11.523403065748703]
[1,{"$f":"('Hull Long'!C85-$L$7)*SIN(RADIANS($O$7))+('Hull Plan'!C85-$K$7)*COS(RADIANS($O$7))+$M$7","v":-163.70110551882487},{"$f":"('Hull Long'!C85-$L$7)*COS(RADIANS($O$7))-('Hull Plan'!C85-$K$7)*SIN(RADIANS($O$7))+$N$7","v":-23.09736098005223},2,-163.70110551882487,-23.09736098005223,null,null,null,null,0,0,0,0]
[1,{"$f":"IF(C427*C429<0,(B429-B427)/(C429-C427)*(0-C427)+B427,B427)","v":-163.70110551882487},{"$f":"IF(AND(C427*C429<0,B429<>B427),(C429-C427)/(B429-B427)*(B428-B427)+C427,C427)","v":-23.09736098005223},2,-163.70110551882487,-23.09736098005223,null,null,null,null,-22878.325061448941,1657837.3571101923,12996.942528892925,-734937.62903728057]
[1,{"$f":"('Hull Long'!C136-$L$7)*SIN(RADIANS($O$7))+('Hull Plan'!C136-$K$7)*COS(RADIANS($O$7))+$M$7","v":28.353731973298864},{"$f":"('Hull Long'!C136-$L$7)*COS(RADIANS($O$7))-('Hull Plan'!C136-$K$7)*SIN(RADIANS($O$7))+$N$7","v":-215.15047864947223},2,28.353731973298864,-215.15047864947223,null,null,null,null,0,0,0,0]
[1,{"$f":"IF(C429*C431<0,(B431-B429)/(C431-C429)*(0-C429)+B429,B429)","v":28.353731973298864},{"$f":"IF(AND(C429*C431<0,B431<>B429),(C431-C429)/(B431-B429)*(B430-B429)+C429,C429)","v":-215.15047864947223},2,28.353731973298864,-215.15047864947223,null,null,null,null,-31171.871435593621,2355150.1745855603,22839.987724682287,1988648.9848606305]
[1,{"$f":"('Hull Long'!C187-$L$7)*SIN(RADIANS($O$7))+('Hull Plan'!C187-$K$7)*COS(RADIANS($O$7))+$M$7","v":258.40268056995825},{"$f":"('Hull Long'!C187-$L$7)*COS(RADIANS($O$7))-('Hull Plan'!C187-$K$7)*SIN(RADIANS($O$7))+$N$7","v":-55.851598306303742},2,258.40268056995825,-55.851598306303742,null,null,null,null,1559.7005166843558,-29037.255578663011,12872.502199781071,1490666.3954129266]
[1,{"$f":"IF(C431*C433<0,(B433-B431)/(C433-C431)*(0-C431)+B431,B431)","v":202.55108226365451},{"$f":"IF(AND(C431*C433<0,B433<>B431),(C433-C431)/(B433-B431)*(B432-B431)+C431,C431)","v":-7.1054273576010019E-15},2,202.55108226365451,-7.1054273576010019E-15,null,null,null,null,1.4175555844130762E-12,-3.3574460768029162E-27,2.1656416814785595E-14,4.7167485145875717E-11]
[1,{"$f":"('Hull Long'!C187-$L$7)*SIN(RADIANS($O$7))+('Hull Plan'!F187-$K$7)*COS(RADIANS($O$7))+$M$7","v":-196.45534284507647},{"$f":"('Hull Long'!C187-$L$7)*COS(RADIANS($O$7))-('Hull Plan'!F187-$K$7)*SIN(RADIANS($O$7))+$N$7","v":399.00642510873092},2,-196.45534284507647,0,null,null,null,null,0,0,0,0]
[1,{"$f":"IF(C433*C435<0,(B435-B433)/(C435-C433)*(0-C433)+B433,B433)","v":-196.45534284507647},{"$f":"IF(AND(C433*C435<0,B435<>B433),(C435-C433)/(B435-B433)*(B434-B433)+C433,C433)","v":399.00642510873092},2,-196.45534284507647,0,null,null,null,null,0,0,0,0]
[1,{"$f":"('Hull Long'!C136-$L$7)*SIN(RADIANS($O$7))+('Hull Plan'!F136-$K$7)*COS(RADIANS($O$7))+$M$7","v":-355.75422318824491},{"$f":"('Hull Long'!C136-$L$7)*COS(RADIANS($O$7))-('Hull Plan'!F136-$K$7)*SIN(RADIANS($O$7))+$N$7","v":168.95747651207148},2,-355.75422318824491,0,null,null,null,null,-2.4010086508898207E-12,2.274692340515894E-26,7.710134509205572E-12,-1.0795935494461137E-9]
[1,{"$f":"IF(C435*C437<0,(B437-B435)/(C437-C435)*(0-C435)+B435,B435)","v":-186.79825966542094},{"$f":"IF(AND(C435*C437<0,B437<>B435),(C437-C435)/(B437-B435)*(B436-B435)+C435,C435)","v":-2.8421709430404007E-14},2,-186.79825966542094,-2.8421709430404007E-14,null,null,null,null,-266.74165346792012,2053.6760861881839,4047.805180469833,-355201.7009600001]
[1,{"$f":"('Hull Long'!C85-$L$7)*SIN(RADIANS($O$7))+('Hull Plan'!F85-$K$7)*COS(RADIANS($O$7))+$M$7","v":-163.70110551882487},{"$f":"('Hull Long'!C85-$L$7)*COS(RADIANS($O$7))-('Hull Plan'!F85-$K$7)*SIN(RADIANS($O$7))+$N$7","v":-23.09736098005223},2,-163.70110551882487,-23.09736098005223,null,null,null,null,0,0,0,0]
[1,{"$f":"IF(C437*C439<0,(B439-B437)/(C439-C437)*(0-C437)+B437,B437)","v":-163.70110551882487},{"$f":"IF(AND(C437*C439<0,B439<>B437),(C439-C437)/(B439-B437)*(B438-B437)+C437,C437)","v":-23.09736098005223},2,-163.70110551882487,-23.09736098005223,null,null,null,null,1.9864410867174949E-2,-0.22941200516922997,0.140785522001701,-11.523403065748701]
[1,{"$f":"('Hull Long'!C34-$L$7)*SIN(RADIANS($O$7))+('Hull Plan'!F34-$K$7)*COS(RADIANS($O$7))+$M$7","v":-163.70196553227285},{"$f":"('Hull Long'!C34-$L$7)*COS(RADIANS($O$7))-('Hull Plan'!F34-$K$7)*SIN(RADIANS($O$7))+$N$7","v":-23.098220993500178},2,-163.70196553227285,-23.098220993500178,null,null,null,null,{"$f":"SUM(K425:K438)","v":-52757.237633826124},{"$f":"SUM(L425:L438)","v":3986003.9522032775},{"$f":"SUM(M425:M438)","v":52757.237633826124},{"$f":"SUM(N425:N438)","v":2389176.0502762753}]
[0,0,0,0,0,0,{"$f":"'Hull Long'!B86","v":2300},"vol","cx","cy","A","Acy","A","Acx"]
[1,{"$f":"('Hull Long'!C35-$L$7)*SIN(RADIANS($O$7))+('Hull Plan'!C35-$K$7)*COS(RADIANS($O$7))+$M$7","v":-163.4291619901484},{"$f":"('Hull Long'!C35-$L$7)*COS(RADIANS($O$7))-('Hull Plan'!C35-$K$7)*SIN(RADIANS($O$7))+$N$7","v":-22.825417451375756},2,{"$f":"B441","v":-163.4291619901484},{"$f":"IF(C441<0,C441,0)","v":-22.825417451375756},{"$f":"ABS(K455)/1000000","v":5.1506072991556004E-2},{"$f":"(G456-G440)*(G441+G457)/2000","v":5.0627115884343075E-3},{"$f":"IF(M455+M471<>0,(N455+N471)/(M455+M471),0)","v":42.295498017727084},{"$f":"IF(K455+K471<>0,(L455+L471)/(K455+K471),0)","v":-73.075465181235018},{"$f":"(F442+F441)/2*(E442-E441)","v":0},{"$f":"(E442-E441)*(F441^2+F441*F442+F442^2)/6","v":0},{"$f":"(E442+E441)/2*(F442-F441)","v":0},{"$f":"(F442-F441)*(E441^2+E441*E442+E442^2)/6","v":0}]
[1,{"$f":"IF(C441*C443<0,(B443-B441)/(C443-C441)*(0-C441)+B441,B441)","v":-163.4291619901484},{"$f":"IF(AND(C441*C443<0,B443<>B441),(C443-C441)/(B443-B441)*(B442-B441)+C441,C441)","v":-22.825417451375756},2,-163.4291619901484,-22.825417451375756,null,null,null,null,-4.4166001246495036E-2,0.50403234246931228,-0.31623850130265374,25.841143645991291]
[1,{"$f":"('Hull Long'!C86-$L$7)*SIN(RADIANS($O$7))+('Hull Plan'!C86-$K$7)*COS(RADIANS($O$7))+$M$7","v":-163.4272269598905},{"$f":"('Hull Long'!C86-$L$7)*COS(RADIANS($O$7))-('Hull Plan'!C86-$K$7)*SIN(RADIANS($O$7))+$N$7","v":-22.823482421117859},2,-163.4272269598905,-22.823482421117859,null,null,null,null,0,0,0,0]
[1,{"$f":"IF(C443*C445<0,(B445-B443)/(C445-C443)*(0-C443)+B443,B443)","v":-163.4272269598905},{"$f":"IF(AND(C443*C445<0,B445<>B443),(C445-C443)/(B445-B443)*(B444-B443)+C443,C443)","v":-22.823482421117859},2,-163.4272269598905,-22.823482421117859,null,null,null,null,-22185.514949895456,1583265.8173333087,13025.560289680423,-730272.0581289609]
[1,{"$f":"('Hull Long'!C137-$L$7)*SIN(RADIANS($O$7))+('Hull Plan'!C137-$K$7)*COS(RADIANS($O$7))+$M$7","v":25.628201364512165},{"$f":"('Hull Long'!C137-$L$7)*COS(RADIANS($O$7))-('Hull Plan'!C137-$K$7)*SIN(RADIANS($O$7))+$N$7","v":-211.87504114443715},2,25.628201364512165,-211.87504114443715,null,null,null,null,0,0,0,0]
[1,{"$f":"IF(C445*C447<0,(B447-B445)/(C447-C445)*(0-C445)+B445,B445)","v":25.628201364512165},{"$f":"IF(AND(C445*C447<0,B447<>B445),(C447-C445)/(B447-B445)*(B446-B445)+C445,C445)","v":-211.87504114443715},2,25.628201364512165,-211.87504114443715,null,null,null,null,-30429.130761727207,2254175.0210022083,22464.808340395222,1934284.1906939407]
[1,{"$f":"('Hull Long'!C188-$L$7)*SIN(RADIANS($O$7))+('Hull Plan'!C188-$K$7)*COS(RADIANS($O$7))+$M$7","v":255.97620584996088},{"$f":"('Hull Long'!C188-$L$7)*COS(RADIANS($O$7))-('Hull Plan'!C188-$K$7)*SIN(RADIANS($O$7))+$N$7","v":-52.326342581024562},2,255.97620584996088,-52.326342581024562,null,null,null,null,1369.0230639533722,-23878.656615249358,12025.275575942544,1387752.1999143008]
[1,{"$f":"IF(C447*C449<0,(B449-B447)/(C449-C447)*(0-C447)+B447,B447)","v":203.64986326893631},{"$f":"IF(AND(C447*C449<0,B449<>B447),(C449-C447)/(B449-B447)*(B448-B447)+C447,C447)","v":-7.1054273576010019E-15},2,203.64986326893631,-7.1054273576010019E-15,null,null,null,null,1.4089350144840779E-12,-3.3370284656657106E-27,3.8084295358725564E-14,4.6665011959014585E-11]
[1,{"$f":"('Hull Long'!C188-$L$7)*SIN(RADIANS($O$7))+('Hull Plan'!F188-$K$7)*COS(RADIANS($O$7))+$M$7","v":-192.93008711979729},{"$f":"('Hull Long'!C188-$L$7)*COS(RADIANS($O$7))-('Hull Plan'!F188-$K$7)*SIN(RADIANS($O$7))+$N$7","v":396.57995038873355},2,-192.93008711979729,0,null,null,null,null,0,0,0,0]
[1,{"$f":"IF(C449*C451<0,(B451-B449)/(C451-C449)*(0-C449)+B449,B449)","v":-192.93008711979729},{"$f":"IF(AND(C449*C451<0,B451<>B449),(C451-C449)/(B451-B449)*(B450-B449)+C449,C449)","v":396.57995038873355},2,-192.93008711979729,0,null,null,null,null,0,0,0,0]
[1,{"$f":"('Hull Long'!C137-$L$7)*SIN(RADIANS($O$7))+('Hull Plan'!F137-$K$7)*COS(RADIANS($O$7))+$M$7","v":-352.47878568320982},{"$f":"('Hull Long'!C137-$L$7)*COS(RADIANS($O$7))-('Hull Plan'!F137-$K$7)*SIN(RADIANS($O$7))+$N$7","v":166.23194590328478},2,-352.47878568320982,0,null,null,null,null,0,0,0,0]
[1,{"$f":"IF(C451*C453<0,(B453-B451)/(C453-C451)*(0-C451)+B451,B451)","v":-186.25024222821045},{"$f":"IF(AND(C451*C453<0,B453<>B451),(C453-C451)/(B453-B451)*(B452-B451)+C451,C451)","v":0},2,-186.25024222821045,0,null,null,null,null,-260.45034388670246,1981.461281757418,3990.4287855378025,-349336.11485681526]
[1,{"$f":"('Hull Long'!C86-$L$7)*SIN(RADIANS($O$7))+('Hull Plan'!F86-$K$7)*COS(RADIANS($O$7))+$M$7","v":-163.4272269598905},{"$f":"('Hull Long'!C86-$L$7)*COS(RADIANS($O$7))-('Hull Plan'!F86-$K$7)*SIN(RADIANS($O$7))+$N$7","v":-22.823482421117859},2,-163.4272269598905,-22.823482421117859,null,null,null,null,0,0,0,0]
[1,{"$f":"IF(C453*C455<0,(B455-B453)/(C455-C453)*(0-C453)+B453,B453)","v":-163.4272269598905},{"$f":"IF(AND(C453*C455<0,B455<>B453),(C455-C453)/(B455-B453)*(B454-B453)+C453,C453)","v":-22.823482421117859},2,-163.4272269598905,-22.823482421117859,null,null,null,null,4.4166001246495036E-2,-0.50403234246931228,0.31623850130265374,-25.841143645991291]
[1,{"$f":"('Hull Long'!C35-$L$7)*SIN(RADIANS($O$7))+('Hull Plan'!F35-$K$7)*COS(RADIANS($O$7))+$M$7","v":-163.4291619901484},{"$f":"('Hull Long'!C35-$L$7)*COS(RADIANS($O$7))-('Hull Plan'!F35-$K$7)*SIN(RADIANS($O$7))+$N$7","v":-22.825417451375756},2,-163.4291619901484,-22.825417451375756,null,null,null,null,{"$f":"SUM(K441:K454)","v":-51506.072991556},{"$f":"SUM(L441:L454)","v":3815543.6430020249},{"$f":"SUM(M441:M454)","v":51506.072991555986},{"$f":"SUM(N441:N454)","v":2242428.2176224655}]
[0,0,0,0,0,0,{"$f":"'Hull Long'!B87","v":2400},"vol","cx","cy","A","Acy","A","Acx"]
[1,{"$f":"('Hull Long'!C36-$L$7)*SIN(RADIANS($O$7))+('Hull Plan'!C36-$K$7)*COS(RADIANS($O$7))+$M$7","v":-163.04723703117418},{"$f":"('Hull Long'!C36-$L$7)*COS(RADIANS($O$7))-('Hull Plan'!C36-$K$7)*SIN(RADIANS($O$7))+$N$7","v":-22.443492492401532},2,{"$f":"B457","v":-163.04723703117418},{"$f":"IF(C457<0,C457,0)","v":-22.443492492401532},{"$f":"ABS(K471)/1000000","v":4.9748158777130153E-2},{"$f":"(G472-G456)*(G457+G473)/2000","v":4.8612685025631597E-3},{"$f":"IF(M471+M487<>0,(N471+N487)/(M471+M487),0)","v":39.349804781202252},{"$f":"IF(K471+K487<>0,(L471+L487)/(K471+K487),0)","v":-70.77199022473593},{"$f":"(F458+F457)/2*(E458-E457)","v":0},{"$f":"(E458-E457)*(F457^2+F457*F458+F458^2)/6","v":0},{"$f":"(E458+E457)/2*(F458-F457)","v":0},{"$f":"(F458-F457)*(E457^2+E457*E458+E458^2)/6","v":0}]
[1,{"$f":"IF(C457*C459<0,(B459-B457)/(C459-C457)*(0-C457)+B457,B457)","v":-163.04723703117418},{"$f":"IF(AND(C457*C459<0,B459<>B457),(C459-C457)/(B459-B457)*(B458-B457)+C457,C457)","v":-22.443492492401532},2,-163.04723703117418,-22.443492492401532,null,null,null,null,-7.72009044651292E-2,0.86626256776506227,-0.56088534900985554,45.724920856414691]
[1,{"$f":"('Hull Long'!C87-$L$7)*SIN(RADIANS($O$7))+('Hull Plan'!C87-$K$7)*COS(RADIANS($O$7))+$M$7","v":-163.04379697738236},{"$f":"('Hull Long'!C87-$L$7)*COS(RADIANS($O$7))-('Hull Plan'!C87-$K$7)*SIN(RADIANS($O$7))+$N$7","v":-22.440052438609712},2,-163.04379697738236,-22.440052438609712,null,null,null,null,0,0,0,0]
[1,{"$f":"IF(C459*C461<0,(B461-B459)/(C461-C459)*(0-C459)+B459,B459)","v":-163.04379697738236},{"$f":"IF(AND(C459*C461<0,B461<>B459),(C461-C459)/(B461-B459)*(B460-B459)+C459,C459)","v":-22.440052438609712},2,-163.04379697738236,-22.440052438609712,null,null,null,null,-21233.465823638155,1482671.910855121,13053.262407502747,-724075.86441679078]
[1,{"$f":"('Hull Long'!C138-$L$7)*SIN(RADIANS($O$7))+('Hull Plan'!C138-$K$7)*COS(RADIANS($O$7))+$M$7","v":21.81245851221081},{"$f":"('Hull Long'!C138-$L$7)*COS(RADIANS($O$7))-('Hull Plan'!C138-$K$7)*SIN(RADIANS($O$7))+$N$7","v":-207.28942863738808},2,21.81245851221081,-207.28942863738808,null,null,null,null,0,0,0,0]
[1,{"$f":"IF(C461*C463<0,(B463-B461)/(C463-C461)*(0-C461)+B461,B461)","v":21.81245851221081},{"$f":"IF(AND(C461*C463<0,B463<>B461),(C463-C461)/(B463-B461)*(B462-B461)+C461,C461)","v":-207.28942863738808},2,21.81245851221081,-207.28942863738808,null,null,null,null,-29385.877055552177,2116840.578794606,21937.39493352611,1859655.6272646377]
[1,{"$f":"('Hull Long'!C189-$L$7)*SIN(RADIANS($O$7))+('Hull Plan'!C189-$K$7)*COS(RADIANS($O$7))+$M$7","v":252.57914124196463},{"$f":"('Hull Long'!C189-$L$7)*COS(RADIANS($O$7))-('Hull Plan'!C189-$K$7)*SIN(RADIANS($O$7))+$N$7","v":-47.390984565633772},2,252.57914124196463,-47.390984565633772,null,null,null,null,1122.9527090500694,-17739.278167509492,10847.021475148909,1245787.7473270372]
[1,{"$f":"IF(C463*C465<0,(B465-B463)/(C465-C463)*(0-C463)+B463,B463)","v":205.18815667633086},{"$f":"IF(AND(C463*C465<0,B465<>B463),(C465-C463)/(B465-B463)*(B464-B463)+C463,C463)","v":-7.1054273576010019E-15},2,205.18815667633086,-7.1054273576010019E-15,null,null,null,null,1.3968662165834806E-12,-3.3084438100736231E-27,6.1083325320241459E-14,4.6031215439595913E-11]
[1,{"$f":"('Hull Long'!C189-$L$7)*SIN(RADIANS($O$7))+('Hull Plan'!F189-$K$7)*COS(RADIANS($O$7))+$M$7","v":-187.99472910440647},{"$f":"('Hull Long'!C189-$L$7)*COS(RADIANS($O$7))-('Hull Plan'!F189-$K$7)*SIN(RADIANS($O$7))+$N$7","v":393.18288578073725},2,-187.99472910440647,0,null,null,null,null,0,0,0,0]
[1,{"$f":"IF(C465*C467<0,(B467-B465)/(C467-C465)*(0-C465)+B465,B465)","v":-187.99472910440647},{"$f":"IF(AND(C465*C467<0,B467<>B465),(C467-C465)/(B467-B465)*(B466-B465)+C465,C465)","v":393.18288578073725},2,-187.99472910440647,0,null,null,null,null,0,0,0,0]
[1,{"$f":"('Hull Long'!C138-$L$7)*SIN(RADIANS($O$7))+('Hull Plan'!F138-$K$7)*COS(RADIANS($O$7))+$M$7","v":-347.89317317616076},{"$f":"('Hull Long'!C138-$L$7)*COS(RADIANS($O$7))-('Hull Plan'!F138-$K$7)*SIN(RADIANS($O$7))+$N$7","v":162.41620305098343},2,-347.89317317616076,0,null,null,null,null,0,0,0,0]
[1,{"$f":"IF(C467*C469<0,(B469-B467)/(C469-C467)*(0-C467)+B467,B467)","v":-185.48301432579609},{"$f":"IF(AND(C467*C469<0,B469<>B467),(C469-C467)/(B469-B467)*(B468-B467)+C467,C467)","v":0},2,-185.48301432579609,0,null,null,null,null,-251.7686069898825,1883.2335810828943,3910.479960952378,-341197.56873840693]
[1,{"$f":"('Hull Long'!C87-$L$7)*SIN(RADIANS($O$7))+('Hull Plan'!F87-$K$7)*COS(RADIANS($O$7))+$M$7","v":-163.04379697738236},{"$f":"('Hull Long'!C87-$L$7)*COS(RADIANS($O$7))-('Hull Plan'!F87-$K$7)*SIN(RADIANS($O$7))+$N$7","v":-22.440052438609712},2,-163.04379697738236,-22.440052438609712,null,null,null,null,0,0,0,0]
[1,{"$f":"IF(C469*C471<0,(B471-B469)/(C471-C469)*(0-C469)+B469,B469)","v":-163.04379697738236},{"$f":"IF(AND(C469*C471<0,B471<>B469),(C471-C469)/(B471-B469)*(B470-B469)+C469,C469)","v":-22.440052438609712},2,-163.04379697738236,-22.440052438609712,null,null,null,null,7.72009044651292E-2,-0.86626256776506205,0.56088534900985554,-45.724920856414691]
[1,{"$f":"('Hull Long'!C36-$L$7)*SIN(RADIANS($O$7))+('Hull Plan'!F36-$K$7)*COS(RADIANS($O$7))+$M$7","v":-163.04723703117418},{"$f":"('Hull Long'!C36-$L$7)*COS(RADIANS($O$7))-('Hull Plan'!F36-$K$7)*SIN(RADIANS($O$7))+$N$7","v":-22.443492492401532},2,-163.04723703117418,-22.443492492401532,null,null,null,null,{"$f":"SUM(K457:K470)","v":-49748.158777130149},{"$f":"SUM(L457:L470)","v":3583656.4450633004},{"$f":"SUM(M457:M470)","v":49748.158777130142},{"$f":"SUM(N457:N470)","v":2040169.941436477}]
[0,0,0,0,0,0,{"$f":"'Hull Long'!B88","v":2500},"vol","cx","cy","A","Acy","A","Acx"]
[1,{"$f":"('Hull Long'!C37-$L$7)*SIN(RADIANS($O$7))+('Hull Plan'!C37-$K$7)*COS(RADIANS($O$7))+$M$7","v":-162.55619065535018},{"$f":"('Hull Long'!C37-$L$7)*COS(RADIANS($O$7))-('Hull Plan'!C37-$K$7)*SIN(RADIANS($O$7))+$N$7","v":-21.952446116577534},2,{"$f":"B473","v":-162.55619065535018},{"$f":"IF(C473<0,C473,0)","v":-21.952446116577534},{"$f":"ABS(K487)/1000000","v":4.7477211274133034E-2},{"$f":"(G488-G472)*(G473+G489)/2000","v":4.608118134540597E-3},{"$f":"IF(M487+M503<>0,(N487+N503)/(M487+M503),0)","v":35.46613560328224},{"$f":"IF(K487+K503<>0,(L487+L503)/(K487+K503),0)","v":-67.947225999099444},{"$f":"(F474+F473)/2*(E474-E473)","v":0},{"$f":"(E474-E473)*(F473^2+F473*F474+F474^2)/6","v":0},{"$f":"(E474+E473)/2*(F474-F473)","v":0},{"$f":"(F474-F473)*(E473^2+E473*E474+E474^2)/6","v":0}]
[1,{"$f":"IF(C473*C475<0,(B475-B473)/(C475-C473)*(0-C473)+B473,B473)","v":-162.55619065535018},{"$f":"IF(AND(C473*C475<0,B475<>B473),(C475-C473)/(B475-B473)*(B474-B473)+C473,C473)","v":-21.952446116577534},2,-162.55619065535018,-21.952446116577534,null,null,null,null,-0.11798179720984774,1.294835988944594,-0.87373874181472888,71.014646650377344]
[1,{"$f":"('Hull Long'!C88-$L$7)*SIN(RADIANS($O$7))+('Hull Plan'!C88-$K$7)*COS(RADIANS($O$7))+$M$7","v":-162.55081557130043},{"$f":"('Hull Long'!C88-$L$7)*COS(RADIANS($O$7))-('Hull Plan'!C88-$K$7)*SIN(RADIANS($O$7))+$N$7","v":-21.947071032527788},2,-162.55081557130043,-21.947071032527788,null,null,null,null,0,0,0,0]
[1,{"$f":"IF(C475*C477<0,(B477-B475)/(C477-C475)*(0-C475)+B475,B475)","v":-162.55081557130043},{"$f":"IF(AND(C475*C477<0,B477<>B475),(C477-C475)/(B477-B475)*(B476-B475)+C475,C475)","v":-21.947071032527788},2,-162.55081557130043,-21.947071032527788,null,null,null,null,-20040.062712594576,1359720.3846346277,13067.686135079715,-716602.87756358401]
[1,{"$f":"('Hull Long'!C139-$L$7)*SIN(RADIANS($O$7))+('Hull Plan'!C139-$K$7)*COS(RADIANS($O$7))+$M$7","v":16.90650341639477},{"$f":"('Hull Long'!C139-$L$7)*COS(RADIANS($O$7))-('Hull Plan'!C139-$K$7)*SIN(RADIANS($O$7))+$N$7","v":-201.39364112832487},2,16.90650341639477,-201.39364112832487,null,null,null,null,0,0,0,0]
[1,{"$f":"IF(C477*C479<0,(B479-B477)/(C479-C477)*(0-C477)+B477,B477)","v":16.90650341639477},{"$f":"IF(AND(C477*C479<0,B479<>B477),(C479-C477)/(B479-B477)*(B478-B477)+C477,C477)","v":-201.39364112832487},2,16.90650341639477,-201.39364112832487,null,null,null,null,-28038.693554306417,1947219.4650246641,21255.585235207691,1766265.5175351745]
[1,{"$f":"('Hull Long'!C190-$L$7)*SIN(RADIANS($O$7))+('Hull Plan'!C190-$K$7)*COS(RADIANS($O$7))+$M$7","v":248.21148674596941},{"$f":"('Hull Long'!C190-$L$7)*COS(RADIANS($O$7))-('Hull Plan'!C190-$K$7)*SIN(RADIANS($O$7))+$N$7","v":-41.045524260131259},2,248.21148674596941,-41.045524260131259,null,null,null,null,842.36753089451202,-11525.138975092521,9345.6030699804214,1066825.5066289317]
[1,{"$f":"IF(C479*C481<0,(B481-B479)/(C481-C479)*(0-C479)+B479,B479)","v":207.16596248583815},{"$f":"IF(AND(C479*C481<0,B481<>B479),(C481-C479)/(B481-B479)*(B480-B479)+C479,C479)","v":-7.1054273576010019E-15},2,207.16596248583815,-7.1054273576010019E-15,null,null,null,null,1.3813491907112839E-12,-3.2716921100266531E-27,9.0653506699333482E-14,4.5335761529806595E-11]
[1,{"$f":"('Hull Long'!C190-$L$7)*SIN(RADIANS($O$7))+('Hull Plan'!F190-$K$7)*COS(RADIANS($O$7))+$M$7","v":-181.64926879890396},{"$f":"('Hull Long'!C190-$L$7)*COS(RADIANS($O$7))-('Hull Plan'!F190-$K$7)*SIN(RADIANS($O$7))+$N$7","v":388.81523128474203},2,-181.64926879890396,0,null,null,null,null,0,0,0,0]
[1,{"$f":"IF(C481*C483<0,(B483-B481)/(C483-C481)*(0-C481)+B481,B481)","v":-181.64926879890396},{"$f":"IF(AND(C481*C483<0,B483<>B481),(C483-C481)/(B483-B481)*(B482-B481)+C481,C481)","v":388.81523128474203},2,-181.64926879890396,0,null,null,null,null,0,0,0,0]
[1,{"$f":"('Hull Long'!C139-$L$7)*SIN(RADIANS($O$7))+('Hull Plan'!F139-$K$7)*COS(RADIANS($O$7))+$M$7","v":-341.99738566709755},{"$f":"('Hull Long'!C139-$L$7)*COS(RADIANS($O$7))-('Hull Plan'!F139-$K$7)*SIN(RADIANS($O$7))+$N$7","v":157.51024795516739},2,-341.99738566709755,0,null,null,null,null,0,0,0,0]
[1,{"$f":"IF(C483*C485<0,(B485-B483)/(C485-C483)*(0-C483)+B483,B483)","v":-184.49657204783608},{"$f":"IF(AND(C483*C485<0,B485<>B483),(C485-C483)/(B485-B483)*(B484-B483)+C483,C483)","v":0},2,-184.49657204783608,0,null,null,null,null,-240.82253812654233,1761.7831168322853,3808.3368338651971,-330858.75673964474]
[1,{"$f":"('Hull Long'!C88-$L$7)*SIN(RADIANS($O$7))+('Hull Plan'!F88-$K$7)*COS(RADIANS($O$7))+$M$7","v":-162.55081557130043},{"$f":"('Hull Long'!C88-$L$7)*COS(RADIANS($O$7))-('Hull Plan'!F88-$K$7)*SIN(RADIANS($O$7))+$N$7","v":-21.947071032527788},2,-162.55081557130043,-21.947071032527788,null,null,null,null,0,0,0,0]
[1,{"$f":"IF(C485*C487<0,(B487-B485)/(C487-C485)*(0-C485)+B485,B485)","v":-162.55081557130043},{"$f":"IF(AND(C485*C487<0,B487<>B485),(C487-C485)/(B487-B485)*(B486-B485)+C485,C485)","v":-21.947071032527788},2,-162.55081557130043,-21.947071032527788,null,null,null,null,0.11798179720984774,-1.2948359889445942,0.87373874181472888,-71.014646650377344]
[1,{"$f":"('Hull Long'!C37-$L$7)*SIN(RADIANS($O$7))+('Hull Plan'!F37-$K$7)*COS(RADIANS($O$7))+$M$7","v":-162.55619065535018},{"$f":"('Hull Long'!C37-$L$7)*COS(RADIANS($O$7))-('Hull Plan'!F37-$K$7)*SIN(RADIANS($O$7))+$N$7","v":-21.952446116577534},2,-162.55619065535018,-21.952446116577534,null,null,null,null,{"$f":"SUM(K473:K486)","v":-47477.211274133035},{"$f":"SUM(L473:L486)","v":3297176.4938010313},{"$f":"SUM(M473:M486)","v":47477.211274133035},{"$f":"SUM(N473:N486)","v":1785629.3898608773}]
[0,0,0,0,0,0,{"$f":"'Hull Long'!B89","v":2600},"vol","cx","cy","A","Acy","A","Acx"]
[1,{"$f":"('Hull Long'!C38-$L$7)*SIN(RADIANS($O$7))+('Hull Plan'!C38-$K$7)*COS(RADIANS($O$7))+$M$7","v":-161.95602286267643},{"$f":"('Hull Long'!C38-$L$7)*COS(RADIANS($O$7))-('Hull Plan'!C38-$K$7)*SIN(RADIANS($O$7))+$N$7","v":-21.352278323903761},2,{"$f":"B489","v":-161.95602286267643},{"$f":"IF(C489<0,C489,0)","v":-21.352278323903761},{"$f":"ABS(K503)/1000000","v":4.4685151416678899E-2},{"$f":"(G504-G488)*(G489+G505)/2000","v":4.3023628102056097E-3},{"$f":"IF(M503+M519<>0,(N503+N519)/(M503+M519),0)","v":30.454934523756105},{"$f":"IF(K503+K519<>0,(L503+L519)/(K503+K519),0)","v":-64.652497290035768},{"$f":"(F490+F489)/2*(E490-E489)","v":0},{"$f":"(E490-E489)*(F489^2+F489*F490+F490^2)/6","v":0},{"$f":"(E490+E489)/2*(F490-F489)","v":0},{"$f":"(F490-F489)*(E489^2+E489*E490+E490^2)/6","v":0}]
[1,{"$f":"IF(C489*C491<0,(B491-B489)/(C491-C489)*(0-C489)+B489,B489)","v":-161.95602286267643},{"$f":"IF(AND(C489*C491<0,B491<>B489),(C491-C489)/(B491-B489)*(B490-B489)+C489,C489)","v":-21.352278323903761},2,-161.95602286267643,-21.352278323903761,null,null,null,null,-0.16523926379159792,1.7637976516034526,-1.2535292640196225,101.50588147356403]
[1,{"$f":"('Hull Long'!C89-$L$7)*SIN(RADIANS($O$7))+('Hull Plan'!C89-$K$7)*COS(RADIANS($O$7))+$M$7","v":-161.94828274164479},{"$f":"('Hull Long'!C89-$L$7)*COS(RADIANS($O$7))-('Hull Plan'!C89-$K$7)*SIN(RADIANS($O$7))+$N$7","v":-21.344538202872144},2,-161.94828274164479,-21.344538202872144,null,null,null,null,0,0,0,0]
[1,{"$f":"IF(C491*C493<0,(B493-B491)/(C493-C491)*(0-C491)+B491,B491)","v":-161.94828274164479},{"$f":"IF(AND(C491*C493<0,B493<>B491),(C493-C491)/(B493-B491)*(B492-B491)+C491,C491)","v":-21.344538202872144},2,-161.94828274164479,-21.344538202872144,null,null,null,null,-18628.300655230207,1218920.9101184786,13052.936511622549,-708062.62728343939]
[1,{"$f":"('Hull Long'!C140-$L$7)*SIN(RADIANS($O$7))+('Hull Plan'!C140-$K$7)*COS(RADIANS($O$7))+$M$7","v":10.910336077064073},{"$f":"('Hull Long'!C140-$L$7)*COS(RADIANS($O$7))-('Hull Plan'!C140-$K$7)*SIN(RADIANS($O$7))+$N$7","v":-194.18767861724774},2,10.910336077064073,-194.18767861724774,null,null,null,null,0,0,0,0]
[1,{"$f":"IF(C493*C495<0,(B495-B493)/(C495-C493)*(0-C493)+B493,B493)","v":10.910336077064073},{"$f":"IF(AND(C493*C495<0,B495<>B493),(C495-C493)/(B495-B493)*(B494-B493)+C493,C493)","v":-194.18767861724774},2,10.910336077064073,-194.18767861724774,null,null,null,null,-26383.18727729587,1750607.6791331733,20416.599185467832,1656073.968969275]
[1,{"$f":"('Hull Long'!C191-$L$7)*SIN(RADIANS($O$7))+('Hull Plan'!C191-$K$7)*COS(RADIANS($O$7))+$M$7","v":242.87324236197523},{"$f":"('Hull Long'!C191-$L$7)*COS(RADIANS($O$7))-('Hull Plan'!C191-$K$7)*SIN(RADIANS($O$7))+$N$7","v":-33.289961664517079},2,242.87324236197523,-33.289961664517079,null,null,null,null,554.11077381250846,-6148.7754727047677,7531.1301537546105,853414.43488714297]
[1,{"$f":"IF(C495*C497<0,(B497-B495)/(C497-C495)*(0-C495)+B495,B495)","v":209.58328069745815},{"$f":"IF(AND(C495*C497<0,B497<>B495),(C497-C495)/(B497-B495)*(B496-B495)+C495,C495)","v":-7.1054273576010019E-15},2,209.58328069745815,-7.1054273576010019E-15,null,null,null,null,1.3623839368674877E-12,-3.2267733655248009E-27,1.2679483949600143E-13,4.4668220726744077E-11]
[1,{"$f":"('Hull Long'!C191-$L$7)*SIN(RADIANS($O$7))+('Hull Plan'!F191-$K$7)*COS(RADIANS($O$7))+$M$7","v":-173.89370620328978},{"$f":"('Hull Long'!C191-$L$7)*COS(RADIANS($O$7))-('Hull Plan'!F191-$K$7)*SIN(RADIANS($O$7))+$N$7","v":383.47698690074787},2,-173.89370620328978,0,null,null,null,null,0,0,0,0]
[1,{"$f":"IF(C497*C499<0,(B499-B497)/(C499-C497)*(0-C497)+B497,B497)","v":-173.89370620328978},{"$f":"IF(AND(C497*C499<0,B499<>B497),(C499-C497)/(B499-B497)*(B498-B497)+C497,C497)","v":383.47698690074787},2,-173.89370620328978,0,null,null,null,null,0,0,0,0]
[1,{"$f":"('Hull Long'!C140-$L$7)*SIN(RADIANS($O$7))+('Hull Plan'!F140-$K$7)*COS(RADIANS($O$7))+$M$7","v":-334.79142315602041},{"$f":"('Hull Long'!C140-$L$7)*COS(RADIANS($O$7))-('Hull Plan'!F140-$K$7)*SIN(RADIANS($O$7))+$N$7","v":151.51408061583672},2,-334.79142315602041,0,null,null,null,null,0,0,0,0]
[1,{"$f":"IF(C499*C501<0,(B501-B499)/(C501-C499)*(0-C499)+B499,B499)","v":-183.29090967509418},{"$f":"IF(AND(C499*C501<0,B501<>B499),(C501-C499)/(B501-B499)*(B500-B499)+C499,C499)","v":2.8421709430404007E-14},2,-183.29090967509418,0,null,null,null,null,-227.7742579653293,1620.5787835906085,3684.4855658339061,-318412.31372264045]
[1,{"$f":"('Hull Long'!C89-$L$7)*SIN(RADIANS($O$7))+('Hull Plan'!F89-$K$7)*COS(RADIANS($O$7))+$M$7","v":-161.94828274164479},{"$f":"('Hull Long'!C89-$L$7)*COS(RADIANS($O$7))-('Hull Plan'!F89-$K$7)*SIN(RADIANS($O$7))+$N$7","v":-21.344538202872144},2,-161.94828274164479,-21.344538202872144,null,null,null,null,0,0,0,0]
[1,{"$f":"IF(C501*C503<0,(B503-B501)/(C503-C501)*(0-C501)+B501,B501)","v":-161.94828274164479},{"$f":"IF(AND(C501*C503<0,B503<>B501),(C503-C501)/(B503-B501)*(B502-B501)+C501,C501)","v":-21.344538202872144},2,-161.94828274164479,-21.344538202872144,null,null,null,null,0.16523926379159792,-1.7637976516034524,1.2535292640196225,-101.50588147356403]
[1,{"$f":"('Hull Long'!C38-$L$7)*SIN(RADIANS($O$7))+('Hull Plan'!F38-$K$7)*COS(RADIANS($O$7))+$M$7","v":-161.95602286267643},{"$f":"('Hull Long'!C38-$L$7)*COS(RADIANS($O$7))-('Hull Plan'!F38-$K$7)*SIN(RADIANS($O$7))+$N$7","v":-21.352278323903761},2,-161.95602286267643,-21.352278323903761,null,null,null,null,{"$f":"SUM(K489:K502)","v":-44685.151416678898},{"$f":"SUM(L489:L502)","v":2965000.3925625379},{"$f":"SUM(M489:M502)","v":44685.151416678891},{"$f":"SUM(N489:N502)","v":1483013.4628503378}]
[0,0,0,0,0,0,{"$f":"'Hull Long'!B90","v":2700},"vol","cx","cy","A","Acy","A","Acx"]
[1,{"$f":"('Hull Long'!C39-$L$7)*SIN(RADIANS($O$7))+('Hull Plan'!C39-$K$7)*COS(RADIANS($O$7))+$M$7","v":-161.24673365315289},{"$f":"('Hull Long'!C39-$L$7)*COS(RADIANS($O$7))-('Hull Plan'!C39-$K$7)*SIN(RADIANS($O$7))+$N$7","v":-20.642989114380242},2,{"$f":"B505","v":-161.24673365315289},{"$f":"IF(C505<0,C505,0)","v":-20.642989114380242},{"$f":"ABS(K519)/1000000","v":4.1362104787433282E-2},{"$f":"(G520-G504)*(G505+G521)/2000","v":3.9429253200901826E-3},{"$f":"IF(M519+M535<>0,(N519+N535)/(M519+M535),0)","v":24.006161289805046},{"$f":"IF(K519+K535<>0,(L519+L535)/(K519+K535),0)","v":-60.97174532445851},{"$f":"(F506+F505)/2*(E506-E505)","v":0},{"$f":"(E506-E505)*(F505^2+F505*F506+F506^2)/6","v":0},{"$f":"(E506+E505)/2*(F506-F505)","v":0},{"$f":"(F506-F505)*(E505^2+E505*E506+E506^2)/6","v":0}]
[1,{"$f":"IF(C505*C507<0,(B507-B505)/(C507-C505)*(0-C505)+B505,B505)","v":-161.24673365315289},{"$f":"IF(AND(C505*C507<0,B507<>B505),(C507-C505)/(B507-B505)*(B506-B505)+C505,C505)","v":-20.642989114380242},2,-161.24673365315289,-20.642989114380242,null,null,null,null,-0.21742179614619134,2.2435452906480475,-1.6987054075701602,136.95087521821137]
[1,{"$f":"('Hull Long'!C90-$L$7)*SIN(RADIANS($O$7))+('Hull Plan'!C90-$K$7)*COS(RADIANS($O$7))+$M$7","v":-161.2361984884154},{"$f":"('Hull Long'!C90-$L$7)*COS(RADIANS($O$7))-('Hull Plan'!C90-$K$7)*SIN(RADIANS($O$7))+$N$7","v":-20.632453949642752},2,-161.2361984884154,-20.632453949642752,null,null,null,null,0,0,0,0]
[1,{"$f":"IF(C507*C509<0,(B509-B507)/(C509-C507)*(0-C507)+B507,B507)","v":-161.2361984884154},{"$f":"IF(AND(C507*C509<0,B509<>B507),(C509-C507)/(B509-B507)*(B508-B507)+C507,C507)","v":-20.632453949642752},2,-161.2361984884154,-20.632453949642752,null,null,null,null,-17026.284698558342,1065476.4736869091,12989.586362833821,-698532.72630959831]
[1,{"$f":"('Hull Long'!C141-$L$7)*SIN(RADIANS($O$7))+('Hull Plan'!C141-$K$7)*COS(RADIANS($O$7))+$M$7","v":3.8239564942186917},{"$f":"('Hull Long'!C141-$L$7)*COS(RADIANS($O$7))-('Hull Plan'!C141-$K$7)*SIN(RADIANS($O$7))+$N$7","v":-185.67154110415652},2,3.8239564942186917,-185.67154110415652,null,null,null,null,0,0,0,0]
[1,{"$f":"IF(C509*C511<0,(B511-B509)/(C511-C509)*(0-C509)+B509,B509)","v":3.8239564942186917},{"$f":"IF(AND(C509*C511<0,B511<>B509),(C511-C509)/(B511-B509)*(B510-B509)+C509,C509)","v":-185.67154110415652},2,3.8239564942186917,-185.67154110415652,null,null,null,null,-24413.989025894422,1533569.4360678168,19417.038933229436,1531520.4819873478]
[1,{"$f":"('Hull Long'!C192-$L$7)*SIN(RADIANS($O$7))+('Hull Plan'!C192-$K$7)*COS(RADIANS($O$7))+$M$7","v":236.56440808998212},{"$f":"('Hull Long'!C192-$L$7)*COS(RADIANS($O$7))-('Hull Plan'!C192-$K$7)*SIN(RADIANS($O$7))+$N$7","v":-24.124296778791262},2,236.56440808998212,-24.124296778791262,null,null,null,null,290.99084753559924,-2339.9831886202651,5415.9591405262181,608532.5285442461]
[1,{"$f":"IF(C511*C513<0,(B513-B511)/(C513-C511)*(0-C511)+B511,B511)","v":212.44011131119086},{"$f":"IF(AND(C511*C513<0,B513<>B511),(C513-C511)/(B513-B511)*(B512-B511)+C511,C511)","v":0},2,212.44011131119086,0,null,null,null,null,0,0,0,0]
[1,{"$f":"('Hull Long'!C192-$L$7)*SIN(RADIANS($O$7))+('Hull Plan'!F192-$K$7)*COS(RADIANS($O$7))+$M$7","v":-164.72804131756396},{"$f":"('Hull Long'!C192-$L$7)*COS(RADIANS($O$7))-('Hull Plan'!F192-$K$7)*SIN(RADIANS($O$7))+$N$7","v":377.1681526287548},2,-164.72804131756396,0,null,null,null,null,0,0,0,0]
[1,{"$f":"IF(C513*C515<0,(B515-B513)/(C515-C513)*(0-C513)+B513,B513)","v":-164.72804131756396},{"$f":"IF(AND(C513*C515<0,B515<>B513),(C515-C513)/(B515-B513)*(B514-B513)+C513,C513)","v":377.1681526287548},2,-164.72804131756396,0,null,null,null,null,0,0,0,0]
[1,{"$f":"('Hull Long'!C141-$L$7)*SIN(RADIANS($O$7))+('Hull Plan'!F141-$K$7)*COS(RADIANS($O$7))+$M$7","v":-326.27528564292919},{"$f":"('Hull Long'!C141-$L$7)*COS(RADIANS($O$7))-('Hull Plan'!F141-$K$7)*SIN(RADIANS($O$7))+$N$7","v":144.42770103299131},2,-326.27528564292919,0,null,null,null,null,0,0,0,0]
[1,{"$f":"IF(C515*C517<0,(B517-B515)/(C517-C515)*(0-C515)+B515,B515)","v":-181.86601896789355},{"$f":"IF(AND(C515*C517<0,B517<>B515),(C517-C515)/(B517-B515)*(B516-B515)+C515,C515)","v":0},2,-181.86601896789355,0,null,null,null,null,-212.821910516115,1463.679422732911,3539.520350843804,-303970.19342723105]
[1,{"$f":"('Hull Long'!C90-$L$7)*SIN(RADIANS($O$7))+('Hull Plan'!F90-$K$7)*COS(RADIANS($O$7))+$M$7","v":-161.2361984884154},{"$f":"('Hull Long'!C90-$L$7)*COS(RADIANS($O$7))-('Hull Plan'!F90-$K$7)*SIN(RADIANS($O$7))+$N$7","v":-20.632453949642752},2,-161.2361984884154,-20.632453949642752,null,null,null,null,0,0,0,0]
[1,{"$f":"IF(C517*C519<0,(B519-B517)/(C519-C517)*(0-C517)+B517,B517)","v":-161.2361984884154},{"$f":"IF(AND(C517*C519<0,B519<>B517),(C519-C517)/(B519-B517)*(B518-B517)+C517,C517)","v":-20.632453949642752},2,-161.2361984884154,-20.632453949642752,null,null,null,null,0.21742179614619134,-2.2435452906480475,1.6987054075701602,-136.95087521821137]
[1,{"$f":"('Hull Long'!C39-$L$7)*SIN(RADIANS($O$7))+('Hull Plan'!F39-$K$7)*COS(RADIANS($O$7))+$M$7","v":-161.24673365315289},{"$f":"('Hull Long'!C39-$L$7)*COS(RADIANS($O$7))-('Hull Plan'!F39-$K$7)*SIN(RADIANS($O$7))+$N$7","v":-20.642989114380242},2,-161.24673365315289,-20.642989114380242,null,null,null,null,{"$f":"SUM(K505:K518)","v":-41362.10478743328},{"$f":"SUM(L505:L518)","v":2598169.6059888382},{"$f":"SUM(M505:M518)","v":41362.10478743328},{"$f":"SUM(N505:N518)","v":1137550.0907947647}]
[0,0,0,0,0,0,{"$f":"'Hull Long'!B91","v":2800},"vol","cx","cy","A","Acy","A","Acx"]
[1,{"$f":"('Hull Long'!C40-$L$7)*SIN(RADIANS($O$7))+('Hull Plan'!C40-$K$7)*COS(RADIANS($O$7))+$M$7","v":-160.42832302677957},{"$f":"('Hull Long'!C40-$L$7)*COS(RADIANS($O$7))-('Hull Plan'!C40-$K$7)*SIN(RADIANS($O$7))+$N$7","v":-19.824578488006921},2,{"$f":"B521","v":-160.42832302677957},{"$f":"IF(C521<0,C521,0)","v":-19.824578488006921},{"$f":"ABS(K535)/1000000","v":3.7496401614370352E-2},{"$f":"(G536-G520)*(G521+G537)/2000","v":3.5285489189837878E-3},{"$f":"IF(M535+M551<>0,(N535+N551)/(M535+M551),0)","v":15.586540446309865},{"$f":"IF(K535+K551<>0,(L535+L551)/(K535+K551),0)","v":-57.049341314446949},{"$f":"(F522+F521)/2*(E522-E521)","v":0},{"$f":"(E522-E521)*(F521^2+F521*F522+F522^2)/6","v":0},{"$f":"(E522+E521)/2*(F522-F521)","v":0},{"$f":"(F522-F521)*(E521^2+E521*E522+E522^2)/6","v":0}]
[1,{"$f":"IF(C521*C523<0,(B523-B521)/(C523-C521)*(0-C521)+B521,B521)","v":-160.42832302677957},{"$f":"IF(AND(C521*C523<0,B523<>B521),(C523-C521)/(B523-B521)*(B522-B521)+C521,C521)","v":-19.824578488006921},2,-160.42832302677957,-19.824578488006921,null,null,null,null,-0.27269579383602421,2.7021016044848545,-2.2074335720229215,177.05983949465454]
[1,{"$f":"('Hull Long'!C91-$L$7)*SIN(RADIANS($O$7))+('Hull Plan'!C91-$K$7)*COS(RADIANS($O$7))+$M$7","v":-160.41456281161223},{"$f":"('Hull Long'!C91-$L$7)*COS(RADIANS($O$7))-('Hull Plan'!C91-$K$7)*SIN(RADIANS($O$7))+$N$7","v":-19.810818272839583},2,-160.41456281161223,-19.810818272839583,null,null,null,null,0,0,0,0]
[1,{"$f":"IF(C523*C525<0,(B525-B523)/(C525-C523)*(0-C523)+B523,B523)","v":-160.41456281161223},{"$f":"IF(AND(C523*C525<0,B525<>B523),(C525-C523)/(B525-B523)*(B524-B523)+C523,C523)","v":-19.810818272839583},2,-160.41456281161223,-19.810818272839583,null,null,null,null,-15267.229898140182,905098.07608768821,12854.676300907498,-687851.78291072033]
[1,{"$f":"('Hull Long'!C142-$L$7)*SIN(RADIANS($O$7))+('Hull Plan'!C142-$K$7)*COS(RADIANS($O$7))+$M$7","v":-4.3526353321413467},{"$f":"('Hull Long'!C142-$L$7)*COS(RADIANS($O$7))-('Hull Plan'!C142-$K$7)*SIN(RADIANS($O$7))+$N$7","v":-175.84522858905126},2,-4.3526353321413467,-175.84522858905126,null,null,null,null,0,0,0,0]
[1,{"$f":"IF(C525*C527<0,(B527-B525)/(C527-C525)*(0-C525)+B525,B525)","v":-4.3526353321413467},{"$f":"IF(AND(C525*C527<0,B527<>B525),(C527-C525)/(B527-B525)*(B526-B525)+C525,C525)","v":-175.84522858905126},2,-4.3526353321413467,-175.84522858905126,null,null,null,null,-22124.753383543932,1303991.9623285474,18252.8888363105,1395550.2380786769]
[1,{"$f":"('Hull Long'!C193-$L$7)*SIN(RADIANS($O$7))+('Hull Plan'!C193-$K$7)*COS(RADIANS($O$7))+$M$7","v":229.28498392999009},{"$f":"('Hull Long'!C193-$L$7)*COS(RADIANS($O$7))-('Hull Plan'!C193-$K$7)*SIN(RADIANS($O$7))+$N$7","v":-13.548529602953806},2,229.28498392999009,-13.548529602953806,null,null,null,null,91.78132720105782,-414.50067619397373,3014.6930650872005,335504.38610119576]
[1,{"$f":"IF(C527*C529<0,(B529-B527)/(C529-C527)*(0-C527)+B527,B527)","v":215.73645432703628},{"$f":"IF(AND(C527*C529<0,B529<>B527),(C529-C527)/(B529-B527)*(B528-B527)+C527,C527)","v":-1.7763568394002505E-15},2,215.73645432703628,-1.7763568394002505E-15,null,null,null,null,3.2852718631627446E-13,-1.9452717144727817E-28,5.4697739835516203E-14,1.0968670800935498E-11]
[1,{"$f":"('Hull Long'!C193-$L$7)*SIN(RADIANS($O$7))+('Hull Plan'!F193-$K$7)*COS(RADIANS($O$7))+$M$7","v":-154.15227414172651},{"$f":"('Hull Long'!C193-$L$7)*COS(RADIANS($O$7))-('Hull Plan'!F193-$K$7)*SIN(RADIANS($O$7))+$N$7","v":369.88872846876274},2,-154.15227414172651,0,null,null,null,null,0,0,0,0]
[1,{"$f":"IF(C529*C531<0,(B531-B529)/(C531-C529)*(0-C529)+B529,B529)","v":-154.15227414172651},{"$f":"IF(AND(C529*C531<0,B531<>B529),(C531-C529)/(B531-B529)*(B530-B529)+C529,C529)","v":369.88872846876274},2,-154.15227414172651,0,null,null,null,null,0,0,0,0]
[1,{"$f":"('Hull Long'!C142-$L$7)*SIN(RADIANS($O$7))+('Hull Plan'!F142-$K$7)*COS(RADIANS($O$7))+$M$7","v":-316.44897312782393},{"$f":"('Hull Long'!C142-$L$7)*COS(RADIANS($O$7))-('Hull Plan'!F142-$K$7)*SIN(RADIANS($O$7))+$N$7","v":136.2511092066313},2,-316.44897312782393,0,null,null,null,null,0,0,0,0]
[1,{"$f":"IF(C531*C533<0,(B533-B531)/(C533-C531)*(0-C531)+B531,B531)","v":-180.22188799981859},{"$f":"IF(AND(C531*C533<0,B533<>B531),(C533-C531)/(B533-B531)*(B532-B531)+C531,C531)","v":0},2,-180.22188799981859,0,null,null,null,null,-196.19965988729717,1295.6252690733927,3374.1434120651575,-287662.90830909519]
[1,{"$f":"('Hull Long'!C91-$L$7)*SIN(RADIANS($O$7))+('Hull Plan'!F91-$K$7)*COS(RADIANS($O$7))+$M$7","v":-160.41456281161223},{"$f":"('Hull Long'!C91-$L$7)*COS(RADIANS($O$7))-('Hull Plan'!F91-$K$7)*SIN(RADIANS($O$7))+$N$7","v":-19.810818272839583},2,-160.41456281161223,-19.810818272839583,null,null,null,null,0,0,0,0]
[1,{"$f":"IF(C533*C535<0,(B535-B533)/(C535-C533)*(0-C533)+B533,B533)","v":-160.41456281161223},{"$f":"IF(AND(C533*C535<0,B535<>B533),(C535-C533)/(B535-B533)*(B534-B533)+C533,C533)","v":-19.810818272839583},2,-160.41456281161223,-19.810818272839583,null,null,null,null,0.27269579383602421,-2.702101604484854,2.2074335720229215,-177.05983949465454]
[1,{"$f":"('Hull Long'!C40-$L$7)*SIN(RADIANS($O$7))+('Hull Plan'!F40-$K$7)*COS(RADIANS($O$7))+$M$7","v":-160.42832302677957},{"$f":"('Hull Long'!C40-$L$7)*COS(RADIANS($O$7))-('Hull Plan'!F40-$K$7)*SIN(RADIANS($O$7))+$N$7","v":-19.824578488006921},2,-160.42832302677957,-19.824578488006921,null,null,null,null,{"$f":"SUM(K521:K534)","v":-37496.401614370348},{"$f":"SUM(L521:L534)","v":2209971.1630091146},{"$f":"SUM(M521:M534)","v":37496.401614370363},{"$f":"SUM(N521:N534)","v":755539.93296005717}]
[0,0,0,0,0,0,{"$f":"'Hull Long'!B92","v":2900},"vol","cx","cy","A","Acy","A","Acx"]
[1,{"$f":"('Hull Long'!C41-$L$7)*SIN(RADIANS($O$7))+('Hull Plan'!C41-$K$7)*COS(RADIANS($O$7))+$M$7","v":-159.50079098355647},{"$f":"('Hull Long'!C41-$L$7)*COS(RADIANS($O$7))-('Hull Plan'!C41-$K$7)*SIN(RADIANS($O$7))+$N$7","v":-18.897046444783825},2,{"$f":"B537","v":-159.50079098355647},{"$f":"IF(C537<0,C537,0)","v":-18.897046444783825},{"$f":"ABS(K551)/1000000","v":3.3074576765305404E-2},{"$f":"(G552-G536)*(G537+G553)/2000","v":3.0663281821465853E-3},{"$f":"IF(M551+M567<>0,(N551+N567)/(M551+M567),0)","v":4.779073115737507},{"$f":"IF(K551+K567<>0,(L551+L567)/(K551+K567),0)","v":-52.994381524064892},{"$f":"(F538+F537)/2*(E538-E537)","v":0},{"$f":"(E538-E537)*(F537^2+F537*F538+F538^2)/6","v":0},{"$f":"(E538+E537)/2*(F538-F537)","v":0},{"$f":"(F538-F537)*(E537^2+E537*E538+E538^2)/6","v":0}]
[1,{"$f":"IF(C537*C539<0,(B539-B537)/(C539-C537)*(0-C537)+B537,B537)","v":-159.50079098355647},{"$f":"IF(AND(C537*C539<0,B539<>B537),(C539-C537)/(B539-B537)*(B538-B537)+C537,C537)","v":-18.897046444783825},2,-159.50079098355647,-18.897046444783825,null,null,null,null,-0.32894556404649233,3.1066178517314014,-2.7775980645639096,221.50245122957577]
[1,{"$f":"('Hull Long'!C92-$L$7)*SIN(RADIANS($O$7))+('Hull Plan'!C92-$K$7)*COS(RADIANS($O$7))+$M$7","v":-159.48337571123531},{"$f":"('Hull Long'!C92-$L$7)*COS(RADIANS($O$7))-('Hull Plan'!C92-$K$7)*SIN(RADIANS($O$7))+$N$7","v":-18.879631172462666},2,-159.48337571123531,-18.879631172462666,null,null,null,null,0,0,0,0]
[1,{"$f":"IF(C539*C541<0,(B541-B539)/(C541-C539)*(0-C539)+B539,B539)","v":-159.48337571123531},{"$f":"IF(AND(C539*C541<0,B541<>B539),(C541-C539)/(B541-B539)*(B540-B539)+C539,C539)","v":-18.879631172462666},2,-159.48337571123531,-18.879631172462666,null,null,null,null,-13389.46131808481,743785.74085803889,12621.714724528931,-675492.84295557078]
[1,{"$f":"('Hull Long'!C143-$L$7)*SIN(RADIANS($O$7))+('Hull Plan'!C143-$K$7)*COS(RADIANS($O$7))+$M$7","v":-13.61943940201607},{"$f":"('Hull Long'!C143-$L$7)*COS(RADIANS($O$7))-('Hull Plan'!C143-$K$7)*SIN(RADIANS($O$7))+$N$7","v":-164.70874107193202},2,-13.61943940201607,-164.70874107193202,null,null,null,null,0,0,0,0]
[1,{"$f":"IF(C541*C543<0,(B543-B541)/(C543-C541)*(0-C541)+B541,B541)","v":-13.61943940201607},{"$f":"IF(AND(C541*C543<0,B543<>B541),(C543-C541)/(B543-B541)*(B542-B541)+C541,C541)","v":-164.70874107193202},2,-13.61943940201607,-164.70874107193202,null,null,null,null,-19508.158715754264,1071150.2549302916,16919.515461424107,1251645.1675703621]
[1,{"$f":"('Hull Long'!C194-$L$7)*SIN(RADIANS($O$7))+('Hull Plan'!C194-$K$7)*COS(RADIANS($O$7))+$M$7","v":221.03496988199913},{"$f":"('Hull Long'!C194-$L$7)*COS(RADIANS($O$7))-('Hull Plan'!C194-$K$7)*SIN(RADIANS($O$7))+$N$7","v":-1.5626601370046558},2,221.03496988199913,-1.5626601370046558,null,null,null,null,1.2209533518917051,-0.63597837738112861,344.18158296673295,37903.782197191329]
[1,{"$f":"IF(C543*C545<0,(B545-B543)/(C545-C543)*(0-C543)+B543,B543)","v":219.47230974499448},{"$f":"IF(AND(C543*C545<0,B545<>B543),(C545-C543)/(B545-B543)*(B544-B543)+C543,C543)","v":-4.4408920985006262E-16},2,219.47230974499448,-4.4408920985006262E-16,null,null,null,null,8.0299925469156511E-14,-1.1886776817538878E-29,1.716535914946629E-14,2.751709390784377E-12]
[1,{"$f":"('Hull Long'!C194-$L$7)*SIN(RADIANS($O$7))+('Hull Plan'!F194-$K$7)*COS(RADIANS($O$7))+$M$7","v":-142.16640467577736},{"$f":"('Hull Long'!C194-$L$7)*COS(RADIANS($O$7))-('Hull Plan'!F194-$K$7)*SIN(RADIANS($O$7))+$N$7","v":361.63871442077175},2,-142.16640467577736,0,null,null,null,null,0,0,0,0]
[1,{"$f":"IF(C545*C547<0,(B547-B545)/(C547-C545)*(0-C545)+B545,B545)","v":-142.16640467577736},{"$f":"IF(AND(C545*C547<0,B547<>B545),(C547-C545)/(B547-B545)*(B546-B545)+C545,C545)","v":361.63871442077175},2,-142.16640467577736,0,null,null,null,null,0,0,0,0]
[1,{"$f":"('Hull Long'!C143-$L$7)*SIN(RADIANS($O$7))+('Hull Plan'!F143-$K$7)*COS(RADIANS($O$7))+$M$7","v":-305.3124856107047},{"$f":"('Hull Long'!C143-$L$7)*COS(RADIANS($O$7))-('Hull Plan'!F143-$K$7)*SIN(RADIANS($O$7))+$N$7","v":126.98430513675655},2,-305.3124856107047,0,null,null,null,null,0,0,0,0]
[1,{"$f":"IF(C547*C549<0,(B549-B547)/(C549-C547)*(0-C547)+B547,B547)","v":-178.35849919120199},{"$f":"IF(AND(C547*C549<0,B549<>B547),(C549-C547)/(B549-B547)*(B548-B547)+C547,C547)","v":0},2,-178.35849919120199,0,null,null,null,null,-178.1776848182304,1121.3096575104971,3189.1649963856439,-269638.63092156424]
[1,{"$f":"('Hull Long'!C92-$L$7)*SIN(RADIANS($O$7))+('Hull Plan'!F92-$K$7)*COS(RADIANS($O$7))+$M$7","v":-159.48337571123531},{"$f":"('Hull Long'!C92-$L$7)*COS(RADIANS($O$7))-('Hull Plan'!F92-$K$7)*SIN(RADIANS($O$7))+$N$7","v":-18.879631172462666},2,-159.48337571123531,-18.879631172462666,null,null,null,null,0,0,0,0]
[1,{"$f":"IF(C549*C551<0,(B551-B549)/(C551-C549)*(0-C549)+B549,B549)","v":-159.48337571123531},{"$f":"IF(AND(C549*C551<0,B551<>B549),(C551-C549)/(B551-B549)*(B550-B549)+C549,C549)","v":-18.879631172462666},2,-159.48337571123531,-18.879631172462666,null,null,null,null,0.32894556404649233,-3.1066178517314005,2.7775980645639096,-221.50245122957577]
[1,{"$f":"('Hull Long'!C41-$L$7)*SIN(RADIANS($O$7))+('Hull Plan'!F41-$K$7)*COS(RADIANS($O$7))+$M$7","v":-159.50079098355647},{"$f":"('Hull Long'!C41-$L$7)*COS(RADIANS($O$7))-('Hull Plan'!F41-$K$7)*SIN(RADIANS($O$7))+$N$7","v":-18.897046444783825},2,-159.50079098355647,-18.897046444783825,null,null,null,null,{"$f":"SUM(K537:K550)","v":-33074.576765305406},{"$f":"SUM(L537:L550)","v":1816056.6694674639},{"$f":"SUM(M537:M550)","v":33074.576765305421},{"$f":"SUM(N537:N550)","v":344417.47589041851}]
[0,0,0,0,0,0,{"$f":"'Hull Long'!B93","v":3000},"vol","cx","cy","A","Acy","A","Acx"]
[1,{"$f":"('Hull Long'!C42-$L$7)*SIN(RADIANS($O$7))+('Hull Plan'!C42-$K$7)*COS(RADIANS($O$7))+$M$7","v":-158.4641375234836},{"$f":"('Hull Long'!C42-$L$7)*COS(RADIANS($O$7))-('Hull Plan'!C42-$K$7)*SIN(RADIANS($O$7))+$N$7","v":-17.860392984710927},2,{"$f":"B553","v":-158.4641375234836},{"$f":"IF(C553<0,C553,0)","v":-17.860392984710927},{"$f":"ABS(K567)/1000000","v":2.8251986877626308E-2},{"$f":"(G568-G552)*(G553+G569)/2000","v":2.5807928474988265E-3},{"$f":"IF(M567+M583<>0,(N567+N583)/(M567+M583),0)","v":-7.9387889512418104},{"$f":"IF(K567+K583<>0,(L567+L583)/(K567+K583),0)","v":-48.678534807154307},{"$f":"(F554+F553)/2*(E554-E553)","v":0},{"$f":"(E554-E553)*(F553^2+F553*F554+F554^2)/6","v":0},{"$f":"(E554+E553)/2*(F554-F553)","v":0},{"$f":"(F554-F553)*(E553^2+E553*E554+E554^2)/6","v":0}]
[1,{"$f":"IF(C553*C555<0,(B555-B553)/(C555-C553)*(0-C553)+B553,B553)","v":-158.4641375234836},{"$f":"IF(AND(C553*C555<0,B555<>B553),(C555-C553)/(B555-B553)*(B554-B553)+C553,C553)","v":-17.860392984710927},2,-158.4641375234836,-17.860392984710927,null,null,null,null,-0.38377332158840011,3.4251087705671384,-3.4068010999994254,269.9095875845972]
[1,{"$f":"('Hull Long'!C93-$L$7)*SIN(RADIANS($O$7))+('Hull Plan'!C93-$K$7)*COS(RADIANS($O$7))+$M$7","v":-158.44263718728465},{"$f":"('Hull Long'!C93-$L$7)*COS(RADIANS($O$7))-('Hull Plan'!C93-$K$7)*SIN(RADIANS($O$7))+$N$7","v":-17.838892648512001},2,-158.44263718728465,-17.838892648512001,null,null,null,null,0,0,0,0]
[1,{"$f":"IF(C555*C557<0,(B557-B555)/(C557-C555)*(0-C555)+B555,B555)","v":-158.44263718728465},{"$f":"IF(AND(C555*C557<0,B557<>B555),(C557-C555)/(B557-B555)*(B556-B555)+C555,C555)","v":-17.838892648512001},2,-158.44263718728465,-17.838892648512001,null,null,null,null,-11436.414031049175,587575.83173455065,12260.677818874834,-660417.36152611801]
[1,{"$f":"('Hull Long'!C144-$L$7)*SIN(RADIANS($O$7))+('Hull Plan'!C144-$K$7)*COS(RADIANS($O$7))+$M$7","v":-23.97645571540545},{"$f":"('Hull Long'!C144-$L$7)*COS(RADIANS($O$7))-('Hull Plan'!C144-$K$7)*SIN(RADIANS($O$7))+$N$7","v":-152.26207855279876},2,-23.97645571540545,-152.26207855279876,null,null,null,null,-16656.510677518028,845384.97906526027,13005.805693961262,859146.17377445742]
[1,{"$f":"IF(C557*C559<0,(B559-B557)/(C559-C557)*(0-C557)+B557,B557)","v":194.81092504062667},{"$f":"IF(AND(C557*C559<0,B559<>B557),(C559-C557)/(B559-B557)*(B558-B557)+C557,C557)","v":0},2,194.81092504062667,0,null,null,null,null,0,0,0,0]
[1,{"$f":"('Hull Long'!C195-$L$7)*SIN(RADIANS($O$7))+('Hull Plan'!C195-$K$7)*COS(RADIANS($O$7))+$M$7","v":211.81436594600919},{"$f":"('Hull Long'!C195-$L$7)*COS(RADIANS($O$7))-('Hull Plan'!C195-$K$7)*SIN(RADIANS($O$7))+$N$7","v":11.83331161905619},2,211.81436594600919,0,null,null,null,null,0,0,0,0]
[1,{"$f":"IF(C559*C561<0,(B561-B559)/(C561-C559)*(0-C559)+B559,B559)","v":211.81436594600919},{"$f":"IF(AND(C559*C561<0,B561<>B559),(C561-C559)/(B561-B559)*(B560-B559)+C559,C559)","v":11.83331161905619},2,211.81436594600919,0,null,null,null,null,0,0,0,0]
[1,{"$f":"('Hull Long'!C195-$L$7)*SIN(RADIANS($O$7))+('Hull Plan'!F195-$K$7)*COS(RADIANS($O$7))+$M$7","v":-128.77043291971651},{"$f":"('Hull Long'!C195-$L$7)*COS(RADIANS($O$7))-('Hull Plan'!F195-$K$7)*SIN(RADIANS($O$7))+$N$7","v":352.41811048478183},2,-128.77043291971651,0,null,null,null,null,0,0,0,0]
[1,{"$f":"IF(C561*C563<0,(B563-B561)/(C563-C561)*(0-C561)+B561,B561)","v":-128.77043291971651},{"$f":"IF(AND(C561*C563<0,B563<>B561),(C563-C561)/(B563-B561)*(B562-B561)+C561,C561)","v":352.41811048478183},2,-128.77043291971651,0,null,null,null,null,0,0,0,0]
[1,{"$f":"('Hull Long'!C144-$L$7)*SIN(RADIANS($O$7))+('Hull Plan'!F144-$K$7)*COS(RADIANS($O$7))+$M$7","v":-292.86582309157143},{"$f":"('Hull Long'!C144-$L$7)*COS(RADIANS($O$7))-('Hull Plan'!F144-$K$7)*SIN(RADIANS($O$7))+$N$7","v":116.62728882336717},2,-292.86582309157143,0,null,null,null,null,0,0,0,0]
[1,{"$f":"IF(C563*C565<0,(B565-B563)/(C565-C563)*(0-C563)+B563,B563)","v":-176.27582584906745},{"$f":"IF(AND(C563*C565<0,B565<>B563),(C565-C563)/(B565-B563)*(B564-B563)+C563,C563)","v":0},2,-176.27582584906745,0,null,null,null,null,-159.06216905910236,945.83098609493152,2985.5033647902087,-250062.15655225769]
[1,{"$f":"('Hull Long'!C93-$L$7)*SIN(RADIANS($O$7))+('Hull Plan'!F93-$K$7)*COS(RADIANS($O$7))+$M$7","v":-158.44263718728465},{"$f":"('Hull Long'!C93-$L$7)*COS(RADIANS($O$7))-('Hull Plan'!F93-$K$7)*SIN(RADIANS($O$7))+$N$7","v":-17.838892648512001},2,-158.44263718728465,-17.838892648512001,null,null,null,null,0,0,0,0]
[1,{"$f":"IF(C565*C567<0,(B567-B565)/(C567-C565)*(0-C565)+B565,B565)","v":-158.44263718728465},{"$f":"IF(AND(C565*C567<0,B567<>B565),(C567-C565)/(B567-B565)*(B566-B565)+C565,C565)","v":-17.838892648512001},2,-158.44263718728465,-17.838892648512001,null,null,null,null,0.38377332158840011,-3.4251087705671384,3.4068010999994254,-269.9095875845972]
[1,{"$f":"('Hull Long'!C42-$L$7)*SIN(RADIANS($O$7))+('Hull Plan'!F42-$K$7)*COS(RADIANS($O$7))+$M$7","v":-158.4641375234836},{"$f":"('Hull Long'!C42-$L$7)*COS(RADIANS($O$7))-('Hull Plan'!F42-$K$7)*SIN(RADIANS($O$7))+$N$7","v":-17.860392984710927},2,-158.4641375234836,-17.860392984710927,null,null,null,null,{"$f":"SUM(K553:K566)","v":-28251.986877626307},{"$f":"SUM(L553:L566)","v":1433906.6417859057},{"$f":"SUM(M553:M566)","v":28251.986877626303},{"$f":"SUM(N553:N566)","v":-51333.344303918318}]
[0,0,0,0,0,0,{"$f":"'Hull Long'!B94","v":3100},"vol","cx","cy","A","Acy","A","Acx"]
[1,{"$f":"('Hull Long'!C43-$L$7)*SIN(RADIANS($O$7))+('Hull Plan'!C43-$K$7)*COS(RADIANS($O$7))+$M$7","v":-157.31836264656096},{"$f":"('Hull Long'!C43-$L$7)*COS(RADIANS($O$7))-('Hull Plan'!C43-$K$7)*SIN(RADIANS($O$7))+$N$7","v":-16.714618107788311},2,{"$f":"B569","v":-157.31836264656096},{"$f":"IF(C569<0,C569,0)","v":-16.714618107788311},{"$f":"ABS(K583)/1000000","v":2.3363870072350225E-2},{"$f":"(G584-G568)*(G569+G585)/2000","v":2.0954782605443847E-3},{"$f":"IF(M583+M599<>0,(N583+N599)/(M583+M599),0)","v":-21.888649174423374},{"$f":"IF(K583+K599<>0,(L583+L599)/(K583+K599),0)","v":-43.94617635003199},{"$f":"(F570+F569)/2*(E570-E569)","v":0},{"$f":"(E570-E569)*(F569^2+F569*F570+F570^2)/6","v":0},{"$f":"(E570+E569)/2*(F570-F569)","v":0},{"$f":"(F570-F569)*(E569^2+E569*E570+E570^2)/6","v":0}]
[1,{"$f":"IF(C569*C571<0,(B571-B569)/(C571-C569)*(0-C569)+B569,B569)","v":-157.31836264656096},{"$f":"IF(AND(C569*C571<0,B571<>B569),(C571-C569)/(B571-B569)*(B570-B569)+C569,C569)","v":-16.714618107788311},2,-157.31836264656096,-16.714618107788311,null,null,null,null,-0.43449918889782951,3.6284188206330339,-4.0923628007830564,321.87529220031871]
[1,{"$f":"('Hull Long'!C94-$L$7)*SIN(RADIANS($O$7))+('Hull Plan'!C94-$K$7)*COS(RADIANS($O$7))+$M$7","v":-157.2923472397602},{"$f":"('Hull Long'!C94-$L$7)*COS(RADIANS($O$7))-('Hull Plan'!C94-$K$7)*SIN(RADIANS($O$7))+$N$7","v":-16.688602700987559},2,-157.2923472397602,-16.688602700987559,null,null,null,null,0,0,0,0]
[1,{"$f":"IF(C571*C573<0,(B573-B571)/(C573-C571)*(0-C571)+B571,B571)","v":-157.2923472397602},{"$f":"IF(AND(C571*C573<0,B573<>B571),(C573-C571)/(B573-B571)*(B572-B571)+C571,C571)","v":-16.688602700987559},2,-157.2923472397602,-16.688602700987559,null,null,null,null,-9456.6331182380945,442254.67905108235,11738.009555613311,-640909.70407904929]
[1,{"$f":"('Hull Long'!C145-$L$7)*SIN(RADIANS($O$7))+('Hull Plan'!C145-$K$7)*COS(RADIANS($O$7))+$M$7","v":-35.423684272309529},{"$f":"('Hull Long'!C145-$L$7)*COS(RADIANS($O$7))-('Hull Plan'!C145-$K$7)*SIN(RADIANS($O$7))+$N$7","v":-138.50524103165145},2,-35.423684272309529,-138.50524103165145,null,null,null,null,-13768.041670648978,635648.6433756859,8861.6757422836217,511589.38001451432]
[1,{"$f":"IF(C573*C575<0,(B575-B573)/(C575-C573)*(0-C573)+B573,B573)","v":163.38527874018297},{"$f":"IF(AND(C573*C575<0,B575<>B573),(C575-C573)/(B575-B573)*(B574-B573)+C573,C573)","v":-2.8421709430404007E-14},2,163.38527874018297,-2.8421709430404007E-14,null,null,null,null,-5.4339314746467524E-13,5.1480540479045588E-27,5.1870820650237205E-12,4.7506371469878799E-10]
[1,{"$f":"('Hull Long'!C196-$L$7)*SIN(RADIANS($O$7))+('Hull Plan'!C196-$K$7)*COS(RADIANS($O$7))+$M$7","v":201.62317212202035},{"$f":"('Hull Long'!C196-$L$7)*COS(RADIANS($O$7))-('Hull Plan'!C196-$K$7)*SIN(RADIANS($O$7))+$N$7","v":26.639385665228701},2,201.62317212202035,0,null,null,null,null,0,0,0,0]
[1,{"$f":"IF(C575*C577<0,(B577-B575)/(C577-C575)*(0-C575)+B575,B575)","v":201.62317212202035},{"$f":"IF(AND(C575*C577<0,B577<>B575),(C577-C575)/(B577-B575)*(B576-B575)+C575,C575)","v":26.639385665228701},2,201.62317212202035,0,null,null,null,null,0,0,0,0]
[1,{"$f":"('Hull Long'!C196-$L$7)*SIN(RADIANS($O$7))+('Hull Plan'!F196-$K$7)*COS(RADIANS($O$7))+$M$7","v":-113.964358873544},{"$f":"('Hull Long'!C196-$L$7)*COS(RADIANS($O$7))-('Hull Plan'!F196-$K$7)*SIN(RADIANS($O$7))+$N$7","v":342.22691666079299},2,-113.964358873544,0,null,null,null,null,0,0,0,0]
[1,{"$f":"IF(C577*C579<0,(B579-B577)/(C579-C577)*(0-C577)+B577,B577)","v":-113.964358873544},{"$f":"IF(AND(C577*C579<0,B579<>B577),(C579-C577)/(B579-B577)*(B578-B577)+C577,C577)","v":342.22691666079299},2,-113.964358873544,0,null,null,null,null,0,0,0,0]
[1,{"$f":"('Hull Long'!C145-$L$7)*SIN(RADIANS($O$7))+('Hull Plan'!F145-$K$7)*COS(RADIANS($O$7))+$M$7","v":-279.10898557042412},{"$f":"('Hull Long'!C145-$L$7)*COS(RADIANS($O$7))-('Hull Plan'!F145-$K$7)*SIN(RADIANS($O$7))+$N$7","v":105.18006026646313},2,-279.10898557042412,0,null,null,null,null,0,0,0,0]
[1,{"$f":"IF(C579*C581<0,(B581-B579)/(C581-C579)*(0-C579)+B579,B579)","v":-173.97382572626265},{"$f":"IF(AND(C579*C581<0,B581<>B579),(C581-C579)/(B581-B579)*(B580-B579)+C579,C579)","v":1.4210854715202004E-14},2,-173.97382572626265,0,null,null,null,null,-139.19528346315525,774.32492785598049,2764.1847744532906,-229113.72649489876]
[1,{"$f":"('Hull Long'!C94-$L$7)*SIN(RADIANS($O$7))+('Hull Plan'!F94-$K$7)*COS(RADIANS($O$7))+$M$7","v":-157.2923472397602},{"$f":"('Hull Long'!C94-$L$7)*COS(RADIANS($O$7))-('Hull Plan'!F94-$K$7)*SIN(RADIANS($O$7))+$N$7","v":-16.688602700987559},2,-157.2923472397602,-16.688602700987559,null,null,null,null,0,0,0,0]
[1,{"$f":"IF(C581*C583<0,(B583-B581)/(C583-C581)*(0-C581)+B581,B581)","v":-157.2923472397602},{"$f":"IF(AND(C581*C583<0,B583<>B581),(C583-C581)/(B583-B581)*(B582-B581)+C581,C581)","v":-16.688602700987559},2,-157.2923472397602,-16.688602700987559,null,null,null,null,0.43449918889782951,-3.6284188206330339,4.0923628007830564,-321.87529220031871]
[1,{"$f":"('Hull Long'!C43-$L$7)*SIN(RADIANS($O$7))+('Hull Plan'!F43-$K$7)*COS(RADIANS($O$7))+$M$7","v":-157.31836264656096},{"$f":"('Hull Long'!C43-$L$7)*COS(RADIANS($O$7))-('Hull Plan'!F43-$K$7)*SIN(RADIANS($O$7))+$N$7","v":-16.714618107788311},2,-157.31836264656096,-16.714618107788311,null,null,null,null,{"$f":"SUM(K569:K582)","v":-23363.870072350226},{"$f":"SUM(L569:L582)","v":1078677.6473546242},{"$f":"SUM(M569:M582)","v":23363.87007235023},{"$f":"SUM(N569:N582)","v":-358434.05055943318}]
[0,0,0,0,0,0,{"$f":"'Hull Long'!B95","v":3200},"vol","cx","cy","A","Acy","A","Acx"]
[1,{"$f":"('Hull Long'!C44-$L$7)*SIN(RADIANS($O$7))+('Hull Plan'!C44-$K$7)*COS(RADIANS($O$7))+$M$7","v":-156.06346635278851},{"$f":"('Hull Long'!C44-$L$7)*COS(RADIANS($O$7))-('Hull Plan'!C44-$K$7)*SIN(RADIANS($O$7))+$N$7","v":-15.459721814015865},2,{"$f":"B585","v":-156.06346635278851},{"$f":"IF(C585<0,C585,0)","v":-15.459721814015865},{"$f":"ABS(K599)/1000000","v":1.8545695138537464E-2},{"$f":"(G600-G584)*(G585+G601)/2000","v":1.6103457577945281E-3},{"$f":"IF(M599+M615<>0,(N599+N615)/(M599+M615),0)","v":-36.970853593931537},{"$f":"IF(K599+K615<>0,(L599+L615)/(K599+K615),0)","v":-38.823766195508313},{"$f":"(F586+F585)/2*(E586-E585)","v":0},{"$f":"(E586-E585)*(F585^2+F585*F586+F586^2)/6","v":0},{"$f":"(E586+E585)/2*(F586-F585)","v":0},{"$f":"(F586-F585)*(E585^2+E585*E586+E586^2)/6","v":0}]
[1,{"$f":"IF(C585*C587<0,(B587-B585)/(C587-C585)*(0-C585)+B585,B585)","v":-156.06346635278851},{"$f":"IF(AND(C585*C587<0,B587<>B585),(C587-C585)/(B587-B585)*(B586-B585)+C585,C585)","v":-15.459721814015865},2,-156.06346635278851,-15.459721814015865,null,null,null,null,-0.47816119603376483,3.6924197474905012,-4.8313211969482897,376.95897275547054]
[1,{"$f":"('Hull Long'!C95-$L$7)*SIN(RADIANS($O$7))+('Hull Plan'!C95-$K$7)*COS(RADIANS($O$7))+$M$7","v":-156.03250586866204},{"$f":"('Hull Long'!C95-$L$7)*COS(RADIANS($O$7))-('Hull Plan'!C95-$K$7)*SIN(RADIANS($O$7))+$N$7","v":-15.428761329889397},2,-156.03250586866204,-15.428761329889397,null,null,null,null,0,0,0,0]
[1,{"$f":"IF(C587*C589<0,(B589-B587)/(C589-C587)*(0-C587)+B587,B587)","v":-156.03250586866204},{"$f":"IF(AND(C587*C589<0,B589<>B587),(C589-C587)/(B589-B587)*(B588-B587)+C587,C587)","v":-15.428761329889397},2,-156.03250586866204,-15.428761329889397,null,null,null,null,-7503.7736694042878,313038.51512465288,11016.621692903844,-614392.17715569655]
[1,{"$f":"('Hull Long'!C146-$L$7)*SIN(RADIANS($O$7))+('Hull Plan'!C146-$K$7)*COS(RADIANS($O$7))+$M$7","v":-47.961125072728279},{"$f":"('Hull Long'!C146-$L$7)*COS(RADIANS($O$7))-('Hull Plan'!C146-$K$7)*SIN(RADIANS($O$7))+$N$7","v":-123.43822850849011},2,-47.961125072728279,-123.43822850849011,null,null,null,null,-10922.966318991186,449437.20415805845,5002.7300027394767,262470.16827175568]
[1,{"$f":"IF(C589*C591<0,(B591-B589)/(C591-C589)*(0-C589)+B589,B589)","v":129.01753787430033},{"$f":"IF(AND(C589*C591<0,B591<>B589),(C591-C589)/(B591-B589)*(B590-B589)+C589,C589)","v":-1.4210854715202004E-14},2,129.01753787430033,-1.4210854715202004E-14,null,null,null,null,-4.3658481655293872E-13,2.0680811329656438E-27,2.2700343029976927E-12,1.8354248478878077E-10]
[1,{"$f":"('Hull Long'!C197-$L$7)*SIN(RADIANS($O$7))+('Hull Plan'!C197-$K$7)*COS(RADIANS($O$7))+$M$7","v":190.46138841003255},{"$f":"('Hull Long'!C197-$L$7)*COS(RADIANS($O$7))-('Hull Plan'!C197-$K$7)*SIN(RADIANS($O$7))+$N$7","v":42.855562001512823},2,190.46138841003255,0,null,null,null,null,0,0,0,0]
[1,{"$f":"IF(C591*C593<0,(B593-B591)/(C593-C591)*(0-C591)+B591,B591)","v":190.46138841003255},{"$f":"IF(AND(C591*C593<0,B593<>B591),(C593-C591)/(B593-B591)*(B592-B591)+C591,C591)","v":42.855562001512823},2,190.46138841003255,0,null,null,null,null,0,0,0,0]
[1,{"$f":"('Hull Long'!C197-$L$7)*SIN(RADIANS($O$7))+('Hull Plan'!F197-$K$7)*COS(RADIANS($O$7))+$M$7","v":-97.748182537259879},{"$f":"('Hull Long'!C197-$L$7)*COS(RADIANS($O$7))-('Hull Plan'!F197-$K$7)*SIN(RADIANS($O$7))+$N$7","v":331.06513294880517},2,-97.748182537259879,0,null,null,null,null,0,0,0,0]
[1,{"$f":"IF(C593*C595<0,(B595-B593)/(C595-C593)*(0-C593)+B593,B593)","v":-97.748182537259879},{"$f":"IF(AND(C593*C595<0,B595<>B593),(C595-C593)/(B595-B593)*(B594-B593)+C593,C593)","v":331.06513294880517},2,-97.748182537259879,0,null,null,null,null,0,0,0,0]
[1,{"$f":"('Hull Long'!C146-$L$7)*SIN(RADIANS($O$7))+('Hull Plan'!F146-$K$7)*COS(RADIANS($O$7))+$M$7","v":-264.04197304726273},{"$f":"('Hull Long'!C146-$L$7)*COS(RADIANS($O$7))-('Hull Plan'!F146-$K$7)*SIN(RADIANS($O$7))+$N$7","v":92.642619466044351},2,-264.04197304726273,0,null,null,null,null,0,0,0,0]
[1,{"$f":"IF(C595*C597<0,(B597-B595)/(C597-C595)*(0-C595)+B595,B595)","v":-171.45242812924496},{"$f":"IF(AND(C595*C597<0,B597<>B595),(C597-C595)/(B597-B595)*(B596-B595)+C595,C595)","v":0},2,-171.45242812924496,0,null,null,null,null,-118.95515014199124,611.77687350064718,2526.3434428941446,-206987.71051036564]
[1,{"$f":"('Hull Long'!C95-$L$7)*SIN(RADIANS($O$7))+('Hull Plan'!F95-$K$7)*COS(RADIANS($O$7))+$M$7","v":-156.03250586866204},{"$f":"('Hull Long'!C95-$L$7)*COS(RADIANS($O$7))-('Hull Plan'!F95-$K$7)*SIN(RADIANS($O$7))+$N$7","v":-15.428761329889397},2,-156.03250586866204,-15.428761329889397,null,null,null,null,0,0,0,0]
[1,{"$f":"IF(C597*C599<0,(B599-B597)/(C599-C597)*(0-C597)+B597,B597)","v":-156.03250586866204},{"$f":"IF(AND(C597*C599<0,B599<>B597),(C599-C597)/(B599-B597)*(B598-B597)+C597,C597)","v":-15.428761329889397},2,-156.03250586866204,-15.428761329889397,null,null,null,null,0.47816119603376483,-3.6924197474905021,4.8313211969482897,-376.95897275547054]
[1,{"$f":"('Hull Long'!C44-$L$7)*SIN(RADIANS($O$7))+('Hull Plan'!F44-$K$7)*COS(RADIANS($O$7))+$M$7","v":-156.06346635278851},{"$f":"('Hull Long'!C44-$L$7)*COS(RADIANS($O$7))-('Hull Plan'!F44-$K$7)*SIN(RADIANS($O$7))+$N$7","v":-15.459721814015865},2,-156.06346635278851,-15.459721814015865,null,null,null,null,{"$f":"SUM(K585:K598)","v":-18545.695138537463},{"$f":"SUM(L585:L598)","v":763087.49615621194},{"$f":"SUM(M585:M598)","v":18545.695138537467},{"$f":"SUM(N585:N598)","v":-558909.7193943063}]
[0,0,0,0,0,0,{"$f":"'Hull Long'!B96","v":3299},"vol","cx","cy","A","Acy","A","Acx"]
[1,{"$f":"('Hull Long'!C45-$L$7)*SIN(RADIANS($O$7))+('Hull Plan'!C45-$K$7)*COS(RADIANS($O$7))+$M$7","v":-154.71362897028595},{"$f":"('Hull Long'!C45-$L$7)*COS(RADIANS($O$7))-('Hull Plan'!C45-$K$7)*SIN(RADIANS($O$7))+$N$7","v":-14.109884431513308},2,{"$f":"B601","v":-154.71362897028595},{"$f":"IF(C601<0,C601,0)","v":-14.109884431513308},{"$f":"ABS(K615)/1000000","v":1.398654239266512E-2},{"$f":"(G616-G600)*(G601+G617)/2000","v":2.7884182121323609E-5},{"$f":"IF(M615+M631<>0,(N615+N631)/(M615+M631),0)","v":-46.198866389919154},{"$f":"IF(K615+K631<>0,(L615+L631)/(K615+K631),0)","v":-35.687516096524121},{"$f":"(F602+F601)/2*(E602-E601)","v":0},{"$f":"(E602-E601)*(F601^2+F601*F602+F602^2)/6","v":0},{"$f":"(E602+E601)/2*(F602-F601)","v":0},{"$f":"(F602-F601)*(E601^2+E601*E602+E602^2)/6","v":0}]
[1,{"$f":"IF(C601*C603<0,(B603-B601)/(C603-C601)*(0-C601)+B601,B601)","v":-154.71362897028595},{"$f":"IF(AND(C601*C603<0,B603<>B601),(C603-C601)/(B603-B601)*(B602-B601)+C601,C601)","v":-14.109884431513308},2,-154.71362897028595,-14.109884431513308,null,null,null,null,-0.51124410830386258,3.6021626876044652,-5.6123042046279839,434.09907401875529]
[1,{"$f":"('Hull Long'!C96-$L$7)*SIN(RADIANS($O$7))+('Hull Plan'!C96-$K$7)*COS(RADIANS($O$7))+$M$7","v":-154.67734928148352},{"$f":"('Hull Long'!C96-$L$7)*COS(RADIANS($O$7))-('Hull Plan'!C96-$K$7)*SIN(RADIANS($O$7))+$N$7","v":-14.07360474271087},2,-154.67734928148352,-14.07360474271087,null,null,null,null,0,0,0,0]
[1,{"$f":"IF(C603*C605<0,(B605-B603)/(C605-C603)*(0-C603)+B603,B603)","v":-154.67734928148352},{"$f":"IF(AND(C603*C605<0,B605<>B603),(C605-C603)/(B605-B603)*(B604-B603)+C603,C603)","v":-14.07360474271087},2,-154.67734928148352,-14.07360474271087,null,null,null,null,-5654.6428659423218,205195.86087586926,10066.827834630963,-577660.05760333117]
[1,{"$f":"('Hull Long'!C147-$L$7)*SIN(RADIANS($O$7))+('Hull Plan'!C147-$K$7)*COS(RADIANS($O$7))+$M$7","v":-61.447105035616957},{"$f":"('Hull Long'!C147-$L$7)*COS(RADIANS($O$7))-('Hull Plan'!C147-$K$7)*SIN(RADIANS($O$7))+$N$7","v":-107.23129822482642},2,-61.447105035616957,-107.23129822482642,null,null,null,null,-8232.9434180374028,294276.4036425635,1643.8905729109276,117951.39296708272]
[1,{"$f":"IF(C605*C607<0,(B607-B605)/(C607-C605)*(0-C605)+B605,B605)","v":92.10775356127904},{"$f":"IF(AND(C605*C607<0,B607<>B605),(C607-C605)/(B607-B605)*(B606-B605)+C605,C605)","v":1.4210854715202004E-14},2,92.10775356127904,0,null,null,null,null,0,0,0,0]
[1,{"$f":"('Hull Long'!C198-$L$7)*SIN(RADIANS($O$7))+('Hull Plan'!C198-$K$7)*COS(RADIANS($O$7))+$M$7","v":178.45514296599129},{"$f":"('Hull Long'!C198-$L$7)*COS(RADIANS($O$7))-('Hull Plan'!C198-$K$7)*SIN(RADIANS($O$7))+$N$7","v":60.298597835308641},2,178.45514296599129,0,null,null,null,null,0,0,0,0]
[1,{"$f":"IF(C607*C609<0,(B609-B607)/(C609-C607)*(0-C607)+B607,B607)","v":178.45514296599129},{"$f":"IF(AND(C607*C609<0,B609<>B607),(C609-C607)/(B609-B607)*(B608-B607)+C607,C607)","v":60.298597835308641},2,178.45514296599129,0,null,null,null,null,0,0,0,0]
[1,{"$f":"('Hull Long'!C198-$L$7)*SIN(RADIANS($O$7))+('Hull Plan'!F198-$K$7)*COS(RADIANS($O$7))+$M$7","v":-80.305146703464061},{"$f":"('Hull Long'!C198-$L$7)*COS(RADIANS($O$7))-('Hull Plan'!F198-$K$7)*SIN(RADIANS($O$7))+$N$7","v":319.0588875047639},2,-80.305146703464061,0,null,null,null,null,0,0,0,0]
[1,{"$f":"IF(C609*C611<0,(B611-B609)/(C611-C609)*(0-C609)+B609,B609)","v":-80.305146703464061},{"$f":"IF(AND(C609*C611<0,B611<>B609),(C611-C609)/(B611-B609)*(B610-B609)+C609,C609)","v":319.0588875047639},2,-80.305146703464061,0,null,null,null,null,0,0,0,0]
[1,{"$f":"('Hull Long'!C147-$L$7)*SIN(RADIANS($O$7))+('Hull Plan'!F147-$K$7)*COS(RADIANS($O$7))+$M$7","v":-247.83504276359906},{"$f":"('Hull Long'!C147-$L$7)*COS(RADIANS($O$7))-('Hull Plan'!F147-$K$7)*SIN(RADIANS($O$7))+$N$7","v":79.156639503155674},2,-247.83504276359906,0,null,null,null,null,0,0,0,0]
[1,{"$f":"IF(C611*C613<0,(B613-B611)/(C613-C611)*(0-C611)+B611,B611)","v":-168.74000209779891},{"$f":"IF(AND(C611*C613<0,B613<>B611),(C613-C611)/(B613-B611)*(B612-B611)+C611,C611)","v":0},2,-168.74000209779891,0,null,null,null,null,-98.956108685396345,464.2230535050021,2275.8239851232283,-184126.20681854084]
[1,{"$f":"('Hull Long'!C96-$L$7)*SIN(RADIANS($O$7))+('Hull Plan'!F96-$K$7)*COS(RADIANS($O$7))+$M$7","v":-154.67734928148352},{"$f":"('Hull Long'!C96-$L$7)*COS(RADIANS($O$7))-('Hull Plan'!F96-$K$7)*SIN(RADIANS($O$7))+$N$7","v":-14.07360474271087},2,-154.67734928148352,-14.07360474271087,null,null,null,null,0,0,0,0]
[1,{"$f":"IF(C613*C615<0,(B615-B613)/(C615-C613)*(0-C613)+B613,B613)","v":-154.67734928148352},{"$f":"IF(AND(C613*C615<0,B615<>B613),(C615-C613)/(B615-B613)*(B614-B613)+C613,C613)","v":-14.07360474271087},2,-154.67734928148352,-14.07360474271087,null,null,null,null,0.51124410830386258,-3.6021626876044652,5.6123042046279839,-434.09907401875518]
[1,{"$f":"('Hull Long'!C45-$L$7)*SIN(RADIANS($O$7))+('Hull Plan'!F45-$K$7)*COS(RADIANS($O$7))+$M$7","v":-154.71362897028595},{"$f":"('Hull Long'!C45-$L$7)*COS(RADIANS($O$7))-('Hull Plan'!F45-$K$7)*SIN(RADIANS($O$7))+$N$7","v":-14.109884431513308},2,-154.71362897028595,-14.109884431513308,null,null,null,null,{"$f":"SUM(K601:K614)","v":-13986.54239266512},{"$f":"SUM(L601:L614)","v":499936.48757193773},{"$f":"SUM(M601:M614)","v":13986.54239266512},{"$f":"SUM(N601:N614)","v":-643834.8714547893}]
[0,0,0,0,0,0,{"$f":"'Hull Long'!B97","v":3301},"vol","cx","cy","A","Acy","A","Acx"]
[1,{"$f":"('Hull Long'!C46-$L$7)*SIN(RADIANS($O$7))+('Hull Plan'!C46-$K$7)*COS(RADIANS($O$7))+$M$7","v":-154.68525740190501},{"$f":"('Hull Long'!C46-$L$7)*COS(RADIANS($O$7))-('Hull Plan'!C46-$K$7)*SIN(RADIANS($O$7))+$N$7","v":-14.08151286313236},2,{"$f":"B617","v":-154.68525740190501},{"$f":"IF(C617<0,C617,0)","v":-14.08151286313236},{"$f":"ABS(K631)/1000000","v":1.3897639728658488E-2},{"$f":"(G632-G616)*(G617+G633)/2000","v":1.1685592489646514E-3},{"$f":"IF(M631+M647<>0,(N631+N647)/(M631+M647),0)","v":-53.423379775561131},{"$f":"IF(K631+K647<>0,(L631+L647)/(K631+K647),0)","v":-33.229042923063503},{"$f":"(F618+F617)/2*(E618-E617)","v":0},{"$f":"(E618-E617)*(F617^2+F617*F618+F618^2)/6","v":0},{"$f":"(E618+E617)/2*(F618-F617)","v":0},{"$f":"(F618-F617)*(E617^2+E617*E618+E618^2)/6","v":0}]
[1,{"$f":"IF(C617*C619<0,(B619-B617)/(C619-C617)*(0-C617)+B617,B617)","v":-154.68525740190501},{"$f":"IF(AND(C617*C619<0,B619<>B617),(C619-C617)/(B619-B617)*(B618-B617)+C617,C617)","v":-14.08151286313236},2,-154.68525740190501,-14.08151286313236,null,null,null,null,-0.51178507200557477,3.598699890013505,-5.6285649127771897,435.27680020953972]
[1,{"$f":"('Hull Long'!C97-$L$7)*SIN(RADIANS($O$7))+('Hull Plan'!C97-$K$7)*COS(RADIANS($O$7))+$M$7","v":-154.64886591135433},{"$f":"('Hull Long'!C97-$L$7)*COS(RADIANS($O$7))-('Hull Plan'!C97-$K$7)*SIN(RADIANS($O$7))+$N$7","v":-14.04512137258169},2,-154.64886591135433,-14.04512137258169,null,null,null,null,0,0,0,0]
[1,{"$f":"IF(C619*C621<0,(B621-B619)/(C621-C619)*(0-C619)+B619,B619)","v":-154.64886591135433},{"$f":"IF(AND(C619*C621<0,B621<>B619),(C621-C619)/(B621-B619)*(B620-B619)+C619,C619)","v":-14.04512137258169},2,-154.64886591135433,-14.04512137258169,null,null,null,null,-5618.5736133420924,203245.92862545874,10044.9313963234,-576779.57356983749]
[1,{"$f":"('Hull Long'!C148-$L$7)*SIN(RADIANS($O$7))+('Hull Plan'!C148-$K$7)*COS(RADIANS($O$7))+$M$7","v":-61.730560218930805},{"$f":"('Hull Long'!C148-$L$7)*COS(RADIANS($O$7))-('Hull Plan'!C148-$K$7)*SIN(RADIANS($O$7))+$N$7","v":-106.89065272430275},2,-61.730560218930805,-106.89065272430275,null,null,null,null,-8180.5106480434097,291473.37426248967,1582.0907732050182,116052.84810497833]
[1,{"$f":"IF(C621*C623<0,(B623-B621)/(C623-C621)*(0-C621)+B621,B621)","v":91.332601798480681},{"$f":"IF(AND(C621*C623<0,B623<>B621),(C623-C621)/(B623-B621)*(B622-B621)+C621,C621)","v":0},2,91.332601798480681,0,null,null,null,null,0,0,0,0]
[1,{"$f":"('Hull Long'!C199-$L$7)*SIN(RADIANS($O$7))+('Hull Plan'!C199-$K$7)*COS(RADIANS($O$7))+$M$7","v":178.20278959511154},{"$f":"('Hull Long'!C199-$L$7)*COS(RADIANS($O$7))-('Hull Plan'!C199-$K$7)*SIN(RADIANS($O$7))+$N$7","v":60.66522443073768},2,178.20278959511154,0,null,null,null,null,0,0,0,0]
[1,{"$f":"IF(C623*C625<0,(B625-B623)/(C625-C623)*(0-C623)+B623,B623)","v":178.20278959511154},{"$f":"IF(AND(C623*C625<0,B625<>B623),(C625-C623)/(B625-B623)*(B624-B623)+C623,C623)","v":60.66522443073768},2,178.20278959511154,0,null,null,null,null,0,0,0,0]
[1,{"$f":"('Hull Long'!C199-$L$7)*SIN(RADIANS($O$7))+('Hull Plan'!F199-$K$7)*COS(RADIANS($O$7))+$M$7","v":-79.938520108035036},{"$f":"('Hull Long'!C199-$L$7)*COS(RADIANS($O$7))-('Hull Plan'!F199-$K$7)*SIN(RADIANS($O$7))+$N$7","v":318.80653413388421},2,-79.938520108035036,0,null,null,null,null,0,0,0,0]
[1,{"$f":"IF(C625*C627<0,(B627-B625)/(C627-C625)*(0-C625)+B625,B625)","v":-79.938520108035036},{"$f":"IF(AND(C625*C627<0,B627<>B625),(C627-C625)/(B627-B625)*(B626-B625)+C625,C625)","v":318.80653413388421},2,-79.938520108035036,0,null,null,null,null,0,0,0,0]
[1,{"$f":"('Hull Long'!C148-$L$7)*SIN(RADIANS($O$7))+('Hull Plan'!F148-$K$7)*COS(RADIANS($O$7))+$M$7","v":-247.49439726307543},{"$f":"('Hull Long'!C148-$L$7)*COS(RADIANS($O$7))-('Hull Plan'!F148-$K$7)*SIN(RADIANS($O$7))+$N$7","v":78.873184319841826},2,-247.49439726307543,0,null,null,null,null,-5.5998875032221432E-13,2.6526395909921722E-27,2.957118172009839E-12,-3.1134921839924096E-10]
[1,{"$f":"IF(C627*C629<0,(B629-B627)/(C629-C627)*(0-C627)+B627,B627)","v":-168.68298703548811},{"$f":"IF(AND(C627*C629<0,B629<>B627),(C629-C627)/(B629-B627)*(B628-B627)+C627,C627)","v":-1.4210854715202004E-14},2,-168.68298703548811,-1.4210854715202004E-14,null,null,null,null,-98.555467272985837,461.40783326019618,2270.6175591300662,-183656.00729555311]
[1,{"$f":"('Hull Long'!C97-$L$7)*SIN(RADIANS($O$7))+('Hull Plan'!F97-$K$7)*COS(RADIANS($O$7))+$M$7","v":-154.64886591135433},{"$f":"('Hull Long'!C97-$L$7)*COS(RADIANS($O$7))-('Hull Plan'!F97-$K$7)*SIN(RADIANS($O$7))+$N$7","v":-14.04512137258169},2,-154.64886591135433,-14.04512137258169,null,null,null,null,0,0,0,0]
[1,{"$f":"IF(C629*C631<0,(B631-B629)/(C631-C629)*(0-C629)+B629,B629)","v":-154.64886591135433},{"$f":"IF(AND(C629*C631<0,B631<>B629),(C631-C629)/(B631-B629)*(B630-B629)+C629,C629)","v":-14.04512137258169},2,-154.64886591135433,-14.04512137258169,null,null,null,null,0.51178507200557477,-3.598699890013505,5.6285649127771897,-435.27680020953972]
[1,{"$f":"('Hull Long'!C46-$L$7)*SIN(RADIANS($O$7))+('Hull Plan'!F46-$K$7)*COS(RADIANS($O$7))+$M$7","v":-154.68525740190501},{"$f":"('Hull Long'!C46-$L$7)*COS(RADIANS($O$7))-('Hull Plan'!F46-$K$7)*SIN(RADIANS($O$7))+$N$7","v":-14.08151286313236},2,-154.68525740190501,-14.08151286313236,null,null,null,null,{"$f":"SUM(K617:K630)","v":-13897.639728658487},{"$f":"SUM(L617:L630)","v":495180.7107212086},{"$f":"SUM(M617:M630)","v":13897.639728658489},{"$f":"SUM(N617:N630)","v":-644382.7327604125}]
[0,0,0,0,0,0,{"$f":"'Hull Long'!B98","v":3400},"vol","cx","cy","A","Acy","A","Acx"]
[1,{"$f":"('Hull Long'!C47-$L$7)*SIN(RADIANS($O$7))+('Hull Plan'!C47-$K$7)*COS(RADIANS($O$7))+$M$7","v":-153.22630951469435},{"$f":"('Hull Long'!C47-$L$7)*COS(RADIANS($O$7))-('Hull Plan'!C47-$K$7)*SIN(RADIANS($O$7))+$N$7","v":-12.622564975921705},2,{"$f":"B633","v":-153.22630951469435},{"$f":"IF(C633<0,C633,0)","v":-12.622564975921705},{"$f":"ABS(K647)/1000000","v":9.7096178261829574E-3},{"$f":"(G648-G632)*(G633+G649)/2000","v":7.8632269594555932E-4},{"$f":"IF(M647+M663<>0,(N647+N663)/(M647+M663),0)","v":-70.634026594055896},{"$f":"IF(K647+K663<>0,(L647+L663)/(K647+K663),0)","v":-27.368979298910727},{"$f":"(F634+F633)/2*(E634-E633)","v":0},{"$f":"(E634-E633)*(F633^2+F633*F634+F634^2)/6","v":0},{"$f":"(E634+E633)/2*(F634-F633)","v":0},{"$f":"(F634-F633)*(E633^2+E633*E634+E634^2)/6","v":0}]
[1,{"$f":"IF(C633*C635<0,(B635-B633)/(C635-C633)*(0-C633)+B633,B633)","v":-153.22630951469435},{"$f":"IF(AND(C633*C635<0,B635<>B633),(C635-C633)/(B635-B633)*(B634-B633)+C633,C633)","v":-12.622564975921705},2,-153.22630951469435,-12.622564975921705,null,null,null,null,-0.53103528815567214,3.3459222885032833,-6.4561697338515467,494.55951726566946]
[1,{"$f":"('Hull Long'!C98-$L$7)*SIN(RADIANS($O$7))+('Hull Plan'!C98-$K$7)*COS(RADIANS($O$7))+$M$7","v":-153.18416885574439},{"$f":"('Hull Long'!C98-$L$7)*COS(RADIANS($O$7))-('Hull Plan'!C98-$K$7)*SIN(RADIANS($O$7))+$N$7","v":-12.580424316971744},2,-153.18416885574439,-12.580424316971744,null,null,null,null,0,0,0,0]
[1,{"$f":"IF(C635*C637<0,(B637-B635)/(C637-C635)*(0-C635)+B635,B635)","v":-153.18416885574439},{"$f":"IF(AND(C635*C637<0,B637<>B635),(C637-C635)/(B637-B635)*(B636-B635)+C635,C635)","v":-12.580424316971744},2,-153.18416885574439,-12.580424316971744,null,null,null,null,-3918.989565418668,118779.36795804031,8811.6731342358762,-524460.33756714838]
[1,{"$f":"('Hull Long'!C149-$L$7)*SIN(RADIANS($O$7))+('Hull Plan'!C149-$K$7)*COS(RADIANS($O$7))+$M$7","v":-76.306643404109792},{"$f":"('Hull Long'!C149-$L$7)*COS(RADIANS($O$7))-('Hull Plan'!C149-$K$7)*SIN(RADIANS($O$7))+$N$7","v":-89.373678456125276},2,-76.306643404109792,-89.373678456125276,null,null,null,null,-5711.5814670664668,170155.01517118758,-1108.223944598654,67705.698173215424]
[1,{"$f":"IF(C637*C639<0,(B639-B637)/(C639-C637)*(0-C637)+B637,B637)","v":51.506859759919834},{"$f":"IF(AND(C637*C639<0,B639<>B637),(C639-C637)/(B639-B637)*(B638-B637)+C637,C637)","v":1.4210854715202004E-14},2,51.506859759919834,0,null,null,null,null,0,0,0,0]
[1,{"$f":"('Hull Long'!C200-$L$7)*SIN(RADIANS($O$7))+('Hull Plan'!C200-$K$7)*COS(RADIANS($O$7))+$M$7","v":165.22605132206013},{"$f":"('Hull Long'!C200-$L$7)*COS(RADIANS($O$7))-('Hull Plan'!C200-$K$7)*SIN(RADIANS($O$7))+$N$7","v":79.51822154441615},2,165.22605132206013,0,null,null,null,null,0,0,0,0]
[1,{"$f":"IF(C639*C641<0,(B641-B639)/(C641-C639)*(0-C639)+B639,B639)","v":165.22605132206013},{"$f":"IF(AND(C639*C641<0,B641<>B639),(C641-C639)/(B641-B639)*(B640-B639)+C639,C639)","v":79.51822154441615},2,165.22605132206013,0,null,null,null,null,0,0,0,0]
[1,{"$f":"('Hull Long'!C200-$L$7)*SIN(RADIANS($O$7))+('Hull Plan'!F200-$K$7)*COS(RADIANS($O$7))+$M$7","v":-61.085522994356559},{"$f":"('Hull Long'!C200-$L$7)*COS(RADIANS($O$7))-('Hull Plan'!F200-$K$7)*SIN(RADIANS($O$7))+$N$7","v":305.8297958608328},2,-61.085522994356559,0,null,null,null,null,0,0,0,0]
[1,{"$f":"IF(C641*C643<0,(B643-B641)/(C643-C641)*(0-C641)+B641,B641)","v":-61.085522994356559},{"$f":"IF(AND(C641*C643<0,B643<>B641),(C643-C641)/(B643-B641)*(B642-B641)+C641,C641)","v":305.8297958608328},2,-61.085522994356559,0,null,null,null,null,0,0,0,0]
[1,{"$f":"('Hull Long'!C149-$L$7)*SIN(RADIANS($O$7))+('Hull Plan'!F149-$K$7)*COS(RADIANS($O$7))+$M$7","v":-229.97742299489792},{"$f":"('Hull Long'!C149-$L$7)*COS(RADIANS($O$7))-('Hull Plan'!F149-$K$7)*SIN(RADIANS($O$7))+$N$7","v":64.297101134662839},2,-229.97742299489792,0,null,null,null,null,0,0,0,0]
[1,{"$f":"IF(C643*C645<0,(B645-B643)/(C645-C643)*(0-C643)+B643,B643)","v":-165.75080281119588},{"$f":"IF(AND(C643*C645<0,B645<>B643),(C645-C643)/(B645-B643)*(B644-B643)+C643,C643)","v":0},2,-165.75080281119588,0,null,null,null,null,-79.046793697822395,331.48073520491118,2006.1686365457347,-160042.11365743392]
[1,{"$f":"('Hull Long'!C98-$L$7)*SIN(RADIANS($O$7))+('Hull Plan'!F98-$K$7)*COS(RADIANS($O$7))+$M$7","v":-153.18416885574439},{"$f":"('Hull Long'!C98-$L$7)*COS(RADIANS($O$7))-('Hull Plan'!F98-$K$7)*SIN(RADIANS($O$7))+$N$7","v":-12.580424316971744},2,-153.18416885574439,-12.580424316971744,null,null,null,null,0,0,0,0]
[1,{"$f":"IF(C645*C647<0,(B647-B645)/(C647-C645)*(0-C645)+B645,B645)","v":-153.18416885574439},{"$f":"IF(AND(C645*C647<0,B647<>B645),(C647-C645)/(B647-B645)*(B646-B645)+C645,C645)","v":-12.580424316971744},2,-153.18416885574439,-12.580424316971744,null,null,null,null,0.53103528815567214,-3.3459222885032833,6.4561697338515467,-494.55951726566946]
[1,{"$f":"('Hull Long'!C47-$L$7)*SIN(RADIANS($O$7))+('Hull Plan'!F47-$K$7)*COS(RADIANS($O$7))+$M$7","v":-153.22630951469435},{"$f":"('Hull Long'!C47-$L$7)*COS(RADIANS($O$7))-('Hull Plan'!F47-$K$7)*SIN(RADIANS($O$7))+$N$7","v":-12.622564975921705},2,-153.22630951469435,-12.622564975921705,null,null,null,null,{"$f":"SUM(K633:K646)","v":-9709.6178261829573},{"$f":"SUM(L633:L646)","v":289265.86386443285},{"$f":"SUM(M633:M646)","v":9709.6178261829573},{"$f":"SUM(N633:N646)","v":-616796.75305136689}]
[0,0,0,0,0,0,{"$f":"'Hull Long'!B99","v":3500},"vol","cx","cy","A","Acy","A","Acx"]
[1,{"$f":"('Hull Long'!C48-$L$7)*SIN(RADIANS($O$7))+('Hull Plan'!C48-$K$7)*COS(RADIANS($O$7))+$M$7","v":-151.64404897037261},{"$f":"('Hull Long'!C48-$L$7)*COS(RADIANS($O$7))-('Hull Plan'!C48-$K$7)*SIN(RADIANS($O$7))+$N$7","v":-11.040304431599935},2,{"$f":"B649","v":-151.64404897037261},{"$f":"IF(C649<0,C649,0)","v":-11.040304431599935},{"$f":"ABS(K663)/1000000","v":6.0168360927282307E-3},{"$f":"(G664-G648)*(G649+G665)/2000","v":4.5304205764787174E-4},{"$f":"IF(M663+M679<>0,(N663+N679)/(M663+M679),0)","v":-88.771308626057561},{"$f":"IF(K663+K679<>0,(L663+L679)/(K663+K679),0)","v":-21.185355673335671},{"$f":"(F650+F649)/2*(E650-E649)","v":0},{"$f":"(E650-E649)*(F649^2+F649*F650+F650^2)/6","v":0},{"$f":"(E650+E649)/2*(F650-F649)","v":0},{"$f":"(F650-F649)*(E649^2+E649*E650+E650^2)/6","v":0}]
[1,{"$f":"IF(C649*C651<0,(B651-B649)/(C651-C649)*(0-C649)+B649,B649)","v":-151.64404897037261},{"$f":"IF(AND(C649*C651<0,B651<>B649),(C651-C649)/(B651-B649)*(B650-B649)+C649,C649)","v":-11.040304431599935},2,-151.64404897037261,-11.040304431599935,null,null,null,null,-0.53291297138510163,2.9353204198593619,-7.3347254728167304,556.04503338582629]
[1,{"$f":"('Hull Long'!C99-$L$7)*SIN(RADIANS($O$7))+('Hull Plan'!C99-$K$7)*COS(RADIANS($O$7))+$M$7","v":-151.59567321392495},{"$f":"('Hull Long'!C99-$L$7)*COS(RADIANS($O$7))-('Hull Plan'!C99-$K$7)*SIN(RADIANS($O$7))+$N$7","v":-10.991928675152309},2,-151.59567321392495,-10.991928675152309,null,null,null,null,0,0,0,0]
[1,{"$f":"IF(C651*C653<0,(B653-B651)/(C653-C651)*(0-C651)+B651,B651)","v":-151.59567321392495},{"$f":"IF(AND(C651*C653<0,B653<>B651),(C653-C651)/(B653-B651)*(B652-B651)+C651,C651)","v":-10.991928675152309},2,-151.59567321392495,-10.991928675152309,null,null,null,null,-2419.9251325116556,57966.103572541091,7236.2748870532359,-449643.0334749716]
[1,{"$f":"('Hull Long'!C150-$L$7)*SIN(RADIANS($O$7))+('Hull Plan'!C150-$K$7)*COS(RADIANS($O$7))+$M$7","v":-92.114720935072555},{"$f":"('Hull Long'!C150-$L$7)*COS(RADIANS($O$7))-('Hull Plan'!C150-$K$7)*SIN(RADIANS($O$7))+$N$7","v":-70.376140926921806},2,-92.114720935072555,-70.376140926921806,null,null,null,null,-3536.5979652800283,82964.038935470729,-2946.0806166907118,91284.957421793122]
[1,{"$f":"IF(C653*C655<0,(B655-B653)/(C655-C653)*(0-C653)+B653,B653)","v":8.3908742481703626},{"$f":"IF(AND(C653*C655<0,B655<>B653),(C655-C653)/(B655-B653)*(B654-B653)+C653,C653)","v":0},2,8.3908742481703626,0,null,null,null,null,0,0,0,0]
[1,{"$f":"('Hull Long'!C201-$L$7)*SIN(RADIANS($O$7))+('Hull Plan'!C201-$K$7)*COS(RADIANS($O$7))+$M$7","v":151.15249794607553},{"$f":"('Hull Long'!C201-$L$7)*COS(RADIANS($O$7))-('Hull Plan'!C201-$K$7)*SIN(RADIANS($O$7))+$N$7","v":99.964704751035299},2,151.15249794607553,0,null,null,null,null,0,0,0,0]
[1,{"$f":"IF(C655*C657<0,(B657-B655)/(C657-C655)*(0-C655)+B655,B655)","v":151.15249794607553},{"$f":"IF(AND(C655*C657<0,B657<>B655),(C657-C655)/(B657-B655)*(B656-B655)+C655,C655)","v":99.964704751035299},2,151.15249794607553,0,null,null,null,null,0,0,0,0]
[1,{"$f":"('Hull Long'!C201-$L$7)*SIN(RADIANS($O$7))+('Hull Plan'!F201-$K$7)*COS(RADIANS($O$7))+$M$7","v":-40.639039787737396},{"$f":"('Hull Long'!C201-$L$7)*COS(RADIANS($O$7))-('Hull Plan'!F201-$K$7)*SIN(RADIANS($O$7))+$N$7","v":291.7562424848482},2,-40.639039787737396,0,null,null,null,null,0,0,0,0]
[1,{"$f":"IF(C657*C659<0,(B659-B657)/(C659-C657)*(0-C657)+B657,B657)","v":-40.639039787737396},{"$f":"IF(AND(C657*C659<0,B659<>B657),(C659-C657)/(B659-B657)*(B658-B657)+C657,C657)","v":291.7562424848482},2,-40.639039787737396,0,null,null,null,null,0,0,0,0]
[1,{"$f":"('Hull Long'!C150-$L$7)*SIN(RADIANS($O$7))+('Hull Plan'!F150-$K$7)*COS(RADIANS($O$7))+$M$7","v":-210.97988546569445},{"$f":"('Hull Long'!C150-$L$7)*COS(RADIANS($O$7))-('Hull Plan'!F150-$K$7)*SIN(RADIANS($O$7))+$N$7","v":48.489023603700076},2,-210.97988546569445,0,null,null,null,null,0,0,0,0]
[1,{"$f":"IF(C659*C661<0,(B661-B659)/(C661-C659)*(0-C659)+B659,B659)","v":-162.56972457815692},{"$f":"IF(AND(C659*C661<0,B661<>B659),(C661-C659)/(B661-B659)*(B660-B659)+C659,C659)","v":7.1054273576010019E-15},2,-162.56972457815692,0,null,null,null,null,-60.312994936547845,220.98537950911876,1726.6418223657083,-135667.93523402236]
[1,{"$f":"('Hull Long'!C99-$L$7)*SIN(RADIANS($O$7))+('Hull Plan'!F99-$K$7)*COS(RADIANS($O$7))+$M$7","v":-151.59567321392495},{"$f":"('Hull Long'!C99-$L$7)*COS(RADIANS($O$7))-('Hull Plan'!F99-$K$7)*SIN(RADIANS($O$7))+$N$7","v":-10.991928675152309},2,-151.59567321392495,-10.991928675152309,null,null,null,null,0,0,0,0]
[1,{"$f":"IF(C661*C663<0,(B663-B661)/(C663-C661)*(0-C661)+B661,B661)","v":-151.59567321392495},{"$f":"IF(AND(C661*C663<0,B663<>B661),(C663-C661)/(B663-B661)*(B662-B661)+C661,C661)","v":-10.991928675152309},2,-151.59567321392495,-10.991928675152309,null,null,null,null,0.53291297138510163,-2.9353204198593619,7.3347254728167304,-556.04503338582629]
[1,{"$f":"('Hull Long'!C48-$L$7)*SIN(RADIANS($O$7))+('Hull Plan'!F48-$K$7)*COS(RADIANS($O$7))+$M$7","v":-151.64404897037261},{"$f":"('Hull Long'!C48-$L$7)*COS(RADIANS($O$7))-('Hull Plan'!F48-$K$7)*SIN(RADIANS($O$7))+$N$7","v":-11.040304431599935},2,-151.64404897037261,-11.040304431599935,null,null,null,null,{"$f":"SUM(K649:K662)","v":-6016.8360927282311},{"$f":"SUM(L649:L662)","v":141151.12788752094},{"$f":"SUM(M649:M662)","v":6016.836092728232},{"$f":"SUM(N649:N662)","v":-494026.01128720079}]
[0,0,0,0,0,0,{"$f":"'Hull Long'!B100","v":3600},"vol","cx","cy","A","Acy","A","Acx"]
[1,{"$f":"('Hull Long'!C49-$L$7)*SIN(RADIANS($O$7))+('Hull Plan'!C49-$K$7)*COS(RADIANS($O$7))+$M$7","v":-149.95266700920106},{"$f":"('Hull Long'!C49-$L$7)*COS(RADIANS($O$7))-('Hull Plan'!C49-$K$7)*SIN(RADIANS($O$7))+$N$7","v":-9.3489224704284197},2,{"$f":"B665","v":-149.95266700920106},{"$f":"IF(C665<0,C665,0)","v":-9.3489224704284197},{"$f":"ABS(K679)/1000000","v":3.0440050602292051E-3},{"$f":"(G680-G664)*(G665+G681)/2000","v":2.0135252359855811E-4},{"$f":"IF(M679+M695<>0,(N679+N695)/(M679+M695),0)","v":-107.09046677366381},{"$f":"IF(K679+K695<>0,(L679+L695)/(K679+K695),0)","v":-14.931785453739975},{"$f":"(F666+F665)/2*(E666-E665)","v":0},{"$f":"(E666-E665)*(F665^2+F665*F666+F666^2)/6","v":0},{"$f":"(E666+E665)/2*(F666-F665)","v":0},{"$f":"(F666-F665)*(E665^2+E665*E666+E666^2)/6","v":0}]
[1,{"$f":"IF(C665*C667<0,(B667-B665)/(C667-C665)*(0-C665)+B665,B665)","v":-149.95266700920106},{"$f":"IF(AND(C665*C667<0,B667<>B665),(C667-C665)/(B667-B665)*(B666-B665)+C665,C665)","v":-9.3489224704284197},2,-149.95266700920106,-9.3489224704284197,null,null,null,null,-0.51305799093127369,2.3912168494301782,-8.2520091036751335,618.5918441670708]
[1,{"$f":"('Hull Long'!C100-$L$7)*SIN(RADIANS($O$7))+('Hull Plan'!C100-$K$7)*COS(RADIANS($O$7))+$M$7","v":-149.89762614853177},{"$f":"('Hull Long'!C100-$L$7)*COS(RADIANS($O$7))-('Hull Plan'!C100-$K$7)*SIN(RADIANS($O$7))+$N$7","v":-9.2938816097590973},2,-149.89762614853177,-9.2938816097590973,null,null,null,null,0,0,0,0]
[1,{"$f":"IF(C667*C669<0,(B669-B667)/(C669-C667)*(0-C667)+B667,B667)","v":-149.89762614853177},{"$f":"IF(AND(C667*C669<0,B669<>B667),(C669-C667)/(B669-B667)*(B668-B667)+C667,C667)","v":-9.2938816097590973},2,-149.89762614853177,-9.2938816097590973,null,null,null,null,-1213.5026080714965,20841.299341146685,5278.4819379743694,-344503.64531129651]
[1,{"$f":"('Hull Long'!C151-$L$7)*SIN(RADIANS($O$7))+('Hull Plan'!C151-$K$7)*COS(RADIANS($O$7))+$M$7","v":-109.01301070955},{"$f":"('Hull Long'!C151-$L$7)*COS(RADIANS($O$7))-('Hull Plan'!C151-$K$7)*SIN(RADIANS($O$7))+$N$7","v":-50.068428395704359},2,-109.01301070955,-50.068428395704359,null,null,null,null,-1787.4306045601961,29831.280412237578,-3670.6795163510601,145189.87280328499]
[1,{"$f":"IF(C669*C671<0,(B671-B669)/(C671-C669)*(0-C669)+B669,B669)","v":-37.613501604385064},{"$f":"IF(AND(C669*C671<0,B671<>B669),(C671-C669)/(B671-B669)*(B670-B669)+C669,C669)","v":0},2,-37.613501604385064,0,null,null,null,null,0,0,0,0]
[1,{"$f":"('Hull Long'!C202-$L$7)*SIN(RADIANS($O$7))+('Hull Plan'!C202-$K$7)*COS(RADIANS($O$7))+$M$7","v":136.10835468209197},{"$f":"('Hull Long'!C202-$L$7)*COS(RADIANS($O$7))-('Hull Plan'!C202-$K$7)*SIN(RADIANS($O$7))+$N$7","v":121.82129024776611},2,136.10835468209197,0,null,null,null,null,0,0,0,0]
[1,{"$f":"IF(C671*C673<0,(B673-B671)/(C673-C671)*(0-C671)+B671,B671)","v":136.10835468209197},{"$f":"IF(AND(C671*C673<0,B673<>B671),(C673-C671)/(B673-B671)*(B672-B671)+C671,C671)","v":121.82129024776611},2,136.10835468209197,0,null,null,null,null,0,0,0,0]
[1,{"$f":"('Hull Long'!C202-$L$7)*SIN(RADIANS($O$7))+('Hull Plan'!F202-$K$7)*COS(RADIANS($O$7))+$M$7","v":-18.78245429100658},{"$f":"('Hull Long'!C202-$L$7)*COS(RADIANS($O$7))-('Hull Plan'!F202-$K$7)*SIN(RADIANS($O$7))+$N$7","v":276.71209922086462},2,-18.78245429100658,0,null,null,null,null,0,0,0,0]
[1,{"$f":"IF(C673*C675<0,(B675-B673)/(C675-C673)*(0-C673)+B673,B673)","v":-18.78245429100658},{"$f":"IF(AND(C673*C675<0,B675<>B673),(C675-C673)/(B675-B673)*(B674-B673)+C673,C673)","v":276.71209922086462},2,-18.78245429100658,0,null,null,null,null,0,0,0,0]
[1,{"$f":"('Hull Long'!C151-$L$7)*SIN(RADIANS($O$7))+('Hull Plan'!F151-$K$7)*COS(RADIANS($O$7))+$M$7","v":-190.672172934477},{"$f":"('Hull Long'!C151-$L$7)*COS(RADIANS($O$7))-('Hull Plan'!F151-$K$7)*SIN(RADIANS($O$7))+$N$7","v":31.590733829222643},2,-190.672172934477,0,null,null,null,null,0,0,0,0]
[1,{"$f":"IF(C675*C677<0,(B677-B675)/(C677-C675)*(0-C675)+B675,B675)","v":-159.16648697677482},{"$f":"IF(AND(C675*C677<0,B677<>B675),(C677-C675)/(B677-B675)*(B676-B675)+C675,C675)","v":1.4210854715202004E-14},2,-159.16648697677482,0,null,null,null,null,-43.071847597512274,133.43488409495529,1436.202638605896,-111002.94260565551]
[1,{"$f":"('Hull Long'!C100-$L$7)*SIN(RADIANS($O$7))+('Hull Plan'!F100-$K$7)*COS(RADIANS($O$7))+$M$7","v":-149.89762614853177},{"$f":"('Hull Long'!C100-$L$7)*COS(RADIANS($O$7))-('Hull Plan'!F100-$K$7)*SIN(RADIANS($O$7))+$N$7","v":-9.2938816097590973},2,-149.89762614853177,-9.2938816097590973,null,null,null,null,0,0,0,0]
[1,{"$f":"IF(C677*C679<0,(B679-B677)/(C679-C677)*(0-C677)+B677,B677)","v":-149.89762614853177},{"$f":"IF(AND(C677*C679<0,B679<>B677),(C679-C677)/(B679-B677)*(B678-B677)+C677,C677)","v":-9.2938816097590973},2,-149.89762614853177,-9.2938816097590973,null,null,null,null,0.51305799093127369,-2.3912168494301782,8.2520091036751335,-618.5918441670708]
[1,{"$f":"('Hull Long'!C49-$L$7)*SIN(RADIANS($O$7))+('Hull Plan'!F49-$K$7)*COS(RADIANS($O$7))+$M$7","v":-149.95266700920106},{"$f":"('Hull Long'!C49-$L$7)*COS(RADIANS($O$7))-('Hull Plan'!F49-$K$7)*SIN(RADIANS($O$7))+$N$7","v":-9.3489224704284197},2,-149.95266700920106,-9.3489224704284197,null,null,null,null,{"$f":"SUM(K665:K678)","v":-3044.0050602292049},{"$f":"SUM(L665:L678)","v":50806.014637479224},{"$f":"SUM(M665:M678)","v":3044.0050602292054},{"$f":"SUM(N665:N678)","v":-310316.71511366701}]
[0,0,0,0,0,0,{"$f":"'Hull Long'!B101","v":3700},"vol","cx","cy","A","Acy","A","Acx"]
[1,{"$f":"('Hull Long'!C50-$L$7)*SIN(RADIANS($O$7))+('Hull Plan'!C50-$K$7)*COS(RADIANS($O$7))+$M$7","v":-148.15216363117977},{"$f":"('Hull Long'!C50-$L$7)*COS(RADIANS($O$7))-('Hull Plan'!C50-$K$7)*SIN(RADIANS($O$7))+$N$7","v":-7.5484190924071015},2,{"$f":"B681","v":-148.15216363117977},{"$f":"IF(C681<0,C681,0)","v":-7.5484190924071015},{"$f":"ABS(K695)/1000000","v":9.8304541174195747E-4},{"$f":"(G696-G680)*(G681+G697)/2000","v":3.3516154184873442E-5},{"$f":"IF(M695+M711<>0,(N695+N711)/(M695+M711),0)","v":-125.96338461033453},{"$f":"IF(K695+K711<>0,(L695+L711)/(K695+K711),0)","v":-8.4818975828512269},{"$f":"(F682+F681)/2*(E682-E681)","v":0},{"$f":"(E682-E681)*(F681^2+F681*F682+F682^2)/6","v":0},{"$f":"(E682+E681)/2*(F682-F681)","v":0},{"$f":"(F682-F681)*(E681^2+E681*E682+E682^2)/6","v":0}]
[1,{"$f":"IF(C681*C683<0,(B683-B681)/(C683-C681)*(0-C681)+B681,B681)","v":-148.15216363117977},{"$f":"IF(AND(C681*C683<0,B683<>B681),(C683-C681)/(B683-B681)*(B682-B681)+C681,C681)","v":-7.5484190924071015},2,-148.15216363117977,-7.5484190924071015,null,null,null,null,-0.46709791497939374,1.7556795098414471,-9.2036481945940238,681.62723725472074]
[1,{"$f":"('Hull Long'!C101-$L$7)*SIN(RADIANS($O$7))+('Hull Plan'!C101-$K$7)*COS(RADIANS($O$7))+$M$7","v":-148.09002765956481},{"$f":"('Hull Long'!C101-$L$7)*COS(RADIANS($O$7))-('Hull Plan'!C101-$K$7)*SIN(RADIANS($O$7))+$N$7","v":-7.4862831207921658},2,-148.09002765956481,-7.4862831207921658,null,null,null,null,0,0,0,0]
[1,{"$f":"IF(C683*C685<0,(B685-B683)/(C685-C683)*(0-C683)+B683,B683)","v":-148.09002765956481},{"$f":"IF(AND(C683*C685<0,B685<>B683),(C685-C683)/(B685-B683)*(B684-B683)+C683,C683)","v":-7.4862831207921658},2,-148.09002765956481,-7.4862831207921658,null,null,null,null,-378.92712459027814,3790.5428646198402,2883.5449776156311,-198698.17988404972]
[1,{"$f":"('Hull Long'!C152-$L$7)*SIN(RADIANS($O$7))+('Hull Plan'!C152-$K$7)*COS(RADIANS($O$7))+$M$7","v":-127.00151272754208},{"$f":"('Hull Long'!C152-$L$7)*COS(RADIANS($O$7))-('Hull Plan'!C152-$K$7)*SIN(RADIANS($O$7))+$N$7","v":-28.45054086247282},2,-127.00151272754208,-28.45054086247282,null,null,null,null,-576.26118143861129,5464.9807633253586,-3037.000546012187,164040.19659958838]
[1,{"$f":"IF(C685*C687<0,(B687-B685)/(C687-C685)*(0-C685)+B685,B685)","v":-86.491830734204768},{"$f":"IF(AND(C685*C687<0,B687<>B685),(C687-C685)/(B687-B685)*(B686-B685)+C685,C685)","v":0},2,-86.491830734204768,0,null,null,null,null,0,0,0,0]
[1,{"$f":"('Hull Long'!C203-$L$7)*SIN(RADIANS($O$7))+('Hull Plan'!C203-$K$7)*COS(RADIANS($O$7))+$M$7","v":120.09362153010949},{"$f":"('Hull Long'!C203-$L$7)*COS(RADIANS($O$7))-('Hull Plan'!C203-$K$7)*SIN(RADIANS($O$7))+$N$7","v":145.08797803460857},2,120.09362153010949,0,null,null,null,null,0,0,0,0]
[1,{"$f":"IF(C687*C689<0,(B689-B687)/(C689-C687)*(0-C687)+B687,B687)","v":120.09362153010949},{"$f":"IF(AND(C687*C689<0,B689<>B687),(C689-C687)/(B689-B687)*(B688-B687)+C687,C687)","v":145.08797803460857},2,120.09362153010949,0,null,null,null,null,0,0,0,0]
[1,{"$f":"('Hull Long'!C203-$L$7)*SIN(RADIANS($O$7))+('Hull Plan'!F203-$K$7)*COS(RADIANS($O$7))+$M$7","v":4.4842334958358876},{"$f":"('Hull Long'!C203-$L$7)*COS(RADIANS($O$7))-('Hull Plan'!F203-$K$7)*SIN(RADIANS($O$7))+$N$7","v":260.69736606888216},2,4.4842334958358876,0,null,null,null,null,0,0,0,0]
[1,{"$f":"IF(C689*C691<0,(B691-B689)/(C691-C689)*(0-C689)+B689,B689)","v":4.4842334958358876},{"$f":"IF(AND(C689*C691<0,B691<>B689),(C691-C689)/(B691-B689)*(B690-B689)+C689,C689)","v":260.69736606888216},2,4.4842334958358876,0,null,null,null,null,0,0,0,0]
[1,{"$f":"('Hull Long'!C152-$L$7)*SIN(RADIANS($O$7))+('Hull Plan'!F152-$K$7)*COS(RADIANS($O$7))+$M$7","v":-169.05428540124547},{"$f":"('Hull Long'!C152-$L$7)*COS(RADIANS($O$7))-('Hull Plan'!F152-$K$7)*SIN(RADIANS($O$7))+$N$7","v":13.602231811230567},2,-169.05428540124547,0,null,null,null,null,-1.2010024175560009E-14,7.111362861872792E-30,2.8829071192686429E-13,-2.3407350641967447E-11]
[1,{"$f":"IF(C691*C693<0,(B693-B691)/(C693-C691)*(0-C691)+B691,B691)","v":-155.53220030080479},{"$f":"IF(AND(C691*C693<0,B693<>B691),(C693-C691)/(B693-B691)*(B692-B691)+C691,C691)","v":-1.7763568394002505E-15},2,-155.53220030080479,-1.7763568394002505E-15,null,null,null,null,-27.857105713068055,69.515393431288132,1136.5009801385129,-86284.016366366573]
[1,{"$f":"('Hull Long'!C101-$L$7)*SIN(RADIANS($O$7))+('Hull Plan'!F101-$K$7)*COS(RADIANS($O$7))+$M$7","v":-148.09002765956481},{"$f":"('Hull Long'!C101-$L$7)*COS(RADIANS($O$7))-('Hull Plan'!F101-$K$7)*SIN(RADIANS($O$7))+$N$7","v":-7.4862831207921658},2,-148.09002765956481,-7.4862831207921658,null,null,null,null,0,0,0,0]
[1,{"$f":"IF(C693*C695<0,(B695-B693)/(C695-C693)*(0-C693)+B693,B693)","v":-148.09002765956481},{"$f":"IF(AND(C693*C695<0,B695<>B693),(C695-C693)/(B695-B693)*(B694-B693)+C693,C693)","v":-7.4862831207921658},2,-148.09002765956481,-7.4862831207921658,null,null,null,null,0.46709791497939374,-1.7556795098414468,9.2036481945940238,-681.62723725472074]
[1,{"$f":"('Hull Long'!C50-$L$7)*SIN(RADIANS($O$7))+('Hull Plan'!F50-$K$7)*COS(RADIANS($O$7))+$M$7","v":-148.15216363117977},{"$f":"('Hull Long'!C50-$L$7)*COS(RADIANS($O$7))-('Hull Plan'!F50-$K$7)*SIN(RADIANS($O$7))+$N$7","v":-7.5484190924071015},2,-148.15216363117977,-7.5484190924071015,null,null,null,null,{"$f":"SUM(K681:K694)","v":-983.04541174195754},{"$f":"SUM(L681:L694)","v":9325.0390213764858},{"$f":"SUM(M681:M694)","v":983.04541174195742},{"$f":"SUM(N681:N694)","v":-120941.99965082793}]
[0,0,0,0,0,0,{"$f":"'Hull Long'!B102","v":3750},"vol","cx","cy","A","Acy","A","Acx"]
[1,{"$f":"('Hull Long'!C51-$L$7)*SIN(RADIANS($O$7))+('Hull Plan'!C51-$K$7)*COS(RADIANS($O$7))+$M$7","v":-147.21099141085045},{"$f":"('Hull Long'!C51-$L$7)*COS(RADIANS($O$7))-('Hull Plan'!C51-$K$7)*SIN(RADIANS($O$7))+$N$7","v":-6.607246872077809},2,{"$f":"B697","v":-147.21099141085045},{"$f":"IF(C697<0,C697,0)","v":-6.607246872077809},{"$f":"ABS(K711)/1000000","v":3.5760075565298031E-4},{"$f":"(G712-G696)*(G697+G713)/2000","v":9.2246529987754069E-6},{"$f":"IF(M711+M727<>0,(N711+N727)/(M711+M727),0)","v":-134.28646852369525},{"$f":"IF(K711+K727<>0,(L711+L727)/(K711+K727),0)","v":-5.6033175047910024},{"$f":"(F698+F697)/2*(E698-E697)","v":0},{"$f":"(E698-E697)*(F697^2+F697*F698+F698^2)/6","v":0},{"$f":"(E698+E697)/2*(F698-F697)","v":0},{"$f":"(F698-F697)*(E697^2+E697*E698+E698^2)/6","v":0}]
[1,{"$f":"IF(C697*C699<0,(B699-B697)/(C699-C697)*(0-C697)+B697,B697)","v":-147.21099141085045},{"$f":"IF(AND(C697*C699<0,B699<>B697),(C699-C697)/(B699-B697)*(B698-B697)+C697,C697)","v":-6.607246872077809},2,-147.21099141085045,-6.607246872077809,null,null,null,null,-0.43288494661516219,1.4229749459508991,-9.6909075180099702,713.14453967580278]
[1,{"$f":"('Hull Long'!C102-$L$7)*SIN(RADIANS($O$7))+('Hull Plan'!C102-$K$7)*COS(RADIANS($O$7))+$M$7","v":-147.14514663124118},{"$f":"('Hull Long'!C102-$L$7)*COS(RADIANS($O$7))-('Hull Plan'!C102-$K$7)*SIN(RADIANS($O$7))+$N$7","v":-6.5414020924685303},2,-147.14514663124118,-6.5414020924685303,null,null,null,null,0,0,0,0]
[1,{"$f":"IF(C699*C701<0,(B701-B699)/(C701-C699)*(0-C699)+B699,B699)","v":-147.14514663124118},{"$f":"IF(AND(C699*C701<0,B701<>B699),(C701-C699)/(B701-B699)*(B700-B699)+C699,C699)","v":-6.5414020924685303},2,-147.14514663124118,-6.5414020924685303,null,null,null,null,-127.23089507535867,803.94649503864127,1504.0724943926743,-106670.83428551089]
[1,{"$f":"('Hull Long'!C153-$L$7)*SIN(RADIANS($O$7))+('Hull Plan'!C153-$K$7)*COS(RADIANS($O$7))+$M$7","v":-136.40459332785616},{"$f":"('Hull Long'!C153-$L$7)*COS(RADIANS($O$7))-('Hull Plan'!C153-$K$7)*SIN(RADIANS($O$7))+$N$7","v":-17.150281470101817},2,-136.40459332785616,-17.150281470101817,null,null,null,null,-209.23718177700144,1196.1588538288113,-2130.1399876105038,132711.80925414033]
[1,{"$f":"IF(C701*C703<0,(B703-B701)/(C703-C701)*(0-C701)+B701,B701)","v":-112.00415626893491},{"$f":"IF(AND(C701*C703<0,B703<>B701),(C703-C701)/(B703-B701)*(B702-B701)+C701,C701)","v":0},2,-112.00415626893491,0,null,null,null,null,0,0,0,0]
[1,{"$f":"('Hull Long'!C204-$L$7)*SIN(RADIANS($O$7))+('Hull Plan'!C204-$K$7)*COS(RADIANS($O$7))+$M$7","v":111.72228374611863},{"$f":"('Hull Long'!C204-$L$7)*COS(RADIANS($O$7))-('Hull Plan'!C204-$K$7)*SIN(RADIANS($O$7))+$N$7","v":157.25011028682169},2,111.72228374611863,0,null,null,null,null,0,0,0,0]
[1,{"$f":"IF(C703*C705<0,(B705-B703)/(C705-C703)*(0-C703)+B703,B703)","v":111.72228374611863},{"$f":"IF(AND(C703*C705<0,B705<>B703),(C705-C703)/(B705-B703)*(B704-B703)+C703,C703)","v":157.25011028682169},2,111.72228374611863,0,null,null,null,null,0,0,0,0]
[1,{"$f":"('Hull Long'!C204-$L$7)*SIN(RADIANS($O$7))+('Hull Plan'!F204-$K$7)*COS(RADIANS($O$7))+$M$7","v":16.646365748049007},{"$f":"('Hull Long'!C204-$L$7)*COS(RADIANS($O$7))-('Hull Plan'!F204-$K$7)*SIN(RADIANS($O$7))+$N$7","v":252.32602828489132},2,16.646365748049007,0,null,null,null,null,0,0,0,0]
[1,{"$f":"IF(C705*C707<0,(B707-B705)/(C707-C705)*(0-C705)+B705,B705)","v":16.646365748049007},{"$f":"IF(AND(C705*C707<0,B707<>B705),(C707-C705)/(B707-B705)*(B706-B705)+C705,C705)","v":252.32602828489132},2,16.646365748049007,0,null,null,null,null,0,0,0,0]
[1,{"$f":"('Hull Long'!C153-$L$7)*SIN(RADIANS($O$7))+('Hull Plan'!F153-$K$7)*COS(RADIANS($O$7))+$M$7","v":-157.75402600887446},{"$f":"('Hull Long'!C153-$L$7)*COS(RADIANS($O$7))-('Hull Plan'!F153-$K$7)*SIN(RADIANS($O$7))+$N$7","v":4.199151210916483},2,-157.75402600887446,0,null,null,null,null,-1.1051617414952316E-14,1.9631616181485462E-29,8.2963071171641518E-13,-6.4582353359873255E-11]
[1,{"$f":"IF(C707*C709<0,(B709-B707)/(C709-C707)*(0-C707)+B707,B707)","v":-153.60635433622275},{"$f":"IF(AND(C707*C709<0,B709<>B707),(C709-C707)/(B709-B707)*(B708-B707)+C707,C707)","v":-5.3290705182007514E-15},2,-153.60635433622275,-5.3290705182007514E-15,null,null,null,null,-21.132678800620152,46.079116441947328,983.66824887080907,-73971.30412774095]
[1,{"$f":"('Hull Long'!C102-$L$7)*SIN(RADIANS($O$7))+('Hull Plan'!F102-$K$7)*COS(RADIANS($O$7))+$M$7","v":-147.14514663124118},{"$f":"('Hull Long'!C102-$L$7)*COS(RADIANS($O$7))-('Hull Plan'!F102-$K$7)*SIN(RADIANS($O$7))+$N$7","v":-6.5414020924685303},2,-147.14514663124118,-6.5414020924685303,null,null,null,null,0,0,0,0]
[1,{"$f":"IF(C709*C711<0,(B711-B709)/(C711-C709)*(0-C709)+B709,B709)","v":-147.14514663124118},{"$f":"IF(AND(C709*C711<0,B711<>B709),(C711-C709)/(B711-B709)*(B710-B709)+C709,C709)","v":-6.5414020924685303},2,-147.14514663124118,-6.5414020924685303,null,null,null,null,0.43288494661516219,-1.4229749459508991,9.6909075180099702,-713.14453967580266]
[1,{"$f":"('Hull Long'!C51-$L$7)*SIN(RADIANS($O$7))+('Hull Plan'!F51-$K$7)*COS(RADIANS($O$7))+$M$7","v":-147.21099141085045},{"$f":"('Hull Long'!C51-$L$7)*COS(RADIANS($O$7))-('Hull Plan'!F51-$K$7)*SIN(RADIANS($O$7))+$N$7","v":-6.607246872077809},2,-147.21099141085045,-6.607246872077809,null,null,null,null,{"$f":"SUM(K697:K710)","v":-357.6007556529803},{"$f":"SUM(L697:L710)","v":2046.1844653093997},{"$f":"SUM(M697:M710)","v":357.60075565298047},{"$f":"SUM(N697:N710)","v":-47930.32915911157}]
[0,0,0,0,0,0,{"$f":"'Hull Long'!B103","v":3800},"vol","cx","cy","A","Acy","A","Acx"]
[1,{"$f":"('Hull Long'!C52-$L$7)*SIN(RADIANS($O$7))+('Hull Plan'!C52-$K$7)*COS(RADIANS($O$7))+$M$7","v":-146.24253883630868},{"$f":"('Hull Long'!C52-$L$7)*COS(RADIANS($O$7))-('Hull Plan'!C52-$K$7)*SIN(RADIANS($O$7))+$N$7","v":-5.6387942975360374},2,{"$f":"B713","v":-146.24253883630868},{"$f":"IF(C713<0,C713,0)","v":-5.6387942975360374},{"$f":"ABS(K727)/1000000","v":1.1385364298036018E-5},{"$f":"(G728-G712)*(G713+G729)/2000","v":5.9889381832413585E-10},{"$f":"IF(M727+M743<>0,(N727+N743)/(M727+M743),0)","v":-142.23607030909483},{"$f":"IF(K727+K743<>0,(L727+L743)/(K727+K743),0)","v":-1.8656840345411518},{"$f":"(F714+F713)/2*(E714-E713)","v":0},{"$f":"(E714-E713)*(F713^2+F713*F714+F714^2)/6","v":0},{"$f":"(E714+E713)/2*(F714-F713)","v":0},{"$f":"(F714-F713)*(E713^2+E713*E714+E714^2)/6","v":0}]
[1,{"$f":"IF(C713*C715<0,(B715-B713)/(C715-C713)*(0-C713)+B713,B713)","v":-146.24253883630868},{"$f":"IF(AND(C713*C715<0,B715<>B713),(C715-C713)/(B715-B713)*(B714-B713)+C713,C713)","v":-5.6387942975360374},2,-146.24253883630868,-5.6387942975360374,null,null,null,null,-0.39037821933787969,1.0938467806316019,-10.184988221399557,744.56190749930965]
[1,{"$f":"('Hull Long'!C103-$L$7)*SIN(RADIANS($O$7))+('Hull Plan'!C103-$K$7)*COS(RADIANS($O$7))+$M$7","v":-146.1728777470241},{"$f":"('Hull Long'!C103-$L$7)*COS(RADIANS($O$7))-('Hull Plan'!C103-$K$7)*SIN(RADIANS($O$7))+$N$7","v":-5.5691332082514577},2,-146.1728777470241,-5.5691332082514577,null,null,null,null,0,0,0,0]
[1,{"$f":"IF(C715*C717<0,(B717-B715)/(C717-C715)*(0-C715)+B715,B715)","v":-146.1728777470241},{"$f":"IF(AND(C715*C717<0,B717<>B715),(C717-C715)/(B717-B715)*(B716-B715)+C715,C715)","v":-5.5691332082514577},2,-146.1728777470241,-5.5691332082514577,null,null,null,null,-0.51382310796432817,1.4247899808256506,-6.8175169152004615,498.11013795171999]
[1,{"$f":"('Hull Long'!C154-$L$7)*SIN(RADIANS($O$7))+('Hull Plan'!C154-$K$7)*COS(RADIANS($O$7))+$M$7","v":-146.0802269890489},{"$f":"('Hull Long'!C154-$L$7)*COS(RADIANS($O$7))-('Hull Plan'!C154-$K$7)*SIN(RADIANS($O$7))+$N$7","v":-5.5224783272273044},2,-146.0802269890489,-5.5224783272273044,null,null,null,null,-21.677828000358286,39.905111771113283,-785.04705958310933,55813.30445997999]
[1,{"$f":"IF(C717*C719<0,(B719-B717)/(C719-C717)*(0-C717)+B717,B717)","v":-138.22946625596254},{"$f":"IF(AND(C717*C719<0,B719<>B717),(C719-C717)/(B719-B717)*(B718-B717)+C717,C717)","v":3.5527136788005009E-15},2,-138.22946625596254,0,null,null,null,null,0,0,0,0]
[1,{"$f":"('Hull Long'!C205-$L$7)*SIN(RADIANS($O$7))+('Hull Plan'!C205-$K$7)*COS(RADIANS($O$7))+$M$7","v":103.10829849012808},{"$f":"('Hull Long'!C205-$L$7)*COS(RADIANS($O$7))-('Hull Plan'!C205-$K$7)*SIN(RADIANS($O$7))+$N$7","v":169.76476811156272},2,103.10829849012808,0,null,null,null,null,0,0,0,0]
[1,{"$f":"IF(C719*C721<0,(B721-B719)/(C721-C719)*(0-C719)+B719,B719)","v":103.10829849012808},{"$f":"IF(AND(C719*C721<0,B721<>B719),(C721-C719)/(B721-B719)*(B720-B719)+C719,C719)","v":169.76476811156272},2,103.10829849012808,0,null,null,null,null,0,0,0,0]
[1,{"$f":"('Hull Long'!C205-$L$7)*SIN(RADIANS($O$7))+('Hull Plan'!F205-$K$7)*COS(RADIANS($O$7))+$M$7","v":29.161023572790022},{"$f":"('Hull Long'!C205-$L$7)*COS(RADIANS($O$7))-('Hull Plan'!F205-$K$7)*SIN(RADIANS($O$7))+$N$7","v":243.71204302890075},2,29.161023572790022,0,null,null,null,null,0,0,0,0]
[1,{"$f":"IF(C721*C723<0,(B723-B721)/(C723-C721)*(0-C721)+B721,B721)","v":-142.27388846563647},{"$f":"IF(AND(C721*C723<0,B723<>B721),(C723-C721)/(B723-B721)*(B722-B721)+C721,C721)","v":0},2,-142.27388846563647,0,null,null,null,null,10.548620868093026,-19.256445686243097,789.7090741827119,-56941.432629728282]
[1,{"$f":"('Hull Long'!C154-$L$7)*SIN(RADIANS($O$7))+('Hull Plan'!F154-$K$7)*COS(RADIANS($O$7))+$M$7","v":-146.12622286599995},{"$f":"('Hull Long'!C154-$L$7)*COS(RADIANS($O$7))-('Hull Plan'!F154-$K$7)*SIN(RADIANS($O$7))+$N$7","v":-5.4764824502762508},2,-146.12622286599995,-5.4764824502762508,null,null,null,null,0,0,0,0]
[1,{"$f":"IF(C723*C725<0,(B725-B723)/(C725-C723)*(0-C723)+B723,B723)","v":-146.12622286599995},{"$f":"IF(AND(C723*C725<0,B725<>B723),(C725-C723)/(B725-B723)*(B724-B723)+C723,C723)","v":-5.4764824502762508},2,-146.12622286599995,-5.4764824502762508,null,null,null,null,0.25766594219356792,-0.71153642865319577,13.540866613633977,-989.49579157448659]
[1,{"$f":"('Hull Long'!C103-$L$7)*SIN(RADIANS($O$7))+('Hull Plan'!F103-$K$7)*COS(RADIANS($O$7))+$M$7","v":-146.1728777470241},{"$f":"('Hull Long'!C103-$L$7)*COS(RADIANS($O$7))-('Hull Plan'!F103-$K$7)*SIN(RADIANS($O$7))+$N$7","v":-5.5691332082514577},2,-146.1728777470241,-5.5691332082514577,null,null,null,null,0,0,0,0]
[1,{"$f":"IF(C725*C727<0,(B727-B725)/(C727-C725)*(0-C725)+B725,B725)","v":-146.1728777470241},{"$f":"IF(AND(C725*C727<0,B727<>B725),(C727-C725)/(B727-B725)*(B726-B725)+C725,C725)","v":-5.5691332082514577},2,-146.1728777470241,-5.5691332082514577,null,null,null,null,0.39037821933787969,-1.0938467806316019,10.184988221399557,-744.56190749930965]
[1,{"$f":"('Hull Long'!C52-$L$7)*SIN(RADIANS($O$7))+('Hull Plan'!F52-$K$7)*COS(RADIANS($O$7))+$M$7","v":-146.24253883630868},{"$f":"('Hull Long'!C52-$L$7)*COS(RADIANS($O$7))-('Hull Plan'!F52-$K$7)*SIN(RADIANS($O$7))+$N$7","v":-5.6387942975360374},2,-146.24253883630868,-5.6387942975360374,null,null,null,null,{"$f":"SUM(K713:K726)","v":-11.385364298036018},{"$f":"SUM(L713:L726)","v":21.361919637042639},{"$f":"SUM(M713:M726)","v":11.385364298036098},{"$f":"SUM(N713:N726)","v":-1619.5138233710595}]
[0,0,0,0,0,0,{"$f":"'Hull Long'!B104","v":3800.0532258064518},"vol","cx","cy","A","Acy","A","Acx"]
[1,{"$f":"('Hull Long'!C53-$L$7)*SIN(RADIANS($O$7))+('Hull Plan'!C53-$K$7)*COS(RADIANS($O$7))+$M$7","v":-146.17182815819004},{"$f":"('Hull Long'!C53-$L$7)*COS(RADIANS($O$7))-('Hull Plan'!C53-$K$7)*SIN(RADIANS($O$7))+$N$7","v":-5.5680836194173935},2,{"$f":"B729","v":-146.17182815819004},{"$f":"IF(C729<0,C729,0)","v":-5.5680836194173935},{"$f":"ABS(K743)/1000000","v":1.1118524632855845E-5},{"$f":"(G744-G728)*(G729+G745)/2000","v":5.8469605839409396E-10},{"$f":"IF(M743+M759<>0,(N743+N759)/(M743+M759),0)","v":-142.21700477740114},{"$f":"IF(K743+K759<>0,(L743+L759)/(K743+K759),0)","v":-1.8437911320861451},{"$f":"(F730+F729)/2*(E730-E729)","v":0},{"$f":"(E730-E729)*(F729^2+F729*F730+F730^2)/6","v":0},{"$f":"(E730+E729)/2*(F730-F729)","v":0},{"$f":"(F730-F729)*(E729^2+E729*E730+E730^2)/6","v":0}]
[1,{"$f":"IF(C729*C731<0,(B731-B729)/(C731-C729)*(0-C729)+B729,B729)","v":-146.17182815819004},{"$f":"IF(AND(C729*C731<0,B731<>B729),(C731-C729)/(B731-B729)*(B730-B729)+C729,C729)","v":-5.5680836194173935},2,-146.17182815819004,-5.5680836194173935,null,null,null,null,0,0,0,0]
[1,{"$f":"('Hull Long'!C104-$L$7)*SIN(RADIANS($O$7))+('Hull Plan'!C104-$K$7)*COS(RADIANS($O$7))+$M$7","v":-146.17182815819004},{"$f":"('Hull Long'!C104-$L$7)*COS(RADIANS($O$7))-('Hull Plan'!C104-$K$7)*SIN(RADIANS($O$7))+$N$7","v":-5.5680836194173935},2,-146.17182815819004,-5.5680836194173935,null,null,null,null,0,0,0,0]
[1,{"$f":"IF(C731*C733<0,(B733-B731)/(C733-C731)*(0-C731)+B731,B731)","v":-146.17182815819004},{"$f":"IF(AND(C731*C733<0,B733<>B731),(C733-C731)/(B733-B731)*(B732-B731)+C731,C731)","v":-5.5680836194173935},2,-146.17182815819004,-5.5680836194173935,null,null,null,null,-0.44952389938827186,1.2449689375084192,-8.4986719552041929,620.9607945435406]
[1,{"$f":"('Hull Long'!C155-$L$7)*SIN(RADIANS($O$7))+('Hull Plan'!C155-$K$7)*COS(RADIANS($O$7))+$M$7","v":-146.09067208013238},{"$f":"('Hull Long'!C155-$L$7)*COS(RADIANS($O$7))-('Hull Plan'!C155-$K$7)*SIN(RADIANS($O$7))+$N$7","v":-5.5099258198483483},2,-146.09067208013238,-5.5099258198483483,null,null,null,null,-21.579374652593202,39.63358452483476,-783.36939148072611,55701.550866121899]
[1,{"$f":"IF(C733*C735<0,(B735-B733)/(C735-C733)*(0-C733)+B733,B733)","v":-138.25776276042501},{"$f":"IF(AND(C733*C735<0,B735<>B733),(C735-C733)/(B735-B733)*(B734-B733)+C733,C733)","v":-1.7763568394002505E-15},2,-138.25776276042501,-1.7763568394002505E-15,null,null,null,null,-2.1436786766649223E-13,1.269312759590071E-28,-3.1227254813165986E-14,4.5860724539521477E-12]
[1,{"$f":"('Hull Long'!C206-$L$7)*SIN(RADIANS($O$7))+('Hull Plan'!C206-$K$7)*COS(RADIANS($O$7))+$M$7","v":103.09899947533054},{"$f":"('Hull Long'!C206-$L$7)*COS(RADIANS($O$7))-('Hull Plan'!C206-$K$7)*SIN(RADIANS($O$7))+$N$7","v":169.77827800098549},2,103.09899947533054,0,null,null,null,null,0,0,0,0]
[1,{"$f":"IF(C735*C737<0,(B737-B735)/(C737-C735)*(0-C735)+B735,B735)","v":103.09899947533054},{"$f":"IF(AND(C735*C737<0,B737<>B735),(C737-C735)/(B737-B735)*(B736-B735)+C735,C735)","v":169.77827800098549},2,103.09899947533054,0,null,null,null,null,0,0,0,0]
[1,{"$f":"('Hull Long'!C206-$L$7)*SIN(RADIANS($O$7))+('Hull Plan'!F206-$K$7)*COS(RADIANS($O$7))+$M$7","v":29.174533462212814},{"$f":"('Hull Long'!C206-$L$7)*COS(RADIANS($O$7))-('Hull Plan'!F206-$K$7)*SIN(RADIANS($O$7))+$N$7","v":243.70274401410325},2,29.174533462212814,0,null,null,null,null,0,0,0,0]
[1,{"$f":"IF(C737*C739<0,(B739-B737)/(C739-C737)*(0-C737)+B737,B737)","v":-142.25398521510596},{"$f":"IF(AND(C737*C739<0,B739<>B737),(C739-C737)/(B739-B737)*(B738-B737)+C737,C737)","v":0},2,-142.25398521510596,0,null,null,null,null,10.588906357464825,-19.366853975217641,791.12621570241004,-57037.208841634136]
[1,{"$f":"('Hull Long'!C155-$L$7)*SIN(RADIANS($O$7))+('Hull Plan'!F155-$K$7)*COS(RADIANS($O$7))+$M$7","v":-146.11367035862099},{"$f":"('Hull Long'!C155-$L$7)*COS(RADIANS($O$7))-('Hull Plan'!F155-$K$7)*SIN(RADIANS($O$7))+$N$7","v":-5.4869275413597336},2,-146.11367035862099,-5.4869275413597336,null,null,null,null,0,0,0,0]
[1,{"$f":"IF(C739*C741<0,(B741-B739)/(C741-C739)*(0-C739)+B739,B739)","v":-146.11367035862099},{"$f":"IF(AND(C739*C741<0,B741<>B739),(C741-C739)/(B741-B739)*(B740-B739)+C739,C739)","v":-5.4869275413597336},2,-146.11367035862099,-5.4869275413597336,null,null,null,null,0.32146756166101698,-0.8884728307158819,11.860372366376176,-866.65372386267643]
[1,{"$f":"('Hull Long'!C104-$L$7)*SIN(RADIANS($O$7))+('Hull Plan'!F104-$K$7)*COS(RADIANS($O$7))+$M$7","v":-146.17182815819004},{"$f":"('Hull Long'!C104-$L$7)*COS(RADIANS($O$7))-('Hull Plan'!F104-$K$7)*SIN(RADIANS($O$7))+$N$7","v":-5.5680836194173935},2,-146.17182815819004,-5.5680836194173935,null,null,null,null,0,0,0,0]
[1,{"$f":"IF(C741*C743<0,(B743-B741)/(C743-C741)*(0-C741)+B741,B741)","v":-146.17182815819004},{"$f":"IF(AND(C741*C743<0,B743<>B741),(C743-C741)/(B743-B741)*(B742-B741)+C741,C741)","v":-5.5680836194173935},2,-146.17182815819004,-5.5680836194173935,null,null,null,null,0,0,0,0]
[1,{"$f":"('Hull Long'!C53-$L$7)*SIN(RADIANS($O$7))+('Hull Plan'!F53-$K$7)*COS(RADIANS($O$7))+$M$7","v":-146.17182815819004},{"$f":"('Hull Long'!C53-$L$7)*COS(RADIANS($O$7))-('Hull Plan'!F53-$K$7)*SIN(RADIANS($O$7))+$N$7","v":-5.5680836194173935},2,-146.17182815819004,-5.5680836194173935,null,null,null,null,{"$f":"SUM(K729:K742)","v":-11.118524632855845},{"$f":"SUM(L729:L742)","v":20.623226656409656},{"$f":"SUM(M729:M742)","v":11.118524632855959},{"$f":"SUM(N729:N742)","v":-1581.350904831364}]
[0,0,0,0,0,0,{"$f":"'Hull Long'!B105","v":3800.1064516129031},"vol","cx","cy","A","Acy","A","Acx"]
[1,{"$f":"('Hull Long'!C54-$L$7)*SIN(RADIANS($O$7))+('Hull Plan'!C54-$K$7)*COS(RADIANS($O$7))+$M$7","v":-146.10111748007137},{"$f":"('Hull Long'!C54-$L$7)*COS(RADIANS($O$7))-('Hull Plan'!C54-$K$7)*SIN(RADIANS($O$7))+$N$7","v":-5.4973729412987211},2,{"$f":"B745","v":-146.10111748007137},{"$f":"IF(C745<0,C745,0)","v":-5.4973729412987211},{"$f":"ABS(K759)/1000000","v":1.085187271297546E-5},{"$f":"(G760-G744)*(G745+G761)/2000","v":7.2142199614630593E-7},{"$f":"IF(M759+M775<>0,(N759+N775)/(M759+M775),0)","v":-142.20708630473905},{"$f":"IF(K759+K775<>0,(L759+L775)/(K759+K775),0)","v":-1.8324576470995739},{"$f":"(F746+F745)/2*(E746-E745)","v":0},{"$f":"(E746-E745)*(F745^2+F745*F746+F746^2)/6","v":0},{"$f":"(E746+E745)/2*(F746-F745)","v":0},{"$f":"(F746-F745)*(E745^2+E745*E746+E746^2)/6","v":0}]
[1,{"$f":"IF(C745*C747<0,(B747-B745)/(C747-C745)*(0-C745)+B745,B745)","v":-146.10111748007137},{"$f":"IF(AND(C745*C747<0,B747<>B745),(C747-C745)/(B747-B745)*(B746-B745)+C745,C745)","v":-5.4973729412987211},2,-146.10111748007137,-5.4973729412987211,null,null,null,null,0,0,0,0]
[1,{"$f":"('Hull Long'!C105-$L$7)*SIN(RADIANS($O$7))+('Hull Plan'!C105-$K$7)*COS(RADIANS($O$7))+$M$7","v":-146.10111748007137},{"$f":"('Hull Long'!C105-$L$7)*COS(RADIANS($O$7))-('Hull Plan'!C105-$K$7)*SIN(RADIANS($O$7))+$N$7","v":-5.4973729412987211},2,-146.10111748007137,-5.4973729412987211,null,null,null,null,0,0,0,0]
[1,{"$f":"IF(C747*C749<0,(B749-B747)/(C749-C747)*(0-C747)+B747,B747)","v":-146.10111748007137},{"$f":"IF(AND(C747*C749<0,B749<>B747),(C749-C747)/(B749-B747)*(B748-B747)+C747,C747)","v":-5.4973729412987211},2,-146.10111748007137,-5.4973729412987211,null,null,null,null,0,0,0,0]
[1,{"$f":"('Hull Long'!C156-$L$7)*SIN(RADIANS($O$7))+('Hull Plan'!C156-$K$7)*COS(RADIANS($O$7))+$M$7","v":-146.10111748007137},{"$f":"('Hull Long'!C156-$L$7)*COS(RADIANS($O$7))-('Hull Plan'!C156-$K$7)*SIN(RADIANS($O$7))+$N$7","v":-5.4973729412987211},2,-146.10111748007137,-5.4973729412987211,null,null,null,null,-21.481142568375823,39.363283967856454,-781.6911873600742,55589.727319284408]
[1,{"$f":"IF(C749*C751<0,(B751-B749)/(C751-C749)*(0-C749)+B749,B749)","v":-138.28606007074049},{"$f":"IF(AND(C749*C751<0,B751<>B749),(C751-C749)/(B751-B749)*(B750-B749)+C749,C749)","v":7.1054273576010019E-15},2,-138.28606007074049,0,null,null,null,null,0,0,0,0]
[1,{"$f":"('Hull Long'!C207-$L$7)*SIN(RADIANS($O$7))+('Hull Plan'!C207-$K$7)*COS(RADIANS($O$7))+$M$7","v":103.08970018556634},{"$f":"('Hull Long'!C207-$L$7)*COS(RADIANS($O$7))-('Hull Plan'!C207-$K$7)*SIN(RADIANS($O$7))+$N$7","v":169.79178828988822},2,103.08970018556634,0,null,null,null,null,0,0,0,0]
[1,{"$f":"IF(C751*C753<0,(B753-B751)/(C753-C751)*(0-C751)+B751,B751)","v":103.08970018556634},{"$f":"IF(AND(C751*C753<0,B753<>B751),(C753-C751)/(B753-B751)*(B752-B751)+C751,C751)","v":169.79178828988822},2,103.08970018556634,0,null,null,null,null,0,0,0,0]
[1,{"$f":"('Hull Long'!C207-$L$7)*SIN(RADIANS($O$7))+('Hull Plan'!F207-$K$7)*COS(RADIANS($O$7))+$M$7","v":29.188043751115529},{"$f":"('Hull Long'!C207-$L$7)*COS(RADIANS($O$7))-('Hull Plan'!F207-$K$7)*SIN(RADIANS($O$7))+$N$7","v":243.693444724339},2,29.188043751115529,0,null,null,null,null,0,0,0,0]
[1,{"$f":"IF(C753*C755<0,(B755-B753)/(C755-C753)*(0-C753)+B753,B753)","v":-142.23408136340242},{"$f":"IF(AND(C753*C755<0,B755<>B753),(C755-C753)/(B755-B753)*(B754-B753)+C753,C753)","v":8.5265128291212022E-14},2,-142.23408136340242,0,null,null,null,null,10.629269855400363,-19.477686829613372,792.54306007304956,-57132.940518746538]
[1,{"$f":"('Hull Long'!C156-$L$7)*SIN(RADIANS($O$7))+('Hull Plan'!F156-$K$7)*COS(RADIANS($O$7))+$M$7","v":-146.10111748007137},{"$f":"('Hull Long'!C156-$L$7)*COS(RADIANS($O$7))-('Hull Plan'!F156-$K$7)*SIN(RADIANS($O$7))+$N$7","v":-5.4973729412987211},2,-146.10111748007137,-5.4973729412987211,null,null,null,null,0,0,0,0]
[1,{"$f":"IF(C755*C757<0,(B757-B755)/(C757-C755)*(0-C755)+B755,B755)","v":-146.10111748007137},{"$f":"IF(AND(C755*C757<0,B757<>B755),(C757-C755)/(B757-B755)*(B756-B755)+C755,C755)","v":-5.4973729412987211},2,-146.10111748007137,-5.4973729412987211,null,null,null,null,0,0,0,0]
[1,{"$f":"('Hull Long'!C105-$L$7)*SIN(RADIANS($O$7))+('Hull Plan'!F105-$K$7)*COS(RADIANS($O$7))+$M$7","v":-146.10111748007137},{"$f":"('Hull Long'!C105-$L$7)*COS(RADIANS($O$7))-('Hull Plan'!F105-$K$7)*SIN(RADIANS($O$7))+$N$7","v":-5.4973729412987211},2,-146.10111748007137,-5.4973729412987211,null,null,null,null,0,0,0,0]
[1,{"$f":"IF(C757*C759<0,(B759-B757)/(C759-C757)*(0-C757)+B757,B757)","v":-146.10111748007137},{"$f":"IF(AND(C757*C759<0,B759<>B757),(C759-C757)/(B759-B757)*(B758-B757)+C757,C757)","v":-5.4973729412987211},2,-146.10111748007137,-5.4973729412987211,null,null,null,null,0,0,0,0]
[1,{"$f":"('Hull Long'!C54-$L$7)*SIN(RADIANS($O$7))+('Hull Plan'!F54-$K$7)*COS(RADIANS($O$7))+$M$7","v":-146.10111748007137},{"$f":"('Hull Long'!C54-$L$7)*COS(RADIANS($O$7))-('Hull Plan'!F54-$K$7)*SIN(RADIANS($O$7))+$N$7","v":-5.4973729412987211},2,-146.10111748007137,-5.4973729412987211,null,null,null,null,{"$f":"SUM(K745:K758)","v":-10.85187271297546},{"$f":"SUM(L745:L758)","v":19.885597138243082},{"$f":"SUM(M745:M758)","v":10.851872712975364},{"$f":"SUM(N745:N758)","v":-1543.2131994621304}]
[0,0,0,0,0,0,{"$f":"'Hull Long'!B106","v":3933.0645161290322},"vol","cx","cy","A","Acy","A","Acx"]
[1,{"$f":"('Hull Long'!C55-$L$7)*SIN(RADIANS($O$7))+('Hull Plan'!C55-$K$7)*COS(RADIANS($O$7))+$M$7","v":30.53415646032817},{"$f":"('Hull Long'!C55-$L$7)*COS(RADIANS($O$7))-('Hull Plan'!C55-$K$7)*SIN(RADIANS($O$7))+$N$7","v":171.13790099910085},2,{"$f":"B761","v":30.53415646032817},{"$f":"IF(C761<0,C761,0)","v":0},{"$f":"ABS(K775)/1000000","v":0},{"$f":"(G776-G760)*(G761+G777)/2000","v":0},{"$f":"IF(M775+M791<>0,(N775+N791)/(M775+M791),0)","v":0},{"$f":"IF(K775+K791<>0,(L775+L791)/(K775+K791),0)","v":0},{"$f":"(F762+F761)/2*(E762-E761)","v":0},{"$f":"(E762-E761)*(F761^2+F761*F762+F762^2)/6","v":0},{"$f":"(E762+E761)/2*(F762-F761)","v":0},{"$f":"(F762-F761)*(E761^2+E761*E762+E762^2)/6","v":0}]
[1,{"$f":"IF(C761*C763<0,(B763-B761)/(C763-C761)*(0-C761)+B761,B761)","v":30.53415646032817},{"$f":"IF(AND(C761*C763<0,B763<>B761),(C763-C761)/(B763-B761)*(B762-B761)+C761,C761)","v":171.13790099910085},2,30.53415646032817,0,null,null,null,null,0,0,0,0]
[1,{"$f":"('Hull Long'!C106-$L$7)*SIN(RADIANS($O$7))+('Hull Plan'!C106-$K$7)*COS(RADIANS($O$7))+$M$7","v":30.53415646032817},{"$f":"('Hull Long'!C106-$L$7)*COS(RADIANS($O$7))-('Hull Plan'!C106-$K$7)*SIN(RADIANS($O$7))+$N$7","v":171.13790099910085},2,30.53415646032817,0,null,null,null,null,0,0,0,0]
[1,{"$f":"IF(C763*C765<0,(B765-B763)/(C765-C763)*(0-C763)+B763,B763)","v":30.53415646032817},{"$f":"IF(AND(C763*C765<0,B765<>B763),(C765-C763)/(B765-B763)*(B764-B763)+C763,C763)","v":171.13790099910085},2,30.53415646032817,0,null,null,null,null,0,0,0,0]
[1,{"$f":"('Hull Long'!C157-$L$7)*SIN(RADIANS($O$7))+('Hull Plan'!C157-$K$7)*COS(RADIANS($O$7))+$M$7","v":30.53415646032817},{"$f":"('Hull Long'!C157-$L$7)*COS(RADIANS($O$7))-('Hull Plan'!C157-$K$7)*SIN(RADIANS($O$7))+$N$7","v":171.13790099910085},2,30.53415646032817,0,null,null,null,null,0,0,0,0]
[1,{"$f":"IF(C765*C767<0,(B767-B765)/(C767-C765)*(0-C765)+B765,B765)","v":30.53415646032817},{"$f":"IF(AND(C765*C767<0,B767<>B765),(C767-C765)/(B767-B765)*(B766-B765)+C765,C765)","v":171.13790099910085},2,30.53415646032817,0,null,null,null,null,0,0,0,0]
[1,{"$f":"('Hull Long'!C208-$L$7)*SIN(RADIANS($O$7))+('Hull Plan'!C208-$K$7)*COS(RADIANS($O$7))+$M$7","v":79.001833947813097},{"$f":"('Hull Long'!C208-$L$7)*COS(RADIANS($O$7))-('Hull Plan'!C208-$K$7)*SIN(RADIANS($O$7))+$N$7","v":204.78736754096366},2,79.001833947813097,0,null,null,null,null,0,0,0,0]
[1,{"$f":"IF(C767*C769<0,(B769-B767)/(C769-C767)*(0-C767)+B767,B767)","v":79.001833947813097},{"$f":"IF(AND(C767*C769<0,B769<>B767),(C769-C767)/(B769-B767)*(B768-B767)+C767,C767)","v":204.78736754096366},2,79.001833947813097,0,null,null,null,null,0,0,0,0]
[1,{"$f":"('Hull Long'!C208-$L$7)*SIN(RADIANS($O$7))+('Hull Plan'!F208-$K$7)*COS(RADIANS($O$7))+$M$7","v":64.18362300219097},{"$f":"('Hull Long'!C208-$L$7)*COS(RADIANS($O$7))-('Hull Plan'!F208-$K$7)*SIN(RADIANS($O$7))+$N$7","v":219.60557848658578},2,64.18362300219097,0,null,null,null,null,0,0,0,0]
[1,{"$f":"IF(C769*C771<0,(B771-B769)/(C771-C769)*(0-C769)+B769,B769)","v":64.18362300219097},{"$f":"IF(AND(C769*C771<0,B771<>B769),(C771-C769)/(B771-B769)*(B770-B769)+C769,C769)","v":219.60557848658578},2,64.18362300219097,0,null,null,null,null,0,0,0,0]
[1,{"$f":"('Hull Long'!C157-$L$7)*SIN(RADIANS($O$7))+('Hull Plan'!F157-$K$7)*COS(RADIANS($O$7))+$M$7","v":30.53415646032817},{"$f":"('Hull Long'!C157-$L$7)*COS(RADIANS($O$7))-('Hull Plan'!F157-$K$7)*SIN(RADIANS($O$7))+$N$7","v":171.13790099910085},2,30.53415646032817,0,null,null,null,null,0,0,0,0]
[1,{"$f":"IF(C771*C773<0,(B773-B771)/(C773-C771)*(0-C771)+B771,B771)","v":30.53415646032817},{"$f":"IF(AND(C771*C773<0,B773<>B771),(C773-C771)/(B773-B771)*(B772-B771)+C771,C771)","v":171.13790099910085},2,30.53415646032817,0,null,null,null,null,0,0,0,0]
[1,{"$f":"('Hull Long'!C106-$L$7)*SIN(RADIANS($O$7))+('Hull Plan'!F106-$K$7)*COS(RADIANS($O$7))+$M$7","v":30.53415646032817},{"$f":"('Hull Long'!C106-$L$7)*COS(RADIANS($O$7))-('Hull Plan'!F106-$K$7)*SIN(RADIANS($O$7))+$N$7","v":171.13790099910085},2,30.53415646032817,0,null,null,null,null,0,0,0,0]
[1,{"$f":"IF(C773*C775<0,(B775-B773)/(C775-C773)*(0-C773)+B773,B773)","v":30.53415646032817},{"$f":"IF(AND(C773*C775<0,B775<>B773),(C775-C773)/(B775-B773)*(B774-B773)+C773,C773)","v":171.13790099910085},2,30.53415646032817,0,null,null,null,null,0,0,0,0]
[1,{"$f":"('Hull Long'!C55-$L$7)*SIN(RADIANS($O$7))+('Hull Plan'!F55-$K$7)*COS(RADIANS($O$7))+$M$7","v":30.53415646032817},{"$f":"('Hull Long'!C55-$L$7)*COS(RADIANS($O$7))-('Hull Plan'!F55-$K$7)*SIN(RADIANS($O$7))+$N$7","v":171.13790099910085},2,30.53415646032817,0,null,null,null,null,{"$f":"SUM(K761:K774)","v":0},{"$f":"SUM(L761:L774)","v":0},{"$f":"SUM(M761:M774)","v":0},{"$f":"SUM(N761:N774)","v":0}]
[0,0,0,0,0,0,{"$f":"'Hull Long'!B107","v":3965},"vol","cx","cy","A","Acy","A","Acx"]
[1,{"$f":"('Hull Long'!C56-$L$7)*SIN(RADIANS($O$7))+('Hull Plan'!C56-$K$7)*COS(RADIANS($O$7))+$M$7","v":72.960563331521016},{"$f":"('Hull Long'!C56-$L$7)*COS(RADIANS($O$7))-('Hull Plan'!C56-$K$7)*SIN(RADIANS($O$7))+$N$7","v":213.5643078702937},2,{"$f":"B777","v":72.960563331521016},{"$f":"IF(C777<0,C777,0)","v":0},{"$f":"ABS(K791)/1000000","v":0},{"$f":"(G792-G776)*(G777+G793)/2000","v":0},{"$f":"IF(M791+M808<>0,(N791+N808)/(M791+M808),0)","v":0},{"$f":"IF(K791+K808<>0,(L791+L808)/(K791+K808),0)","v":0},{"$f":"(F778+F777)/2*(E778-E777)","v":0},{"$f":"(E778-E777)*(F777^2+F777*F778+F778^2)/6","v":0},{"$f":"(E778+E777)/2*(F778-F777)","v":0},{"$f":"(F778-F777)*(E777^2+E777*E778+E778^2)/6","v":0}]
[1,{"$f":"IF(C777*C779<0,(B779-B777)/(C779-C777)*(0-C777)+B777,B777)","v":72.960563331521016},{"$f":"IF(AND(C777*C779<0,B779<>B777),(C779-C777)/(B779-B777)*(B778-B777)+C777,C777)","v":213.5643078702937},2,72.960563331521016,0,null,null,null,null,0,0,0,0]
[1,{"$f":"('Hull Long'!C107-$L$7)*SIN(RADIANS($O$7))+('Hull Plan'!C107-$K$7)*COS(RADIANS($O$7))+$M$7","v":72.960563331521016},{"$f":"('Hull Long'!C107-$L$7)*COS(RADIANS($O$7))-('Hull Plan'!C107-$K$7)*SIN(RADIANS($O$7))+$N$7","v":213.5643078702937},2,72.960563331521016,0,null,null,null,null,0,0,0,0]
[1,{"$f":"IF(C779*C781<0,(B781-B779)/(C781-C779)*(0-C779)+B779,B779)","v":72.960563331521016},{"$f":"IF(AND(C779*C781<0,B781<>B779),(C781-C779)/(B781-B779)*(B780-B779)+C779,C779)","v":213.5643078702937},2,72.960563331521016,0,null,null,null,null,0,0,0,0]
[1,{"$f":"('Hull Long'!C158-$L$7)*SIN(RADIANS($O$7))+('Hull Plan'!C158-$K$7)*COS(RADIANS($O$7))+$M$7","v":72.960563331521016},{"$f":"('Hull Long'!C158-$L$7)*COS(RADIANS($O$7))-('Hull Plan'!C158-$K$7)*SIN(RADIANS($O$7))+$N$7","v":213.5643078702937},2,72.960563331521016,0,null,null,null,null,0,0,0,0]
[1,{"$f":"IF(C781*C783<0,(B783-B781)/(C783-C781)*(0-C781)+B781,B781)","v":72.960563331521016},{"$f":"IF(AND(C781*C783<0,B783<>B781),(C783-C781)/(B783-B781)*(B782-B781)+C781,C781)","v":213.5643078702937},2,72.960563331521016,0,null,null,null,null,0,0,0,0]
[1,{"$f":"('Hull Long'!C209-$L$7)*SIN(RADIANS($O$7))+('Hull Plan'!C209-$K$7)*COS(RADIANS($O$7))+$M$7","v":72.960563331521016},{"$f":"('Hull Long'!C209-$L$7)*COS(RADIANS($O$7))-('Hull Plan'!C209-$K$7)*SIN(RADIANS($O$7))+$N$7","v":213.5643078702937},2,72.960563331521016,0,null,null,null,null,0,0,0,0]
[1,{"$f":"IF(C783*C785<0,(B785-B783)/(C785-C783)*(0-C783)+B783,B783)","v":72.960563331521016},{"$f":"IF(AND(C783*C785<0,B785<>B783),(C785-C783)/(B785-B783)*(B784-B783)+C783,C783)","v":213.5643078702937},2,72.960563331521016,0,null,null,null,null,0,0,0,0]
[1,{"$f":"('Hull Long'!C209-$L$7)*SIN(RADIANS($O$7))+('Hull Plan'!F209-$K$7)*COS(RADIANS($O$7))+$M$7","v":72.960563331521016},{"$f":"('Hull Long'!C209-$L$7)*COS(RADIANS($O$7))-('Hull Plan'!F209-$K$7)*SIN(RADIANS($O$7))+$N$7","v":213.5643078702937},2,72.960563331521016,0,null,null,null,null,0,0,0,0]
[1,{"$f":"IF(C785*C787<0,(B787-B785)/(C787-C785)*(0-C785)+B785,B785)","v":72.960563331521016},{"$f":"IF(AND(C785*C787<0,B787<>B785),(C787-C785)/(B787-B785)*(B786-B785)+C785,C785)","v":213.5643078702937},2,72.960563331521016,0,null,null,null,null,0,0,0,0]
[1,{"$f":"('Hull Long'!C158-$L$7)*SIN(RADIANS($O$7))+('Hull Plan'!F158-$K$7)*COS(RADIANS($O$7))+$M$7","v":72.960563331521016},{"$f":"('Hull Long'!C158-$L$7)*COS(RADIANS($O$7))-('Hull Plan'!F158-$K$7)*SIN(RADIANS($O$7))+$N$7","v":213.5643078702937},2,72.960563331521016,0,null,null,null,null,0,0,0,0]
[1,{"$f":"IF(C787*C789<0,(B789-B787)/(C789-C787)*(0-C787)+B787,B787)","v":72.960563331521016},{"$f":"IF(AND(C787*C789<0,B789<>B787),(C789-C787)/(B789-B787)*(B788-B787)+C787,C787)","v":213.5643078702937},2,72.960563331521016,0,null,null,null,null,0,0,0,0]
[1,{"$f":"('Hull Long'!C107-$L$7)*SIN(RADIANS($O$7))+('Hull Plan'!F107-$K$7)*COS(RADIANS($O$7))+$M$7","v":72.960563331521016},{"$f":"('Hull Long'!C107-$L$7)*COS(RADIANS($O$7))-('Hull Plan'!F107-$K$7)*SIN(RADIANS($O$7))+$N$7","v":213.5643078702937},2,72.960563331521016,0,null,null,null,null,0,0,0,0]
[1,{"$f":"IF(C789*C791<0,(B791-B789)/(C791-C789)*(0-C789)+B789,B789)","v":72.960563331521016},{"$f":"IF(AND(C789*C791<0,B791<>B789),(C791-C789)/(B791-B789)*(B790-B789)+C789,C789)","v":213.5643078702937},2,72.960563331521016,0,null,null,null,null,0,0,0,0]
[1,{"$f":"('Hull Long'!C56-$L$7)*SIN(RADIANS($O$7))+('Hull Plan'!F56-$K$7)*COS(RADIANS($O$7))+$M$7","v":72.960563331521016},{"$f":"('Hull Long'!C56-$L$7)*COS(RADIANS($O$7))-('Hull Plan'!F56-$K$7)*SIN(RADIANS($O$7))+$N$7","v":213.5643078702937},2,72.960563331521016,0,null,null,null,null,{"$f":"SUM(K777:K790)","v":0},{"$f":"SUM(L777:L790)","v":0},{"$f":"SUM(M777:M790)","v":0},{"$f":"SUM(N777:N790)","v":0}]
[0,0,0,0,0,0,{"$f":"'Hull Long'!B108","v":4000},null,null,null,"A","Acy","A","Acx"]
[0,0,0,3,-1000,0,0]
[0,0,0,3,1000,0]
[0,0,0,0,0,0]
[0,0,0,0,0,0]
[0,0,0,0,0,0]
[0,0,0,0,0,0]
[0,0,0,0,0,0]
[0,0,0,0,0,0]
[0,0,0,0,0,0]
[0,0,0,0,0,0]
[0,0,0,0,0,0]
[0,0,0,0,0,0]
[0,0,0,0,0,0]
[0,0,0,0,0,0]
[0,0,0,0,0,0]
[0,0,0,0,0,0,null,null,null,null,0,0,0,0]