{"text_format":"1","workbook":"xlsx","n_sheets":8,"sheets":["Module1","Basic","drawing","Hull Long","Hull Plan","Hull Unfold","Export","T-section"],"not_rendered":{"charts":0,"images":1,"macros":1,"external_links":1,"defined_names":32,"comments":0,"pivot_tables":0},"unopened":[{"sheet":"Module1","index":0,"reason":"part_missing"}],"bounds":{"document_bytes":16777216,"sheet_cells":100000,"rows_first":2000,"rows_last":500,"rows_between":2000,"halvings":0,"cell_chars":16384,"cell_head_chars":4096},"cells_cut":0,"cells_raw":0,"read":"whole","date_system":"1900"}

{"sheet":"Basic","index":1,"n_rows":28,"n_cols":55,"rows_kept":28,"cut":false,"hidden":false,"merged":[[24,2,24,5],[1,10,1,14],[1,15,1,19],[1,20,1,24],[1,25,1,29],[1,30,1,34],[1,35,1,39],[1,40,1,44],[1,45,1,49],[1,50,1,54]]}
[null,null,null,null,null,null,null,null,null,"Boat Table Offset Export:"]
[null,"Canoe Design","Scale 1 in",1,"Length Scale 1 in",1,null,null,null,"Station",1,null,null,null,null,2,null,null,null,null,3,null,null,null,null,4,null,null,null,null,5,null,null,null,null,6,null,null,null,null,7,null,null,null,null,8,null,null,null,null,9]
[null,"LWL",{"$f":"('Hull Long'!B53-'Hull Long'!B12)/1000","v":4},"m",null,null,null,null,null,"Chine","X","Y","Z","Break","Colour","X","Y","Z","Break","Colour","X","Y","Z","Break","Colour","X","Y","Z","Break","Colour","X","Y","Z","Break","Colour","X","Y","Z","Break","Colour","X","Y","Z","Break","Colour","X","Y","Z","Break","Colour","X","Y","Z","Break","Colour"]
[null,"LOA",{"$f":"('Hull Long'!B56-'Hull Long'!B9)/1000","v":4.5999999999999996},"m",null,null,null,null,null,"Deck",{"$f":"K5","v":0},{"$f":"'Hull Plan'!C213","v":0},{"$f":"M5","v":300},true,1,{"$f":"P5","v":300},{"$f":"'Hull Plan'!H213","v":0},{"$f":"R5","v":276.35921828699054},false,1,{"$f":"U5","v":899.9},{"$f":"'Hull Plan'!M213","v":0},{"$f":"W5","v":234.36860473707068},false,1,{"$f":"Z5","v":1300},{"$f":"'Hull Plan'!R213","v":0},{"$f":"AB5","v":210.83589529324928},false,1,{"$f":"AE5","v":2300},{"$f":"'Hull Plan'!W213","v":0},{"$f":"AG5","v":175},false,1,{"$f":"AJ5","v":3300},{"$f":"'Hull Plan'!AB213","v":0},{"$f":"AL5","v":210.83589529324928},false,1,{"$f":"AO5","v":3699.9},{"$f":"'Hull Plan'!AG213","v":0},{"$f":"AQ5","v":234.35588425613429},false,1,{"$f":"AT5","v":4300},{"$f":"'Hull Plan'!AL213","v":0},{"$f":"AV5","v":276.35921828699054},false,1,{"$f":"AY5","v":4600},{"$f":"'Hull Plan'!AQ213","v":0},{"$f":"BA5","v":300},true,0]
[null,"BWL",{"$f":"('Hull Plan'!C134-'Hull Plan'!F134)/1000","v":0.7},"m",null,null,null,null,null,"Sheer",{"$f":"'Hull Long'!B162","v":0},{"$f":"'Hull Plan'!C162","v":0},{"$f":"'Hull Long'!C162","v":300},true,2,{"$f":"'Hull Long'!B165","v":300},{"$f":"'Hull Plan'!C165","v":60.96408317580341},{"$f":"'Hull Long'!C165","v":276.35921828699054},false,2,{"$f":"'Hull Long'!B170","v":899.9},{"$f":"'Hull Plan'!C170","v":157.3591677693762},{"$f":"'Hull Long'!C170","v":234.36860473707068},false,2,{"$f":"'Hull Long'!B175","v":1300},{"$f":"'Hull Plan'!C175","v":202.74102079395084},{"$f":"'Hull Long'!C175","v":210.83589529324928},false,2,{"$f":"'Hull Long'!B185","v":2300},{"$f":"'Hull Plan'!C185","v":250},{"$f":"'Hull Long'!C185","v":175},false,2,{"$f":"'Hull Long'!B196","v":3300},{"$f":"'Hull Plan'!C196","v":202.74102079395084},{"$f":"'Hull Long'!C196","v":210.83589529324928},false,2,{"$f":"'Hull Long'!B200","v":3699.9},{"$f":"'Hull Plan'!C200","v":157.38563279773155},{"$f":"'Hull Long'!C200","v":234.35588425613429},false,2,{"$f":"'Hull Long'!B206","v":4300},{"$f":"'Hull Plan'!C206","v":60.96408317580341},{"$f":"'Hull Long'!C206","v":276.35921828699054},false,2,{"$f":"'Hull Long'!B209","v":4600},{"$f":"'Hull Plan'!C209","v":0},{"$f":"'Hull Long'!C209","v":300},true,0]
[null,"BOA",{"$f":"('Hull Plan'!C185-'Hull Plan'!F185)/1000","v":0.5},"m",null,null,null,null,null,"Chine",{"$f":"'Hull Long'!B111","v":0},{"$f":"'Hull Plan'!C111","v":0},{"$f":"'Hull Long'!C111","v":300},true,3,{"$f":"'Hull Long'!B114","v":300},{"$f":"'Hull Plan'!C114","v":120.43644378114854},{"$f":"'Hull Long'!C114","v":247.99028023137919},false,3,{"$f":"'Hull Long'!B119","v":899.9},{"$f":"'Hull Plan'!C119","v":271.73709183814333},{"$f":"'Hull Long'!C119","v":155.61093042155551},false,3,{"$f":"'Hull Long'!B124","v":1300},{"$f":"'Hull Plan'!C124","v":321.65356317294277},{"$f":"'Hull Long'!C124","v":103.83896964514844},false,3,{"$f":"'Hull Long'!B134","v":2300},{"$f":"'Hull Plan'!C134","v":350},{"$f":"'Hull Long'!C134","v":25},false,3,{"$f":"'Hull Long'!B145","v":3300},{"$f":"'Hull Plan'!C145","v":321.65356317294277},{"$f":"'Hull Long'!C145","v":103.83896964514844},false,3,{"$f":"'Hull Long'!B149","v":3699.9},{"$f":"'Hull Plan'!C149","v":271.77082319603949},{"$f":"'Hull Long'!C149","v":155.58294536349544},false,3,{"$f":"'Hull Long'!B155","v":4300},{"$f":"'Hull Plan'!C155","v":120.43644378114854},{"$f":"'Hull Long'!C155","v":247.99028023137919},false,3,{"$f":"'Hull Long'!B158","v":4600},{"$f":"'Hull Plan'!C158","v":0},{"$f":"'Hull Long'!C158","v":300},true,0]
[null,"DWL",{"$f":"('Hull Long'!C134-'Hull Long'!C83)/1000","v":0.1},"m",null,null,null,null,null,"Rabbet",{"$f":"'Hull Long'!B60","v":0},{"$f":"'Hull Plan'!C60","v":0},{"$f":"'Hull Long'!C60","v":300},true,4,{"$f":"'Hull Long'!B63","v":300},{"$f":"'Hull Plan'!C63","v":0},{"$f":"'Hull Long'!C63","v":-75},true,4,{"$f":"'Hull Long'!B68","v":899.9},{"$f":"'Hull Plan'!C68","v":101.98599950000002},{"$f":"'Hull Long'!C68","v":-75},false,4,{"$f":"'Hull Long'!B73","v":1300},{"$f":"'Hull Plan'!C73","v":150},{"$f":"'Hull Long'!C73","v":-75},false,4,{"$f":"'Hull Long'!B83","v":2300},{"$f":"'Hull Plan'!C83","v":200},{"$f":"'Hull Long'!C83","v":-75},false,4,{"$f":"'Hull Long'!B94","v":3300},{"$f":"'Hull Plan'!C94","v":150},{"$f":"'Hull Long'!C94","v":-75},false,4,{"$f":"'Hull Long'!B98","v":3699.9},{"$f":"'Hull Plan'!C98","v":102.01399949999998},{"$f":"'Hull Long'!C98","v":-75},false,4,{"$f":"'Hull Long'!B104","v":4300},{"$f":"'Hull Plan'!C104","v":0},{"$f":"'Hull Long'!C104","v":-75},true,4,{"$f":"'Hull Long'!B107","v":4600},{"$f":"'Hull Plan'!C107","v":0},{"$f":"'Hull Long'!C107","v":300},true,0]
[null,"Dead rise",{"$f":"DEGREES(ATAN(('Hull Long'!C134-'Hull Long'!C83)/('Hull Plan'!C134-'Hull Plan'!C83)))","v":33.690067525979785},"degrees",null,null,null,null,null,"Centreline",{"$f":"'Hull Long'!B9","v":0},{"$f":"'Hull Plan'!C9","v":0},{"$f":"'Hull Long'!C9","v":300},true,5,{"$f":"'Hull Long'!B12","v":300},{"$f":"'Hull Plan'!C12","v":0},{"$f":"'Hull Long'!C12","v":-75},true,5,{"$f":"'Hull Long'!B17","v":899.9},{"$f":"'Hull Plan'!C17","v":0},{"$f":"'Hull Long'!C17","v":-75},false,5,{"$f":"'Hull Long'!B22","v":1300},{"$f":"'Hull Plan'!C22","v":0},{"$f":"'Hull Long'!C22","v":-75},false,5,{"$f":"'Hull Long'!B32","v":2300},{"$f":"'Hull Plan'!C32","v":0},{"$f":"'Hull Long'!C32","v":-75},false,5,{"$f":"'Hull Long'!B43","v":3300},{"$f":"'Hull Plan'!C43","v":0},{"$f":"'Hull Long'!C43","v":-75},false,5,{"$f":"'Hull Long'!B47","v":3699.9},{"$f":"'Hull Plan'!C47","v":0},{"$f":"'Hull Long'!C47","v":-75},false,5,{"$f":"'Hull Long'!B53","v":4300},{"$f":"'Hull Plan'!C53","v":0},{"$f":"'Hull Long'!C53","v":-75},true,5,{"$f":"'Hull Long'!B56","v":4600},{"$f":"'Hull Plan'!C56","v":0},{"$f":"'Hull Long'!C56","v":300},true,0]
[null,"Deck Height",{"$f":"('Hull Long'!C236-'Hull Long'!C134)/1000","v":0.15},"m","Chine to Deck"]
[null,"Deck Width",{"$f":"ABS('Hull Plan'!C185-'Hull Plan'!C134)/1000","v":0.1},"m"]
[null,"Amidships FreeBoard",{"$f":"('Hull Long'!C185-'Hull Long'!C83)/1000-C7","v":0.15},"m",null,{"$f":"F12/1.35","v":0.50311111111111106}]
[null,"Forward FreeBoard",{"$f":"('Hull Long'!C162-'Hull Long'!C134)/1000","v":0.27500000000000002},"m",null,{"$f":"0.191*C3-C3*C3*0.0053","v":0.67920000000000003}]
[null,"Rear FreeBoard",{"$f":"('Hull Long'!C209-'Hull Long'!C134)/1000","v":0.27500000000000002},"m"]
[null,"MSA",{"$f":"ABS('Hull Long'!C32*'Hull Plan'!C83-'Hull Long'!C83*'Hull Plan'!C32+'Hull Long'!C83*'Hull Plan'!C134-'Hull Long'!C134*'Hull Plan'!C83+'Hull Long'!C134*'Hull Plan'!C185-'Hull Long'!C185*'Hull Plan'!C134+'Hull Long'!C185*'Hull Plan'!C236-'Hull Long'!C236*'Hull Plan'!C185+'Hull Long'!C236*'Hull Plan'!C32-'Hull Long'!C236*'Hull Plan'!C236+'Hull Long'!C236*'Hull Plan'!C32-'Hull Long'!C32*'Hull Plan'!C32)/1000000","v":0.14499999999999999},"m^2"]
[null,"Pd",{"$f":"MAX(6.5,10*(1.3*C7+0.1*C3))","v":6.5},"KN","AS4132:4.1.2(b&c)"]
[]
[null,"Skin Design"]
[null,"Pd (Design Pressure)",{"$f":"C15","v":6.5},"kPa"]
[null,"L (Span)",{"$f":"C6*1000/F19","v":500},"mm","Panels (has no keelson)",1]
[null,"S (Allowable Stress)",14000,"kPa"]
[null,"t (Thickness)",{"$f":"(C18*C19*C19/C20/2)^0.5","v":7.6181175027505503},"mm","t^2=P*L^2/2/S, ~fixed sides"]
[null,"E (Modulus of Elasticity)",{"$f":"10500000*80%","v":8400000},"kPa"]
[null,"I (Moment of Inertia)",{"$f":"1000*C21^3/12","v":36843.57423205251},"mm^4"]
[null,"d=P*L^4/384EI (2% max)",{"$f":"C18*C19^4/384/C22/C23*1000","v":3.4183860589265298},"mm","Deflection Ratio:",{"$f":"C19/C24","v":146.26785605281054}]
[null,"Concentrated Load Stress","=3*P/(2*PI*t*t)*((1+v)*ln(2*b/PI/r)+0.067)"]
[null,"Foot Print Area",{"$f":"110*160","v":17600},"mm^2"]
[null,"Foot Print Radius",{"$f":"(C26/PI())^0.5","v":74.848206370191107},"mm"]
[null,"Maximum Concentrated Load",{"$f":"C20*2*PI()*C21*C21/3/(1.25*LN(2*C19/PI()/C27)+0.067)/1000000","v":0.90686793764521911},"kN","~S*t*t",{"$f":"C20*C21*C21/1000000","v":0.81249999999999989}]

{"sheet":"drawing","index":2,"n_rows":0,"n_cols":0,"rows_kept":0,"cut":false,"hidden":false,"merged":[]}

{"sheet":"Hull Long","index":3,"n_rows":262,"n_cols":17,"rows_kept":262,"cut":false,"hidden":false,"merged":[]}
["Long"]
[]
[]
[]
["Parameters",{"$f":"200","v":200},{"$f":"1000","v":1000}]
["Number of Lines",{"$f":"COUNT(B8:B695)","v":255},null,null,{"$f":"COUNT(E8:E696)","v":22}]
["Line Id","X","Z","Line Id","X","Z","Keel"]
[0,{"$f":"-100*Basic!$D$2*Basic!$F$2","v":-100},{"$f":"C12+(C9-C12)*ABS(B12-B8)/ABS(B9-B12)","v":425},1,{"$f":"'Hull Plan'!C236+$G$8","v":699},{"$f":"C236+$H$8","v":-250},450,-425]
[1,{"$f":"0*Basic!$D$2*Basic!$F$2","v":0},{"$f":"300*Basic!$D$2","v":300},1,{"$f":"'Hull Plan'!C185+$G$8","v":700},{"$f":"C185+$H$8","v":-250}]
[1,{"$f":"100*Basic!$D$2*Basic!$F$2","v":100},{"$f":"C12+(C9-C12)*ABS(B12-B10)/ABS(B9-B12)","v":175},1,{"$f":"'Hull Plan'!C134+$G$8","v":800},{"$f":"C134+$H$8","v":-400}]
[1,{"$f":"200*Basic!$D$2*Basic!$F$2","v":200},{"$f":"C12+(C9-C12)*ABS(B12-B11)/ABS(B9-B12)","v":50},1,{"$f":"'Hull Plan'!C83+$G$8","v":650},{"$f":"C83+$H$8","v":-500}]
[1,{"$f":"300*Basic!$D$2*Basic!$F$2","v":300},{"$f":"-75*Basic!$D$2","v":-75},1,{"$f":"'Hull Plan'!C32+$G$8","v":450},{"$f":"C32+$H$8","v":-500},2]
[1,{"$f":"400*Basic!$D$2*Basic!$F$2","v":400},{"$f":"C$32+(C$12-C$32)*ABS(B$32-B13)^G$12/ABS(B$12-B$32)^G$12","v":-75},{"$f":"D12","v":1},{"$f":"2*$E$12-E12","v":450},{"$f":"F12","v":-500}]
[1,{"$f":"500*Basic!$D$2*Basic!$F$2","v":500},{"$f":"C$32+(C$12-C$32)*ABS(B$32-B14)^G$12/ABS(B$12-B$32)^G$12","v":-75},{"$f":"D11","v":1},{"$f":"2*$E$12-E11","v":250},{"$f":"F11","v":-500}]
[1,{"$f":"600*Basic!$D$2*Basic!$F$2","v":600},-75,{"$f":"D10","v":1},{"$f":"2*$E$12-E10","v":100},{"$f":"F10","v":-400}]
[1,{"$f":"700*Basic!$D$2*Basic!$F$2","v":700},-75,{"$f":"D9","v":1},{"$f":"2*$E$12-E9","v":200},{"$f":"F9","v":-250}]
[1,{"$f":"899.9*Basic!$D$2*Basic!$F$2","v":899.9},-75,{"$f":"D8","v":1},{"$f":"2*$E$12-E8","v":201},{"$f":"F8","v":-250}]
[1,{"$f":"900.1*Basic!$D$2*Basic!$F$2","v":900.1},-75,0,0,0]
[1,{"$f":"1000*Basic!$D$2*Basic!$F$2","v":1000},-75,1,{"$f":"'Hull Plan'!C221+$G$8","v":450},{"$f":"C221+$H$8","v":-190.63139526292932}]
[1,{"$f":"1100*Basic!$D$2*Basic!$F$2","v":1100},-75,1,{"$f":"'Hull Plan'!C170+$G$8","v":607.3591677693762},{"$f":"C170+$H$8","v":-190.63139526292932}]
[1,{"$f":"1200*Basic!$D$2*Basic!$F$2","v":1200},-75,1,{"$f":"'Hull Plan'!C119+$G$8","v":721.73709183814333},{"$f":"C119+$H$8","v":-269.38906957844449}]
[1,{"$f":"1300*Basic!$D$2*Basic!$F$2","v":1300},-75,1,{"$f":"'Hull Plan'!C68+$G$8","v":551.98599950000005},{"$f":"C68+$H$8","v":-500}]
[1,{"$f":"1400*Basic!$D$2*Basic!$F$2","v":1400},-75,1,{"$f":"'Hull Plan'!C17+$G$8","v":450},{"$f":"C17+$H$8","v":-500}]
[1,{"$f":"1500*Basic!$D$2*Basic!$F$2","v":1500},-75,{"$f":"D23","v":1},{"$f":"2*$E$12-E23","v":450},{"$f":"F23","v":-500}]
[1,{"$f":"1600*Basic!$D$2*Basic!$F$2","v":1600},-75,{"$f":"D22","v":1},{"$f":"2*$E$12-E22","v":348.01400049999995},{"$f":"F22","v":-500}]
[1,{"$f":"1700*Basic!$D$2*Basic!$F$2","v":1700},-75,{"$f":"D21","v":1},{"$f":"2*$E$12-E21","v":178.26290816185667},{"$f":"F21","v":-269.38906957844449}]
[1,{"$f":"1800*Basic!$D$2*Basic!$F$2","v":1800},-75,{"$f":"D20","v":1},{"$f":"2*$E$12-E20","v":292.6408322306238},{"$f":"F20","v":-190.63139526292932}]
[1,{"$f":"1900*Basic!$D$2*Basic!$F$2","v":1900},-75,{"$f":"D19","v":1},{"$f":"2*$E$12-E19","v":450},{"$f":"F19","v":-190.63139526292932}]
[1,{"$f":"2000*Basic!$D$2*Basic!$F$2","v":2000},-75,0,0,0]
[1,{"$f":"2100*Basic!$D$2*Basic!$F$2","v":2100},-75]
[1,{"$f":"2200*Basic!$D$2*Basic!$F$2","v":2200},-75]
[1,{"$f":"2300*Basic!$D$2*Basic!$F$2","v":2300},{"$f":"-75*Basic!$D$2","v":-75}]
[1,{"$f":"2300*Basic!$D$2*Basic!$F$2","v":2300},{"$f":"-75*Basic!$D$2","v":-75}]
[1,{"$f":"2400*Basic!$D$2*Basic!$F$2","v":2400},{"$f":"C$33+(C$53-C$33)*ABS(B$33-$B34)^G$53/ABS(B$53-B$33)^G$53","v":-75}]
[1,{"$f":"2500*Basic!$D$2*Basic!$F$2","v":2500},-75]
[1,{"$f":"2600*Basic!$D$2*Basic!$F$2","v":2600},-75]
[1,{"$f":"2700*Basic!$D$2*Basic!$F$2","v":2700},-75]
[1,{"$f":"2800*Basic!$D$2*Basic!$F$2","v":2800},-75]
[1,{"$f":"2900*Basic!$D$2*Basic!$F$2","v":2900},-75]
[1,{"$f":"3000*Basic!$D$2*Basic!$F$2","v":3000},-75]
[1,{"$f":"3100*Basic!$D$2*Basic!$F$2","v":3100},-75]
[1,{"$f":"3200*Basic!$D$2*Basic!$F$2","v":3200},-75]
[1,{"$f":"3300*Basic!$D$2*Basic!$F$2","v":3300},-75]
[1,{"$f":"3400*Basic!$D$2*Basic!$F$2","v":3400},-75]
[1,{"$f":"3500*Basic!$D$2*Basic!$F$2","v":3500},-75]
[1,{"$f":"3600*Basic!$D$2*Basic!$F$2","v":3600},-75]
[1,{"$f":"3699.9*Basic!$D$2*Basic!$F$2","v":3699.9},-75]
[1,{"$f":"3700.1*Basic!$D$2*Basic!$F$2","v":3700.1},-75]
[1,{"$f":"3900*Basic!$D$2*Basic!$F$2","v":3900},-75]
[1,{"$f":"4000*Basic!$D$2*Basic!$F$2","v":4000},-75]
[1,{"$f":"4100*Basic!$D$2*Basic!$F$2","v":4100},-75]
[1,{"$f":"4200*Basic!$D$2*Basic!$F$2","v":4200},{"$f":"C$33+(C$53-C$33)*ABS(B$33-$B52)^G$53/ABS(B$53-B$33)^G$53","v":-75}]
[1,{"$f":"4300*Basic!$D$2*Basic!$F$2","v":4300},{"$f":"-75*Basic!$D$2","v":-75},null,null,null,2]
[1,{"$f":"4400*Basic!$D$2*Basic!$F$2","v":4400},{"$f":"C53+(C56-C53)*ABS(B53-B54)/ABS(B56-B53)","v":50}]
[1,{"$f":"4500*Basic!$D$2*Basic!$F$2","v":4500},{"$f":"C53+(C56-C53)*ABS(B53-B55)/ABS(B56-B53)","v":175}]
[1,{"$f":"4600*Basic!$D$2*Basic!$F$2","v":4600},{"$f":"300*Basic!$D$2","v":300}]
[0,{"$f":"4700*Basic!$D$2*Basic!$F$2","v":4700},{"$f":"C53+(C56-C53)*ABS(B53-B57)/ABS(B56-B53)","v":425}]
[0,0,0,null,null,null,"Rabbet",null,null,"Qz","Qx","a","b","c","AA","TA"]
[0,{"$f":"B8","v":-100},{"$f":"C8","v":425}]
[2,{"$f":"B9","v":0},{"$f":"C9","v":300}]
[2,100,{"$f":"C63+(C60-C63)*ABS(B63-B61)/ABS(B60-B63)","v":175}]
[2,200,{"$f":"C63+(C60-C63)*ABS(B63-B62)/ABS(B60-B63)","v":50}]
[2,300,{"$f":"-75*Basic!$D$2","v":-75},null,null,null,2]
[2,400,{"$f":"C$83+(C$63-C$83)*ABS(B$83-B64)^G$63/ABS(B$63-B$83)^G$63","v":-75},null,null,null,null,null,null,{"$f":"DEGREES(ATAN2('Hull Plan'!B64-'Hull Plan'!B63,'Hull Plan'!C64-'Hull Plan'!C63))","v":11.03420900325025},{"$f":"DEGREES(ATAN2('Hull Long'!B64-'Hull Long'!B63,'Hull Long'!C64-'Hull Long'!C63))","v":0},{"$f":"SQRT(('Hull Plan'!C13-'Hull Plan'!C64)^2+('Hull Long'!C13-'Hull Long'!C64)^2)","v":19.5},{"$f":"SQRT(('Hull Plan'!C64-'Hull Plan'!C115)^2+('Hull Long'!C64-'Hull Long'!C115)^2)","v":334.43311308829169},{"$f":"SQRT(('Hull Plan'!C13-'Hull Plan'!C115)^2+('Hull Long'!C13-'Hull Long'!C115)^2)","v":342.70416531145548},{"$f":"DEGREES(ACOS((N64*N64-L64*L64-M64*M64)/-2/L64/M64))","v":113.59366672645271},{"$f":"IF(DEGREES(ATAN(COS(RADIANS(J64))/COS(RADIANS(K64))*TAN(RADIANS(O64))))>0,DEGREES(ATAN(COS(RADIANS(J64))/COS(RADIANS(K64))*TAN(RADIANS(O64)))),DEGREES(ATAN(COS(RADIANS(J64))/COS(RADIANS(K64))*TAN(RADIANS(O64))))+180)","v":113.98829933078986}]
[2,500,-75,null,null,null,null,null,null,{"$f":"DEGREES(ATAN2('Hull Plan'!B65-'Hull Plan'!B64,'Hull Plan'!C65-'Hull Plan'!C64))","v":10.481218144130921},{"$f":"DEGREES(ATAN2('Hull Long'!B65-'Hull Long'!B64,'Hull Long'!C65-'Hull Long'!C64))","v":0},{"$f":"SQRT(('Hull Plan'!C14-'Hull Plan'!C65)^2+('Hull Long'!C14-'Hull Long'!C65)^2)","v":38},{"$f":"SQRT(('Hull Plan'!C65-'Hull Plan'!C116)^2+('Hull Long'!C65-'Hull Long'!C116)^2)","v":324.56267177355755},{"$f":"SQRT(('Hull Plan'!C14-'Hull Plan'!C116)^2+('Hull Long'!C14-'Hull Long'!C116)^2)","v":343.22270376731166},116.5276212527874,116.91481350595774]
[2,600,-75,null,null,null,null,null,null,{"$f":"DEGREES(ATAN2('Hull Plan'!B66-'Hull Plan'!B65,'Hull Plan'!C66-'Hull Plan'!C65))","v":9.9262455066517052},{"$f":"DEGREES(ATAN2('Hull Long'!B66-'Hull Long'!B65,'Hull Long'!C66-'Hull Long'!C65))","v":0},{"$f":"SQRT(('Hull Plan'!C15-'Hull Plan'!C66)^2+('Hull Long'!C15-'Hull Long'!C66)^2)","v":55.5},{"$f":"SQRT(('Hull Plan'!C66-'Hull Plan'!C117)^2+('Hull Long'!C66-'Hull Long'!C117)^2)","v":314.92742085888892},{"$f":"SQRT(('Hull Plan'!C15-'Hull Plan'!C117)^2+('Hull Long'!C15-'Hull Long'!C117)^2)","v":345.4634645928391},119.25896061597571,119.62889134670276]
[2,700,-75,null,null,null,null,null,null,{"$f":"DEGREES(ATAN2('Hull Plan'!B67-'Hull Plan'!B66,'Hull Plan'!C67-'Hull Plan'!C66))","v":9.3693850964874823},{"$f":"DEGREES(ATAN2('Hull Long'!B67-'Hull Long'!B66,'Hull Long'!C67-'Hull Long'!C66))","v":0},{"$f":"SQRT(('Hull Plan'!C16-'Hull Plan'!C67)^2+('Hull Long'!C16-'Hull Long'!C67)^2)","v":72},{"$f":"SQRT(('Hull Plan'!C67-'Hull Plan'!C118)^2+('Hull Long'!C67-'Hull Long'!C118)^2)","v":305.39784090173777},{"$f":"SQRT(('Hull Plan'!C16-'Hull Plan'!C118)^2+('Hull Long'!C16-'Hull Long'!C118)^2)","v":348.74793819606924},121.79876722295722,122.1444125184959]
[2,899.9,-75,null,null,null,null,null,null,{"$f":"DEGREES(ATAN2('Hull Plan'!B68-'Hull Plan'!B67,'Hull Plan'!C68-'Hull Plan'!C67))","v":8.5310457847035739},{"$f":"DEGREES(ATAN2('Hull Long'!B68-'Hull Long'!B67,'Hull Long'!C68-'Hull Long'!C67))","v":0},{"$f":"SQRT(('Hull Plan'!C17-'Hull Plan'!C68)^2+('Hull Long'!C17-'Hull Long'!C68)^2)","v":101.98599950000002},{"$f":"SQRT(('Hull Plan'!C68-'Hull Plan'!C119)^2+('Hull Long'!C68-'Hull Long'!C119)^2)","v":286.35089414892417},{"$f":"SQRT(('Hull Plan'!C17-'Hull Plan'!C119)^2+('Hull Long'!C17-'Hull Long'!C119)^2)","v":356.40208797164343},126.35652451987239,126.66136208669286]
[2,900.1,-75,null,null,null,null,null,null,{"$f":"DEGREES(ATAN2('Hull Plan'!B69-'Hull Plan'!B68,'Hull Plan'!C69-'Hull Plan'!C68))","v":7.9696103943092211},{"$f":"DEGREES(ATAN2('Hull Long'!B69-'Hull Long'!B68,'Hull Long'!C69-'Hull Long'!C68))","v":0},{"$f":"SQRT(('Hull Plan'!C18-'Hull Plan'!C69)^2+('Hull Long'!C18-'Hull Long'!C69)^2)","v":102.01399949999998},{"$f":"SQRT(('Hull Plan'!C69-'Hull Plan'!C120)^2+('Hull Long'!C69-'Hull Long'!C120)^2)","v":286.3317549345042},{"$f":"SQRT(('Hull Plan'!C18-'Hull Plan'!C120)^2+('Hull Long'!C18-'Hull Long'!C120)^2)","v":356.40970109293835},126.36076779518254,126.62663345065457]
[2,1000,-75,null,null,null,null,null,null,{"$f":"DEGREES(ATAN2('Hull Plan'!B70-'Hull Plan'!B69,'Hull Plan'!C70-'Hull Plan'!C69))","v":7.6881664184457152},{"$f":"DEGREES(ATAN2('Hull Long'!B70-'Hull Long'!B69,'Hull Long'!C70-'Hull Long'!C69))","v":0},{"$f":"SQRT(('Hull Plan'!C19-'Hull Plan'!C70)^2+('Hull Long'!C19-'Hull Long'!C70)^2)","v":115.5},{"$f":"SQRT(('Hull Plan'!C70-'Hull Plan'!C121)^2+('Hull Long'!C70-'Hull Long'!C121)^2)","v":276.74594313447426},{"$f":"SQRT(('Hull Plan'!C19-'Hull Plan'!C121)^2+('Hull Long'!C19-'Hull Long'!C121)^2)","v":360.0628602090639},128.40888264616027,128.6610070372559]
[2,1100,-75,null,null,null,null,null,null,{"$f":"DEGREES(ATAN2('Hull Plan'!B71-'Hull Plan'!B70,'Hull Plan'!C71-'Hull Plan'!C70))","v":7.1250163489017977},{"$f":"DEGREES(ATAN2('Hull Long'!B71-'Hull Long'!B70,'Hull Long'!C71-'Hull Long'!C70))","v":0},{"$f":"SQRT(('Hull Plan'!C20-'Hull Plan'!C71)^2+('Hull Long'!C20-'Hull Long'!C71)^2)","v":128},{"$f":"SQRT(('Hull Plan'!C71-'Hull Plan'!C122)^2+('Hull Long'!C71-'Hull Long'!C122)^2)","v":267.11087006961003},{"$f":"SQRT(('Hull Plan'!C20-'Hull Plan'!C122)^2+('Hull Long'!C20-'Hull Long'!C122)^2)","v":363.29634383197043},130.32668448816483,130.54595308388409]
[2,1200,-75,null,null,null,null,null,null,{"$f":"DEGREES(ATAN2('Hull Plan'!B72-'Hull Plan'!B71,'Hull Plan'!C72-'Hull Plan'!C71))","v":6.5601964005713089},{"$f":"DEGREES(ATAN2('Hull Long'!B72-'Hull Long'!B71,'Hull Long'!C72-'Hull Long'!C71))","v":0},{"$f":"SQRT(('Hull Plan'!C21-'Hull Plan'!C72)^2+('Hull Long'!C21-'Hull Long'!C72)^2)","v":139.5},{"$f":"SQRT(('Hull Plan'!C72-'Hull Plan'!C123)^2+('Hull Long'!C72-'Hull Long'!C123)^2)","v":257.47216064301642},{"$f":"SQRT(('Hull Plan'!C21-'Hull Plan'!C123)^2+('Hull Long'!C21-'Hull Long'!C123)^2)","v":365.9747470557711},132.12734781196613,132.31465519024457]
[2,1300,-75,null,null,null,null,null,null,{"$f":"DEGREES(ATAN2('Hull Plan'!B73-'Hull Plan'!B72,'Hull Plan'!C73-'Hull Plan'!C72))","v":5.9940929491084702},{"$f":"DEGREES(ATAN2('Hull Long'!B73-'Hull Long'!B72,'Hull Long'!C73-'Hull Long'!C72))","v":0},{"$f":"SQRT(('Hull Plan'!C22-'Hull Plan'!C73)^2+('Hull Long'!C22-'Hull Long'!C73)^2)","v":150},{"$f":"SQRT(('Hull Plan'!C73-'Hull Plan'!C124)^2+('Hull Long'!C73-'Hull Long'!C124)^2)","v":247.88772219233806},{"$f":"SQRT(('Hull Plan'!C22-'Hull Plan'!C124)^2+('Hull Long'!C22-'Hull Long'!C124)^2)","v":368.02770516034332},133.8255504338097,133.98249261352251]
[2,1400,-75,null,null,null,null,null,null,{"$f":"DEGREES(ATAN2('Hull Plan'!B74-'Hull Plan'!B73,'Hull Plan'!C74-'Hull Plan'!C73))","v":5.4268124985728203},{"$f":"DEGREES(ATAN2('Hull Long'!B74-'Hull Long'!B73,'Hull Long'!C74-'Hull Long'!C73))","v":0},{"$f":"SQRT(('Hull Plan'!C23-'Hull Plan'!C74)^2+('Hull Long'!C23-'Hull Long'!C74)^2)","v":159.5},{"$f":"SQRT(('Hull Plan'!C74-'Hull Plan'!C125)^2+('Hull Long'!C74-'Hull Long'!C125)^2)","v":238.43461002883947},{"$f":"SQRT(('Hull Plan'!C23-'Hull Plan'!C125)^2+('Hull Long'!C23-'Hull Long'!C125)^2)","v":369.43344622753244},135.43498589354462,135.56365997929586]
[2,1500,-75,null,null,null,null,null,null,{"$f":"DEGREES(ATAN2('Hull Plan'!B75-'Hull Plan'!B74,'Hull Plan'!C75-'Hull Plan'!C74))","v":4.8584629190342872},{"$f":"DEGREES(ATAN2('Hull Long'!B75-'Hull Long'!B74,'Hull Long'!C75-'Hull Long'!C74))","v":0},{"$f":"SQRT(('Hull Plan'!C24-'Hull Plan'!C75)^2+('Hull Long'!C24-'Hull Long'!C75)^2)","v":168},{"$f":"SQRT(('Hull Plan'!C75-'Hull Plan'!C126)^2+('Hull Long'!C75-'Hull Long'!C126)^2)","v":229.20685064305582},{"$f":"SQRT(('Hull Plan'!C24-'Hull Plan'!C126)^2+('Hull Long'!C24-'Hull Long'!C126)^2)","v":370.20866963205634},136.96790435221658,137.07076666008385]
[2,1600,-75,null,null,null,null,null,null,{"$f":"DEGREES(ATAN2('Hull Plan'!B76-'Hull Plan'!B75,'Hull Plan'!C76-'Hull Plan'!C75))","v":4.289153328819018},{"$f":"DEGREES(ATAN2('Hull Long'!B76-'Hull Long'!B75,'Hull Long'!C76-'Hull Long'!C75))","v":0},{"$f":"SQRT(('Hull Plan'!C25-'Hull Plan'!C76)^2+('Hull Long'!C25-'Hull Long'!C76)^2)","v":175.5},{"$f":"SQRT(('Hull Plan'!C76-'Hull Plan'!C127)^2+('Hull Long'!C76-'Hull Long'!C127)^2)","v":220.31381305563357},{"$f":"SQRT(('Hull Plan'!C25-'Hull Plan'!C127)^2+('Hull Long'!C25-'Hull Long'!C127)^2)","v":370.40064186773338},138.43446398939,138.51422023746335]
[2,1700,-75,null,null,null,null,null,null,{"$f":"DEGREES(ATAN2('Hull Plan'!B77-'Hull Plan'!B76,'Hull Plan'!C77-'Hull Plan'!C76))","v":3.7189939731580433},{"$f":"DEGREES(ATAN2('Hull Long'!B77-'Hull Long'!B76,'Hull Long'!C77-'Hull Long'!C76))","v":0},{"$f":"SQRT(('Hull Plan'!C26-'Hull Plan'!C77)^2+('Hull Long'!C26-'Hull Long'!C77)^2)","v":182},{"$f":"SQRT(('Hull Plan'!C77-'Hull Plan'!C128)^2+('Hull Long'!C77-'Hull Long'!C128)^2)","v":211.8791918392655},{"$f":"SQRT(('Hull Plan'!C26-'Hull Plan'!C128)^2+('Hull Long'!C26-'Hull Long'!C128)^2)","v":370.08119442113167},139.84176828863571,139.90128840997676]
[2,1800,-75,null,null,null,null,null,null,{"$f":"DEGREES(ATAN2('Hull Plan'!B78-'Hull Plan'!B77,'Hull Plan'!C78-'Hull Plan'!C77))","v":3.1480960995627592},{"$f":"DEGREES(ATAN2('Hull Long'!B78-'Hull Long'!B77,'Hull Long'!C78-'Hull Long'!C77))","v":0},{"$f":"SQRT(('Hull Plan'!C27-'Hull Plan'!C78)^2+('Hull Long'!C27-'Hull Long'!C78)^2)","v":187.5},{"$f":"SQRT(('Hull Plan'!C78-'Hull Plan'!C129)^2+('Hull Long'!C78-'Hull Long'!C129)^2)","v":204.04077621677681},{"$f":"SQRT(('Hull Plan'!C27-'Hull Plan'!C129)^2+('Hull Long'!C27-'Hull Long'!C129)^2)","v":369.34240197126911},141.19241249496199,141.23466336145211]
[2,1900,-75,null,null,null,null,null,null,{"$f":"DEGREES(ATAN2('Hull Plan'!B79-'Hull Plan'!B78,'Hull Plan'!C79-'Hull Plan'!C78))","v":2.5765718302688305},{"$f":"DEGREES(ATAN2('Hull Long'!B79-'Hull Long'!B78,'Hull Long'!C79-'Hull Long'!C78))","v":0},{"$f":"SQRT(('Hull Plan'!C28-'Hull Plan'!C79)^2+('Hull Long'!C28-'Hull Long'!C79)^2)","v":192},{"$f":"SQRT(('Hull Plan'!C79-'Hull Plan'!C130)^2+('Hull Long'!C79-'Hull Long'!C130)^2)","v":196.95145557732997},{"$f":"SQRT(('Hull Plan'!C28-'Hull Plan'!C130)^2+('Hull Long'!C28-'Hull Long'!C130)^2)","v":368.29392119585015},142.48224745335713,142.51023773916813]
[2,2000,-75,null,null,null,null,null,null,{"$f":"DEGREES(ATAN2('Hull Plan'!B80-'Hull Plan'!B79,'Hull Plan'!C80-'Hull Plan'!C79))","v":2.0045340321059042},{"$f":"DEGREES(ATAN2('Hull Long'!B80-'Hull Long'!B79,'Hull Long'!C80-'Hull Long'!C79))","v":0},{"$f":"SQRT(('Hull Plan'!C29-'Hull Plan'!C80)^2+('Hull Long'!C29-'Hull Long'!C80)^2)","v":195.5},{"$f":"SQRT(('Hull Plan'!C80-'Hull Plan'!C131)^2+('Hull Long'!C80-'Hull Long'!C131)^2)","v":190.78266287132908},{"$f":"SQRT(('Hull Plan'!C29-'Hull Plan'!C131)^2+('Hull Long'!C29-'Hull Long'!C131)^2)","v":367.06241257178698},143.69675279353041,143.71348550383459]
[2,2100,-75,null,null,null,null,null,null,{"$f":"DEGREES(ATAN2('Hull Plan'!B81-'Hull Plan'!B80,'Hull Plan'!C81-'Hull Plan'!C80))","v":1.4320961841646465},{"$f":"DEGREES(ATAN2('Hull Long'!B81-'Hull Long'!B80,'Hull Long'!C81-'Hull Long'!C80))","v":0},{"$f":"SQRT(('Hull Plan'!C30-'Hull Plan'!C81)^2+('Hull Long'!C30-'Hull Long'!C81)^2)","v":198},{"$f":"SQRT(('Hull Plan'!C81-'Hull Plan'!C132)^2+('Hull Long'!C81-'Hull Long'!C132)^2)","v":185.73389647519178},{"$f":"SQRT(('Hull Plan'!C30-'Hull Plan'!C132)^2+('Hull Long'!C30-'Hull Long'!C132)^2)","v":365.794743617336},144.80432177952869,144.81275198693214]
[2,2200,-75,null,null,null,null,null,null,{"$f":"DEGREES(ATAN2('Hull Plan'!B82-'Hull Plan'!B81,'Hull Plan'!C82-'Hull Plan'!C81))","v":0.85937224364468079},{"$f":"DEGREES(ATAN2('Hull Long'!B82-'Hull Long'!B81,'Hull Long'!C82-'Hull Long'!C81))","v":0},{"$f":"SQRT(('Hull Plan'!C31-'Hull Plan'!C82)^2+('Hull Long'!C31-'Hull Long'!C82)^2)","v":199.5},{"$f":"SQRT(('Hull Plan'!C82-'Hull Plan'!C133)^2+('Hull Long'!C82-'Hull Long'!C133)^2)","v":182.06288847077448},{"$f":"SQRT(('Hull Plan'!C31-'Hull Plan'!C133)^2+('Hull Long'!C31-'Hull Long'!C133)^2)","v":364.67216191790328},{"$f":"DEGREES(ACOS((N82*N82-L82*L82-M82*M82)/-2/L82/M82))","v":145.73963742470093},{"$f":"IF(DEGREES(ATAN(COS(RADIANS(J82))/COS(RADIANS(K82))*TAN(RADIANS(O82))))>0,DEGREES(ATAN(COS(RADIANS(J82))/COS(RADIANS(K82))*TAN(RADIANS(O82)))),DEGREES(ATAN(COS(RADIANS(J82))/COS(RADIANS(K82))*TAN(RADIANS(O82))))+180)","v":145.74263608390345}]
[2,2300,{"$f":"-75*Basic!$D$2","v":-75},null,null,null,null,null,null,{"$f":"DEGREES(ATAN2('Hull Plan'!B83-'Hull Plan'!B82,'Hull Plan'!C83-'Hull Plan'!C82))","v":0.28647651027707449},{"$f":"DEGREES(ATAN2('Hull Long'!B83-'Hull Long'!B82,'Hull Long'!C83-'Hull Long'!C82))","v":0},{"$f":"SQRT(('Hull Plan'!C32-'Hull Plan'!C83)^2+('Hull Long'!C32-'Hull Long'!C83)^2)","v":200},{"$f":"SQRT(('Hull Plan'!C83-'Hull Plan'!C134)^2+('Hull Long'!C83-'Hull Long'!C134)^2)","v":180.27756377319946},{"$f":"SQRT(('Hull Plan'!C32-'Hull Plan'!C134)^2+('Hull Long'!C32-'Hull Long'!C134)^2)","v":364.0054944640259},{"$f":"DEGREES(ACOS((N83*N83-L83*L83-M83*M83)/-2/L83/M83))","v":146.30993247402023},{"$f":"IF(DEGREES(ATAN(COS(RADIANS(J83))/COS(RADIANS(K83))*TAN(RADIANS(O83))))>0,DEGREES(ATAN(COS(RADIANS(J83))/COS(RADIANS(K83))*TAN(RADIANS(O83)))),DEGREES(ATAN(COS(RADIANS(J83))/COS(RADIANS(K83))*TAN(RADIANS(O83))))+180)","v":146.31026302166791}]
[2,2300,{"$f":"-75*Basic!$D$2","v":-75},null,null,null,null,null,null,{"$f":"DEGREES(ATAN2('Hull Plan'!B85-'Hull Plan'!B84,'Hull Plan'!C85-'Hull Plan'!C84))","v":-0.28647651027707449},{"$f":"DEGREES(ATAN2('Hull Long'!B85-'Hull Long'!B84,'Hull Long'!C85-'Hull Long'!C84))","v":0},{"$f":"SQRT(('Hull Plan'!C33-'Hull Plan'!C84)^2+('Hull Long'!C33-'Hull Long'!C84)^2)","v":200},{"$f":"SQRT(('Hull Plan'!C84-'Hull Plan'!C135)^2+('Hull Long'!C84-'Hull Long'!C135)^2)","v":180.27756377319946},{"$f":"SQRT(('Hull Plan'!C33-'Hull Plan'!C135)^2+('Hull Long'!C33-'Hull Long'!C135)^2)","v":364.0054944640259},{"$f":"DEGREES(ACOS((N84*N84-L84*L84-M84*M84)/-2/L84/M84))","v":146.30993247402023},{"$f":"IF(DEGREES(ATAN(COS(RADIANS(J84))/COS(RADIANS(K84))*TAN(RADIANS(O84))))>0,DEGREES(ATAN(COS(RADIANS(J84))/COS(RADIANS(K84))*TAN(RADIANS(O84)))),DEGREES(ATAN(COS(RADIANS(J84))/COS(RADIANS(K84))*TAN(RADIANS(O84))))+180)","v":146.31026302166791}]
[2,2400,{"$f":"C$84+(C$104-C$84)*ABS(B$84-$B85)^G$104/ABS(B$104-B$84)^G$104","v":-75},null,null,null,null,null,null,{"$f":"DEGREES(ATAN2('Hull Plan'!B86-'Hull Plan'!B85,'Hull Plan'!C86-'Hull Plan'!C85))","v":-0.85937224364468079},{"$f":"DEGREES(ATAN2('Hull Long'!B86-'Hull Long'!B85,'Hull Long'!C86-'Hull Long'!C85))","v":0},{"$f":"SQRT(('Hull Plan'!C34-'Hull Plan'!C85)^2+('Hull Long'!C34-'Hull Long'!C85)^2)","v":199.5},{"$f":"SQRT(('Hull Plan'!C85-'Hull Plan'!C136)^2+('Hull Long'!C85-'Hull Long'!C136)^2)","v":182.06288847077448},{"$f":"SQRT(('Hull Plan'!C34-'Hull Plan'!C136)^2+('Hull Long'!C34-'Hull Long'!C136)^2)","v":364.67216191790328},{"$f":"DEGREES(ACOS((N85*N85-L85*L85-M85*M85)/-2/L85/M85))","v":145.73963742470093},{"$f":"IF(DEGREES(ATAN(COS(RADIANS(J85))/COS(RADIANS(K85))*TAN(RADIANS(O85))))>0,DEGREES(ATAN(COS(RADIANS(J85))/COS(RADIANS(K85))*TAN(RADIANS(O85)))),DEGREES(ATAN(COS(RADIANS(J85))/COS(RADIANS(K85))*TAN(RADIANS(O85))))+180)","v":145.74263608390345}]
[2,2500,-75,null,null,null,null,null,null,{"$f":"DEGREES(ATAN2('Hull Plan'!B87-'Hull Plan'!B86,'Hull Plan'!C87-'Hull Plan'!C86))","v":-1.4320961841646465},{"$f":"DEGREES(ATAN2('Hull Long'!B87-'Hull Long'!B86,'Hull Long'!C87-'Hull Long'!C86))","v":0},{"$f":"SQRT(('Hull Plan'!C35-'Hull Plan'!C86)^2+('Hull Long'!C35-'Hull Long'!C86)^2)","v":198},{"$f":"SQRT(('Hull Plan'!C86-'Hull Plan'!C137)^2+('Hull Long'!C86-'Hull Long'!C137)^2)","v":185.73389647519178},{"$f":"SQRT(('Hull Plan'!C35-'Hull Plan'!C137)^2+('Hull Long'!C35-'Hull Long'!C137)^2)","v":365.794743617336},144.80432177952869,144.81275198693214]
[2,2600,-75,null,null,null,null,null,null,{"$f":"DEGREES(ATAN2('Hull Plan'!B88-'Hull Plan'!B87,'Hull Plan'!C88-'Hull Plan'!C87))","v":-2.0045340321059042},{"$f":"DEGREES(ATAN2('Hull Long'!B88-'Hull Long'!B87,'Hull Long'!C88-'Hull Long'!C87))","v":0},{"$f":"SQRT(('Hull Plan'!C36-'Hull Plan'!C87)^2+('Hull Long'!C36-'Hull Long'!C87)^2)","v":195.5},{"$f":"SQRT(('Hull Plan'!C87-'Hull Plan'!C138)^2+('Hull Long'!C87-'Hull Long'!C138)^2)","v":190.78266287132908},{"$f":"SQRT(('Hull Plan'!C36-'Hull Plan'!C138)^2+('Hull Long'!C36-'Hull Long'!C138)^2)","v":367.06241257178698},143.69675279353041,143.71348550383459]
[2,2700,-75,null,null,null,null,null,null,{"$f":"DEGREES(ATAN2('Hull Plan'!B89-'Hull Plan'!B88,'Hull Plan'!C89-'Hull Plan'!C88))","v":-2.5765718302688305},{"$f":"DEGREES(ATAN2('Hull Long'!B89-'Hull Long'!B88,'Hull Long'!C89-'Hull Long'!C88))","v":0},{"$f":"SQRT(('Hull Plan'!C37-'Hull Plan'!C88)^2+('Hull Long'!C37-'Hull Long'!C88)^2)","v":192},{"$f":"SQRT(('Hull Plan'!C88-'Hull Plan'!C139)^2+('Hull Long'!C88-'Hull Long'!C139)^2)","v":196.95145557732997},{"$f":"SQRT(('Hull Plan'!C37-'Hull Plan'!C139)^2+('Hull Long'!C37-'Hull Long'!C139)^2)","v":368.29392119585015},142.48224745335713,142.51023773916813]
[2,2800,-75,null,null,null,null,null,null,{"$f":"DEGREES(ATAN2('Hull Plan'!B90-'Hull Plan'!B89,'Hull Plan'!C90-'Hull Plan'!C89))","v":-3.1480960995627592},{"$f":"DEGREES(ATAN2('Hull Long'!B90-'Hull Long'!B89,'Hull Long'!C90-'Hull Long'!C89))","v":0},{"$f":"SQRT(('Hull Plan'!C38-'Hull Plan'!C89)^2+('Hull Long'!C38-'Hull Long'!C89)^2)","v":187.5},{"$f":"SQRT(('Hull Plan'!C89-'Hull Plan'!C140)^2+('Hull Long'!C89-'Hull Long'!C140)^2)","v":204.04077621677681},{"$f":"SQRT(('Hull Plan'!C38-'Hull Plan'!C140)^2+('Hull Long'!C38-'Hull Long'!C140)^2)","v":369.34240197126911},141.19241249496199,141.23466336145211]
[2,2900,-75,null,null,null,null,null,null,{"$f":"DEGREES(ATAN2('Hull Plan'!B91-'Hull Plan'!B90,'Hull Plan'!C91-'Hull Plan'!C90))","v":-3.7189939731580433},{"$f":"DEGREES(ATAN2('Hull Long'!B91-'Hull Long'!B90,'Hull Long'!C91-'Hull Long'!C90))","v":0},{"$f":"SQRT(('Hull Plan'!C39-'Hull Plan'!C90)^2+('Hull Long'!C39-'Hull Long'!C90)^2)","v":182},{"$f":"SQRT(('Hull Plan'!C90-'Hull Plan'!C141)^2+('Hull Long'!C90-'Hull Long'!C141)^2)","v":211.8791918392655},{"$f":"SQRT(('Hull Plan'!C39-'Hull Plan'!C141)^2+('Hull Long'!C39-'Hull Long'!C141)^2)","v":370.08119442113167},139.84176828863571,139.90128840997676]
[2,3000,-75,null,null,null,null,null,null,{"$f":"DEGREES(ATAN2('Hull Plan'!B92-'Hull Plan'!B91,'Hull Plan'!C92-'Hull Plan'!C91))","v":-4.289153328819018},{"$f":"DEGREES(ATAN2('Hull Long'!B92-'Hull Long'!B91,'Hull Long'!C92-'Hull Long'!C91))","v":0},{"$f":"SQRT(('Hull Plan'!C40-'Hull Plan'!C91)^2+('Hull Long'!C40-'Hull Long'!C91)^2)","v":175.5},{"$f":"SQRT(('Hull Plan'!C91-'Hull Plan'!C142)^2+('Hull Long'!C91-'Hull Long'!C142)^2)","v":220.31381305563357},{"$f":"SQRT(('Hull Plan'!C40-'Hull Plan'!C142)^2+('Hull Long'!C40-'Hull Long'!C142)^2)","v":370.40064186773338},138.43446398939,138.51422023746335]
[2,3100,-75,null,null,null,null,null,null,{"$f":"DEGREES(ATAN2('Hull Plan'!B93-'Hull Plan'!B92,'Hull Plan'!C93-'Hull Plan'!C92))","v":-4.8584629190342872},{"$f":"DEGREES(ATAN2('Hull Long'!B93-'Hull Long'!B92,'Hull Long'!C93-'Hull Long'!C92))","v":0},{"$f":"SQRT(('Hull Plan'!C41-'Hull Plan'!C92)^2+('Hull Long'!C41-'Hull Long'!C92)^2)","v":168},{"$f":"SQRT(('Hull Plan'!C92-'Hull Plan'!C143)^2+('Hull Long'!C92-'Hull Long'!C143)^2)","v":229.20685064305582},{"$f":"SQRT(('Hull Plan'!C41-'Hull Plan'!C143)^2+('Hull Long'!C41-'Hull Long'!C143)^2)","v":370.20866963205634},136.96790435221658,137.07076666008385]
[2,3200,-75,null,null,null,null,null,null,{"$f":"DEGREES(ATAN2('Hull Plan'!B94-'Hull Plan'!B93,'Hull Plan'!C94-'Hull Plan'!C93))","v":-5.4268124985728203},{"$f":"DEGREES(ATAN2('Hull Long'!B94-'Hull Long'!B93,'Hull Long'!C94-'Hull Long'!C93))","v":0},{"$f":"SQRT(('Hull Plan'!C42-'Hull Plan'!C93)^2+('Hull Long'!C42-'Hull Long'!C93)^2)","v":159.5},{"$f":"SQRT(('Hull Plan'!C93-'Hull Plan'!C144)^2+('Hull Long'!C93-'Hull Long'!C144)^2)","v":238.43461002883947},{"$f":"SQRT(('Hull Plan'!C42-'Hull Plan'!C144)^2+('Hull Long'!C42-'Hull Long'!C144)^2)","v":369.43344622753244},135.43498589354462,135.56365997929586]
[2,3300,-75,null,null,null,null,null,null,{"$f":"DEGREES(ATAN2('Hull Plan'!B95-'Hull Plan'!B94,'Hull Plan'!C95-'Hull Plan'!C94))","v":-5.9940929491084702},{"$f":"DEGREES(ATAN2('Hull Long'!B95-'Hull Long'!B94,'Hull Long'!C95-'Hull Long'!C94))","v":0},{"$f":"SQRT(('Hull Plan'!C43-'Hull Plan'!C94)^2+('Hull Long'!C43-'Hull Long'!C94)^2)","v":150},{"$f":"SQRT(('Hull Plan'!C94-'Hull Plan'!C145)^2+('Hull Long'!C94-'Hull Long'!C145)^2)","v":247.88772219233806},{"$f":"SQRT(('Hull Plan'!C43-'Hull Plan'!C145)^2+('Hull Long'!C43-'Hull Long'!C145)^2)","v":368.02770516034332},133.8255504338097,133.98249261352251]
[2,3400,-75,null,null,null,null,null,null,{"$f":"DEGREES(ATAN2('Hull Plan'!B96-'Hull Plan'!B95,'Hull Plan'!C96-'Hull Plan'!C95))","v":-6.5601964005713089},{"$f":"DEGREES(ATAN2('Hull Long'!B96-'Hull Long'!B95,'Hull Long'!C96-'Hull Long'!C95))","v":0},{"$f":"SQRT(('Hull Plan'!C44-'Hull Plan'!C95)^2+('Hull Long'!C44-'Hull Long'!C95)^2)","v":139.5},{"$f":"SQRT(('Hull Plan'!C95-'Hull Plan'!C146)^2+('Hull Long'!C95-'Hull Long'!C146)^2)","v":257.47216064301642},{"$f":"SQRT(('Hull Plan'!C44-'Hull Plan'!C146)^2+('Hull Long'!C44-'Hull Long'!C146)^2)","v":365.9747470557711},132.12734781196613,132.31465519024457]
[2,3500,-75,null,null,null,null,null,null,{"$f":"DEGREES(ATAN2('Hull Plan'!B97-'Hull Plan'!B96,'Hull Plan'!C97-'Hull Plan'!C96))","v":-7.1250163489017977},{"$f":"DEGREES(ATAN2('Hull Long'!B97-'Hull Long'!B96,'Hull Long'!C97-'Hull Long'!C96))","v":0},{"$f":"SQRT(('Hull Plan'!C45-'Hull Plan'!C96)^2+('Hull Long'!C45-'Hull Long'!C96)^2)","v":128},{"$f":"SQRT(('Hull Plan'!C96-'Hull Plan'!C147)^2+('Hull Long'!C96-'Hull Long'!C147)^2)","v":267.11087006961003},{"$f":"SQRT(('Hull Plan'!C45-'Hull Plan'!C147)^2+('Hull Long'!C45-'Hull Long'!C147)^2)","v":363.29634383197043},130.32668448816483,130.54595308388409]
[2,3600,-75,null,null,null,null,null,null,{"$f":"DEGREES(ATAN2('Hull Plan'!B98-'Hull Plan'!B97,'Hull Plan'!C98-'Hull Plan'!C97))","v":-7.6881664184457081},{"$f":"DEGREES(ATAN2('Hull Long'!B98-'Hull Long'!B97,'Hull Long'!C98-'Hull Long'!C97))","v":0},{"$f":"SQRT(('Hull Plan'!C46-'Hull Plan'!C97)^2+('Hull Long'!C46-'Hull Long'!C97)^2)","v":115.5},{"$f":"SQRT(('Hull Plan'!C97-'Hull Plan'!C148)^2+('Hull Long'!C97-'Hull Long'!C148)^2)","v":276.74594313447426},{"$f":"SQRT(('Hull Plan'!C46-'Hull Plan'!C148)^2+('Hull Long'!C46-'Hull Long'!C148)^2)","v":360.0628602090639},128.40888264616027,128.6610070372559]
[2,3699.9,-75,null,null,null,null,null,null,{"$f":"DEGREES(ATAN2('Hull Plan'!B99-'Hull Plan'!B98,'Hull Plan'!C99-'Hull Plan'!C98))","v":-7.9696103943181669},{"$f":"DEGREES(ATAN2('Hull Long'!B99-'Hull Long'!B98,'Hull Long'!C99-'Hull Long'!C98))","v":0},{"$f":"SQRT(('Hull Plan'!C47-'Hull Plan'!C98)^2+('Hull Long'!C47-'Hull Long'!C98)^2)","v":102.01399949999998},{"$f":"SQRT(('Hull Plan'!C98-'Hull Plan'!C149)^2+('Hull Long'!C98-'Hull Long'!C149)^2)","v":286.3317549345042},{"$f":"SQRT(('Hull Plan'!C47-'Hull Plan'!C149)^2+('Hull Long'!C47-'Hull Long'!C149)^2)","v":356.40970109293835},126.36076779518254,126.62663345065516]
[2,3700.1,-75,null,null,null,null,null,null,{"$f":"DEGREES(ATAN2('Hull Plan'!B100-'Hull Plan'!B99,'Hull Plan'!C100-'Hull Plan'!C99))","v":-8.5310457847035686},{"$f":"DEGREES(ATAN2('Hull Long'!B100-'Hull Long'!B99,'Hull Long'!C100-'Hull Long'!C99))","v":0},{"$f":"SQRT(('Hull Plan'!C48-'Hull Plan'!C99)^2+('Hull Long'!C48-'Hull Long'!C99)^2)","v":101.98599950000002},{"$f":"SQRT(('Hull Plan'!C99-'Hull Plan'!C150)^2+('Hull Long'!C99-'Hull Long'!C150)^2)","v":286.35089414892417},{"$f":"SQRT(('Hull Plan'!C48-'Hull Plan'!C150)^2+('Hull Long'!C48-'Hull Long'!C150)^2)","v":356.40208797164343},126.35652451987239,126.66136208669286]
[2,3900,-75,null,null,null,null,null,null,{"$f":"DEGREES(ATAN2('Hull Plan'!B101-'Hull Plan'!B100,'Hull Plan'!C101-'Hull Plan'!C100))","v":-9.3693850964874823},{"$f":"DEGREES(ATAN2('Hull Long'!B101-'Hull Long'!B100,'Hull Long'!C101-'Hull Long'!C100))","v":0},{"$f":"SQRT(('Hull Plan'!C49-'Hull Plan'!C100)^2+('Hull Long'!C49-'Hull Long'!C100)^2)","v":72},{"$f":"SQRT(('Hull Plan'!C100-'Hull Plan'!C151)^2+('Hull Long'!C100-'Hull Long'!C151)^2)","v":305.39784090173777},{"$f":"SQRT(('Hull Plan'!C49-'Hull Plan'!C151)^2+('Hull Long'!C49-'Hull Long'!C151)^2)","v":348.74793819606924},121.79876722295722,122.1444125184959]
[2,4000,-75,null,null,null,null,null,null,{"$f":"DEGREES(ATAN2('Hull Plan'!B102-'Hull Plan'!B101,'Hull Plan'!C102-'Hull Plan'!C101))","v":-9.9262455066517052},{"$f":"DEGREES(ATAN2('Hull Long'!B102-'Hull Long'!B101,'Hull Long'!C102-'Hull Long'!C101))","v":0},{"$f":"SQRT(('Hull Plan'!C50-'Hull Plan'!C101)^2+('Hull Long'!C50-'Hull Long'!C101)^2)","v":55.5},{"$f":"SQRT(('Hull Plan'!C101-'Hull Plan'!C152)^2+('Hull Long'!C101-'Hull Long'!C152)^2)","v":314.92742085888892},{"$f":"SQRT(('Hull Plan'!C50-'Hull Plan'!C152)^2+('Hull Long'!C50-'Hull Long'!C152)^2)","v":345.4634645928391},119.25896061597571,119.62889134670276]
[2,4100,{"$f":"C$84+(C$104-C$84)*ABS(B$84-$B102)^G$104/ABS(B$104-B$84)^G$104","v":-75},null,null,null,null,null,null,{"$f":"DEGREES(ATAN2('Hull Plan'!B103-'Hull Plan'!B102,'Hull Plan'!C103-'Hull Plan'!C102))","v":-10.481218144130921},{"$f":"DEGREES(ATAN2('Hull Long'!B103-'Hull Long'!B102,'Hull Long'!C103-'Hull Long'!C102))","v":0},{"$f":"SQRT(('Hull Plan'!C51-'Hull Plan'!C102)^2+('Hull Long'!C51-'Hull Long'!C102)^2)","v":38},{"$f":"SQRT(('Hull Plan'!C102-'Hull Plan'!C153)^2+('Hull Long'!C102-'Hull Long'!C153)^2)","v":324.56267177355755},{"$f":"SQRT(('Hull Plan'!C51-'Hull Plan'!C153)^2+('Hull Long'!C51-'Hull Long'!C153)^2)","v":343.22270376731166},{"$f":"DEGREES(ACOS((N102*N102-L102*L102-M102*M102)/-2/L102/M102))","v":116.5276212527874},{"$f":"IF(DEGREES(ATAN(COS(RADIANS(J102))/COS(RADIANS(K102))*TAN(RADIANS(O102))))>0,DEGREES(ATAN(COS(RADIANS(J102))/COS(RADIANS(K102))*TAN(RADIANS(O102)))),DEGREES(ATAN(COS(RADIANS(J102))/COS(RADIANS(K102))*TAN(RADIANS(O102))))+180)","v":116.91481350595774}]
[2,4200,{"$f":"C$84+(C$104-C$84)*ABS(B$84-$B103)^G$104/ABS(B$104-B$84)^G$104","v":-75},null,null,null,null,null,null,{"$f":"DEGREES(ATAN2('Hull Plan'!B104-'Hull Plan'!B103,'Hull Plan'!C104-'Hull Plan'!C103))","v":-11.03420900325025},{"$f":"DEGREES(ATAN2('Hull Long'!B104-'Hull Long'!B103,'Hull Long'!C104-'Hull Long'!C103))","v":0},{"$f":"SQRT(('Hull Plan'!C52-'Hull Plan'!C103)^2+('Hull Long'!C52-'Hull Long'!C103)^2)","v":19.5},{"$f":"SQRT(('Hull Plan'!C103-'Hull Plan'!C154)^2+('Hull Long'!C103-'Hull Long'!C154)^2)","v":334.43311308829169},{"$f":"SQRT(('Hull Plan'!C52-'Hull Plan'!C154)^2+('Hull Long'!C52-'Hull Long'!C154)^2)","v":342.70416531145548},{"$f":"DEGREES(ACOS((N103*N103-L103*L103-M103*M103)/-2/L103/M103))","v":113.59366672645271},{"$f":"IF(DEGREES(ATAN(COS(RADIANS(J103))/COS(RADIANS(K103))*TAN(RADIANS(O103))))>0,DEGREES(ATAN(COS(RADIANS(J103))/COS(RADIANS(K103))*TAN(RADIANS(O103)))),DEGREES(ATAN(COS(RADIANS(J103))/COS(RADIANS(K103))*TAN(RADIANS(O103))))+180)","v":113.98829933078986}]
[2,4300,{"$f":"-75*Basic!$D$2","v":-75},null,null,null,2]
[2,4400,{"$f":"C104+(C107-C104)*ABS(B104-B105)/ABS(B107-B104)","v":50}]
[2,4500,{"$f":"C104+(C107-C104)*ABS(B104-B106)/ABS(B107-B104)","v":175}]
[2,4600,{"$f":"C56","v":300}]
[0,4700,{"$f":"C57","v":425}]
[0,0,0,null,null,null,"Chine",null,null,"Qz","Qx","a","b","c","AA","TA",{"$f":"SUM(Q113:Q134)","v":80.155737385836673}]
[0,{"$f":"B8","v":-100},{"$f":"C59","v":425}]
[3,{"$f":"B9","v":0},{"$f":"C60","v":300},null,null,3.0176543251972352,1.5]
[3,100,{"$f":"C$134+(C$111-C$134)*ABS(B$134-B112)^G$111/ABS(B$111-B$134)^G$111","v":282.26159685887365},null,null,{"$f":"AVERAGE(P112:P134)","v":89.999963334375025},{"$f":"VAR(P112:P134)","v":3.6803544532400125},null,null,{"$f":"DEGREES(ATAN2('Hull Plan'!B112-'Hull Plan'!B111,'Hull Plan'!C112-'Hull Plan'!C111))","v":23.718931672450566},{"$f":"DEGREES(ATAN2('Hull Long'!B112-'Hull Long'!B111,'Hull Long'!C112-'Hull Long'!C111))","v":-10.05872766298708},{"$f":"SQRT(('Hull Plan'!C61-'Hull Plan'!C112)^2+('Hull Long'!C61-'Hull Long'!C112)^2)","v":115.91139993292811},{"$f":"SQRT(('Hull Plan'!C112-'Hull Plan'!C163)^2+('Hull Long'!C112-'Hull Long'!C163)^2)","v":24.64822952948581},{"$f":"SQRT(('Hull Plan'!C61-'Hull Plan'!C163)^2+('Hull Long'!C61-'Hull Long'!C163)^2)","v":118.85515826949862},{"$f":"DEGREES(ACOS((N112*N112-L112*L112-M112*M112)/-2/L112/M112))","v":90.837912741190692},{"$f":"IF(DEGREES(ATAN(COS(RADIANS(J112))/COS(RADIANS(K112))*TAN(RADIANS(O112))))>0,DEGREES(ATAN(COS(RADIANS(J112))/COS(RADIANS(K112))*TAN(RADIANS(O112)))),DEGREES(ATAN(COS(RADIANS(J112))/COS(RADIANS(K112))*TAN(RADIANS(O112))))+180)","v":90.901144059717453},{"$f":"(90-P112)^2","v":0.81206061636405191}]
[3,200,{"$f":"C$134+(C$111-C$134)*ABS(B$134-B113)^G$111/ABS(B$111-B$134)^G$111","v":264.92189439594011},null,null,null,null,null,null,{"$f":"DEGREES(ATAN2('Hull Plan'!B113-'Hull Plan'!B112,'Hull Plan'!C113-'Hull Plan'!C112))","v":21.843943634988527},{"$f":"DEGREES(ATAN2('Hull Long'!B113-'Hull Long'!B112,'Hull Long'!C113-'Hull Long'!C112))","v":-9.8371067271977619},{"$f":"SQRT(('Hull Plan'!C62-'Hull Plan'!C113)^2+('Hull Long'!C62-'Hull Long'!C113)^2)","v":230.76221247029707},{"$f":"SQRT(('Hull Plan'!C113-'Hull Plan'!C164)^2+('Hull Long'!C113-'Hull Long'!C164)^2)","v":46.548739627551619},{"$f":"SQRT(('Hull Plan'!C62-'Hull Plan'!C164)^2+('Hull Long'!C62-'Hull Long'!C164)^2)","v":237.72144812829379},{"$f":"DEGREES(ACOS((N113*N113-L113*L113-M113*M113)/-2/L113/M113))","v":92.917613206644148},{"$f":"IF(DEGREES(ATAN(COS(RADIANS(J113))/COS(RADIANS(K113))*TAN(RADIANS(O113))))>0,DEGREES(ATAN(COS(RADIANS(J113))/COS(RADIANS(K113))*TAN(RADIANS(O113)))),DEGREES(ATAN(COS(RADIANS(J113))/COS(RADIANS(K113))*TAN(RADIANS(O113))))+180)","v":93.096746122310591},{"$f":"(90-P113)^2","v":9.5898365460456851}]
[3,300,{"$f":"C$134+(C$111-C$134)*ABS(B$134-B114)^G$111/ABS(B$111-B$134)^G$111","v":247.99028023137919},null,null,null,null,null,null,{"$f":"DEGREES(ATAN2('Hull Plan'!B114-'Hull Plan'!B113,'Hull Plan'!C114-'Hull Plan'!C113))","v":20.008567629233035},{"$f":"DEGREES(ATAN2('Hull Long'!B114-'Hull Long'!B113,'Hull Long'!C114-'Hull Long'!C113))","v":-9.6099593802094692},{"$f":"SQRT(('Hull Plan'!C63-'Hull Plan'!C114)^2+('Hull Long'!C63-'Hull Long'!C114)^2)","v":344.71387862195888},{"$f":"SQRT(('Hull Plan'!C114-'Hull Plan'!C165)^2+('Hull Long'!C114-'Hull Long'!C165)^2)","v":65.89202017221298},{"$f":"SQRT(('Hull Plan'!C63-'Hull Plan'!C165)^2+('Hull Long'!C63-'Hull Long'!C165)^2)","v":356.60891704037823},95.052177606755436,95.299871310227346,{"$f":"(90-P114)^2","v":28.088635904970921}]
[3,400,231.47683821912474,null,null,null,null,null,null,{"$f":"DEGREES(ATAN2('Hull Plan'!B115-'Hull Plan'!B114,'Hull Plan'!C115-'Hull Plan'!C114))","v":18.221365741899422},{"$f":"DEGREES(ATAN2('Hull Long'!B115-'Hull Long'!B114,'Hull Long'!C115-'Hull Long'!C114))","v":-9.3768825185437468},{"$f":"SQRT(('Hull Plan'!C64-'Hull Plan'!C115)^2+('Hull Long'!C64-'Hull Long'!C115)^2)","v":334.43311308829169},{"$f":"SQRT(('Hull Plan'!C115-'Hull Plan'!C166)^2+('Hull Long'!C115-'Hull Long'!C166)^2)","v":82.868672511303629},{"$f":"SQRT(('Hull Plan'!C64-'Hull Plan'!C166)^2+('Hull Long'!C64-'Hull Long'!C166)^2)","v":349.03063087625566},93.216130015827133,93.340395531110062,11.158242304260071]
[3,500,215.39243903480215,null,null,null,null,null,null,{"$f":"DEGREES(ATAN2('Hull Plan'!B116-'Hull Plan'!B115,'Hull Plan'!C116-'Hull Plan'!C115))","v":16.490369331896286},{"$f":"DEGREES(ATAN2('Hull Long'!B116-'Hull Long'!B115,'Hull Long'!C116-'Hull Long'!C115))","v":-9.1374208301391029},{"$f":"SQRT(('Hull Plan'!C65-'Hull Plan'!C116)^2+('Hull Long'!C65-'Hull Long'!C116)^2)","v":324.56267177355755},{"$f":"SQRT(('Hull Plan'!C116-'Hull Plan'!C167)^2+('Hull Long'!C116-'Hull Long'!C167)^2)","v":97.669083636406839},{"$f":"SQRT(('Hull Plan'!C65-'Hull Plan'!C167)^2+('Hull Long'!C65-'Hull Long'!C167)^2)","v":341.65405157789189},91.669701926756645,91.719200920450533,2.9556518048779581]
[3,600,199.74884818167922,null,null,null,null,null,null,{"$f":"DEGREES(ATAN2('Hull Plan'!B117-'Hull Plan'!B116,'Hull Plan'!C117-'Hull Plan'!C116))","v":14.82297036532368},{"$f":"DEGREES(ATAN2('Hull Long'!B117-'Hull Long'!B116,'Hull Long'!C117-'Hull Long'!C116))","v":-8.891056774347911},{"$f":"SQRT(('Hull Plan'!C66-'Hull Plan'!C117)^2+('Hull Long'!C66-'Hull Long'!C117)^2)","v":314.92742085888892},{"$f":"SQRT(('Hull Plan'!C117-'Hull Plan'!C168)^2+('Hull Long'!C117-'Hull Long'!C168)^2)","v":110.48296845304361},{"$f":"SQRT(('Hull Plan'!C66-'Hull Plan'!C168)^2+('Hull Long'!C66-'Hull Long'!C168)^2)","v":334.48450464207701},90.4068369367115,90.415785036152414,0.17287719628826423]
[3,700,184.55885597410949,null,null,null,null,null,null,{"$f":"DEGREES(ATAN2('Hull Plan'!B118-'Hull Plan'!B117,'Hull Plan'!C118-'Hull Plan'!C117))","v":13.225843309646757},{"$f":"DEGREES(ATAN2('Hull Long'!B118-'Hull Long'!B117,'Hull Long'!C118-'Hull Long'!C117))","v":-8.6371979416456046},{"$f":"SQRT(('Hull Plan'!C67-'Hull Plan'!C118)^2+('Hull Long'!C67-'Hull Long'!C118)^2)","v":305.39784090173777},{"$f":"SQRT(('Hull Plan'!C118-'Hull Plan'!C169)^2+('Hull Long'!C118-'Hull Long'!C169)^2)","v":121.49874797925983},{"$f":"SQRT(('Hull Plan'!C67-'Hull Plan'!C169)^2+('Hull Long'!C67-'Hull Long'!C169)^2)","v":327.52777899769779},89.416816250300243,89.40772098699648,0.35079442924442333]
[3,899.9,155.61093042155551,null,null,null,null,null,null,{"$f":"DEGREES(ATAN2('Hull Plan'!B119-'Hull Plan'!B118,'Hull Plan'!C119-'Hull Plan'!C118))","v":10.987540818070558},{"$f":"DEGREES(ATAN2('Hull Long'!B119-'Hull Long'!B118,'Hull Long'!C119-'Hull Long'!C118))","v":-8.2398390459651694},{"$f":"SQRT(('Hull Plan'!C68-'Hull Plan'!C119)^2+('Hull Long'!C68-'Hull Long'!C119)^2)","v":286.35089414892417},{"$f":"SQRT(('Hull Plan'!C119-'Hull Plan'!C170)^2+('Hull Long'!C119-'Hull Long'!C170)^2)","v":138.87073405822198},{"$f":"SQRT(('Hull Plan'!C68-'Hull Plan'!C170)^2+('Hull Long'!C68-'Hull Long'!C170)^2)","v":314.28509567135143},88.193766284591192,88.179041437500487,3.3158900863402923]
[3,900.1,155.58294536349544,null,null,null,null,null,null,{"$f":"DEGREES(ATAN2('Hull Plan'!B120-'Hull Plan'!B119,'Hull Plan'!C120-'Hull Plan'!C119))","v":9.5732301409203515},{"$f":"DEGREES(ATAN2('Hull Long'!B120-'Hull Long'!B119,'Hull Long'!C120-'Hull Long'!C119))","v":-7.9654120867645073},{"$f":"SQRT(('Hull Plan'!C69-'Hull Plan'!C120)^2+('Hull Long'!C69-'Hull Long'!C120)^2)","v":286.3317549345042},{"$f":"SQRT(('Hull Plan'!C120-'Hull Plan'!C171)^2+('Hull Long'!C120-'Hull Long'!C171)^2)","v":138.88537606328671},{"$f":"SQRT(('Hull Plan'!C69-'Hull Plan'!C171)^2+('Hull Long'!C69-'Hull Long'!C171)^2)","v":314.27230373985105},88.193009548171062,88.185175198116355,3.2935890615320131]
[3,1000,141.85733244839565,null,null,null,null,null,null,{"$f":"DEGREES(ATAN2('Hull Plan'!B121-'Hull Plan'!B120,'Hull Plan'!C121-'Hull Plan'!C120))","v":8.910638385127589},{"$f":"DEGREES(ATAN2('Hull Long'!B121-'Hull Long'!B120,'Hull Long'!C121-'Hull Long'!C120))","v":-7.8230889238098449},{"$f":"SQRT(('Hull Plan'!C70-'Hull Plan'!C121)^2+('Hull Long'!C70-'Hull Long'!C121)^2)","v":276.74594313447426},{"$f":"SQRT(('Hull Plan'!C121-'Hull Plan'!C172)^2+('Hull Long'!C121-'Hull Long'!C172)^2)","v":145.60339705287325},{"$f":"SQRT(('Hull Plan'!C70-'Hull Plan'!C172)^2+('Hull Long'!C70-'Hull Long'!C172)^2)","v":308.00095458426148},87.920666301308671,87.914858258147149,4.3478160836171424]
[3,1100,128.6365170042709,null,null,null,null,null,null,{"$f":"DEGREES(ATAN2('Hull Plan'!B122-'Hull Plan'!B121,'Hull Plan'!C122-'Hull Plan'!C121))","v":7.6466289690086562},{"$f":"DEGREES(ATAN2('Hull Long'!B122-'Hull Long'!B121,'Hull Long'!C122-'Hull Long'!C121))","v":-7.5312921331388409},{"$f":"SQRT(('Hull Plan'!C71-'Hull Plan'!C122)^2+('Hull Long'!C71-'Hull Long'!C122)^2)","v":267.11087006961003},{"$f":"SQRT(('Hull Plan'!C122-'Hull Plan'!C173)^2+('Hull Long'!C122-'Hull Long'!C173)^2)","v":151.25137275272493},{"$f":"SQRT(('Hull Plan'!C71-'Hull Plan'!C173)^2+('Hull Long'!C71-'Hull Long'!C173)^2)","v":301.96549058548248},87.842410041384099,87.841831849886574,4.6576897641640054]
[3,1200,115.95570983889458,null,null,null,null,null,null,{"$f":"DEGREES(ATAN2('Hull Plan'!B123-'Hull Plan'!B122,'Hull Plan'!C123-'Hull Plan'!C122))","v":6.4741807922581076},{"$f":"DEGREES(ATAN2('Hull Long'!B123-'Hull Long'!B122,'Hull Long'!C123-'Hull Long'!C122))","v":-7.226994655279416},{"$f":"SQRT(('Hull Plan'!C72-'Hull Plan'!C123)^2+('Hull Long'!C72-'Hull Long'!C123)^2)","v":257.47216064301642},{"$f":"SQRT(('Hull Plan'!C123-'Hull Plan'!C174)^2+('Hull Long'!C123-'Hull Long'!C174)^2)","v":155.98670852461333},{"$f":"SQRT(('Hull Plan'!C72-'Hull Plan'!C174)^2+('Hull Long'!C72-'Hull Long'!C174)^2)","v":296.18187180010597},87.930921450154401,87.934182147468704,4.2676033998370162]
[3,1300,103.83896964514844,null,null,null,null,null,null,{"$f":"DEGREES(ATAN2('Hull Plan'!B124-'Hull Plan'!B123,'Hull Plan'!C124-'Hull Plan'!C123))","v":5.3962663141845555},{"$f":"DEGREES(ATAN2('Hull Long'!B124-'Hull Long'!B123,'Hull Long'!C124-'Hull Long'!C123))","v":-6.9087019799366978},{"$f":"SQRT(('Hull Plan'!C73-'Hull Plan'!C124)^2+('Hull Long'!C73-'Hull Long'!C124)^2)","v":247.88772219233806},{"$f":"SQRT(('Hull Plan'!C124-'Hull Plan'!C175)^2+('Hull Long'!C124-'Hull Long'!C175)^2)","v":159.96416734125418},{"$f":"SQRT(('Hull Plan'!C73-'Hull Plan'!C175)^2+('Hull Long'!C73-'Hull Long'!C175)^2)","v":290.66092670409159},88.155175981075487,88.160414634232808,3.3840743179448141]
[3,1400,92.313892364077404,null,null,null,null,null,null,{"$f":"DEGREES(ATAN2('Hull Plan'!B125-'Hull Plan'!B124,'Hull Plan'!C125-'Hull Plan'!C124))","v":4.4146411884487922},{"$f":"DEGREES(ATAN2('Hull Long'!B125-'Hull Long'!B124,'Hull Long'!C125-'Hull Long'!C124))","v":-6.5743766807989665},{"$f":"SQRT(('Hull Plan'!C74-'Hull Plan'!C125)^2+('Hull Long'!C74-'Hull Long'!C125)^2)","v":238.43461002883947},{"$f":"SQRT(('Hull Plan'!C125-'Hull Plan'!C176)^2+('Hull Long'!C125-'Hull Long'!C176)^2)","v":163.32632385118339},{"$f":"SQRT(('Hull Plan'!C74-'Hull Plan'!C176)^2+('Hull Long'!C74-'Hull Long'!C176)^2)","v":285.4150558342223},88.480868228505031,88.486364599414529,2.2910921259055401]
[3,1500,81.412574528830177,null,null,null,null,null,null,{"$f":"DEGREES(ATAN2('Hull Plan'!B126-'Hull Plan'!B125,'Hull Plan'!C126-'Hull Plan'!C125))","v":3.5305809488735473},{"$f":"DEGREES(ATAN2('Hull Long'!B126-'Hull Long'!B125,'Hull Long'!C126-'Hull Long'!C125))","v":-6.2214277629864396},{"$f":"SQRT(('Hull Plan'!C75-'Hull Plan'!C126)^2+('Hull Long'!C75-'Hull Long'!C126)^2)","v":229.20685064305582},{"$f":"SQRT(('Hull Plan'!C126-'Hull Plan'!C177)^2+('Hull Long'!C126-'Hull Long'!C177)^2)","v":166.20128661230132},{"$f":"SQRT(('Hull Plan'!C75-'Hull Plan'!C177)^2+('Hull Long'!C75-'Hull Long'!C177)^2)","v":280.45865761918844},88.870698302786579,88.875213396261316,1.2651449039500038]
[3,1600,71.172990104660329,null,null,null,null,null,null,{"$f":"DEGREES(ATAN2('Hull Plan'!B127-'Hull Plan'!B126,'Hull Plan'!C127-'Hull Plan'!C126))","v":2.7449535697092733},{"$f":"DEGREES(ATAN2('Hull Long'!B127-'Hull Long'!B126,'Hull Long'!C127-'Hull Long'!C126))","v":-5.8464732873026},{"$f":"SQRT(('Hull Plan'!C76-'Hull Plan'!C127)^2+('Hull Long'!C76-'Hull Long'!C127)^2)","v":220.31381305563357},{"$f":"SQRT(('Hull Plan'!C127-'Hull Plan'!C178)^2+('Hull Long'!C127-'Hull Long'!C178)^2)","v":168.70049160118319},{"$f":"SQRT(('Hull Plan'!C76-'Hull Plan'!C178)^2+('Hull Long'!C76-'Hull Long'!C178)^2)","v":275.80873777260564},89.285020509452536,89.287922205862046,0.50705478490437494]
[3,1700,61.641041976137416,null,null,null,null,null,null,{"$f":"DEGREES(ATAN2('Hull Plan'!B128-'Hull Plan'!B127,'Hull Plan'!C128-'Hull Plan'!C127))","v":2.0582876274665471},{"$f":"DEGREES(ATAN2('Hull Long'!B128-'Hull Long'!B127,'Hull Long'!C128-'Hull Long'!C127))","v":-5.4449531572119012},{"$f":"SQRT(('Hull Plan'!C77-'Hull Plan'!C128)^2+('Hull Long'!C77-'Hull Long'!C128)^2)","v":211.8791918392655},{"$f":"SQRT(('Hull Plan'!C128-'Hull Plan'!C179)^2+('Hull Long'!C128-'Hull Long'!C179)^2)","v":170.91667461775012},{"$f":"SQRT(('Hull Plan'!C77-'Hull Plan'!C179)^2+('Hull Long'!C77-'Hull Long'!C179)^2)","v":271.48581852325509},89.682971912087837,89.684198621092719,9.9730510919740126E-2]
[3,1800,52.873785028922441,null,null,null,null,null,null,{"$f":"DEGREES(ATAN2('Hull Plan'!B129-'Hull Plan'!B128,'Hull Plan'!C129-'Hull Plan'!C128))","v":1.4708330198057635},{"$f":"DEGREES(ATAN2('Hull Long'!B129-'Hull Long'!B128,'Hull Long'!C129-'Hull Long'!C128))","v":-5.0104568268452914},{"$f":"SQRT(('Hull Plan'!C78-'Hull Plan'!C129)^2+('Hull Long'!C78-'Hull Long'!C129)^2)","v":204.04077621677681},{"$f":"SQRT(('Hull Plan'!C129-'Hull Plan'!C180)^2+('Hull Long'!C129-'Hull Long'!C180)^2)","v":172.92203977896588},{"$f":"SQRT(('Hull Plan'!C78-'Hull Plan'!C180)^2+('Hull Long'!C78-'Hull Long'!C180)^2)","v":267.51536901906468},90.024197887892441,90.024113367175616,5.8145447654607335E-4]
[3,1900,44.944856996763676,null,null,null,null,null,null,{"$f":"DEGREES(ATAN2('Hull Plan'!B130-'Hull Plan'!B129,'Hull Plan'!C130-'Hull Plan'!C129))","v":0.98261114917302994},{"$f":"DEGREES(ATAN2('Hull Long'!B130-'Hull Long'!B129,'Hull Long'!C130-'Hull Long'!C129))","v":-4.5334567011405893},{"$f":"SQRT(('Hull Plan'!C79-'Hull Plan'!C130)^2+('Hull Long'!C79-'Hull Long'!C130)^2)","v":196.95145557732997},{"$f":"SQRT(('Hull Plan'!C130-'Hull Plan'!C181)^2+('Hull Long'!C130-'Hull Long'!C181)^2)","v":174.76638886809528},{"$f":"SQRT(('Hull Plan'!C79-'Hull Plan'!C181)^2+('Hull Long'!C79-'Hull Long'!C181)^2)","v":263.93021851290172},90.271322853509432,90.270513771272704,7.3177700448180658E-2]
[3,2000,37.954564625533862,null,null,null,null,null,null,{"$f":"DEGREES(ATAN2('Hull Plan'!B131-'Hull Plan'!B130,'Hull Plan'!C131-'Hull Plan'!C130))","v":0.59345045809969665},{"$f":"DEGREES(ATAN2('Hull Long'!B131-'Hull Long'!B130,'Hull Long'!C131-'Hull Long'!C130))","v":-3.9986379629296391},{"$f":"SQRT(('Hull Plan'!C80-'Hull Plan'!C131)^2+('Hull Long'!C80-'Hull Long'!C131)^2)","v":190.78266287132908},{"$f":"SQRT(('Hull Plan'!C131-'Hull Plan'!C182)^2+('Hull Long'!C131-'Hull Long'!C182)^2)","v":176.47430623988475},{"$f":"SQRT(('Hull Plan'!C80-'Hull Plan'!C182)^2+('Hull Long'!C80-'Hull Long'!C182)^2)","v":260.77504287157262},90.393468686403963,90.392531953628009,0.15408133461902104]
[3,2100,32.051571816103774,null,null,null,null,null,null,{"$f":"DEGREES(ATAN2('Hull Plan'!B132-'Hull Plan'!B131,'Hull Plan'!C132-'Hull Plan'!C131))","v":0.30299950376058626},{"$f":"DEGREES(ATAN2('Hull Long'!B132-'Hull Long'!B131,'Hull Long'!C132-'Hull Long'!C131))","v":-3.3782455155533317},{"$f":"SQRT(('Hull Plan'!C81-'Hull Plan'!C132)^2+('Hull Long'!C81-'Hull Long'!C132)^2)","v":185.73389647519178},{"$f":"SQRT(('Hull Plan'!C132-'Hull Plan'!C183)^2+('Hull Long'!C132-'Hull Long'!C183)^2)","v":178.03841529667699},{"$f":"SQRT(('Hull Plan'!C81-'Hull Plan'!C183)^2+('Hull Long'!C81-'Hull Long'!C183)^2)","v":258.11601994766795},90.371767746248324,90.371126923208024,0.13773519312985461]
[3,2200,27.493107124595461,null,null,null,null,null,null,{"$f":"DEGREES(ATAN2('Hull Plan'!B133-'Hull Plan'!B132,'Hull Plan'!C133-'Hull Plan'!C132))","v":0.11069619532106133},{"$f":"DEGREES(ATAN2('Hull Long'!B133-'Hull Long'!B132,'Hull Long'!C133-'Hull Long'!C132))","v":-2.6100010535371276},{"$f":"SQRT(('Hull Plan'!C82-'Hull Plan'!C133)^2+('Hull Long'!C82-'Hull Long'!C133)^2)","v":182.06288847077448},{"$f":"SQRT(('Hull Plan'!C133-'Hull Plan'!C184)^2+('Hull Long'!C133-'Hull Long'!C184)^2)","v":179.39665310883944},{"$f":"SQRT(('Hull Plan'!C82-'Hull Plan'!C184)^2+('Hull Long'!C82-'Hull Long'!C184)^2)","v":256.06764973165741},90.211022872434356,90.210804360393311,4.4438478360833027E-2]
[3,2300,{"$f":"25*Basic!$D$2","v":25},null,null,null,null,null,null,{"$f":"DEGREES(ATAN2('Hull Plan'!B134-'Hull Plan'!B133,'Hull Plan'!C134-'Hull Plan'!C133))","v":1.5594331853332012E-2},{"$f":"DEGREES(ATAN2('Hull Long'!B134-'Hull Long'!B133,'Hull Long'!C134-'Hull Long'!C133))","v":-1.4281493174673681},{"$f":"SQRT(('Hull Plan'!C83-'Hull Plan'!C134)^2+('Hull Long'!C83-'Hull Long'!C134)^2)","v":180.27756377319946},{"$f":"SQRT(('Hull Plan'!C134-'Hull Plan'!C185)^2+('Hull Long'!C134-'Hull Long'!C185)^2)","v":180.27756377319946},{"$f":"SQRT(('Hull Plan'!C83-'Hull Plan'!C185)^2+('Hull Long'!C83-'Hull Long'!C185)^2)","v":254.95097567963924},90,90,0]
[3,2300,{"$f":"25*Basic!$D$2","v":25},null,null,null,null,null,null,{"$f":"DEGREES(ATAN2('Hull Plan'!B136-'Hull Plan'!B135,'Hull Plan'!C136-'Hull Plan'!C135))","v":-1.5594331853332012E-2},{"$f":"DEGREES(ATAN2('Hull Long'!B136-'Hull Long'!B135,'Hull Long'!C136-'Hull Long'!C135))","v":1.4281493174673681},{"$f":"SQRT(('Hull Plan'!C84-'Hull Plan'!C135)^2+('Hull Long'!C84-'Hull Long'!C135)^2)","v":180.27756377319946},{"$f":"SQRT(('Hull Plan'!C135-'Hull Plan'!C186)^2+('Hull Long'!C135-'Hull Long'!C186)^2)","v":180.27756377319946},{"$f":"SQRT(('Hull Plan'!C84-'Hull Plan'!C186)^2+('Hull Long'!C84-'Hull Long'!C186)^2)","v":254.95097567963924},90,90,0]
[3,2400,{"$f":"C$135+(C$158-C$135)*ABS(B$135-$B136)^G$158/ABS(B$158-B$135)^G$158","v":27.493107124595461},null,null,null,null,null,null,{"$f":"DEGREES(ATAN2('Hull Plan'!B137-'Hull Plan'!B136,'Hull Plan'!C137-'Hull Plan'!C136))","v":-0.11069619532106133},{"$f":"DEGREES(ATAN2('Hull Long'!B137-'Hull Long'!B136,'Hull Long'!C137-'Hull Long'!C136))","v":2.6100010535371276},{"$f":"SQRT(('Hull Plan'!C85-'Hull Plan'!C136)^2+('Hull Long'!C85-'Hull Long'!C136)^2)","v":182.06288847077448},{"$f":"SQRT(('Hull Plan'!C136-'Hull Plan'!C187)^2+('Hull Long'!C136-'Hull Long'!C187)^2)","v":179.39665310883944},{"$f":"SQRT(('Hull Plan'!C85-'Hull Plan'!C187)^2+('Hull Long'!C85-'Hull Long'!C187)^2)","v":256.06764973165741},90.211022872434356,90.210804360393311,4.4438478360833027E-2]
[3,2500,32.051571816103774,null,null,null,null,null,null,{"$f":"DEGREES(ATAN2('Hull Plan'!B138-'Hull Plan'!B137,'Hull Plan'!C138-'Hull Plan'!C137))","v":-0.30299950376058626},{"$f":"DEGREES(ATAN2('Hull Long'!B138-'Hull Long'!B137,'Hull Long'!C138-'Hull Long'!C137))","v":3.3782455155533317},{"$f":"SQRT(('Hull Plan'!C86-'Hull Plan'!C137)^2+('Hull Long'!C86-'Hull Long'!C137)^2)","v":185.73389647519178},{"$f":"SQRT(('Hull Plan'!C137-'Hull Plan'!C188)^2+('Hull Long'!C137-'Hull Long'!C188)^2)","v":178.03841529667699},{"$f":"SQRT(('Hull Plan'!C86-'Hull Plan'!C188)^2+('Hull Long'!C86-'Hull Long'!C188)^2)","v":258.11601994766795},90.371767746248324,90.371126923208024,0.13773519312985461]
[3,2600,37.954564625533862,null,null,null,null,null,null,{"$f":"DEGREES(ATAN2('Hull Plan'!B139-'Hull Plan'!B138,'Hull Plan'!C139-'Hull Plan'!C138))","v":-0.59345045809969665},{"$f":"DEGREES(ATAN2('Hull Long'!B139-'Hull Long'!B138,'Hull Long'!C139-'Hull Long'!C138))","v":3.9986379629296391},{"$f":"SQRT(('Hull Plan'!C87-'Hull Plan'!C138)^2+('Hull Long'!C87-'Hull Long'!C138)^2)","v":190.78266287132908},{"$f":"SQRT(('Hull Plan'!C138-'Hull Plan'!C189)^2+('Hull Long'!C138-'Hull Long'!C189)^2)","v":176.47430623988475},{"$f":"SQRT(('Hull Plan'!C87-'Hull Plan'!C189)^2+('Hull Long'!C87-'Hull Long'!C189)^2)","v":260.77504287157262},90.393468686403963,90.392531953628009,0.15408133461902104]
[3,2700,44.944856996763676,null,null,null,null,null,null,{"$f":"DEGREES(ATAN2('Hull Plan'!B140-'Hull Plan'!B139,'Hull Plan'!C140-'Hull Plan'!C139))","v":-0.98261114917302994},{"$f":"DEGREES(ATAN2('Hull Long'!B140-'Hull Long'!B139,'Hull Long'!C140-'Hull Long'!C139))","v":4.5334567011405893},{"$f":"SQRT(('Hull Plan'!C88-'Hull Plan'!C139)^2+('Hull Long'!C88-'Hull Long'!C139)^2)","v":196.95145557732997},{"$f":"SQRT(('Hull Plan'!C139-'Hull Plan'!C190)^2+('Hull Long'!C139-'Hull Long'!C190)^2)","v":174.76638886809528},{"$f":"SQRT(('Hull Plan'!C88-'Hull Plan'!C190)^2+('Hull Long'!C88-'Hull Long'!C190)^2)","v":263.93021851290172},90.271322853509432,90.270513771272704,7.3177700448180658E-2]
[3,2800,52.873785028922441,null,null,null,null,null,null,{"$f":"DEGREES(ATAN2('Hull Plan'!B141-'Hull Plan'!B140,'Hull Plan'!C141-'Hull Plan'!C140))","v":-1.4708330198057635},{"$f":"DEGREES(ATAN2('Hull Long'!B141-'Hull Long'!B140,'Hull Long'!C141-'Hull Long'!C140))","v":5.0104568268452914},{"$f":"SQRT(('Hull Plan'!C89-'Hull Plan'!C140)^2+('Hull Long'!C89-'Hull Long'!C140)^2)","v":204.04077621677681},{"$f":"SQRT(('Hull Plan'!C140-'Hull Plan'!C191)^2+('Hull Long'!C140-'Hull Long'!C191)^2)","v":172.92203977896588},{"$f":"SQRT(('Hull Plan'!C89-'Hull Plan'!C191)^2+('Hull Long'!C89-'Hull Long'!C191)^2)","v":267.51536901906468},90.024197887892441,90.024113367175616,5.8145447654607335E-4]
[3,2900,61.641041976137416,null,null,null,null,null,null,{"$f":"DEGREES(ATAN2('Hull Plan'!B142-'Hull Plan'!B141,'Hull Plan'!C142-'Hull Plan'!C141))","v":-2.0582876274665471},{"$f":"DEGREES(ATAN2('Hull Long'!B142-'Hull Long'!B141,'Hull Long'!C142-'Hull Long'!C141))","v":5.4449531572119012},{"$f":"SQRT(('Hull Plan'!C90-'Hull Plan'!C141)^2+('Hull Long'!C90-'Hull Long'!C141)^2)","v":211.8791918392655},{"$f":"SQRT(('Hull Plan'!C141-'Hull Plan'!C192)^2+('Hull Long'!C141-'Hull Long'!C192)^2)","v":170.91667461775012},{"$f":"SQRT(('Hull Plan'!C90-'Hull Plan'!C192)^2+('Hull Long'!C90-'Hull Long'!C192)^2)","v":271.48581852325509},89.682971912087837,89.684198621092719,9.9730510919740126E-2]
[3,3000,71.172990104660329,null,null,null,null,null,null,{"$f":"DEGREES(ATAN2('Hull Plan'!B143-'Hull Plan'!B142,'Hull Plan'!C143-'Hull Plan'!C142))","v":-2.7449535697092733},{"$f":"DEGREES(ATAN2('Hull Long'!B143-'Hull Long'!B142,'Hull Long'!C143-'Hull Long'!C142))","v":5.8464732873026},{"$f":"SQRT(('Hull Plan'!C91-'Hull Plan'!C142)^2+('Hull Long'!C91-'Hull Long'!C142)^2)","v":220.31381305563357},{"$f":"SQRT(('Hull Plan'!C142-'Hull Plan'!C193)^2+('Hull Long'!C142-'Hull Long'!C193)^2)","v":168.70049160118319},{"$f":"SQRT(('Hull Plan'!C91-'Hull Plan'!C193)^2+('Hull Long'!C91-'Hull Long'!C193)^2)","v":275.80873777260564},89.285020509452536,89.287922205862046,0.50705478490437494]
[3,3100,81.412574528830177,null,null,null,null,null,null,{"$f":"DEGREES(ATAN2('Hull Plan'!B144-'Hull Plan'!B143,'Hull Plan'!C144-'Hull Plan'!C143))","v":-3.5305809488735473},{"$f":"DEGREES(ATAN2('Hull Long'!B144-'Hull Long'!B143,'Hull Long'!C144-'Hull Long'!C143))","v":6.2214277629864396},{"$f":"SQRT(('Hull Plan'!C92-'Hull Plan'!C143)^2+('Hull Long'!C92-'Hull Long'!C143)^2)","v":229.20685064305582},{"$f":"SQRT(('Hull Plan'!C143-'Hull Plan'!C194)^2+('Hull Long'!C143-'Hull Long'!C194)^2)","v":166.20128661230132},{"$f":"SQRT(('Hull Plan'!C92-'Hull Plan'!C194)^2+('Hull Long'!C92-'Hull Long'!C194)^2)","v":280.45865761918844},88.870698302786579,88.875213396261316,1.2651449039500038]
[3,3200,92.313892364077404,null,null,null,null,null,null,{"$f":"DEGREES(ATAN2('Hull Plan'!B145-'Hull Plan'!B144,'Hull Plan'!C145-'Hull Plan'!C144))","v":-4.4146411884487922},{"$f":"DEGREES(ATAN2('Hull Long'!B145-'Hull Long'!B144,'Hull Long'!C145-'Hull Long'!C144))","v":6.5743766807989665},{"$f":"SQRT(('Hull Plan'!C93-'Hull Plan'!C144)^2+('Hull Long'!C93-'Hull Long'!C144)^2)","v":238.43461002883947},{"$f":"SQRT(('Hull Plan'!C144-'Hull Plan'!C195)^2+('Hull Long'!C144-'Hull Long'!C195)^2)","v":163.32632385118339},{"$f":"SQRT(('Hull Plan'!C93-'Hull Plan'!C195)^2+('Hull Long'!C93-'Hull Long'!C195)^2)","v":285.4150558342223},88.480868228505031,88.486364599414529,2.2910921259055401]
[3,3300,103.83896964514844,null,null,null,null,null,null,{"$f":"DEGREES(ATAN2('Hull Plan'!B146-'Hull Plan'!B145,'Hull Plan'!C146-'Hull Plan'!C145))","v":-5.3962663141845555},{"$f":"DEGREES(ATAN2('Hull Long'!B146-'Hull Long'!B145,'Hull Long'!C146-'Hull Long'!C145))","v":6.9087019799366978},{"$f":"SQRT(('Hull Plan'!C94-'Hull Plan'!C145)^2+('Hull Long'!C94-'Hull Long'!C145)^2)","v":247.88772219233806},{"$f":"SQRT(('Hull Plan'!C145-'Hull Plan'!C196)^2+('Hull Long'!C145-'Hull Long'!C196)^2)","v":159.96416734125418},{"$f":"SQRT(('Hull Plan'!C94-'Hull Plan'!C196)^2+('Hull Long'!C94-'Hull Long'!C196)^2)","v":290.66092670409159},88.155175981075487,88.160414634232808,3.3840743179448141]
[3,3400,115.95570983889458,null,null,null,null,null,null,{"$f":"DEGREES(ATAN2('Hull Plan'!B147-'Hull Plan'!B146,'Hull Plan'!C147-'Hull Plan'!C146))","v":-6.4741807922581076},{"$f":"DEGREES(ATAN2('Hull Long'!B147-'Hull Long'!B146,'Hull Long'!C147-'Hull Long'!C146))","v":7.226994655279416},{"$f":"SQRT(('Hull Plan'!C95-'Hull Plan'!C146)^2+('Hull Long'!C95-'Hull Long'!C146)^2)","v":257.47216064301642},{"$f":"SQRT(('Hull Plan'!C146-'Hull Plan'!C197)^2+('Hull Long'!C146-'Hull Long'!C197)^2)","v":155.98670852461333},{"$f":"SQRT(('Hull Plan'!C95-'Hull Plan'!C197)^2+('Hull Long'!C95-'Hull Long'!C197)^2)","v":296.18187180010597},87.930921450154401,87.934182147468704,4.2676033998370162]
[3,3500,128.6365170042709,null,null,null,null,null,null,{"$f":"DEGREES(ATAN2('Hull Plan'!B148-'Hull Plan'!B147,'Hull Plan'!C148-'Hull Plan'!C147))","v":-7.6466289690086562},{"$f":"DEGREES(ATAN2('Hull Long'!B148-'Hull Long'!B147,'Hull Long'!C148-'Hull Long'!C147))","v":7.5312921331388409},{"$f":"SQRT(('Hull Plan'!C96-'Hull Plan'!C147)^2+('Hull Long'!C96-'Hull Long'!C147)^2)","v":267.11087006961003},{"$f":"SQRT(('Hull Plan'!C147-'Hull Plan'!C198)^2+('Hull Long'!C147-'Hull Long'!C198)^2)","v":151.25137275272493},{"$f":"SQRT(('Hull Plan'!C96-'Hull Plan'!C198)^2+('Hull Long'!C96-'Hull Long'!C198)^2)","v":301.96549058548248},87.842410041384099,87.841831849886574,4.6576897641640054]
[3,3600,141.85733244839565,null,null,null,null,null,null,{"$f":"DEGREES(ATAN2('Hull Plan'!B149-'Hull Plan'!B148,'Hull Plan'!C149-'Hull Plan'!C148))","v":-8.9106383851275783},{"$f":"DEGREES(ATAN2('Hull Long'!B149-'Hull Long'!B148,'Hull Long'!C149-'Hull Long'!C148))","v":7.823088923809836},{"$f":"SQRT(('Hull Plan'!C97-'Hull Plan'!C148)^2+('Hull Long'!C97-'Hull Long'!C148)^2)","v":276.74594313447426},{"$f":"SQRT(('Hull Plan'!C148-'Hull Plan'!C199)^2+('Hull Long'!C148-'Hull Long'!C199)^2)","v":145.60339705287325},{"$f":"SQRT(('Hull Plan'!C97-'Hull Plan'!C199)^2+('Hull Long'!C97-'Hull Long'!C199)^2)","v":308.00095458426148},87.920666301308671,87.914858258147149,4.3478160836171424]
[3,3699.9,155.58294536349544,null,null,null,null,null,null,{"$f":"DEGREES(ATAN2('Hull Plan'!B150-'Hull Plan'!B149,'Hull Plan'!C150-'Hull Plan'!C149))","v":-9.5732301409310345},{"$f":"DEGREES(ATAN2('Hull Long'!B150-'Hull Long'!B149,'Hull Long'!C150-'Hull Long'!C149))","v":7.9654120867734459},{"$f":"SQRT(('Hull Plan'!C98-'Hull Plan'!C149)^2+('Hull Long'!C98-'Hull Long'!C149)^2)","v":286.3317549345042},{"$f":"SQRT(('Hull Plan'!C149-'Hull Plan'!C200)^2+('Hull Long'!C149-'Hull Long'!C200)^2)","v":138.88537606328671},{"$f":"SQRT(('Hull Plan'!C98-'Hull Plan'!C200)^2+('Hull Long'!C98-'Hull Long'!C200)^2)","v":314.27230373985105},88.193009548171062,88.18517519811634,3.2935890615320647]
[3,3700.1,155.61093042155551,null,null,null,null,null,null,{"$f":"DEGREES(ATAN2('Hull Plan'!B151-'Hull Plan'!B150,'Hull Plan'!C151-'Hull Plan'!C150))","v":-10.987540818070551},{"$f":"DEGREES(ATAN2('Hull Long'!B151-'Hull Long'!B150,'Hull Long'!C151-'Hull Long'!C150))","v":8.239839045965164},{"$f":"SQRT(('Hull Plan'!C99-'Hull Plan'!C150)^2+('Hull Long'!C99-'Hull Long'!C150)^2)","v":286.35089414892417},{"$f":"SQRT(('Hull Plan'!C150-'Hull Plan'!C201)^2+('Hull Long'!C150-'Hull Long'!C201)^2)","v":138.87073405822198},{"$f":"SQRT(('Hull Plan'!C99-'Hull Plan'!C201)^2+('Hull Long'!C99-'Hull Long'!C201)^2)","v":314.28509567135143},88.193766284591192,88.179041437500487,3.3158900863402923]
[3,3900,184.55885597410949,null,null,null,null,null,null,{"$f":"DEGREES(ATAN2('Hull Plan'!B152-'Hull Plan'!B151,'Hull Plan'!C152-'Hull Plan'!C151))","v":-13.225843309646757},{"$f":"DEGREES(ATAN2('Hull Long'!B152-'Hull Long'!B151,'Hull Long'!C152-'Hull Long'!C151))","v":8.6371979416456046},{"$f":"SQRT(('Hull Plan'!C100-'Hull Plan'!C151)^2+('Hull Long'!C100-'Hull Long'!C151)^2)","v":305.39784090173777},{"$f":"SQRT(('Hull Plan'!C151-'Hull Plan'!C202)^2+('Hull Long'!C151-'Hull Long'!C202)^2)","v":121.49874797925983},{"$f":"SQRT(('Hull Plan'!C100-'Hull Plan'!C202)^2+('Hull Long'!C100-'Hull Long'!C202)^2)","v":327.52777899769779},89.416816250300243,89.40772098699648,0.35079442924442333]
[3,4000,199.74884818167922,null,null,null,null,null,null,{"$f":"DEGREES(ATAN2('Hull Plan'!B153-'Hull Plan'!B152,'Hull Plan'!C153-'Hull Plan'!C152))","v":-14.82297036532368},{"$f":"DEGREES(ATAN2('Hull Long'!B153-'Hull Long'!B152,'Hull Long'!C153-'Hull Long'!C152))","v":8.891056774347911},{"$f":"SQRT(('Hull Plan'!C101-'Hull Plan'!C152)^2+('Hull Long'!C101-'Hull Long'!C152)^2)","v":314.92742085888892},{"$f":"SQRT(('Hull Plan'!C152-'Hull Plan'!C203)^2+('Hull Long'!C152-'Hull Long'!C203)^2)","v":110.48296845304361},{"$f":"SQRT(('Hull Plan'!C101-'Hull Plan'!C203)^2+('Hull Long'!C101-'Hull Long'!C203)^2)","v":334.48450464207701},90.4068369367115,90.415785036152414,0.17287719628826423]
[3,4100,215.39243903480215,null,null,null,null,null,null,{"$f":"DEGREES(ATAN2('Hull Plan'!B154-'Hull Plan'!B153,'Hull Plan'!C154-'Hull Plan'!C153))","v":-16.490369331896286},{"$f":"DEGREES(ATAN2('Hull Long'!B154-'Hull Long'!B153,'Hull Long'!C154-'Hull Long'!C153))","v":9.1374208301391029},{"$f":"SQRT(('Hull Plan'!C102-'Hull Plan'!C153)^2+('Hull Long'!C102-'Hull Long'!C153)^2)","v":324.56267177355755},{"$f":"SQRT(('Hull Plan'!C153-'Hull Plan'!C204)^2+('Hull Long'!C153-'Hull Long'!C204)^2)","v":97.669083636406839},{"$f":"SQRT(('Hull Plan'!C102-'Hull Plan'!C204)^2+('Hull Long'!C102-'Hull Long'!C204)^2)","v":341.65405157789189},91.669701926756645,91.719200920450533,2.9556518048779581]
[3,4200,231.47683821912474,null,null,null,null,null,null,{"$f":"DEGREES(ATAN2('Hull Plan'!B155-'Hull Plan'!B154,'Hull Plan'!C155-'Hull Plan'!C154))","v":-18.221365741899422},{"$f":"DEGREES(ATAN2('Hull Long'!B155-'Hull Long'!B154,'Hull Long'!C155-'Hull Long'!C154))","v":9.3768825185437468},{"$f":"SQRT(('Hull Plan'!C103-'Hull Plan'!C154)^2+('Hull Long'!C103-'Hull Long'!C154)^2)","v":334.43311308829169},{"$f":"SQRT(('Hull Plan'!C154-'Hull Plan'!C205)^2+('Hull Long'!C154-'Hull Long'!C205)^2)","v":82.868672511303629},{"$f":"SQRT(('Hull Plan'!C103-'Hull Plan'!C205)^2+('Hull Long'!C103-'Hull Long'!C205)^2)","v":349.03063087625566},93.216130015827133,93.340395531110062,11.158242304260071]
[3,4300,{"$f":"C$135+(C$158-C$135)*ABS(B$135-$B155)^G$158/ABS(B$158-B$135)^G$158","v":247.99028023137919},null,null,null,null,null,null,{"$f":"DEGREES(ATAN2('Hull Plan'!B156-'Hull Plan'!B155,'Hull Plan'!C156-'Hull Plan'!C155))","v":-20.008567629233035},{"$f":"DEGREES(ATAN2('Hull Long'!B156-'Hull Long'!B155,'Hull Long'!C156-'Hull Long'!C155))","v":9.6099593802094692},{"$f":"SQRT(('Hull Plan'!C104-'Hull Plan'!C155)^2+('Hull Long'!C104-'Hull Long'!C155)^2)","v":344.71387862195888},{"$f":"SQRT(('Hull Plan'!C155-'Hull Plan'!C206)^2+('Hull Long'!C155-'Hull Long'!C206)^2)","v":65.89202017221298},{"$f":"SQRT(('Hull Plan'!C104-'Hull Plan'!C206)^2+('Hull Long'!C104-'Hull Long'!C206)^2)","v":356.60891704037823},95.052177606755436,95.299871310227346,28.088635904970921]
[3,4400,{"$f":"C$135+(C$158-C$135)*ABS(B$135-$B156)^G$158/ABS(B$158-B$135)^G$158","v":264.92189439594011},null,null,null,null,null,null,{"$f":"DEGREES(ATAN2('Hull Plan'!B157-'Hull Plan'!B156,'Hull Plan'!C157-'Hull Plan'!C156))","v":-21.843943634988527},{"$f":"DEGREES(ATAN2('Hull Long'!B157-'Hull Long'!B156,'Hull Long'!C157-'Hull Long'!C156))","v":9.8371067271977619},{"$f":"SQRT(('Hull Plan'!C105-'Hull Plan'!C156)^2+('Hull Long'!C105-'Hull Long'!C156)^2)","v":230.76221247029707},{"$f":"SQRT(('Hull Plan'!C156-'Hull Plan'!C207)^2+('Hull Long'!C156-'Hull Long'!C207)^2)","v":46.548739627551619},{"$f":"SQRT(('Hull Plan'!C105-'Hull Plan'!C207)^2+('Hull Long'!C105-'Hull Long'!C207)^2)","v":237.72144812829379},92.917613206644148,93.096746122310591,9.5898365460456851]
[3,4500,{"$f":"C$135+(C$158-C$135)*ABS(B$135-$B157)^G$158/ABS(B$158-B$135)^G$158","v":282.26159685887365},null,null,null,null,null,null,{"$f":"DEGREES(ATAN2('Hull Plan'!B158-'Hull Plan'!B157,'Hull Plan'!C158-'Hull Plan'!C157))","v":-23.718931672450566},{"$f":"DEGREES(ATAN2('Hull Long'!B158-'Hull Long'!B157,'Hull Long'!C158-'Hull Long'!C157))","v":10.05872766298708},{"$f":"SQRT(('Hull Plan'!C106-'Hull Plan'!C157)^2+('Hull Long'!C106-'Hull Long'!C157)^2)","v":115.91139993292811},{"$f":"SQRT(('Hull Plan'!C157-'Hull Plan'!C208)^2+('Hull Long'!C157-'Hull Long'!C208)^2)","v":24.64822952948581},{"$f":"SQRT(('Hull Plan'!C106-'Hull Plan'!C208)^2+('Hull Long'!C106-'Hull Long'!C208)^2)","v":118.85515826949862},{"$f":"DEGREES(ACOS((N157*N157-L157*L157-M157*M157)/-2/L157/M157))","v":90.837912741190692},{"$f":"IF(DEGREES(ATAN(COS(RADIANS(J157))/COS(RADIANS(K157))*TAN(RADIANS(O157))))>0,DEGREES(ATAN(COS(RADIANS(J157))/COS(RADIANS(K157))*TAN(RADIANS(O157)))),DEGREES(ATAN(COS(RADIANS(J157))/COS(RADIANS(K157))*TAN(RADIANS(O157))))+180)","v":90.901144059717453},{"$f":"(90-P157)^2","v":0.81206061636405191}]
[3,4600,{"$f":"C107","v":300},null,null,null,{"$f":"$G$111","v":1.5}]
[0,4700,{"$f":"C108","v":425}]
[0,0,0,null,null,null,"Sheer"]
[0,{"$f":"B8","v":-100},{"$f":"C110","v":425}]
[5,{"$f":"B9","v":0},{"$f":"C111","v":300},null,null,null,1.5]
[5,100,{"$f":"C$185+(C$162-C$185)*ABS(B$185-B163)^G$162/ABS(B$162-B$185)^G$162","v":291.9370894813062}]
[5,200,284.05540654360914]
[5,300,276.35921828699054]
[5,400,268.8531082814203]
[5,500,261.54201774309189]
[5,600,254.43129462803603]
[5,700,247.5267527155043]
[5,899.9,234.36860473707068]
[5,900.1,234.35588425613429]
[5,1000,228.11696929472529]
[5,1100,222.10750772921403]
[5,1200,216.34350447222482]
[5,1300,210.83589529324928]
[5,1400,205.59722380185337]
[5,1500,200.64207933128645]
[5,1600,195.98772277484559]
[5,1700,191.65501908006246]
[5,1800,187.66990228587383]
[5,1900,184.06584408943803]
[5,2000,180.88843846615177]
[5,2100,178.2052599164108]
[5,2200,176.13323051117976]
[5,2300,{"$f":"175*Basic!$D$2","v":175}]
[5,2300,{"$f":"175*Basic!$D$2","v":175}]
[5,2400,{"$f":"C$186+(C$209-C$186)*ABS(B$186-$B187)^G$209/ABS(B$209-B$186)^G$209","v":176.13323051117976}]
[5,2500,178.2052599164108]
[5,2600,180.88843846615177]
[5,2700,184.06584408943803]
[5,2800,187.66990228587383]
[5,2900,191.65501908006246]
[5,3000,195.98772277484559]
[5,3100,200.64207933128645]
[5,3200,205.59722380185337]
[5,3300,210.83589529324928]
[5,3400,216.34350447222482]
[5,3500,222.10750772921403]
[5,3600,228.11696929472529]
[5,3699.9,234.35588425613429]
[5,3700.1,234.36860473707068]
[5,3900,247.5267527155043]
[5,4000,254.43129462803603]
[5,4100,261.54201774309189]
[5,4200,268.8531082814203]
[5,4300,276.35921828699054]
[5,4400,284.05540654360914]
[5,4500,291.9370894813062]
[5,4600,{"$f":"C158","v":300},null,null,null,{"$f":"G162","v":1.5}]
[0,4700,{"$f":"C159","v":425}]
[0,0,0]
[0,{"$f":"B8","v":-100},{"$f":"C161","v":425}]
[6,{"$f":"B9","v":0},{"$f":"C162","v":300}]
[6,{"$f":"B10","v":100},{"$f":"C163","v":291.9370894813062}]
[6,200,284.05540654360914]
[6,300,276.35921828699054]
[6,400,268.8531082814203]
[6,500,261.54201774309189]
[6,600,254.43129462803603]
[6,700,247.5267527155043]
[6,899.9,234.36860473707068]
[6,900.1,234.35588425613429]
[0,1000,228.11696929472529]
[0,1100,222.10750772921403]
[0,1200,216.34350447222482]
[0,1300,210.83589529324928]
[0,1400,205.59722380185337]
[0,1500,200.64207933128645]
[0,1600,195.98772277484559]
[0,1700,191.65501908006246]
[0,1800,187.66990228587383]
[0,1900,184.06584408943803]
[0,2000,180.88843846615177]
[0,2100,178.2052599164108]
[0,2200,176.13323051117976]
[0,2300,175]
[0,2300,175]
[0,2400,176.13323051117976]
[0,2500,178.2052599164108]
[0,2600,180.88843846615177]
[0,2700,184.06584408943803]
[0,2800,187.66990228587383]
[0,2900,191.65501908006246]
[0,3000,195.98772277484559]
[0,3100,200.64207933128645]
[0,3200,205.59722380185337]
[0,3300,210.83589529324928]
[0,3400,216.34350447222482]
[0,3500,222.10750772921403]
[0,3600,228.11696929472529]
[0,3699.9,234.35588425613429]
[6,3700.1,234.36860473707068]
[6,3900,247.5267527155043]
[6,4000,254.43129462803603]
[6,4100,261.54201774309189]
[6,4200,268.8531082814203]
[6,4300,276.35921828699054]
[6,4400,284.05540654360914]
[6,4500,291.9370894813062]
[6,4600,300]
[0,4700,425]
[0,0,0]

{"sheet":"Hull Plan","index":4,"n_rows":262,"n_cols":9,"rows_kept":262,"cut":false,"hidden":false,"merged":[]}
["Plan"]
[]
[]
[]
["Parameters",{"$f":"200","v":200},{"$f":"1000","v":1000}]
["Number of Lines",{"$f":"COUNT(A8:A1010)","v":255},null,null,{"$f":"COUNT(D8:D1010)","v":255}]
["Line Id","X","Y","Line Id","X","Y","Keel"]
[0,{"$f":"'Hull Long'!B8","v":-100},{"$f":"0*Basic!$D$2","v":0},0,{"$f":"B8","v":-100},{"$f":"0*Basic!$D$2","v":0}]
[0,{"$f":"'Hull Long'!B9","v":0},{"$f":"0*Basic!$D$2","v":0},0,{"$f":"B9","v":0},{"$f":"0*Basic!$D$2","v":0}]
[0,{"$f":"'Hull Long'!B10","v":100},{"$f":"0*Basic!$D$2","v":0},0,100,{"$f":"0*Basic!$D$2","v":0}]
[0,{"$f":"'Hull Long'!B11","v":200},{"$f":"0*Basic!$D$2","v":0},0,200,{"$f":"0*Basic!$D$2","v":0}]
[0,{"$f":"'Hull Long'!B12","v":300},{"$f":"0*Basic!$D$2","v":0},0,300,{"$f":"0*Basic!$D$2","v":0},null,1,1]
[0,{"$f":"'Hull Long'!B13","v":400},{"$f":"C$32+(C$12-C$32)*ABS($B$32-$B13)^H$12/ABS($B$12-$B$32)^H$12","v":0},0,400,{"$f":"F$32+(F$12-F$32)*ABS($E$32-$E13)^I$12/ABS($E$12-$E$32)^I$12","v":0}]
[0,{"$f":"'Hull Long'!B14","v":500},{"$f":"C$32+(C$12-C$32)*ABS($B$32-$B14)^H$12/ABS($B$12-$B$32)^H$12","v":0},0,500,{"$f":"F$32+(F$12-F$32)*ABS($E$32-$E14)^I$12/ABS($E$12-$E$32)^I$12","v":0}]
[0,{"$f":"'Hull Long'!B15","v":600},0,0,600,0]
[0,{"$f":"'Hull Long'!B16","v":700},0,0,700,0]
[0,{"$f":"'Hull Long'!B17","v":899.9},0,0,899.9,0]
[0,{"$f":"'Hull Long'!B18","v":900.1},0,0,900.1,0]
[0,{"$f":"'Hull Long'!B19","v":1000},0,0,1000,0]
[0,{"$f":"'Hull Long'!B20","v":1100},0,0,1100,0]
[0,{"$f":"'Hull Long'!B21","v":1200},0,0,1200,0]
[0,{"$f":"'Hull Long'!B22","v":1300},0,0,1300,0]
[0,{"$f":"'Hull Long'!B23","v":1400},0,0,1400,0]
[0,{"$f":"'Hull Long'!B24","v":1500},0,0,1500,0]
[0,{"$f":"'Hull Long'!B25","v":1600},0,0,1600,0]
[0,{"$f":"'Hull Long'!B26","v":1700},0,0,1700,0]
[0,{"$f":"'Hull Long'!B27","v":1800},0,0,1800,0]
[0,{"$f":"'Hull Long'!B28","v":1900},0,0,1900,0]
[0,{"$f":"'Hull Long'!B29","v":2000},0,0,2000,0]
[0,{"$f":"'Hull Long'!B30","v":2100},0,0,2100,0]
[0,{"$f":"'Hull Long'!B31","v":2200},0,0,{"$f":"B31","v":2200},0]
[0,{"$f":"'Hull Long'!B32","v":2300},{"$f":"0*Basic!$D$2","v":0},0,{"$f":"B32","v":2300},{"$f":"0*Basic!$D$2","v":0}]
[0,{"$f":"'Hull Long'!B33","v":2300},{"$f":"0*Basic!$D$2","v":0},0,2300,{"$f":"0*Basic!$D$2","v":0}]
[0,{"$f":"'Hull Long'!B34","v":2400},{"$f":"C$33+(C$53-C$33)*ABS($B$33-$B34)^H$53/ABS($B$53-$B$33)^H$53","v":0},0,2400,{"$f":"F$33+(F$53-F$33)*ABS($E$33-$E34)^I$53/ABS($E$53-$E$33)^I$53","v":0}]
[0,{"$f":"'Hull Long'!B35","v":2500},0,0,2500,0]
[0,{"$f":"'Hull Long'!B36","v":2600},0,0,2600,0]
[0,{"$f":"'Hull Long'!B37","v":2700},0,0,2700,0]
[0,{"$f":"'Hull Long'!B38","v":2800},0,0,2800,0]
[0,{"$f":"'Hull Long'!B39","v":2900},0,0,2900,0]
[0,{"$f":"'Hull Long'!B40","v":3000},0,0,3000,0]
[0,{"$f":"'Hull Long'!B41","v":3100},0,0,3100,0]
[0,{"$f":"'Hull Long'!B42","v":3200},0,0,3200,0]
[0,{"$f":"'Hull Long'!B43","v":3300},0,0,3300,0]
[0,{"$f":"'Hull Long'!B44","v":3400},0,0,3400,0]
[0,{"$f":"'Hull Long'!B45","v":3500},0,0,3500,0]
[0,{"$f":"'Hull Long'!B46","v":3600},0,0,3600,0]
[0,{"$f":"'Hull Long'!B47","v":3699.9},0,0,3699.9,0]
[0,{"$f":"'Hull Long'!B48","v":3700.1},0,0,{"$f":"B48","v":3700.1},0]
[0,{"$f":"'Hull Long'!B49","v":3900},0,0,3900,0]
[0,{"$f":"'Hull Long'!B50","v":4000},0,0,4000,0]
[0,{"$f":"'Hull Long'!B51","v":4100},0,0,4100,0]
[0,{"$f":"'Hull Long'!B52","v":4200},{"$f":"C$33+(C$53-C$33)*ABS($B$33-$B52)^H$53/ABS($B$53-$B$33)^H$53","v":0},0,4200,{"$f":"F$33+(F$53-F$33)*ABS($E$33-$E52)^I$53/ABS($E$53-$E$33)^I$53","v":0}]
[0,{"$f":"'Hull Long'!B53","v":4300},{"$f":"0*Basic!$D$2","v":0},0,4300,{"$f":"0*Basic!$D$2","v":0},null,1,1]
[0,{"$f":"'Hull Long'!B54","v":4400},{"$f":"0*Basic!$D$2","v":0},0,4400,{"$f":"0*Basic!$D$2","v":0}]
[0,{"$f":"'Hull Long'!B55","v":4500},{"$f":"0*Basic!$D$2","v":0},0,{"$f":"B55","v":4500},{"$f":"0*Basic!$D$2","v":0}]
[0,{"$f":"'Hull Long'!B56","v":4600},{"$f":"0*Basic!$D$2","v":0},0,{"$f":"B56","v":4600},{"$f":"0*Basic!$D$2","v":0}]
[0,{"$f":"'Hull Long'!B57","v":4700},{"$f":"0*Basic!$D$2","v":0},0,{"$f":"B57","v":4700},{"$f":"0*Basic!$D$2","v":0}]
[0,0,0,0,0,0,"Rabbet"]
[0,{"$f":"'Hull Long'!B59","v":-100},{"$f":"0*Basic!$D$2","v":0},0,{"$f":"B59","v":-100},{"$f":"0*Basic!$D$2","v":0}]
[0,{"$f":"'Hull Long'!B60","v":0},{"$f":"0*Basic!$D$2","v":0},0,{"$f":"B60","v":0},{"$f":"0*Basic!$D$2","v":0}]
[0,{"$f":"'Hull Long'!B61","v":100},{"$f":"0*Basic!$D$2","v":0},0,100,{"$f":"0*Basic!$D$2","v":0}]
[0,{"$f":"'Hull Long'!B62","v":200},{"$f":"0*Basic!$D$2","v":0},0,200,{"$f":"0*Basic!$D$2","v":0}]
[2,{"$f":"'Hull Long'!B63","v":300},{"$f":"0*Basic!$D$2","v":0},2,300,{"$f":"0*Basic!$D$2","v":0},null,2,2]
[2,{"$f":"'Hull Long'!B64","v":400},{"$f":"C$83+(C$63-C$83)*ABS($B$83-$B64)^H$63/ABS($B$63-$B$83)^H$63","v":19.5},2,400,{"$f":"F$83+(F$63-F$83)*ABS($E$83-$E64)^I$63/ABS($E$63-$E$83)^I$63","v":-19.5}]
[2,{"$f":"'Hull Long'!B65","v":500},{"$f":"C$83+(C$63-C$83)*ABS($B$83-$B65)^H$63/ABS($B$63-$B$83)^H$63","v":38},2,500,{"$f":"F$83+(F$63-F$83)*ABS($E$83-$E65)^I$63/ABS($E$63-$E$83)^I$63","v":-38}]
[2,{"$f":"'Hull Long'!B66","v":600},55.5,2,600,-55.5]
[2,{"$f":"'Hull Long'!B67","v":700},72,2,700,-72]
[2,{"$f":"'Hull Long'!B68","v":899.9},101.98599950000002,2,899.9,-101.98599950000002]
[2,{"$f":"'Hull Long'!B69","v":900.1},102.01399949999998,2,900.1,-102.01399949999998]
[2,{"$f":"'Hull Long'!B70","v":1000},115.5,2,1000,-115.5]
[2,{"$f":"'Hull Long'!B71","v":1100},128,2,1100,-128]
[2,{"$f":"'Hull Long'!B72","v":1200},139.5,2,1200,-139.5]
[2,{"$f":"'Hull Long'!B73","v":1300},150,2,1300,-150]
[2,{"$f":"'Hull Long'!B74","v":1400},159.5,2,1400,-159.5]
[2,{"$f":"'Hull Long'!B75","v":1500},168,2,1500,-168]
[2,{"$f":"'Hull Long'!B76","v":1600},175.5,2,1600,-175.5]
[2,{"$f":"'Hull Long'!B77","v":1700},182,2,1700,-182]
[2,{"$f":"'Hull Long'!B78","v":1800},187.5,2,1800,-187.5]
[2,{"$f":"'Hull Long'!B79","v":1900},192,2,1900,-192]
[2,{"$f":"'Hull Long'!B80","v":2000},195.5,2,2000,-195.5]
[2,{"$f":"'Hull Long'!B81","v":2100},198,2,2100,-198]
[2,{"$f":"'Hull Long'!B82","v":2200},199.5,2,{"$f":"B82","v":2200},-199.5]
[2,{"$f":"'Hull Long'!B83","v":2300},{"$f":"200*Basic!$D$2","v":200},2,2300,{"$f":"-200*Basic!$D$2","v":-200}]
[2,{"$f":"'Hull Long'!B84","v":2300},{"$f":"200*Basic!$D$2","v":200},2,2300,{"$f":"-200*Basic!$D$2","v":-200}]
[2,{"$f":"'Hull Long'!B85","v":2400},{"$f":"C$84+(C$104-C$84)*ABS($B$84-$B85)^H$104/ABS($B$104-$B$84)^H$104","v":199.5},2,2400,{"$f":"F$84+(F$104-F$84)*ABS($E$84-$E85)^I$104/ABS($E$104-$E$84)^I$104","v":-199.5}]
[2,{"$f":"'Hull Long'!B86","v":2500},198,2,2500,-198]
[2,{"$f":"'Hull Long'!B87","v":2600},195.5,2,2600,-195.5]
[2,{"$f":"'Hull Long'!B88","v":2700},192,2,2700,-192]
[2,{"$f":"'Hull Long'!B89","v":2800},187.5,2,2800,-187.5]
[2,{"$f":"'Hull Long'!B90","v":2900},182,2,2900,-182]
[2,{"$f":"'Hull Long'!B91","v":3000},175.5,2,3000,-175.5]
[2,{"$f":"'Hull Long'!B92","v":3100},168,2,3100,-168]
[2,{"$f":"'Hull Long'!B93","v":3200},159.5,2,3200,-159.5]
[2,{"$f":"'Hull Long'!B94","v":3300},150,2,3300,-150]
[2,{"$f":"'Hull Long'!B95","v":3400},139.5,2,3400,-139.5]
[2,{"$f":"'Hull Long'!B96","v":3500},128,2,3500,-128]
[2,{"$f":"'Hull Long'!B97","v":3600},115.5,2,3600,-115.5]
[2,{"$f":"'Hull Long'!B98","v":3699.9},102.01399949999998,2,{"$f":"B98","v":3699.9},-102.01399949999998]
[2,{"$f":"'Hull Long'!B99","v":3700.1},101.98599950000002,2,{"$f":"B99","v":3700.1},-101.98599950000002]
[2,{"$f":"'Hull Long'!B100","v":3900},72,2,3900,-72]
[2,{"$f":"'Hull Long'!B101","v":4000},55.5,2,4000,-55.5]
[2,{"$f":"'Hull Long'!B102","v":4100},38,2,4100,-38]
[2,{"$f":"'Hull Long'!B103","v":4200},{"$f":"C$84+(C$104-C$84)*ABS($B$84-$B103)^H$104/ABS($B$104-$B$84)^H$104","v":19.5},2,4200,{"$f":"F$84+(F$104-F$84)*ABS($E$84-$E103)^I$104/ABS($E$104-$E$84)^I$104","v":-19.5}]
[2,{"$f":"'Hull Long'!B104","v":4300},{"$f":"0*Basic!$D$2","v":0},2,4300,{"$f":"0*Basic!$D$2","v":0},null,2,2]
[0,{"$f":"'Hull Long'!B105","v":4400},{"$f":"0*Basic!$D$2","v":0},0,{"$f":"B105","v":4400},{"$f":"0*Basic!$D$2","v":0}]
[0,{"$f":"'Hull Long'!B106","v":4500},{"$f":"0*Basic!$D$2","v":0},0,4500,{"$f":"0*Basic!$D$2","v":0}]
[0,{"$f":"'Hull Long'!B107","v":4600},{"$f":"0*Basic!$D$2","v":0},0,4600,{"$f":"0*Basic!$D$2","v":0}]
[0,{"$f":"'Hull Long'!B108","v":4700},{"$f":"0*Basic!$D$2","v":0},0,4700,{"$f":"0*Basic!$D$2","v":0}]
[0,0,0,0,0,0,"Chine"]
[0,{"$f":"'Hull Long'!B110","v":-100},{"$f":"0*Basic!$D$2","v":0},0,{"$f":"B110","v":-100},{"$f":"0*Basic!$D$2","v":0}]
[3,{"$f":"'Hull Long'!B111","v":0},{"$f":"0*Basic!$D$2","v":0},3,{"$f":"B111","v":0},{"$f":"0*Basic!$D$2","v":0},null,{"$f":"'Hull Long'!F111","v":3.0176543251972352},{"$f":"$H$111","v":3.0176543251972352}]
[3,{"$f":"'Hull Long'!B112","v":100},{"$f":"C$134+(C$111-C$134)*ABS($B$134-$B112)^'Hull Plan'!H$111/ABS($B$111-$B$134)^'Hull Plan'!H$111","v":43.936345702569213},3,100,{"$f":"F$134+(F$111-F$134)*ABS($E$134-$E112)^I$111/ABS($E$111-$E$134)^I$111","v":-43.936345702569213}]
[3,{"$f":"'Hull Long'!B113","v":200},{"$f":"C$134+(C$111-C$134)*ABS($B$134-$B113)^'Hull Plan'!H$111/ABS($B$111-$B$134)^'Hull Plan'!H$111","v":84.02248516585837},3,200,-84.02248516585837]
[3,{"$f":"'Hull Long'!B114","v":300},{"$f":"C$134+(C$111-C$134)*ABS($B$134-$B114)^'Hull Plan'!H$111/ABS($B$111-$B$134)^'Hull Plan'!H$111","v":120.43644378114854},3,300,-120.43644378114854]
[3,{"$f":"'Hull Long'!B115","v":400},{"$f":"C$134+(C$111-C$134)*ABS($B$134-$B115)^'Hull Plan'!H$111/ABS($B$111-$B$134)^'Hull Plan'!H$111","v":153.35609722808502},3,400,-153.35609722808502]
[3,{"$f":"'Hull Long'!B116","v":500},{"$f":"C$134+(C$111-C$134)*ABS($B$134-$B116)^'Hull Plan'!H$111/ABS($B$111-$B$134)^'Hull Plan'!H$111","v":182.95916411254859},3,500,-182.95916411254859]
[3,{"$f":"'Hull Long'!B117","v":600},{"$f":"C$134+(C$111-C$134)*ABS($B$134-$B117)^'Hull Plan'!H$111/ABS($B$111-$B$134)^'Hull Plan'!H$111","v":209.42319783473931},3,600,-209.42319783473931]
[3,{"$f":"'Hull Long'!B118","v":700},{"$f":"C$134+(C$111-C$134)*ABS($B$134-$B118)^'Hull Plan'!H$111/ABS($B$111-$B$134)^'Hull Plan'!H$111","v":232.92557755948741},3,700,-232.92557755948741]
[3,{"$f":"'Hull Long'!B119","v":899.9},{"$f":"C$134+(C$111-C$134)*ABS($B$134-$B119)^'Hull Plan'!H$111/ABS($B$111-$B$134)^'Hull Plan'!H$111","v":271.73709183814333},3,899.9,-271.73709183814333]
[3,{"$f":"'Hull Long'!B120","v":900.1},{"$f":"C$134+(C$111-C$134)*ABS($B$134-$B120)^'Hull Plan'!H$111/ABS($B$111-$B$134)^'Hull Plan'!H$111","v":271.77082319603949},3,900.1,-271.77082319603949]
[3,{"$f":"'Hull Long'!B121","v":1000},{"$f":"C$134+(C$111-C$134)*ABS($B$134-$B121)^'Hull Plan'!H$111/ABS($B$111-$B$134)^'Hull Plan'!H$111","v":287.43375004563728},3,1000,-287.43375004563728]
[3,{"$f":"'Hull Long'!B122","v":1100},{"$f":"C$134+(C$111-C$134)*ABS($B$134-$B122)^'Hull Plan'!H$111/ABS($B$111-$B$134)^'Hull Plan'!H$111","v":300.85943957942646},3,1100,-300.85943957942646]
[3,{"$f":"'Hull Long'!B123","v":1200},{"$f":"C$134+(C$111-C$134)*ABS($B$134-$B123)^'Hull Plan'!H$111/ABS($B$111-$B$134)^'Hull Plan'!H$111","v":312.20735475395122},3,1200,-312.20735475395122]
[3,{"$f":"'Hull Long'!B124","v":1300},{"$f":"C$134+(C$111-C$134)*ABS($B$134-$B124)^'Hull Plan'!H$111/ABS($B$111-$B$134)^'Hull Plan'!H$111","v":321.65356317294277},3,1300,-321.65356317294277]
[3,{"$f":"'Hull Long'!B125","v":1400},{"$f":"C$134+(C$111-C$134)*ABS($B$134-$B125)^'Hull Plan'!H$111/ABS($B$111-$B$134)^'Hull Plan'!H$111","v":329.37384931644624},3,1400,-329.37384931644624]
[3,{"$f":"'Hull Long'!B126","v":1500},{"$f":"C$134+(C$111-C$134)*ABS($B$134-$B126)^'Hull Plan'!H$111/ABS($B$111-$B$134)^'Hull Plan'!H$111","v":335.54368657449089},3,1500,-335.54368657449089]
[3,{"$f":"'Hull Long'!B127","v":1600},{"$f":"C$134+(C$111-C$134)*ABS($B$134-$B127)^'Hull Plan'!H$111/ABS($B$111-$B$134)^'Hull Plan'!H$111","v":340.33820305674146},3,1600,-340.33820305674146]
[3,{"$f":"'Hull Long'!B128","v":1700},{"$f":"C$134+(C$111-C$134)*ABS($B$134-$B128)^'Hull Plan'!H$111/ABS($B$111-$B$134)^'Hull Plan'!H$111","v":343.9321388178879},3,1700,-343.9321388178879]
[3,{"$f":"'Hull Long'!B129","v":1800},{"$f":"C$134+(C$111-C$134)*ABS($B$134-$B129)^'Hull Plan'!H$111/ABS($B$111-$B$134)^'Hull Plan'!H$111","v":346.4997907593646},3,1800,-346.4997907593646]
[3,{"$f":"'Hull Long'!B130","v":1900},{"$f":"C$134+(C$111-C$134)*ABS($B$134-$B130)^'Hull Plan'!H$111/ABS($B$111-$B$134)^'Hull Plan'!H$111","v":348.21493889527625},3,1900,-348.21493889527625]
[3,{"$f":"'Hull Long'!B131","v":2000},{"$f":"C$134+(C$111-C$134)*ABS($B$134-$B131)^'Hull Plan'!H$111/ABS($B$111-$B$134)^'Hull Plan'!H$111","v":349.25074238042333},3,2000,-349.25074238042333]
[3,{"$f":"'Hull Long'!B132","v":2100},{"$f":"C$134+(C$111-C$134)*ABS($B$134-$B132)^'Hull Plan'!H$111/ABS($B$111-$B$134)^'Hull Plan'!H$111","v":349.77958120761446},3,2100,-349.77958120761446]
[3,{"$f":"'Hull Long'!B133","v":2200},{"$f":"C$134+(C$111-C$134)*ABS($B$134-$B133)^'Hull Plan'!H$111/ABS($B$111-$B$134)^'Hull Plan'!H$111","v":349.97278275577901},3,{"$f":"B133","v":2200},-349.97278275577901]
[3,{"$f":"'Hull Long'!B134","v":2300},{"$f":"350*Basic!$D$2","v":350},3,2300,{"$f":"-350*Basic!$D$2","v":-350}]
[3,{"$f":"'Hull Long'!B135","v":2300},{"$f":"350*Basic!$D$2","v":350},3,2300,{"$f":"-350*Basic!$D$2","v":-350}]
[3,{"$f":"'Hull Long'!B136","v":2400},{"$f":"C$135+(C$158-C$135)*ABS($B$135-$B136)^H$158/ABS($B$158-$B$135)^H$158","v":349.97278275577901},3,2400,{"$f":"F$135+(F$158-F$135)*ABS($E$135-$E136)^I$158/ABS($E$158-$E$135)^I$158","v":-349.97278275577901}]
[3,{"$f":"'Hull Long'!B137","v":2500},349.77958120761446,3,2500,-349.77958120761446]
[3,{"$f":"'Hull Long'!B138","v":2600},349.25074238042333,3,2600,-349.25074238042333]
[3,{"$f":"'Hull Long'!B139","v":2700},348.21493889527625,3,2700,-348.21493889527625]
[3,{"$f":"'Hull Long'!B140","v":2800},346.4997907593646,3,2800,-346.4997907593646]
[3,{"$f":"'Hull Long'!B141","v":2900},343.9321388178879,3,2900,-343.9321388178879]
[3,{"$f":"'Hull Long'!B142","v":3000},340.33820305674146,3,3000,-340.33820305674146]
[3,{"$f":"'Hull Long'!B143","v":3100},335.54368657449089,3,3100,-335.54368657449089]
[3,{"$f":"'Hull Long'!B144","v":3200},329.37384931644624,3,3200,-329.37384931644624]
[3,{"$f":"'Hull Long'!B145","v":3300},321.65356317294277,3,3300,-321.65356317294277]
[3,{"$f":"'Hull Long'!B146","v":3400},312.20735475395122,3,3400,-312.20735475395122]
[3,{"$f":"'Hull Long'!B147","v":3500},300.85943957942646,3,3500,-300.85943957942646]
[3,{"$f":"'Hull Long'!B148","v":3600},287.43375004563728,3,3600,-287.43375004563728]
[3,{"$f":"'Hull Long'!B149","v":3699.9},271.77082319603949,3,{"$f":"B149","v":3699.9},-271.77082319603949]
[3,{"$f":"'Hull Long'!B150","v":3700.1},271.73709183814333,3,{"$f":"B150","v":3700.1},-271.73709183814333]
[3,{"$f":"'Hull Long'!B151","v":3900},232.92557755948741,3,3900,-232.92557755948741]
[3,{"$f":"'Hull Long'!B152","v":4000},209.42319783473931,3,4000,-209.42319783473931]
[3,{"$f":"'Hull Long'!B153","v":4100},182.95916411254859,3,4100,-182.95916411254859]
[3,{"$f":"'Hull Long'!B154","v":4200},153.35609722808502,3,4200,-153.35609722808502]
[3,{"$f":"'Hull Long'!B155","v":4300},120.43644378114854,3,4300,-120.43644378114854]
[3,{"$f":"'Hull Long'!B156","v":4400},84.02248516585837,3,{"$f":"B156","v":4400},-84.02248516585837]
[3,{"$f":"'Hull Long'!B157","v":4500},43.936345702569213,3,{"$f":"B157","v":4500},-43.936345702569213]
[3,{"$f":"'Hull Long'!B158","v":4600},{"$f":"0*Basic!$D$2","v":0},3,{"$f":"B158","v":4600},{"$f":"0*Basic!$D$2","v":0},null,{"$f":"$H$111","v":3.0176543251972352},{"$f":"$H$158","v":3.0176543251972352}]
[0,{"$f":"'Hull Long'!B159","v":4700},{"$f":"0*Basic!$D$2","v":0},0,{"$f":"B159","v":4700},{"$f":"0*Basic!$D$2","v":0}]
[0,0,0,0,0,0,"Sheer"]
[0,{"$f":"'Hull Long'!B161","v":-100},{"$f":"0*Basic!$D$2","v":0},0,{"$f":"B161","v":-100},{"$f":"0*Basic!$D$2","v":0}]
[5,{"$f":"'Hull Long'!B162","v":0},{"$f":"0*Basic!$D$2","v":0},5,{"$f":"B162","v":0},{"$f":"0*Basic!$D$2","v":0},null,2,2]
[5,{"$f":"'Hull Long'!B163","v":100},{"$f":"C$185+(C$162-C$185)*ABS($B$185-$B163)^H$162/ABS($B$162-$B$185)^H$162","v":21.266540642722106},5,100,{"$f":"F$185+(F$162-F$185)*ABS($E$185-$E163)^I$162/ABS($E$162-$E$185)^I$162","v":-21.266540642722106}]
[5,{"$f":"'Hull Long'!B164","v":200},41.587901701323261,5,200,-41.587901701323261]
[5,{"$f":"'Hull Long'!B165","v":300},60.96408317580341,5,300,-60.96408317580341]
[5,{"$f":"'Hull Long'!B166","v":400},79.395085066162579,5,400,-79.395085066162579]
[5,{"$f":"'Hull Long'!B167","v":500},96.88090737240077,5,500,-96.88090737240077]
[5,{"$f":"'Hull Long'!B168","v":600},113.42155009451795,5,600,-113.42155009451795]
[5,{"$f":"'Hull Long'!B169","v":700},129.01701323251416,5,700,-129.01701323251416]
[5,{"$f":"'Hull Long'!B170","v":899.9},157.3591677693762,5,899.9,-157.3591677693762]
[5,{"$f":"'Hull Long'!B171","v":900.1},{"$f":"C$185+(C$162-C$185)*ABS($B$185-$B171)^H$162/ABS($B$162-$B$185)^H$162","v":157.38563279773155},5,900.1,{"$f":"F$185+(F$162-F$185)*ABS($E$185-$E171)^I$162/ABS($E$162-$E$185)^I$162","v":-157.38563279773155}]
[5,{"$f":"'Hull Long'!B172","v":1000},170.13232514177693,5,1000,-170.13232514177693]
[5,{"$f":"'Hull Long'!B173","v":1100},181.94706994328922,5,1100,-181.94706994328922]
[5,{"$f":"'Hull Long'!B174","v":1200},192.81663516068053,5,1200,-192.81663516068053]
[5,{"$f":"'Hull Long'!B175","v":1300},202.74102079395084,5,1300,-202.74102079395084]
[5,{"$f":"'Hull Long'!B176","v":1400},211.72022684310019,5,1400,-211.72022684310019]
[5,{"$f":"'Hull Long'!B177","v":1500},219.75425330812854,5,1500,-219.75425330812854]
[5,{"$f":"'Hull Long'!B178","v":1600},226.84310018903591,5,1600,-226.84310018903591]
[5,{"$f":"'Hull Long'!B179","v":1700},232.9867674858223,5,1700,-232.9867674858223]
[5,{"$f":"'Hull Long'!B180","v":1800},238.18525519848771,5,1800,-238.18525519848771]
[5,{"$f":"'Hull Long'!B181","v":1900},242.43856332703214,5,1900,-242.43856332703214]
[5,{"$f":"'Hull Long'!B182","v":2000},245.74669187145557,5,2000,-245.74669187145557]
[5,{"$f":"'Hull Long'!B183","v":2100},248.10964083175804,5,2100,-248.10964083175804]
[5,{"$f":"'Hull Long'!B184","v":2200},249.52741020793951,5,{"$f":"B184","v":2200},-249.52741020793951]
[5,{"$f":"'Hull Long'!B185","v":2300},{"$f":"250*Basic!$D$2","v":250},5,2300,{"$f":"-250*Basic!$D$2","v":-250}]
[5,{"$f":"'Hull Long'!B186","v":2300},{"$f":"250*Basic!$D$2","v":250},5,2300,{"$f":"-250*Basic!$D$2","v":-250}]
[5,{"$f":"'Hull Long'!B187","v":2400},{"$f":"C$186+(C$209-C$186)*ABS($B$186-$B187)^H$209/ABS($B$209-$B$186)^H$209","v":249.52741020793951},5,2400,{"$f":"F$186+(F$209-F$186)*ABS($E$186-$E187)^I$209/ABS($E$209-$E$186)^I$209","v":-249.52741020793951}]
[5,{"$f":"'Hull Long'!B188","v":2500},248.10964083175804,5,2500,-248.10964083175804]
[5,{"$f":"'Hull Long'!B189","v":2600},245.74669187145557,5,2600,-245.74669187145557]
[5,{"$f":"'Hull Long'!B190","v":2700},242.43856332703214,5,2700,-242.43856332703214]
[5,{"$f":"'Hull Long'!B191","v":2800},238.18525519848771,5,2800,-238.18525519848771]
[5,{"$f":"'Hull Long'!B192","v":2900},232.9867674858223,5,2900,-232.9867674858223]
[5,{"$f":"'Hull Long'!B193","v":3000},226.84310018903591,5,3000,-226.84310018903591]
[5,{"$f":"'Hull Long'!B194","v":3100},219.75425330812854,5,3100,-219.75425330812854]
[5,{"$f":"'Hull Long'!B195","v":3200},211.72022684310019,5,3200,-211.72022684310019]
[5,{"$f":"'Hull Long'!B196","v":3300},202.74102079395084,5,3300,-202.74102079395084]
[5,{"$f":"'Hull Long'!B197","v":3400},192.81663516068053,5,3400,-192.81663516068053]
[5,{"$f":"'Hull Long'!B198","v":3500},181.94706994328922,5,3500,-181.94706994328922]
[5,{"$f":"'Hull Long'!B199","v":3600},170.13232514177693,5,3600,-170.13232514177693]
[5,{"$f":"'Hull Long'!B200","v":3699.9},157.38563279773155,5,{"$f":"B200","v":3699.9},-157.38563279773155]
[5,{"$f":"'Hull Long'!B201","v":3700.1},157.3591677693762,5,{"$f":"B201","v":3700.1},-157.3591677693762]
[5,{"$f":"'Hull Long'!B202","v":3900},129.01701323251416,5,3900,-129.01701323251416]
[5,{"$f":"'Hull Long'!B203","v":4000},113.42155009451795,5,4000,-113.42155009451795]
[5,{"$f":"'Hull Long'!B204","v":4100},96.88090737240077,5,4100,-96.88090737240077]
[5,{"$f":"'Hull Long'!B205","v":4200},79.395085066162579,5,4200,-79.395085066162579]
[5,{"$f":"'Hull Long'!B206","v":4300},60.96408317580341,5,4300,-60.96408317580341]
[5,{"$f":"'Hull Long'!B207","v":4400},41.587901701323261,5,{"$f":"B207","v":4400},-41.587901701323261]
[5,{"$f":"'Hull Long'!B208","v":4500},21.266540642722106,5,{"$f":"B208","v":4500},-21.266540642722106]
[5,{"$f":"'Hull Long'!B209","v":4600},{"$f":"0*Basic!$D$2","v":0},5,{"$f":"B209","v":4600},{"$f":"0*Basic!$D$2","v":0},null,2,2]
[0,{"$f":"'Hull Long'!B210","v":4700},{"$f":"0*Basic!$D$2","v":0},0,{"$f":"B210","v":4700},{"$f":"0*Basic!$D$2","v":0}]
[0,0,0,0,0,0]
[0,{"$f":"'Hull Long'!B212","v":-100},{"$f":"0*Basic!$D$2","v":0},0,{"$f":"B212","v":-100},{"$f":"0*Basic!$D$2","v":0}]
[6,{"$f":"'Hull Long'!B213","v":0},{"$f":"0*Basic!$D$2","v":0},6,{"$f":"B213","v":0},{"$f":"0*Basic!$D$2","v":0}]
[6,{"$f":"'Hull Long'!B214","v":100},{"$f":"0*Basic!$D$2","v":0},6,100,{"$f":"0*Basic!$D$2","v":0}]
[6,{"$f":"'Hull Long'!B215","v":200},{"$f":"0*Basic!$D$2","v":0},6,200,{"$f":"0*Basic!$D$2","v":0}]
[6,{"$f":"'Hull Long'!B216","v":300},{"$f":"0*Basic!$D$2","v":0},6,300,{"$f":"0*Basic!$D$2","v":0}]
[6,{"$f":"'Hull Long'!B217","v":400},{"$f":"0*Basic!$D$2","v":0},6,400,{"$f":"0*Basic!$D$2","v":0}]
[6,{"$f":"'Hull Long'!B218","v":500},{"$f":"0*Basic!$D$2","v":0},6,500,{"$f":"0*Basic!$D$2","v":0}]
[6,{"$f":"'Hull Long'!B219","v":600},{"$f":"0*Basic!$D$2","v":0},6,600,{"$f":"0*Basic!$D$2","v":0}]
[6,{"$f":"'Hull Long'!B220","v":700},{"$f":"0*Basic!$D$2","v":0},6,700,{"$f":"0*Basic!$D$2","v":0}]
[6,{"$f":"'Hull Long'!B221","v":899.9},{"$f":"0*Basic!$D$2","v":0},6,899.9,{"$f":"0*Basic!$D$2","v":0}]
[6,{"$f":"'Hull Long'!B222","v":900.1},{"$f":"C171-1","v":156.38563279773155},6,900.1,{"$f":"F171+1","v":-156.38563279773155}]
[6,{"$f":"'Hull Long'!B223","v":1000},169.13232514177693,6,1000,{"$f":"F172+1","v":-169.13232514177693}]
[6,{"$f":"'Hull Long'!B224","v":1100},180.94706994328922,6,1100,-180.94706994328922]
[6,{"$f":"'Hull Long'!B225","v":1200},191.81663516068053,6,1200,-191.81663516068053]
[6,{"$f":"'Hull Long'!B226","v":1300},201.74102079395084,6,1300,-201.74102079395084]
[6,{"$f":"'Hull Long'!B227","v":1400},210.72022684310019,6,1400,-210.72022684310019]
[6,{"$f":"'Hull Long'!B228","v":1500},218.75425330812854,6,1500,-218.75425330812854]
[6,{"$f":"'Hull Long'!B229","v":1600},225.84310018903591,6,1600,-225.84310018903591]
[6,{"$f":"'Hull Long'!B230","v":1700},231.9867674858223,6,1700,-231.9867674858223]
[6,{"$f":"'Hull Long'!B231","v":1800},237.18525519848771,6,1800,-237.18525519848771]
[6,{"$f":"'Hull Long'!B232","v":1900},241.43856332703214,6,1900,-241.43856332703214]
[6,{"$f":"'Hull Long'!B233","v":2000},244.74669187145557,6,2000,-244.74669187145557]
[6,{"$f":"'Hull Long'!B234","v":2100},247.10964083175804,6,2100,-247.10964083175804]
[6,{"$f":"'Hull Long'!B235","v":2200},248.52741020793951,6,{"$f":"B235","v":2200},-248.52741020793951]
[6,{"$f":"'Hull Long'!B236","v":2300},{"$f":"C185-1","v":249},6,{"$f":"B236","v":2300},-249]
[6,{"$f":"'Hull Long'!B237","v":2300},249,6,2300,-249]
[6,{"$f":"'Hull Long'!B238","v":2400},248.52741020793951,6,2400,-248.52741020793951]
[6,{"$f":"'Hull Long'!B239","v":2500},247.10964083175804,6,2500,-247.10964083175804]
[6,{"$f":"'Hull Long'!B240","v":2600},244.74669187145557,6,2600,-244.74669187145557]
[6,{"$f":"'Hull Long'!B241","v":2700},241.43856332703214,6,2700,-241.43856332703214]
[6,{"$f":"'Hull Long'!B242","v":2800},237.18525519848771,6,2800,-237.18525519848771]
[6,{"$f":"'Hull Long'!B243","v":2900},231.9867674858223,6,2900,-231.9867674858223]
[6,{"$f":"'Hull Long'!B244","v":3000},225.84310018903591,6,3000,-225.84310018903591]
[6,{"$f":"'Hull Long'!B245","v":3100},218.75425330812854,6,3100,-218.75425330812854]
[6,{"$f":"'Hull Long'!B246","v":3200},210.72022684310019,6,3200,-210.72022684310019]
[6,{"$f":"'Hull Long'!B247","v":3300},201.74102079395084,6,3300,-201.74102079395084]
[6,{"$f":"'Hull Long'!B248","v":3400},191.81663516068053,6,3400,-191.81663516068053]
[6,{"$f":"'Hull Long'!B249","v":3500},180.94706994328922,6,3500,-180.94706994328922]
[6,{"$f":"'Hull Long'!B250","v":3600},169.13232514177693,6,3600,-169.13232514177693]
[6,{"$f":"'Hull Long'!B251","v":3699.9},{"$f":"C200-1","v":156.38563279773155},6,3699.9,-156.38563279773155]
[6,{"$f":"'Hull Long'!B252","v":3700.1},{"$f":"0*Basic!$D$2","v":0},6,{"$f":"B252","v":3700.1},{"$f":"0*Basic!$D$2","v":0}]
[6,{"$f":"'Hull Long'!B253","v":3900},{"$f":"0*Basic!$D$2","v":0},6,3900,{"$f":"0*Basic!$D$2","v":0}]
[6,{"$f":"'Hull Long'!B254","v":4000},{"$f":"0*Basic!$D$2","v":0},6,4000,{"$f":"0*Basic!$D$2","v":0}]
[6,{"$f":"'Hull Long'!B255","v":4100},{"$f":"0*Basic!$D$2","v":0},6,4100,{"$f":"0*Basic!$D$2","v":0}]
[6,{"$f":"'Hull Long'!B256","v":4200},{"$f":"0*Basic!$D$2","v":0},6,4200,{"$f":"0*Basic!$D$2","v":0}]
[6,{"$f":"'Hull Long'!B257","v":4300},{"$f":"0*Basic!$D$2","v":0},6,4300,{"$f":"0*Basic!$D$2","v":0}]
[6,{"$f":"'Hull Long'!B258","v":4400},{"$f":"0*Basic!$D$2","v":0},6,4400,{"$f":"0*Basic!$D$2","v":0}]
[6,{"$f":"'Hull Long'!B259","v":4500},{"$f":"0*Basic!$D$2","v":0},6,4500,{"$f":"0*Basic!$D$2","v":0}]
[6,{"$f":"'Hull Long'!B260","v":4600},{"$f":"0*Basic!$D$2","v":0},6,4600,{"$f":"0*Basic!$D$2","v":0}]
[0,{"$f":"'Hull Long'!B261","v":4700},{"$f":"C210","v":0},0,4700,{"$f":"F210","v":0}]
[0,0,0,0,0,0]

{"sheet":"Hull Unfold","index":5,"n_rows":429,"n_cols":39,"rows_kept":429,"cut":false,"hidden":false,"merged":[]}
["Unfold"]
[]
[]
[]
["Parameters",{"$f":"200","v":200},{"$f":"1200","v":1200}]
["Number of Lines",{"$f":"COUNT(A8:A1052)","v":422},null,null,{"$f":"COUNT(D8:D1052)","v":408}]
["Line Id","X","Y","Line Id","X","Y",null,"X","Y",null,null,null,null,null,"X0","Z0","Y0","X1","Z1","Y1","F","L","D","U","F'","A1","A2","A3","A","B1","B2","B3","B","XA","YA","XB","YB","Check F","Error F"]
[0,{"$f":"AH8+$H$8","v":-228.47499754372404},{"$f":"AI8+$I$8","v":-122.55266458468884},0,{"$f":"AJ8+$H$8","v":-228.47500030160751},{"$f":"AK8+$I$8","v":-122.55265044174209},"Bottom Plank",{"$f":"100*Basic!$D$2","v":100},{"$f":"0*Basic!$D$2-AI32","v":75},null,null,null,null,null,{"$f":"'Hull Long'!B8","v":-100},{"$f":"'Hull Long'!C59","v":425},{"$f":"'Hull Plan'!C8","v":0},{"$f":"'Hull Long'!B59","v":-100},{"$f":"'Hull Long'!C59","v":425},{"$f":"'Hull Plan'!C59","v":0},{"$f":"((O8-R8)^2+(S8-P8)^2+(T8-Q8)^2)^0.5+0.00001","v":1.0000000000000001E-5},null,null,null,null,null,null,null,null,null,null,null,null,{"$f":"AH9-V9*SIN(AC9*PI()/180)","v":-328.47499754372404},{"$f":"AI9+V9*COS(AC9*PI()/180)","v":-197.55266458468884},{"$f":"AJ9-X9*SIN(AG9*PI()/180)","v":-328.47500030160751},{"$f":"AK9+X9*COS(AG9*PI()/180)","v":-197.55265044174209},{"$f":"((AH8-AJ8)^2+(AI8-AK8)^2)^0.5","v":1.4409332533850474E-5},{"$f":"U8-AL8","v":-4.4093325338504732E-6}]
[0,{"$f":"AH9+$H$8","v":-71.356248243178896},{"$f":"AI9+$I$8","v":-91.914475698391357},0,-71.356250617046669,-91.914463524753842,null,null,null,null,null,null,null,null,{"$f":"'Hull Long'!B9","v":0},{"$f":"'Hull Long'!C9","v":300},{"$f":"'Hull Plan'!C9","v":0},{"$f":"'Hull Long'!B60","v":0},{"$f":"'Hull Long'!C60","v":300},{"$f":"'Hull Plan'!C60","v":0},1.0000000000000001E-5,{"$f":"((O9-O8)^2+(P9-P8)^2+(Q9-Q8)^2)^0.5","v":160.07810593582121},{"$f":"((R9-O8)^2+(S9-P8)^2+(T9-Q8)^2)^0.5","v":160.07810593582121},{"$f":"((R9-R8)^2+(S9-S8)^2+(T9-T8)^2)^0.5","v":160.07810593582121},{"$f":"U8","v":1.0000000000000001E-5},{"$f":"ACOS((U9*U9+V9*V9-W9*W9)/2/U9/V9)*180/PI()","v":89.999998242138602},{"$f":"ACOS((V9*V9+W9*W9-U9*U9)/2/V9/W9)*180/PI()","v":3.6222548107960426E-6},{"$f":"ACOS((W9*W9+Y9*Y9-X9*X9)/2/W9/Y9)*180/PI()","v":89.999998242138602},{"$f":"AC10+Z9+AA10+AB10-180","v":101.03422051652569},{"$f":"ACOS((U9*U9+W9*W9-V9*V9)/2/U9/W9)*180/PI()","v":89.999998242138602},{"$f":"ACOS((W9*W9+X9*X9-Y9*Y9)/2/W9/X9)*180/PI()","v":3.6222548107960426E-6},{"$f":"ACOS((X9*X9+Y9*Y9-W9*W9)/2/X9/Y9)*180/PI()","v":89.999998242138602},{"$f":"180+AG10-AF10-AE9-AD9","v":101.03421979838664},-171.3562482431789,-166.91447569839136,-171.35625061704667,-166.91446352475384,1.24029310465987E-5,-2.4029310465986995E-6]
[0,{"$f":"AH10+$H$8","v":85.762501114332878},{"$f":"AI10+$I$8","v":-61.276287104230164},0,85.762499010547543,-61.276276315629332,null,null,null,null,null,null,null,null,{"$f":"'Hull Long'!B10","v":100},{"$f":"'Hull Long'!C10","v":175},{"$f":"'Hull Plan'!C10","v":0},{"$f":"'Hull Long'!B61","v":100},{"$f":"'Hull Long'!C61","v":175},{"$f":"'Hull Plan'!C61","v":0},1.0000000000000001E-5,160.07810593582121,160.07810593582121,160.07810593582121,1.0000000000000001E-5,89.999998242138602,3.6222548107960426E-6,89.999998242138602,101.03422040999368,89.999998242138602,3.6222548107960426E-6,89.999998242138602,101.03421990491866,-14.237498885667122,-136.27628710423016,-14.237500989452457,-136.27627631562933,1.0991806978424356E-5,-9.9180697842435512E-7]
[0,{"$f":"AH11+$H$8","v":242.88125052881131},{"$f":"AI11+$I$8","v":-30.638098802205235},0,242.88124858117513,-30.638088814368473,null,null,null,null,null,null,null,null,{"$f":"'Hull Long'!B11","v":200},{"$f":"'Hull Long'!C11","v":50},{"$f":"'Hull Plan'!C11","v":0},{"$f":"'Hull Long'!B62","v":200},{"$f":"'Hull Long'!C62","v":50},{"$f":"'Hull Plan'!C62","v":0},1.0000000000000001E-5,160.07810593582121,160.07810593582121,160.07810593582121,1.0000000000000001E-5,89.999998242138602,3.6222548107960426E-6,89.999998242138602,101.03422030346167,89.999998242138602,3.6222548107960426E-6,89.999998242138602,101.03422001145067,142.88125052881131,-105.63809880220523,142.88124858117513,-105.63808881436847,1.0175960390559754E-5,-1.7596039055975345E-7]
[0,{"$f":"AH12+$H$8","v":400.00000000025636},{"$f":"AI12+$I$8","v":8.9207683373615509E-5},1,399.99999809483609,9.8979028578582984E-5,null,null,null,null,null,null,null,null,{"$f":"'Hull Long'!B12","v":300},{"$f":"'Hull Long'!C12","v":-75},{"$f":"'Hull Plan'!C12","v":0},{"$f":"'Hull Long'!B63","v":300},{"$f":"'Hull Long'!C63","v":-75},{"$f":"'Hull Plan'!C63","v":0},1.0000000000000001E-5,160.07810593582121,160.07810593582121,160.07810593582121,1.0000000000000001E-5,89.999998242138602,3.6222548107960426E-6,89.999998242138602,101.03422019692965,89.999998242138602,3.6222548107960426E-6,89.999998242138602,101.03422011798266,300.00000000025636,-74.999910792316626,299.99999809483609,-74.999901020971421,9.9553911799280939E-6,4.4608820071906938E-8]
[0,500.00000000025483,1.067221316617406E-4,1,499.99999463492952,19.500116722130969,null,null,null,null,null,null,null,null,{"$f":"'Hull Long'!B13","v":400},{"$f":"'Hull Long'!C13","v":-75},{"$f":"'Hull Plan'!C13","v":0},{"$f":"'Hull Long'!B64","v":400},{"$f":"'Hull Long'!C64","v":-75},{"$f":"'Hull Plan'!C64","v":19.5},19.50001,100,101.88351191434265,101.88351191434265,1.0000000000000001E-5,89.999994270423528,11.034214732828177,89.999997186923196,90.000010035039679,78.965790996748296,5.5985681974914737E-6,89.999997186923196,101.03421916929926,400.00000000025483,-74.999893277868338,399.99999463492952,-55.499883277869031,19.500010000000046,-4.6185277824406512E-14]
[0,600.00000000025443,1.1474940549760504E-4,1,599.99999314988361,38.000124749404272,null,null,null,null,null,null,null,null,{"$f":"'Hull Long'!B14","v":500},{"$f":"'Hull Long'!C14","v":-75},{"$f":"'Hull Plan'!C14","v":0},{"$f":"'Hull Long'!B65","v":500},{"$f":"'Hull Long'!C65","v":-75},{"$f":"'Hull Plan'!C65","v":38},38.000010000000003,100,106.97663296253066,101.69685344198217,19.50001,89.999994270422803,20.806796742289194,69.193214423037844,90.000004599289127,69.193208987288003,10.325578598158156,100.48120697880401,100.48122274341976,500.00000000025449,-74.999885250594502,499.99999314988361,-36.999875250595728,38.000009999999392,6.1106675275368616E-13]
[0,700.00000000025443,1.181714174975923E-4,1,699.9999925510316,55.500128171415618,null,null,null,null,null,null,null,null,{"$f":"'Hull Long'!B15","v":600},{"$f":"'Hull Long'!C15","v":-75},{"$f":"'Hull Plan'!C15","v":0},{"$f":"'Hull Long'!B66","v":600},{"$f":"'Hull Long'!C66","v":-75},{"$f":"'Hull Plan'!C66","v":55.5},55.500010000000003,100,114.36892060345765,101.51970252123476,38.000010000000003,89.999994270422576,29.030280412065093,60.969727956132793,90.000001960668442,60.969725317512342,19.104034905413329,99.926237138453885,99.926247467319797,600.00000000025443,-74.999881828582502,599.9999925510316,-19.499871828584382,55.500009999998618,1.3855583347321954E-12]
[0,800.00000000025443,1.186204570302607E-4,1,799.99999247694018,72.000128620454618,null,null,null,null,null,null,null,null,{"$f":"'Hull Long'!B16","v":700},{"$f":"'Hull Long'!C16","v":-75},{"$f":"'Hull Plan'!C16","v":0},{"$f":"'Hull Long'!B67","v":700},{"$f":"'Hull Long'!C67","v":-75},{"$f":"'Hull Plan'!C67","v":72},72.000010000000003,100,123.2233744059949,101.35210900617707,55.500010000000003,89.999994270422448,35.753892984014712,54.246114448950451,90.000000257280703,54.24611274556284,26.384507887527153,99.3693776635224,99.369385353767882,700.00000000025443,-74.99988137954297,699.99999247694018,-2.9998713795453824,72.000009999997985,2.0179413695586845E-12]
[0,999.90000000025429,1.2534336488556619E-4,1,999.89999146847038,101.98613484336111,null,null,null,null,null,null,null,null,{"$f":"'Hull Long'!B17","v":899.9},{"$f":"'Hull Long'!C17","v":-75},{"$f":"'Hull Plan'!C17","v":0},{"$f":"'Hull Long'!B68","v":899.9},{"$f":"'Hull Long'!C68","v":-75},{"$f":"'Hull Plan'!C68","v":101.98599950000002},101.98600950000002,199.89999999999998,224.41290982029975,202.13651368818546,72.000010000000003,89.999997133778052,27.029999729176023,62.970004330747543,90.000001926934715,62.970003137045914,18.498953944472404,98.53104172478001,98.531047711637882,899.90000000025429,-74.999874656635114,899.89999146847038,26.986134843361111,101.98600949999658,3.4390268410788849E-12]
[0,1000.100000000005,1.1535735117718104E-4,1,1000.0999928662582,102.01412485734747,null,null,null,null,null,null,null,null,{"$f":"'Hull Long'!B18","v":900.1},{"$f":"'Hull Long'!C18","v":-75},{"$f":"'Hull Plan'!C18","v":0},{"$f":"'Hull Long'!B69","v":900.1},{"$f":"'Hull Long'!C69","v":-75},{"$f":"'Hull Plan'!C69","v":102.01399949999998},102.01400949999999,0.20000000000004547,102.01419555133489,0.20195048898186932,101.98600950000002,89.997135211159573,89.89053568437248,0.1123298909829975,89.997139217801191,0.11232910447104738,81.920925280034609,97.966744828980168,97.966749622136348,900.10000000000502,-74.999884642648823,900.09999286625816,27.014124857347461,102.01400949999655,3.4390268410788849E-12]
[0,1100.000000000005,1.1102129232654079E-4,1,1099.999993451604,115.50012102128927,null,null,null,null,null,null,null,null,{"$f":"'Hull Long'!B19","v":1000},{"$f":"'Hull Long'!C19","v":-75},{"$f":"'Hull Plan'!C19","v":0},{"$f":"'Hull Long'!B70","v":1000},{"$f":"'Hull Long'!C70","v":-75},{"$f":"'Hull Plan'!C70","v":115.5},115.50001,99.899999999999977,152.70972464122903,100.80616156508488,102.01400949999999,89.999994264686975,49.142328533504333,40.857677960002903,89.999997513134417,40.857677201808684,41.45416211505858,97.688159924938503,97.688163931580505,1000.0000000000049,-74.999888978707673,999.99999345160415,40.500121021289274,115.50000999999713,2.8705926524708048E-12]
[0,1200.0000000000048,1.0560865219133575E-4,1,1199.999994128184,128.00011560864971,null,null,null,null,null,null,null,null,{"$f":"'Hull Long'!B20","v":1100},{"$f":"'Hull Long'!C20","v":-75},{"$f":"'Hull Plan'!C20","v":0},{"$f":"'Hull Long'!B71","v":1100},{"$f":"'Hull Long'!C71","v":-75},{"$f":"'Hull Plan'!C71","v":128},128.00001,100,162.43152403397562,100.77822185373186,115.50001,89.999994270422278,52.001273287073289,37.998733062588556,89.999996898785639,37.998732442504441,44.876256938171437,97.125009999240007,97.125013247687775,1100.0000000000048,-74.999894391347809,1099.999994128184,53.000115608649693,128.00000999999762,2.3874235921539366E-12]
[0,1300.0000000000045,9.9297574635670571E-5,1,1299.9999948539576,139.50010929757258,null,null,null,null,null,null,null,null,{"$f":"'Hull Long'!B21","v":1200},{"$f":"'Hull Long'!C21","v":-75},{"$f":"'Hull Plan'!C21","v":0},{"$f":"'Hull Long'!B72","v":1200},{"$f":"'Hull Long'!C72","v":-75},{"$f":"'Hull Plan'!C72","v":139.5},139.50001,100,171.63988464223576,100.65907808041955,128.00001,89.999994270422249,54.36531519673099,35.634691047613472,89.999996384018914,35.634690532846754,47.805118796159647,96.560190156226895,96.560192784590498,1200.0000000000045,-74.999900702425364,1199.9999948539576,64.500109297572578,139.50000999999801,1.9895196601282805E-12]
[0,1400.0000000000043,9.2233808942410178E-5,1,1399.9999955956528,150.00010223380735,null,null,null,null,null,null,null,null,{"$f":"'Hull Long'!B22","v":1300},{"$f":"'Hull Long'!C22","v":-75},{"$f":"'Hull Plan'!C22","v":0},{"$f":"'Hull Long'!B73","v":1300},{"$f":"'Hull Long'!C73","v":-75},{"$f":"'Hull Plan'!C73","v":150},150.00001,100,180.27756377319946,100.5497389355139,139.50001,89.999994270422235,56.309938203598172,33.690067957238099,89.999995952760401,33.690067525979607,50.315845254489659,95.994086788272227,95.994088901869134,1300.0000000000043,-74.999907766191058,1299.9999955956528,75.000102233807368,150.0000099999985,1.5063505998114124E-12]
[0,1500.0000000000041,8.4536710062366183E-5,1,1499.9999963268767,159.50009453670884,null,null,null,null,null,null,null,null,{"$f":"'Hull Long'!B23","v":1400},{"$f":"'Hull Long'!C23","v":-75},{"$f":"'Hull Plan'!C23","v":0},{"$f":"'Hull Long'!B74","v":1400},{"$f":"'Hull Long'!C74","v":-75},{"$f":"'Hull Plan'!C74","v":159.5},159.50001,100,188.25581000330374,100.45023643575958,150.00001,89.999994270422206,57.913969731982554,32.086036360468455,89.999995589887192,32.086035997595232,52.487157233409704,95.426806406121827,95.426808088460248,1400.0000000000041,-74.999915463289938,1399.9999963268767,84.500094536708843,159.50000999999884,1.1652900866465643E-12]
[0,1600.0000000000036,7.6306695916628087E-5,1,1599.9999970264275,168.00008630669501,null,null,null,null,null,null,null,null,{"$f":"'Hull Long'!B24","v":1500},{"$f":"'Hull Long'!C24","v":-75},{"$f":"'Hull Plan'!C24","v":0},{"$f":"'Hull Long'!B75","v":1500},{"$f":"'Hull Long'!C75","v":-75},{"$f":"'Hull Plan'!C75","v":168},168.00001,100,195.50959055759898,100.36059983878135,159.50001,89.999994270422206,59.237286195339045,30.762719839576715,89.999995284549243,30.76271953423872,54.378823276304729,94.858456884118539,94.858458203583723,1500.0000000000036,-74.999923693304083,1499.9999970264275,93.00008630669501,168.00000999999912,8.8107299234252423E-13]
[0,1700.0000000000032,6.763025325540184E-5,1,1699.9999976771603,175.50007763025258,null,null,null,null,null,null,null,null,{"$f":"'Hull Long'!B25","v":1600},{"$f":"'Hull Long'!C25","v":-75},{"$f":"'Hull Plan'!C25","v":0},{"$f":"'Hull Long'!B76","v":1600},{"$f":"'Hull Long'!C76","v":-75},{"$f":"'Hull Plan'!C76","v":175.5},175.50001,100,201.99071760850794,100.2808556006579,168.00001,89.999994270422206,60.325490721499001,29.674515263863487,89.999995028764545,29.674515008078789,56.036337392679954,94.289147343456534,94.289148357583713,1600.0000000000032,-74.999932369746745,1599.9999976771603,100.50007763025259,175.50000999999935,6.5369931689929217E-13]
[0,1800.0000000000027,5.8583440306847478E-5,1,1799.9999982652027,182.00006858343974,null,null,null,null,null,null,null,null,{"$f":"'Hull Long'!B26","v":1700},{"$f":"'Hull Long'!C26","v":-75},{"$f":"'Hull Plan'!C26","v":0},{"$f":"'Hull Long'!B77","v":1700},{"$f":"'Hull Long'!C77","v":-75},{"$f":"'Hull Plan'!C77","v":182},182.00001,100,207.66318884193223,100.21102733731453,175.50001,89.999994270422206,61.213387419563908,28.786618522220451,89.999994816558001,28.786618310013871,57.494393446405844,93.718988031373698,93.718988789716121,1700.0000000000027,-74.999941416559693,1699.9999982652027,107.00006858343974,182.00000999999943,5.6843418860808015E-13]
[0,1900.0000000000023,4.9234429539524172E-5,1,1899.9999987793979,187.50005923442905,null,null,null,null,null,null,null,null,{"$f":"'Hull Long'!B27","v":1800},{"$f":"'Hull Long'!C27","v":-75},{"$f":"'Hull Plan'!C27","v":0},{"$f":"'Hull Long'!B78","v":1800},{"$f":"'Hull Long'!C78","v":-75},{"$f":"'Hull Plan'!C78","v":187.5},187.50001,100,212.5,100.15113578986511,182.00001,89.999994270422206,61.927518793724985,28.072487108999386,89.999994643411412,28.07248693585283,58.779422694162228,93.148090196838396,93.148090742974233,1800.0000000000023,-74.99995076557046,1799.9999987793979,112.50005923442906,187.50000999999952,4.8316906031686813E-13]
[0,2000.0000000000018,3.9645418809186594E-5,1,1999.9999992109028,192.0000496454185,null,null,null,null,null,null,null,null,{"$f":"'Hull Long'!B28","v":1900},{"$f":"'Hull Long'!C28","v":-75},{"$f":"'Hull Plan'!C28","v":0},{"$f":"'Hull Long'!B79","v":1900},{"$f":"'Hull Long'!C79","v":-75},{"$f":"'Hull Plan'!C79","v":192},192.00001,100,216.48094604375694,100.10119879402045,187.50001,89.999994270422206,62.488003105726484,27.512002761361163,89.999994505901554,27.512002623851306,59.91143127545763,92.57656596318121,92.576566336170501,1900.0000000000018,-74.999960354581191,1899.9999992109028,117.0000496454185,192.00000999999969,3.1263880373444408E-13]
[0,2100.0000000000014,2.9874116464156941E-5,1,2099.9999995528979,195.50003987411628,null,null,null,null,null,null,null,null,{"$f":"'Hull Long'!B29","v":2000},{"$f":"'Hull Long'!C29","v":-75},{"$f":"'Hull Plan'!C29","v":0},{"$f":"'Hull Long'!B80","v":2000},{"$f":"'Hull Long'!C80","v":-75},{"$f":"'Hull Plan'!C80","v":195.5},195.50001,100,219.5910972694476,100.06123125366787,192.00001,89.999994270422192,62.909855185512036,27.090150648511173,89.999994401456149,27.090150544065764,60.905321153406113,92.004528198082696,92.004528433562157,2000.0000000000014,-74.999970125883536,1999.9999995528979,120.5000398741163,195.50000999999983,0]
[0,2200.0000000000009,1.9974936847688696E-5,1,2199.9999998003768,198.00002997493684,null,null,null,null,null,null,null,null,{"$f":"'Hull Long'!B30","v":2100},{"$f":"'Hull Long'!C30","v":-75},{"$f":"'Hull Plan'!C30","v":0},{"$f":"'Hull Long'!B81","v":2100},{"$f":"'Hull Long'!C81","v":-75},{"$f":"'Hull Plan'!C81","v":198},198.00001,100,221.81974664127628,100.03124511871279,195.50001,89.999994270422192,63.203924435604492,26.796081367241587,89.999994328187881,26.796081293973312,61.771828251439821,91.432090381318588,91.43209051235263,2100.0000000000009,-74.999980025063152,2099.9999998003768,123.00002997493684,198.00000999999997,0]
[0,2300.0000000000005,9.9999997473787516E-6,1,2299.9999999500005,199.50001999999975,null,null,null,null,null,null,null,null,{"$f":"'Hull Long'!B31","v":2200},{"$f":"'Hull Long'!C31","v":-75},{"$f":"'Hull Plan'!C31","v":0},{"$f":"'Hull Long'!B82","v":2200},{"$f":"'Hull Long'!C82","v":-75},{"$f":"'Hull Plan'!C82","v":199.5},{"$f":"((O31-R31)^2+(S31-P31)^2+(T31-Q31)^2)^0.5+0.00001","v":199.50001},{"$f":"((O31-O30)^2+(P31-P30)^2+(Q31-Q30)^2)^0.5","v":100},{"$f":"((R31-O30)^2+(S31-P30)^2+(T31-Q30)^2)^0.5","v":223.15969618190468},{"$f":"((R31-R30)^2+(S31-S30)^2+(T31-T30)^2)^0.5","v":100.01124936725869},{"$f":"U30","v":198.00001},{"$f":"ACOS((U31*U31+V31*V31-W31*W31)/2/U31/V31)*180/PI()","v":89.999994270422192},{"$f":"ACOS((V31*V31+W31*W31-U31*U31)/2/V31/W31)*180/PI()","v":63.377543970999071},{"$f":"ACOS((W31*W31+Y31*Y31-X31*X31)/2/W31/Y31)*180/PI()","v":26.62246180198462},{"$f":"AC32+Z31+AA32+AB32-180","v":89.999994284782019},{"$f":"ACOS((U31*U31+W31*W31-V31*V31)/2/U31/W31)*180/PI()","v":26.622461758578726},{"$f":"ACOS((W31*W31+X31*X31-Y31*Y31)/2/W31/X31)*180/PI()","v":62.518171727354407},{"$f":"ACOS((X31*X31+Y31*Y31-W31*W31)/2/X31/Y31)*180/PI()","v":90.859366470660987},{"$f":"180+AG32-AF32-AE31-AD31","v":90.859366528426719},{"$f":"AH32-V32*SIN(AC32*PI()/180)","v":2200.0000000000005},{"$f":"AI32+V32*COS(AC32*PI()/180)","v":-74.999990000000253},{"$f":"AJ32-X32*SIN(AG32*PI()/180)","v":2199.9999999500005},{"$f":"AK32+X32*COS(AG32*PI()/180)","v":124.50001999999975},{"$f":"((AH31-AJ31)^2+(AI31-AK31)^2)^0.5","v":199.50001},{"$f":"U31-AL31","v":0}]
[1,2400,0,1,2400,200.00001,null,null,null,null,null,null,null,null,{"$f":"'Hull Long'!B32","v":2300},{"$f":"'Hull Long'!C32","v":-75},{"$f":"'Hull Plan'!C32","v":0},{"$f":"'Hull Long'!B83","v":2300},{"$f":"'Hull Long'!C83","v":-75},{"$f":"'Hull Plan'!C83","v":200},{"$f":"((O32-R32)^2+(S32-P32)^2+(T32-Q32)^2)^0.5+0.00001","v":200.00001},{"$f":"((O32-O31)^2+(P32-P31)^2+(Q32-Q31)^2)^0.5","v":100},{"$f":"((R32-O31)^2+(S32-P31)^2+(T32-Q31)^2)^0.5","v":223.60679774997897},{"$f":"((R32-R31)^2+(S32-S31)^2+(T32-T31)^2)^0.5","v":100.0012499921876},{"$f":"U31","v":199.50001},{"$f":"ACOS((U32*U32+V32*V32-W32*W32)/2/U32/V32)*180/PI()","v":89.999994270422192},{"$f":"ACOS((V32*V32+W32*W32-U32*U32)/2/V32/W32)*180/PI()","v":63.434954552499967},{"$f":"ACOS((W32*W32+Y32*Y32-X32*X32)/2/W32/Y32)*180/PI()","v":26.565051191437686},{"$f":"Z32","v":89.999994270422192},{"$f":"ACOS((U32*U32+W32*W32-V32*V32)/2/U32/W32)*180/PI()","v":26.565051177077837},{"$f":"ACOS((W32*W32+X32*X32-Y32*Y32)/2/W32/X32)*180/PI()","v":63.148478042222884},{"$f":"ACOS((X32*X32+Y32*Y32-W32*W32)/2/X32/Y32)*180/PI()","v":90.286470766339434},{"$f":"180-AD32-AE32","v":90.28647078069929},{"$f":"O32","v":2300},{"$f":"P32","v":-75},{"$f":"AH32","v":2300},{"$f":"AI32+U32","v":125.00001},{"$f":"((AH32-AJ32)^2+(AI32-AK32)^2)^0.5","v":200.00001},{"$f":"U32-AL32","v":0}]
[1,{"$f":"E32","v":2400},{"$f":"F32","v":200.00001},0,2400,200.00001,null,null,null,null,null,null,null,null,{"$f":"'Hull Long'!B33","v":2300},{"$f":"'Hull Long'!C33","v":-75},{"$f":"'Hull Plan'!C33","v":0},{"$f":"'Hull Long'!B84","v":2300},{"$f":"'Hull Long'!C84","v":-75},{"$f":"'Hull Plan'!C84","v":200},{"$f":"((O33-R33)^2+(S33-P33)^2+(T33-Q33)^2)^0.5+0.00001","v":200.00001},{"$f":"((O33-O34)^2+(P33-P34)^2+(Q33-Q34)^2)^0.5","v":100},{"$f":"((R33-O34)^2+(S33-P34)^2+(T33-Q34)^2)^0.5","v":223.60679774997897},{"$f":"((R33-R34)^2+(S33-S34)^2+(T33-T34)^2)^0.5","v":100.0012499921876},{"$f":"U34","v":199.50001},{"$f":"ACOS((U33*U33+V33*V33-W33*W33)/2/U33/V33)*180/PI()","v":89.999994270422192},{"$f":"ACOS((V33*V33+W33*W33-U33*U33)/2/V33/W33)*180/PI()","v":63.434954552499967},{"$f":"ACOS((W33*W33+Y33*Y33-X33*X33)/2/W33/Y33)*180/PI()","v":26.565051191437686},{"$f":"Z33","v":89.999994270422192},{"$f":"ACOS((U33*U33+W33*W33-V33*V33)/2/U33/W33)*180/PI()","v":26.565051177077837},{"$f":"ACOS((W33*W33+X33*X33-Y33*Y33)/2/W33/X33)*180/PI()","v":63.148478042222884},{"$f":"ACOS((X33*X33+Y33*Y33-W33*W33)/2/X33/Y33)*180/PI()","v":90.286470766339434},{"$f":"180-AD33-AE33","v":90.28647078069929},{"$f":"O33","v":2300},{"$f":"P33","v":-75},{"$f":"AH33","v":2300},{"$f":"AI33+U33","v":125.00001},{"$f":"((AH33-AJ33)^2+(AI33-AK33)^2)^0.5","v":200.00001},{"$f":"U33-AL33","v":0}]
[0,{"$f":"AH34+$H$8","v":2499.9999999999995},{"$f":"AI34+$I$8","v":9.9999997473787516E-6},0,2500.0000000499995,199.50001999999975,null,null,null,null,null,null,null,null,{"$f":"'Hull Long'!B34","v":2400},{"$f":"'Hull Long'!C34","v":-75},{"$f":"'Hull Plan'!C34","v":0},{"$f":"'Hull Long'!B85","v":2400},{"$f":"'Hull Long'!C85","v":-75},{"$f":"'Hull Plan'!C85","v":199.5},{"$f":"((O34-R34)^2+(S34-P34)^2+(T34-Q34)^2)^0.5+0.00001","v":199.50001},{"$f":"((O34-O35)^2+(P34-P35)^2+(Q34-Q35)^2)^0.5","v":100},{"$f":"((R34-O35)^2+(S34-P35)^2+(T34-Q35)^2)^0.5","v":223.15969618190468},{"$f":"((R34-R35)^2+(S34-S35)^2+(T34-T35)^2)^0.5","v":100.01124936725869},{"$f":"U35","v":198.00001},{"$f":"ACOS((U34*U34+V34*V34-W34*W34)/2/U34/V34)*180/PI()","v":89.999994270422192},{"$f":"ACOS((V34*V34+W34*W34-U34*U34)/2/V34/W34)*180/PI()","v":63.377543970999071},{"$f":"ACOS((W34*W34+Y34*Y34-X34*X34)/2/W34/Y34)*180/PI()","v":26.62246180198462},{"$f":"AC33+Z34+AA33+AB33-180","v":89.999994284782019},{"$f":"ACOS((U34*U34+W34*W34-V34*V34)/2/U34/W34)*180/PI()","v":26.622461758578726},{"$f":"ACOS((W34*W34+X34*X34-Y34*Y34)/2/W34/X34)*180/PI()","v":62.518171727354407},{"$f":"ACOS((X34*X34+Y34*Y34-W34*W34)/2/X34/Y34)*180/PI()","v":90.859366470660987},{"$f":"180+AG33-AF33-AE34-AD34","v":90.859366528426719},{"$f":"AH33+V33*SIN(AC33*PI()/180)","v":2399.9999999999995},{"$f":"AI33+V33*COS(AC33*PI()/180)","v":-74.999990000000253},{"$f":"AJ33+X33*SIN(AG33*PI()/180)","v":2400.0000000499995},{"$f":"AK33+X33*COS(AG33*PI()/180)","v":124.50001999999975},{"$f":"((AH34-AJ34)^2+(AI34-AK34)^2)^0.5","v":199.50001},{"$f":"U34-AL34","v":0}]
[0,{"$f":"AH35+$H$8","v":2599.9999999999991},{"$f":"AI35+$I$8","v":1.9974936847688696E-5},0,2600.0000001996232,198.00002997493684,null,null,null,null,null,null,null,null,{"$f":"'Hull Long'!B35","v":2500},{"$f":"'Hull Long'!C35","v":-75},{"$f":"'Hull Plan'!C35","v":0},{"$f":"'Hull Long'!B86","v":2500},{"$f":"'Hull Long'!C86","v":-75},{"$f":"'Hull Plan'!C86","v":198},{"$f":"((O35-R35)^2+(S35-P35)^2+(T35-Q35)^2)^0.5+0.00001","v":198.00001},{"$f":"((O35-O36)^2+(P35-P36)^2+(Q35-Q36)^2)^0.5","v":100},{"$f":"((R35-O36)^2+(S35-P36)^2+(T35-Q36)^2)^0.5","v":221.81974664127628},{"$f":"((R35-R36)^2+(S35-S36)^2+(T35-T36)^2)^0.5","v":100.03124511871279},{"$f":"U36","v":195.50001},{"$f":"ACOS((U35*U35+V35*V35-W35*W35)/2/U35/V35)*180/PI()","v":89.999994270422192},{"$f":"ACOS((V35*V35+W35*W35-U35*U35)/2/V35/W35)*180/PI()","v":63.203924435604492},{"$f":"ACOS((W35*W35+Y35*Y35-X35*X35)/2/W35/Y35)*180/PI()","v":26.796081367241587},{"$f":"AC34+Z35+AA34+AB34-180","v":89.999994328187881},{"$f":"ACOS((U35*U35+W35*W35-V35*V35)/2/U35/W35)*180/PI()","v":26.796081293973312},{"$f":"ACOS((W35*W35+X35*X35-Y35*Y35)/2/W35/X35)*180/PI()","v":61.771828251439821},{"$f":"ACOS((X35*X35+Y35*Y35-W35*W35)/2/X35/Y35)*180/PI()","v":91.432090381318588},{"$f":"180+AG34-AF34-AE35-AD35","v":91.43209051235263},{"$f":"AH34+V34*SIN(AC34*PI()/180)","v":2499.9999999999991},{"$f":"AI34+V34*COS(AC34*PI()/180)","v":-74.999980025063152},{"$f":"AJ34+X34*SIN(AG34*PI()/180)","v":2500.0000001996232},{"$f":"AK34+X34*COS(AG34*PI()/180)","v":123.00002997493684},{"$f":"((AH35-AJ35)^2+(AI35-AK35)^2)^0.5","v":198.00000999999997},{"$f":"U35-AL35","v":0}]
[0,{"$f":"AH36+$H$8","v":2699.9999999999986},{"$f":"AI36+$I$8","v":2.9874116464156941E-5},0,{"$f":"AJ36+$H$8","v":2700.0000004471021},{"$f":"AK36+$I$8","v":195.50003987411628},null,null,null,null,null,null,null,null,{"$f":"'Hull Long'!B36","v":2600},{"$f":"'Hull Long'!C36","v":-75},{"$f":"'Hull Plan'!C36","v":0},{"$f":"'Hull Long'!B87","v":2600},{"$f":"'Hull Long'!C87","v":-75},{"$f":"'Hull Plan'!C87","v":195.5},195.50001,100,219.5910972694476,100.06123125366787,192.00001,89.999994270422192,62.909855185512036,27.090150648511173,89.999994401456149,27.090150544065764,60.905321153406113,92.004528198082696,92.004528433562157,2599.9999999999986,-74.999970125883536,2600.0000004471021,120.5000398741163,195.50000999999983,0]
[0,2799.9999999999982,3.9645418809186594E-5,0,2800.0000007890972,192.0000496454185,null,null,null,null,null,null,null,null,{"$f":"'Hull Long'!B37","v":2700},{"$f":"'Hull Long'!C37","v":-75},{"$f":"'Hull Plan'!C37","v":0},{"$f":"'Hull Long'!B88","v":2700},{"$f":"'Hull Long'!C88","v":-75},{"$f":"'Hull Plan'!C88","v":192},192.00001,100,216.48094604375694,100.10119879402045,187.50001,89.999994270422206,62.488003105726484,27.512002761361163,89.999994505901554,27.512002623851306,59.91143127545763,92.57656596318121,92.576566336170501,2699.9999999999982,-74.999960354581191,2700.0000007890972,117.0000496454185,192.00000999999969,3.1263880373444408E-13]
[0,2899.9999999999977,4.9234429539524172E-5,0,2900.0000012206024,187.50005923442905,null,null,null,null,null,null,null,null,{"$f":"'Hull Long'!B38","v":2800},{"$f":"'Hull Long'!C38","v":-75},{"$f":"'Hull Plan'!C38","v":0},{"$f":"'Hull Long'!B89","v":2800},{"$f":"'Hull Long'!C89","v":-75},{"$f":"'Hull Plan'!C89","v":187.5},187.50001,100,212.5,100.15113578986511,182.00001,89.999994270422206,61.927518793724985,28.072487108999386,89.999994643411412,28.07248693585283,58.779422694162228,93.148090196838396,93.148090742974233,2799.9999999999977,-74.99995076557046,2800.0000012206024,112.50005923442906,187.50000999999952,4.8316906031686813E-13]
[0,2999.9999999999973,5.8583440306847478E-5,0,3000.0000017347975,182.00006858343974,null,null,null,null,null,null,null,null,{"$f":"'Hull Long'!B39","v":2900},{"$f":"'Hull Long'!C39","v":-75},{"$f":"'Hull Plan'!C39","v":0},{"$f":"'Hull Long'!B90","v":2900},{"$f":"'Hull Long'!C90","v":-75},{"$f":"'Hull Plan'!C90","v":182},182.00001,100,207.66318884193223,100.21102733731453,175.50001,89.999994270422206,61.213387419563908,28.786618522220451,89.999994816558001,28.786618310013871,57.494393446405844,93.718988031373698,93.718988789716121,2899.9999999999973,-74.999941416559693,2900.0000017347975,107.00006858343974,182.00000999999943,5.6843418860808015E-13]
[0,3099.9999999999968,6.763025325540184E-5,0,3100.0000023228399,175.50007763025258,null,null,null,null,null,null,null,null,{"$f":"'Hull Long'!B40","v":3000},{"$f":"'Hull Long'!C40","v":-75},{"$f":"'Hull Plan'!C40","v":0},{"$f":"'Hull Long'!B91","v":3000},{"$f":"'Hull Long'!C91","v":-75},{"$f":"'Hull Plan'!C91","v":175.5},175.50001,100,201.99071760850794,100.2808556006579,168.00001,89.999994270422206,60.325490721499001,29.674515263863487,89.999995028764545,29.674515008078789,56.036337392679954,94.289147343456534,94.289148357583713,2999.9999999999968,-74.999932369746745,3000.0000023228399,100.50007763025259,175.50000999999935,6.5369931689929217E-13]
[0,3199.9999999999964,7.6306695916628087E-5,0,3200.0000029735729,168.00008630669501,null,null,null,null,null,null,null,null,{"$f":"'Hull Long'!B41","v":3100},{"$f":"'Hull Long'!C41","v":-75},{"$f":"'Hull Plan'!C41","v":0},{"$f":"'Hull Long'!B92","v":3100},{"$f":"'Hull Long'!C92","v":-75},{"$f":"'Hull Plan'!C92","v":168},168.00001,100,195.50959055759898,100.36059983878135,159.50001,89.999994270422206,59.237286195339045,30.762719839576715,89.999995284549243,30.76271953423872,54.378823276304729,94.858456884118539,94.858458203583723,3099.9999999999964,-74.999923693304083,3100.0000029735729,93.00008630669501,168.00000999999912,8.8107299234252423E-13]
[0,3299.9999999999959,8.4536710062366183E-5,0,3300.000003673124,159.50009453670884,null,null,null,null,null,null,null,null,{"$f":"'Hull Long'!B42","v":3200},{"$f":"'Hull Long'!C42","v":-75},{"$f":"'Hull Plan'!C42","v":0},{"$f":"'Hull Long'!B93","v":3200},{"$f":"'Hull Long'!C93","v":-75},{"$f":"'Hull Plan'!C93","v":159.5},159.50001,100,188.25581000330374,100.45023643575958,150.00001,89.999994270422206,57.913969731982554,32.086036360468455,89.999995589887192,32.086035997595232,52.487157233409704,95.426806406121827,95.426808088460248,3199.9999999999959,-74.999915463289938,3200.000003673124,84.500094536708843,159.50000999999884,1.1652900866465643E-12]
[0,3399.9999999999955,9.2233808942410178E-5,0,3400.0000044043481,150.00010223380735,null,null,null,null,null,null,null,null,{"$f":"'Hull Long'!B43","v":3300},{"$f":"'Hull Long'!C43","v":-75},{"$f":"'Hull Plan'!C43","v":0},{"$f":"'Hull Long'!B94","v":3300},{"$f":"'Hull Long'!C94","v":-75},{"$f":"'Hull Plan'!C94","v":150},150.00001,100,180.27756377319946,100.5497389355139,139.50001,89.999994270422235,56.309938203598172,33.690067957238099,89.999995952760401,33.690067525979607,50.315845254489659,95.994086788272227,95.994088901869134,3299.9999999999955,-74.999907766191058,3300.0000044043481,75.000102233807368,150.0000099999985,1.5063505998114124E-12]
[0,3499.999999999995,9.9297574635670571E-5,0,3500.0000051460433,139.50010929757258,null,null,null,null,null,null,null,null,{"$f":"'Hull Long'!B44","v":3400},{"$f":"'Hull Long'!C44","v":-75},{"$f":"'Hull Plan'!C44","v":0},{"$f":"'Hull Long'!B95","v":3400},{"$f":"'Hull Long'!C95","v":-75},{"$f":"'Hull Plan'!C95","v":139.5},139.50001,100,171.63988464223576,100.65907808041955,128.00001,89.999994270422249,54.36531519673099,35.634691047613472,89.999996384018914,35.634690532846754,47.805118796159647,96.560190156226895,96.560192784590498,3399.999999999995,-74.999900702425364,3400.0000051460433,64.500109297572578,139.50000999999801,1.9895196601282805E-12]
[0,3599.999999999995,1.0560865219133575E-4,0,3600.0000058718169,128.00011560864971,null,null,null,null,null,null,null,null,{"$f":"'Hull Long'!B45","v":3500},{"$f":"'Hull Long'!C45","v":-75},{"$f":"'Hull Plan'!C45","v":0},{"$f":"'Hull Long'!B96","v":3500},{"$f":"'Hull Long'!C96","v":-75},{"$f":"'Hull Plan'!C96","v":128},128.00001,100,162.43152403397562,100.77822185373186,115.50001,89.999994270422278,52.001273287073289,37.998733062588556,89.999996898785639,37.998732442504441,44.876256938171437,97.125009999240007,97.125013247687775,3499.999999999995,-74.999894391347809,3500.0000058718169,53.000115608649693,128.00000999999762,2.3874235921539366E-12]
[0,3699.999999999995,1.1102129232654079E-4,0,3700.0000065483969,115.50012102128927,null,null,null,null,null,null,null,null,{"$f":"'Hull Long'!B46","v":3600},{"$f":"'Hull Long'!C46","v":-75},{"$f":"'Hull Plan'!C46","v":0},{"$f":"'Hull Long'!B97","v":3600},{"$f":"'Hull Long'!C97","v":-75},{"$f":"'Hull Plan'!C97","v":115.5},115.50001,99.900000000000091,152.70972464122912,100.80616156508499,102.01400949999999,89.999994264686975,49.142328533504291,40.857677960002931,89.999997513134417,40.857677201808706,41.454162115058551,97.688159924938503,97.688163931580505,3599.999999999995,-74.999888978707673,3600.0000065483969,40.500121021289274,115.50000999999713,2.8705926524708048E-12]
[0,3799.8999999999951,1.1535735117718104E-4,0,3799.9000071337432,102.01412485734744,null,null,null,null,null,null,null,null,{"$f":"'Hull Long'!B47","v":3699.9},{"$f":"'Hull Long'!C47","v":-75},{"$f":"'Hull Plan'!C47","v":0},{"$f":"'Hull Long'!B98","v":3699.9},{"$f":"'Hull Long'!C98","v":-75},{"$f":"'Hull Plan'!C98","v":102.01399949999998},102.01400949999999,0.1999999999998181,102.01419555133489,0.20195048898164417,101.98600950000002,89.997135211162131,89.890535684374925,0.1123298909829975,89.997139217803749,0.11232910447104738,81.920925280025543,97.966744828989093,97.966749622145414,3699.8999999999951,-74.999884642648823,3699.9000071337432,27.014124857347447,102.0140094999965,3.4816594052244909E-12]
[0,3800.0999999997457,1.2534336487135533E-4,0,3800.1000085315309,101.9861348433611,null,null,null,null,null,null,null,null,{"$f":"'Hull Long'!B48","v":3700.1},{"$f":"'Hull Long'!C48","v":-75},{"$f":"'Hull Plan'!C48","v":0},{"$f":"'Hull Long'!B99","v":3700.1},{"$f":"'Hull Long'!C99","v":-75},{"$f":"'Hull Plan'!C99","v":101.98599950000002},101.98600950000002,199.90000000000009,224.41290982029986,202.13651368818557,72.000010000000003,89.999997133778052,27.029999729176023,62.970004330747543,90.000001926939717,62.970003137045929,18.498953944472404,98.531041724780025,98.531047711637996,3700.0999999997457,-74.999874656635129,3700.1000085315309,26.986134843361093,101.98600949999657,3.4532376957940869E-12]
[0,3999.9999999997458,1.1862043952248769E-4,0,4000.000007523061,72.000128620454177,null,null,null,null,null,null,null,null,{"$f":"'Hull Long'!B49","v":3900},{"$f":"'Hull Long'!C49","v":-75},{"$f":"'Hull Plan'!C49","v":0},{"$f":"'Hull Long'!B100","v":3900},{"$f":"'Hull Long'!C100","v":-75},{"$f":"'Hull Plan'!C100","v":72},72.000010000000003,100,123.2233744059949,101.35210900617707,55.500010000000003,89.999994270422448,35.753892984014712,54.246114448950451,90.000000257285706,54.24611274556284,26.384507887527153,99.3693776635224,99.369385353767967,3899.9999999997458,-74.999881379560478,3900.000007523061,-2.9998713795458158,72.000010000015052,-1.5049295143398922E-11]
[0,4099.9999999997453,1.181713912643545E-4,0,4100.000007448969,55.500128171415056,null,null,null,null,null,null,null,null,{"$f":"'Hull Long'!B50","v":4000},{"$f":"'Hull Long'!C50","v":-75},{"$f":"'Hull Plan'!C50","v":0},{"$f":"'Hull Long'!B101","v":4000},{"$f":"'Hull Long'!C101","v":-75},{"$f":"'Hull Plan'!C101","v":55.5},55.500010000000003,100,114.36892060345765,101.51970252123476,38.000010000000003,89.999994270422576,29.030280412065093,60.969727956132793,90.000001960673444,60.969725317512342,19.104034905413329,99.926237138453885,99.926247467319854,3999.9999999997458,-74.999881828608736,4000.0000074489694,-19.499871828584947,55.50001000002429,-2.4286350708280224E-11]
[0,4199.9999999997453,1.1474937055311329E-4,0,4200.0000068501176,38.000124749403597,null,null,null,null,null,null,null,null,{"$f":"'Hull Long'!B51","v":4100},{"$f":"'Hull Long'!C51","v":-75},{"$f":"'Hull Plan'!C51","v":0},{"$f":"'Hull Long'!B102","v":4100},{"$f":"'Hull Long'!C102","v":-75},{"$f":"'Hull Plan'!C102","v":38},38.000010000000003,100,106.97663296253066,101.69685344198217,19.50001,89.999994270422803,20.806796742289194,69.193214423037844,90.00000459929413,69.193208987288003,10.325578598158156,100.48120697880401,100.48122274341982,4099.9999999997453,-74.999885250629447,4100.0000068501176,-36.999875250596403,38.000010000033662,-3.3658409392955946E-11]
[0,4299.9999999997453,1.0672208799178406E-4,0,4300.000005365072,19.500116722130208,null,null,null,null,null,null,null,null,{"$f":"'Hull Long'!B52","v":4200},{"$f":"'Hull Long'!C52","v":-75},{"$f":"'Hull Plan'!C52","v":0},{"$f":"'Hull Long'!B103","v":4200},{"$f":"'Hull Long'!C103","v":-75},{"$f":"'Hull Plan'!C103","v":19.5},19.50001,100,101.88351191434265,101.88351191434265,1.0000000000000001E-5,89.999994270423528,11.034214732828177,89.999997186923196,90.000010035044681,78.965790996748296,5.5985681974914737E-6,89.999997186923196,101.03421916929932,4199.9999999997453,-74.999893277912008,4200.000005365072,-55.499883277869792,19.500010000042955,-4.2955861090376857E-11]
[0,4399.9999999997435,8.920763096398332E-5,0,4400.0000019051649,9.8979027683299137E-5,null,null,null,null,null,null,null,null,{"$f":"'Hull Long'!B53","v":4300},{"$f":"'Hull Long'!C53","v":-75},{"$f":"'Hull Plan'!C53","v":0},{"$f":"'Hull Long'!B104","v":4300},{"$f":"'Hull Long'!C104","v":-75},{"$f":"'Hull Plan'!C104","v":0},1.0000000000000001E-5,160.07810593582121,160.07810593582121,160.07810593582121,1.0000000000000001E-5,89.999998242138602,3.6222548107960426E-6,89.999998242138602,101.03422019693465,89.999998242138602,3.6222548107960426E-6,89.999998242138602,101.03422011798271,4299.9999999997435,-74.999910792369036,4300.0000019051649,-74.999901020972317,9.9554419595229699E-6,4.4558040477030964E-8]
[0,{"$f":"AH54+$H$8","v":4557.1187494711858},{"$f":"AI54+$I$8","v":-30.638098802271358},0,{"$f":"AJ54+$H$8","v":4557.1187514188259},{"$f":"AK54+$I$8","v":-30.638088814369524},null,null,null,null,null,null,null,null,{"$f":"'Hull Long'!B54","v":4400},{"$f":"'Hull Long'!C54","v":50},{"$f":"'Hull Plan'!C54","v":0},{"$f":"'Hull Long'!B105","v":4400},{"$f":"'Hull Long'!C105","v":50},{"$f":"'Hull Plan'!C105","v":0},1.0000000000000001E-5,160.07810593582121,160.07810593582121,160.07810593582121,1.0000000000000001E-5,89.999998242138602,3.6222548107960426E-6,89.999998242138602,101.03422030346667,89.999998242138602,3.6222548107960426E-6,89.999998242138602,101.03422001145073,4457.1187494711858,-105.63809880227136,4457.1187514188259,-105.63808881436952,1.0176025020657501E-5,-1.7602502065750023E-7]
[0,{"$f":"AH55+$H$8","v":4714.2374988856618},{"$f":"AI55+$I$8","v":-61.276287104310029},0,{"$f":"AJ55+$H$8","v":4714.2375009894531},{"$f":"AK55+$I$8","v":-61.276276315630525},null,null,null,null,null,null,null,null,{"$f":"'Hull Long'!B55","v":4500},{"$f":"'Hull Long'!C55","v":175},{"$f":"'Hull Plan'!C55","v":0},{"$f":"'Hull Long'!B106","v":4500},{"$f":"'Hull Long'!C106","v":175},{"$f":"'Hull Plan'!C106","v":0},1.0000000000000001E-5,160.07810593582121,160.07810593582121,160.07810593582121,1.0000000000000001E-5,89.999998242138602,3.6222548107960426E-6,89.999998242138602,101.03422040999868,89.999998242138602,3.6222548107960426E-6,89.999998242138602,101.03421990491871,4614.2374988856618,-136.27628710431003,4614.2375009894531,-136.27627631563053,1.0991885337676298E-5,-9.9188533767629678E-7]
[0,{"$f":"AH56+$H$8","v":4871.3562482431707},{"$f":"AI56+$I$8","v":-91.914475698484978},0,{"$f":"AJ56+$H$8","v":4871.3562506170474},{"$f":"AK56+$I$8","v":-91.914463524755263},null,null,null,null,null,null,null,null,{"$f":"'Hull Long'!B56","v":4600},{"$f":"'Hull Long'!C56","v":300},{"$f":"'Hull Plan'!C56","v":0},{"$f":"'Hull Long'!B107","v":4600},{"$f":"'Hull Long'!C107","v":300},{"$f":"'Hull Plan'!C107","v":0},1.0000000000000001E-5,160.07810593582121,160.07810593582121,160.07810593582121,1.0000000000000001E-5,89.999998242138602,3.6222548107960426E-6,89.999998242138602,101.0342205165307,89.999998242138602,3.6222548107960426E-6,89.999998242138602,101.0342197983867,4771.3562482431707,-166.91447569848498,4771.3562506170474,-166.91446352475526,1.2403023244776646E-5,-2.4030232447766451E-6]
[0,{"$f":"AH57+$H$8","v":5028.4749975437135},{"$f":"AI57+$I$8","v":-122.55266458479622},0,{"$f":"AJ57+$H$8","v":5028.4750003016079},{"$f":"AK57+$I$8","v":-122.55265044174365},null,null,null,null,null,null,null,null,{"$f":"'Hull Long'!B57","v":4700},{"$f":"'Hull Long'!C57","v":425},{"$f":"'Hull Plan'!C57","v":0},{"$f":"'Hull Long'!B108","v":4700},{"$f":"'Hull Long'!C108","v":425},{"$f":"'Hull Plan'!C108","v":0},1.0000000000000001E-5,null,null,null,null,null,null,null,null,null,null,null,null,4928.4749975437135,-197.55266458479622,4928.4750003016079,-197.55265044174365,1.4409438491450097E-5,-4.409438491450096E-6]
[0,0,0,0,0,0,null,null,null,null,null,null,null,null,"X0","Z0","Y0","X1","Z1","Y1","F","L","D","U","F'","A1","A2","A3","A","B1","B2","B3","B","XA","YA","XB","YB","Check F","Error F"]
[0,{"$f":"AH59+$H$59","v":-122.3971898367983},{"$f":"AI59+$I$59","v":346.50926827702881},0,{"$f":"AJ59+$H$59","v":-122.39719064945007},{"$f":"AK59+$I$59","v":346.50927827493206},"Side Plank",{"$f":"100*Basic!$D$2","v":100},{"$f":"2*Basic!$D$2-AI83+AK32+I8","v":277.00000999999997},null,null,null,null,null,{"$f":"'Hull Long'!B59","v":-100},{"$f":"'Hull Long'!C59","v":425},{"$f":"'Hull Plan'!C59","v":0},{"$f":"'Hull Long'!B110","v":-100},{"$f":"'Hull Long'!C110","v":425},{"$f":"'Hull Plan'!C110","v":0},{"$f":"((O59-R59)^2+(S59-P59)^2+(T59-Q59)^2)^0.5+0.00001","v":1.0000000000000001E-5},null,null,null,null,null,null,null,null,null,null,null,null,{"$f":"AH60-V60*SIN(AC60*PI()/180)","v":-222.3971898367983},{"$f":"AI60+V60*COS(AC60*PI()/180)","v":69.50925827702882},{"$f":"AJ60-X60*SIN(AG60*PI()/180)","v":-222.39719064945007},{"$f":"AK60+X60*COS(AG60*PI()/180)","v":69.509268274932083},{"$f":"((AH59-AJ59)^2+(AI59-AK59)^2)^0.5","v":1.0030875960560325E-5},{"$f":"U59-AL59","v":-3.0875960560324185E-8}]
[1,37.15468255625693,359.47846315837023,1,37.154681754722858,359.47847301949946,null,null,null,null,null,null,null,null,{"$f":"'Hull Long'!B60","v":0},{"$f":"'Hull Long'!C60","v":300},{"$f":"'Hull Plan'!C60","v":0},{"$f":"'Hull Long'!B111","v":0},{"$f":"'Hull Long'!C111","v":300},{"$f":"'Hull Plan'!C111","v":0},1.0000000000000001E-5,{"$f":"((O60-O59)^2+(P60-P59)^2+(Q60-Q59)^2)^0.5","v":160.07810593582121},{"$f":"((R60-O59)^2+(S60-P59)^2+(T60-Q59)^2)^0.5","v":160.07810593582121},{"$f":"((R60-R59)^2+(S60-S59)^2+(T60-T59)^2)^0.5","v":160.07810593582121},{"$f":"U59","v":1.0000000000000001E-5},{"$f":"ACOS((U60*U60+V60*V60-W60*W60)/2/U60/V60)*180/PI()","v":89.999998242138602},{"$f":"ACOS((V60*V60+W60*W60-U60*U60)/2/V60/W60)*180/PI()","v":3.6222548107960426E-6},{"$f":"ACOS((W60*W60+Y60*Y60-X60*X60)/2/W60/Y60)*180/PI()","v":89.999998242138602},{"$f":"AC61+Z60+AA61+AB61-180","v":94.647078089010392},{"$f":"ACOS((U60*U60+W60*W60-V60*V60)/2/U60/W60)*180/PI()","v":89.999998242138602},{"$f":"ACOS((W60*W60+X60*X60-Y60*Y60)/2/W60/X60)*180/PI()","v":3.6222548107960426E-6},{"$f":"ACOS((X60*X60+Y60*Y60-W60*W60)/2/X60/Y60)*180/PI()","v":89.999998242138602},{"$f":"180+AG61-AF61-AE60-AD60","v":94.647078039894225},-62.84531744374307,82.478453158370286,-62.845318245277142,82.4784630194995,9.8936508050756341E-6,1.0634919492436672E-7]
[1,156.58918181214722,252.89328413476147,1,147.44828130992357,368.4437012290781,null,null,null,null,null,null,null,null,{"$f":"'Hull Long'!B61","v":100},{"$f":"'Hull Long'!C61","v":175},{"$f":"'Hull Plan'!C61","v":0},{"$f":"'Hull Long'!B112","v":100},{"$f":"'Hull Long'!C112","v":282.26159685887365},{"$f":"'Hull Plan'!C112","v":43.936345702569213},115.91140993292811,160.07810593582121,110.65736947755805,110.65736947755805,1.0000000000000001E-5,43.73068408312318,46.393294005853839,89.999997409967861,48.253788431050111,89.876021911022974,5.1226418775095632E-6,89.999997409967861,94.647077314255483,56.589181812147217,-24.106725865238516,47.448281309923573,91.443691229078127,115.91140993302642,-9.8310692919767462E-11]
[1,275.99965069342039,146.28118387613938,1,256.29402509946374,376.20049937490552,null,null,null,null,null,null,null,null,{"$f":"'Hull Long'!B62","v":200},{"$f":"'Hull Long'!C62","v":50},{"$f":"'Hull Plan'!C62","v":0},{"$f":"'Hull Long'!B113","v":200},{"$f":"'Hull Long'!C113","v":264.92189439594011},{"$f":"'Hull Plan'!C113","v":84.02248516585837},230.76222247029708,160.07810593582121,158.5740366680545,109.12178452799117,115.91140993292811,43.342211384145301,92.800509017017276,43.481723003146442,48.240872327763213,43.857279598837422,46.96513817086101,89.553138825992534,94.076243173912857,175.99965069342039,-130.71882612386059,156.29402509946374,99.200489374905544,230.76222247038262,-8.5549345385516062E-11]
[1,395.37473599835403,39.629465613188643,1,363.84769150378133,382.89861726296868,null,null,null,null,null,null,null,null,{"$f":"'Hull Long'!B63","v":300},{"$f":"'Hull Long'!C63","v":-75},{"$f":"'Hull Plan'!C63","v":0},{"$f":"'Hull Long'!B114","v":300},{"$f":"'Hull Long'!C114","v":247.99028023137919},{"$f":"'Hull Plan'!C114","v":120.43644378114854},344.71388862195886,160.07810593582121,252.39866888862511,107.76203385354987,230.76222247029708,42.974335945458648,111.40988373021425,25.266917295563413,48.221859917840248,25.615780324327115,66.068137644899139,88.664945059537459,93.563606003148692,295.37473599835403,-237.37054438681133,263.84769150378133,105.89860726296872,344.71388862203167,-7.2816419560695067E-11]
[1,496.05415115404008,55.246935443766489,1,470.25695409757793,388.68361375414554,null,null,null,null,null,null,null,null,{"$f":"'Hull Long'!B64","v":400},{"$f":"'Hull Long'!C64","v":-75},{"$f":"'Hull Plan'!C64","v":19.5},{"$f":"'Hull Long'!B115","v":400},{"$f":"'Hull Long'!C115","v":231.47683821912474},{"$f":"'Hull Plan'!C115","v":153.35609722808502},334.43312308829167,101.88351191434265,356.99600126867165,106.56639878572649,344.71388862195886,94.393466697846833,69.074428405839328,17.355604642347735,98.817490924194544,16.532104896313822,74.780067018946966,87.864328338705334,93.111852311080241,396.05415115404008,-221.75307455623349,370.25695409757793,111.68360375414554,334.43312308835249,-6.0822458181064576E-11]
[1,596.66695673074662,70.056167496234536,1,575.64881932998276,393.93758453073792,null,null,null,null,null,null,null,null,{"$f":"'Hull Long'!B65","v":500},{"$f":"'Hull Long'!C65","v":-75},{"$f":"'Hull Plan'!C65","v":38},{"$f":"'Hull Long'!B116","v":500},{"$f":"'Hull Long'!C116","v":215.39243903480215},{"$f":"'Hull Plan'!C116","v":182.95916411254859},324.56268177355753,101.69685344198217,347.91761522083698,105.52274383319769,334.43312308829167,94.660283986007869,68.401808311568857,17.648954665796982,98.373261248981862,16.937907702423256,73.921136305912995,88.429909028290012,92.853933254631059,496.66695673074662,-206.94384250376544,475.64881932998276,116.93757453073798,324.56268177360641,-4.8885340220294893E-11]
[1,697.21435884489006,84.072940594802844,1,680.16627095787419,398.53859755403278,null,null,null,null,null,null,null,null,{"$f":"'Hull Long'!B66","v":600},{"$f":"'Hull Long'!C66","v":-75},{"$f":"'Hull Plan'!C66","v":55.5},{"$f":"'Hull Long'!B117","v":600},{"$f":"'Hull Long'!C117","v":199.74884818167922},{"$f":"'Hull Plan'!C117","v":209.42319783473931},314.9274308588889,101.51970252123476,338.92896354995628,104.61867431596119,324.56268177355753,94.833019720858886,67.801494053925296,17.975332150627715,97.93615105842099,17.365486225215779,73.217027423096553,88.807640426275697,92.520617689243011,597.21435884489006,-192.92706940519713,580.16627095787419,121.5385875540328,314.92743085892579,-3.6891378840664402E-11]
[1,797.69847342767082,97.308979145463837,1,783.93627444619267,402.39658822621544,null,null,null,null,null,null,null,null,{"$f":"'Hull Long'!B67","v":700},{"$f":"'Hull Long'!C67","v":-75},{"$f":"'Hull Plan'!C67","v":72},{"$f":"'Hull Long'!B118","v":700},{"$f":"'Hull Long'!C118","v":184.55885597410949},{"$f":"'Hull Plan'!C118","v":232.92557755948741},305.39785090173774,101.35210900617707,329.92519650203468,103.84169545992727,314.9274308588889,94.921148755272384,67.256613968228109,18.342563816172607,97.503953553161352,17.822237276499511,72.631389391737756,89.026046792089645,92.129178129644998,697.69847342767082,-179.69103085453614,683.93627444619267,125.39657822621545,305.39785090176269,-2.4954260879894719E-11]
[1,998.40601060937263,121.30178399337154,1,989.55271291448105,407.51579383012432,null,null,null,null,null,null,null,null,{"$f":"'Hull Long'!B68","v":899.9},{"$f":"'Hull Long'!C68","v":-75},{"$f":"'Hull Plan'!C68","v":101.98599950000002},{"$f":"'Hull Long'!B119","v":899.9},{"$f":"'Hull Long'!C119","v":155.61093042155551},{"$f":"'Hull Plan'!C119","v":271.73709183814333},286.35090414892414,202.13651368818546,364.74143867382878,205.68015469266476,305.39785090173774,95.045120313616735,51.447514331571462,34.318436819030381,96.816853647287132,33.507365354811789,56.838177070314345,88.843386110655317,91.42619090853762,898.40601060937263,-155.69822600662843,889.55271291448105,130.51578383012435,286.35090414892562,-1.4779288903810084E-12]
[1,998.60666961973675,121.32458665899875,1,989.75742413168018,407.51957345087305,null,null,null,null,null,null,null,null,{"$f":"'Hull Long'!B69","v":900.1},{"$f":"'Hull Long'!C69","v":-75},{"$f":"'Hull Plan'!C69","v":102.01399949999998},{"$f":"'Hull Long'!B120","v":900.1},{"$f":"'Hull Long'!C120","v":155.58294536349544},{"$f":"'Hull Plan'!C120","v":271.77082319603949},286.33176493450418,0.20195048898186932,286.34842596040221,0.20474610614163655,286.35090414892414,94.712175598821574,85.24755247942403,4.0964701910409435E-2,96.483216152335956,4.0271921760509227E-2,90.673026326159814,89.286008971930201,91.057742305593948,898.60666961973675,-155.67542334100122,889.75742413168018,130.51956345087308,286.3317649345056,-1.4210854715202004E-12]
[1,1098.8190574781045,132.2497653399204,1,1091.7956813290259,408.90658301079912,null,null,null,null,null,null,null,null,{"$f":"'Hull Long'!B70","v":1000},{"$f":"'Hull Long'!C70","v":-75},{"$f":"'Hull Plan'!C70","v":115.5},{"$f":"'Hull Long'!B121","v":1000},{"$f":"'Hull Long'!C121","v":141.85733244839565},{"$f":"'Hull Plan'!C121","v":287.43375004563728},276.74595313447423,100.80616156508488,302.30381494291527,102.04768359640018,286.33176493450418,94.767594953443179,65.823604168129165,19.725608712196173,96.221827673189068,19.40880087842768,71.266656290921333,89.007734996882476,90.778775550396773,998.81905747810447,-144.75024466007957,991.79568132902591,131.90657301079915,276.74595313447543,-1.1937117960769683E-12]
[1,1199.083121312151,142.41674638063535,1,1193.5538319646973,409.47039119918912,null,null,null,null,null,null,null,null,{"$f":"'Hull Long'!B71","v":1100},{"$f":"'Hull Long'!C71","v":-75},{"$f":"'Hull Plan'!C71","v":128},{"$f":"'Hull Long'!B122","v":1100},{"$f":"'Hull Long'!C122","v":128.6365170042709},{"$f":"'Hull Plan'!C122","v":300.85943957942646},267.11088006961,100.77822185373186,292.96066783585434,101.75971256084257,276.74595313447423,94.603990361031165,65.343013725957462,20.321101085304271,95.790117908484149,20.052995913011358,70.815677957377048,88.863220957318674,90.317453677064478,1099.083121312151,-134.58326361936463,1093.5538319646973,132.47038119918915,267.11088006961103,-1.0231815394945443E-12]
[1,1299.3029285774062,151.81037356693056,1,1294.9911421322881,409.2464377717709,null,null,null,null,null,null,null,null,{"$f":"'Hull Long'!B72","v":1200},{"$f":"'Hull Long'!C72","v":-75},{"$f":"'Hull Plan'!C72","v":139.5},{"$f":"'Hull Long'!B123","v":1200},{"$f":"'Hull Long'!C123","v":115.95570983889458},{"$f":"'Hull Plan'!C123","v":312.20735475395122},257.4721706430164,100.65907808041955,283.54264699604562,101.43755738962601,267.11088006961,94.395148057718586,64.875066512505683,20.956357955563245,95.35470307938408,20.729785429775745,70.35626708407186,88.687374960364892,89.873502507817776,1199.3029285774062,-125.18963643306941,1194.9911421322881,132.24642777177093,257.47217064301725,-8.5265128291212022E-13]
[1,1399.4829614894918,160.42495456274364,1,1396.1599726245393,408.2904130608249,null,null,null,null,null,null,null,null,{"$f":"'Hull Long'!B73","v":1300},{"$f":"'Hull Long'!C73","v":-75},{"$f":"'Hull Plan'!C73","v":150},{"$f":"'Hull Long'!B124","v":1300},{"$f":"'Hull Long'!C124","v":103.83896964514844},{"$f":"'Hull Plan'!C124","v":321.65356317294277},247.88773219233806,100.5497389355139,274.15925598151449,101.1733475101905,257.4721706430164,94.146745520658357,64.396642132058432,21.648082000703361,94.91483088890368,21.456612347283205,69.85289027753231,88.499027721764307,89.45858274342973,1299.4829614894918,-116.57505543725634,1296.1599726245393,131.29040306082496,247.88773219233875,-6.8212102632969618E-13]
[1,{"$f":"AH74+$H$59","v":1499.6276827386409},{"$f":"AI74+$I$59","v":168.25341583749105},1,{"$f":"AJ74+$H$59","v":1497.1046091881478},{"$f":"AK74+$I$59","v":406.67468613055047},null,null,null,null,null,null,null,null,{"$f":"'Hull Long'!B74","v":1400},{"$f":"'Hull Long'!C74","v":-75},{"$f":"'Hull Plan'!C74","v":159.5},{"$f":"'Hull Long'!B125","v":1400},{"$f":"'Hull Long'!C125","v":92.313892364077404},{"$f":"'Hull Plan'!C125","v":329.37384931644624},238.43462002883948,100.45023643575958,264.89416074465896,100.95756645478451,247.88773219233806,93.863500859779592,63.905159624150606,22.393119626119336,94.469806117975395,22.231339516069809,69.291967701268234,88.314912672612422,89.08299804085766,1399.6276827386409,-108.74659416250893,1397.1046091881478,129.67467613055049,238.43462002883996,-4.8316906031686813E-13]
[1,1599.741464094071,{"$f":"AI75+$I$59","v":175.2876736318249},1,1597.8623330268731,404.48683120505353,null,null,null,null,null,null,null,null,{"$f":"'Hull Long'!B75","v":1500},{"$f":"'Hull Long'!C75","v":-75},{"$f":"'Hull Plan'!C75","v":168},{"$f":"'Hull Long'!B126","v":1500},{"$f":"'Hull Long'!C126","v":81.412574528830177},{"$f":"'Hull Plan'!C126","v":335.54368657449089},229.20686064305582,100.36059983878135,255.84423591997231,100.78147459893526,238.43462002883948,93.54940764073875,63.401492874301248,23.185665376942985,94.019147006951528,23.049099484959974,68.664565931497805,88.149768691559217,88.756073949754921,1499.741464094071,-101.71233636817507,1497.8623330268731,127.48682120505356,229.20686064305625,-4.2632564145606011E-13]
[1,1699.8285296594911,181.51899022651793,1,1698.4643719255921,401.82858988814462,null,null,null,null,null,null,null,null,{"$f":"'Hull Long'!B76","v":1600},{"$f":"'Hull Long'!C76","v":-75},{"$f":"'Hull Plan'!C76","v":175.5},{"$f":"'Hull Long'!B127","v":1600},{"$f":"'Hull Long'!C127","v":71.172990104660329},{"$f":"'Hull Plan'!C127","v":340.33820305674146},220.31382305563358,100.2808556006579,247.11737953645383,100.63715257040153,229.20686064305582,93.207806209269478,62.890620629675141,24.016541414383877,93.562577322153743,23.901573161055378,67.966791300286403,88.016667285329717,88.486406651542453,1599.8285296594911,-95.481019773482032,1598.4643719255921,124.82857988814465,220.31382305563395,-3.694822225952521E-13]
[1,1799.8929120220096,186.93834280848694,1,1798.9367313994167,398.81538708337132,null,null,null,null,null,null,null,null,{"$f":"'Hull Long'!B77","v":1700},{"$f":"'Hull Long'!C77","v":-75},{"$f":"'Hull Plan'!C77","v":182},{"$f":"'Hull Long'!B128","v":1700},{"$f":"'Hull Long'!C128","v":61.641041976137416},{"$f":"'Hull Plan'!C128","v":343.9321388178879},211.87920183926551,100.21102733731453,238.83081823561383,100.51753284566875,220.31382305563358,92.841465323424089,62.382386695453768,24.872350534134807,93.10003388329568,24.776147981122154,67.200227072678757,87.927422393186433,88.282193506070641,1699.8929120220096,-90.061667191513024,1698.9367313994167,121.81537708337133,211.87920183926579,-2.8421709430404007E-13]
[1,1899.9384206486557,191.53684295915411,1,1899.3009087956618,395.57663324182852,null,null,null,null,null,null,null,null,{"$f":"'Hull Long'!B78","v":1800},{"$f":"'Hull Long'!C78","v":-75},{"$f":"'Hull Plan'!C78","v":187.5},{"$f":"'Hull Long'!B129","v":1800},{"$f":"'Hull Long'!C129","v":52.873785028922441},{"$f":"'Hull Plan'!C129","v":346.4997907593646},204.04078621677681,100.15113578986511,231.11011673550294,100.41642112160271,211.87920183926551,92.452678593431344,61.892328324166499,25.734544502254103,92.631695733451011,25.654993082402171,66.372318512929709,87.893136984816181,88.151705544687715,1799.9384206486557,-85.463167040845846,1799.3009087956618,118.57662324182857,204.04078621677692,0]
[1,1999.9686236736866,195.30625707425003,1,1999.5744937895774,392.25732829421742,null,null,null,null,null,null,null,null,{"$f":"'Hull Long'!B79","v":1900},{"$f":"'Hull Long'!C79","v":-75},{"$f":"'Hull Plan'!C79","v":192},{"$f":"'Hull Long'!B130","v":1900},{"$f":"'Hull Long'!C130","v":44.944856996763676},{"$f":"'Hull Plan'!C130","v":348.21493889527625},196.95146557732997,100.10119879402045,224.08940248054228,100.32850857491741,204.04078621677681,92.043384358989258,61.442517033733139,26.57845808813607,92.158042018150468,26.514098607277607,65.496499487922549,87.925042423941377,88.104059563960988,1899.9686236736866,-81.693752925749948,1899.5744937895774,115.25731829421743,196.95146557733003,0]
[1,2099.9868467365932,198.239694535436,1,2099.7716560205631,389.0222460460086,null,null,null,null,null,null,null,null,{"$f":"'Hull Long'!B80","v":2000},{"$f":"'Hull Long'!C80","v":-75},{"$f":"'Hull Plan'!C80","v":195.5},{"$f":"'Hull Long'!B131","v":2000},{"$f":"'Hull Long'!C131","v":37.954564625533862},{"$f":"'Hull Plan'!C131","v":349.25074238042333},190.78267287132908,100.06123125366787,217.91404188105494,100.24937444341045,196.95146557732997,91.615322044561296,61.062398567162347,27.372311040013965,91.679948051984866,27.32227938827635,64.591622450288327,88.036066509697704,88.150724168858858,1999.986846736593,-78.760315464563988,1999.7716560205631,112.02223604600863,190.78267287132905,0]
[1,2199.996195815741,200.33256260703806,1,2199.9035102950243,386.0664459561176,null,null,null,null,null,null,null,null,{"$f":"'Hull Long'!B81","v":2100},{"$f":"'Hull Long'!C81","v":-75},{"$f":"'Hull Plan'!C81","v":198},{"$f":"'Hull Long'!B132","v":2100},{"$f":"'Hull Long'!C132","v":32.051571816103774},{"$f":"'Hull Plan'!C132","v":349.77958120761446},185.73390647519179,100.03124511871279,212.74921434847963,100.17547102266765,190.78267287132908,91.170246076004887,60.789888883522082,28.075899125827938,91.198837998073543,28.039865040473043,63.679554506567534,88.244546367604556,88.309172375028055,2099.996195815741,-76.667447392961918,2099.9035102950243,109.06643595611766,185.73390647519167,0]
[1,2299.9996153436573,201.58399487590771,1,2299.9782957622519,383.64689209841976,null,null,null,null,null,null,null,null,{"$f":"'Hull Long'!B82","v":2200},{"$f":"'Hull Long'!C82","v":-75},{"$f":"'Hull Plan'!C82","v":199.5},{"$f":"'Hull Long'!B133","v":2200},{"$f":"'Hull Long'!C133","v":27.493107124595461},{"$f":"'Hull Plan'!C133","v":349.97278275577901},{"$f":"((O82-R82)^2+(S82-P82)^2+(T82-Q82)^2)^0.5+0.00001","v":182.06289847077448},{"$f":"((O82-O81)^2+(P82-P81)^2+(Q82-Q81)^2)^0.5","v":100.01124936725869},{"$f":"((R82-O81)^2+(S82-P81)^2+(T82-Q81)^2)^0.5","v":208.80748000631826},{"$f":"((R82-R81)^2+(S82-S81)^2+(T82-T81)^2)^0.5","v":100.10403052415992},{"$f":"U81","v":185.73390647519179},{"$f":"ACOS((U82*U82+V82*V82-W82*W82)/2/U82/V82)*180/PI()","v":90.71024659195497},{"$f":"ACOS((V82*V82+W82*W82-U82*U82)/2/V82/W82)*180/PI()","v":60.674399346750185},{"$f":"ACOS((W82*W82+Y82*Y82-X82*X82)/2/W82/Y82)*180/PI()","v":28.637236642533697},{"$f":"AC83+Z82+AA83+AB83-180","v":90.716955932784742},{"$f":"ACOS((U82*U82+W82*W82-V82*V82)/2/U82/W82)*180/PI()","v":28.615354061294862},{"$f":"ACOS((W82*W82+X82*X82-Y82*Y82)/2/W82/X82)*180/PI()","v":62.776351720946593},{"$f":"ACOS((X82*X82+Y82*Y82-W82*W82)/2/X82/Y82)*180/PI()","v":88.586411636519699},{"$f":"180+AG83-AF83-AE82-AD82","v":88.615003558588356},{"$f":"AH83-V83*SIN(AC83*PI()/180)","v":2199.9996153436573},{"$f":"AI83+V83*COS(AC83*PI()/180)","v":-75.416015124092254},{"$f":"AJ83-X83*SIN(AG83*PI()/180)","v":2199.9782957622519},{"$f":"AK83+X83*COS(AG83*PI()/180)","v":106.64688209841977},{"$f":"((AH82-AJ82)^2+(AI82-AK82)^2)^0.5","v":182.06289847077446},{"$f":"U82-AL82","v":0}]
[1,2400,202.00000999999997,1,2400,382.27758377319947,null,null,null,null,null,null,null,null,{"$f":"'Hull Long'!B83","v":2300},{"$f":"'Hull Long'!C83","v":-75},{"$f":"'Hull Plan'!C83","v":200},{"$f":"'Hull Long'!B134","v":2300},{"$f":"'Hull Long'!C134","v":25},{"$f":"'Hull Plan'!C134","v":350},{"$f":"((O83-R83)^2+(S83-P83)^2+(T83-Q83)^2)^0.5+0.00001","v":180.27757377319946},{"$f":"((O83-O82)^2+(P83-P82)^2+(Q83-Q82)^2)^0.5","v":100.0012499921876},{"$f":"((R83-O82)^2+(S83-P82)^2+(T83-Q82)^2)^0.5","v":206.51936955162341},{"$f":"((R83-R82)^2+(S83-S82)^2+(T83-T82)^2)^0.5","v":100.03107679073085},{"$f":"U82","v":182.06289847077448},{"$f":"ACOS((U83*U83+V83*V83-W83*W83)/2/U83/V83)*180/PI()","v":90.238356816328775},{"$f":"ACOS((V83*V83+W83*W83-U83*U83)/2/V83/W83)*180/PI()","v":60.800396212692213},{"$f":"ACOS((W83*W83+Y83*Y83-X83*X83)/2/W83/Y83)*180/PI()","v":28.967956311808784},{"$f":"Z83","v":90.238356816328775},{"$f":"ACOS((U83*U83+W83*W83-V83*V83)/2/U83/W83)*180/PI()","v":28.961246970978976},{"$f":"ACOS((W83*W83+X83*X83-Y83*Y83)/2/W83/X83)*180/PI()","v":61.823089665513727},{"$f":"ACOS((X83*X83+Y83*Y83-W83*W83)/2/X83/Y83)*180/PI()","v":89.208954022677489},{"$f":"180-AD83-AE83","v":89.215663363507304},{"$f":"O83","v":2300},{"$f":"P83","v":-75},{"$f":"AH83","v":2300},{"$f":"AI83+U83","v":105.27757377319946},{"$f":"((AH83-AJ83)^2+(AI83-AK83)^2)^0.5","v":180.27757377319946},{"$f":"U83-AL83","v":0}]
[1,{"$f":"E83","v":2400},{"$f":"F83","v":382.27758377319947},0,2400,382.27758377319947,null,null,null,null,null,null,null,null,{"$f":"'Hull Long'!B84","v":2300},{"$f":"'Hull Long'!C84","v":-75},{"$f":"'Hull Plan'!C84","v":200},{"$f":"'Hull Long'!B135","v":2300},{"$f":"'Hull Long'!C135","v":25},{"$f":"'Hull Plan'!C135","v":350},{"$f":"((O84-R84)^2+(S84-P84)^2+(T84-Q84)^2)^0.5+0.00001","v":180.27757377319946},{"$f":"((O84-O85)^2+(P84-P85)^2+(Q84-Q85)^2)^0.5","v":100.0012499921876},{"$f":"((R84-O85)^2+(S84-P85)^2+(T84-Q85)^2)^0.5","v":206.51936955162341},{"$f":"((R84-R85)^2+(S84-S85)^2+(T84-T85)^2)^0.5","v":100.03107679073085},{"$f":"U85","v":182.06289847077448},{"$f":"ACOS((U84*U84+V84*V84-W84*W84)/2/U84/V84)*180/PI()","v":90.238356816328775},{"$f":"ACOS((V84*V84+W84*W84-U84*U84)/2/V84/W84)*180/PI()","v":60.800396212692213},{"$f":"ACOS((W84*W84+Y84*Y84-X84*X84)/2/W84/Y84)*180/PI()","v":28.967956311808784},{"$f":"Z84","v":90.238356816328775},{"$f":"ACOS((U84*U84+W84*W84-V84*V84)/2/U84/W84)*180/PI()","v":28.961246970978976},{"$f":"ACOS((W84*W84+X84*X84-Y84*Y84)/2/W84/X84)*180/PI()","v":61.823089665513727},{"$f":"ACOS((X84*X84+Y84*Y84-W84*W84)/2/X84/Y84)*180/PI()","v":89.208954022677489},{"$f":"180-AD84-AE84","v":89.215663363507304},{"$f":"O84","v":2300},{"$f":"P84","v":-75},{"$f":"AH84","v":2300},{"$f":"AI84+U84","v":105.27757377319946},{"$f":"((AH84-AJ84)^2+(AI84-AK84)^2)^0.5","v":180.27757377319946},{"$f":"U84-AL84","v":0}]
[0,2500.0003846563427,201.58399487590771,0,2500.0217042377481,383.64689209841976,null,null,null,null,null,null,null,null,{"$f":"'Hull Long'!B85","v":2400},{"$f":"'Hull Long'!C85","v":-75},{"$f":"'Hull Plan'!C85","v":199.5},{"$f":"'Hull Long'!B136","v":2400},{"$f":"'Hull Long'!C136","v":27.493107124595461},{"$f":"'Hull Plan'!C136","v":349.97278275577901},{"$f":"((O85-R85)^2+(S85-P85)^2+(T85-Q85)^2)^0.5+0.00001","v":182.06289847077448},{"$f":"((O85-O86)^2+(P85-P86)^2+(Q85-Q86)^2)^0.5","v":100.01124936725869},{"$f":"((R85-O86)^2+(S85-P86)^2+(T85-Q86)^2)^0.5","v":208.80748000631826},{"$f":"((R85-R86)^2+(S85-S86)^2+(T85-T86)^2)^0.5","v":100.10403052415992},{"$f":"U86","v":185.73390647519179},{"$f":"ACOS((U85*U85+V85*V85-W85*W85)/2/U85/V85)*180/PI()","v":90.71024659195497},{"$f":"ACOS((V85*V85+W85*W85-U85*U85)/2/V85/W85)*180/PI()","v":60.674399346750185},{"$f":"ACOS((W85*W85+Y85*Y85-X85*X85)/2/W85/Y85)*180/PI()","v":28.637236642533697},{"$f":"AC84+Z85+AA84+AB84-180","v":90.716955932784742},{"$f":"ACOS((U85*U85+W85*W85-V85*V85)/2/U85/W85)*180/PI()","v":28.615354061294862},{"$f":"ACOS((W85*W85+X85*X85-Y85*Y85)/2/W85/X85)*180/PI()","v":62.776351720946593},{"$f":"ACOS((X85*X85+Y85*Y85-W85*W85)/2/X85/Y85)*180/PI()","v":88.586411636519699},{"$f":"180+AG84-AF84-AE85-AD85","v":88.615003558588356},{"$f":"AH84+V84*SIN(AC84*PI()/180)","v":2400.0003846563427},{"$f":"AI84+V84*COS(AC84*PI()/180)","v":-75.416015124092254},{"$f":"AJ84+X84*SIN(AG84*PI()/180)","v":2400.0217042377481},{"$f":"AK84+X84*COS(AG84*PI()/180)","v":106.64688209841977},{"$f":"((AH85-AJ85)^2+(AI85-AK85)^2)^0.5","v":182.06289847077446},{"$f":"U85-AL85","v":0}]
[0,2600.003804184259,200.33256260703806,0,2600.0964897049757,386.0664459561176,null,null,null,null,null,null,null,null,{"$f":"'Hull Long'!B86","v":2500},{"$f":"'Hull Long'!C86","v":-75},{"$f":"'Hull Plan'!C86","v":198},{"$f":"'Hull Long'!B137","v":2500},{"$f":"'Hull Long'!C137","v":32.051571816103774},{"$f":"'Hull Plan'!C137","v":349.77958120761446},{"$f":"((O86-R86)^2+(S86-P86)^2+(T86-Q86)^2)^0.5+0.00001","v":185.73390647519179},{"$f":"((O86-O87)^2+(P86-P87)^2+(Q86-Q87)^2)^0.5","v":100.03124511871279},{"$f":"((R86-O87)^2+(S86-P87)^2+(T86-Q87)^2)^0.5","v":212.74921434847963},{"$f":"((R86-R87)^2+(S86-S87)^2+(T86-T87)^2)^0.5","v":100.17547102266765},{"$f":"U87","v":190.78267287132908},{"$f":"ACOS((U86*U86+V86*V86-W86*W86)/2/U86/V86)*180/PI()","v":91.170246076004887},{"$f":"ACOS((V86*V86+W86*W86-U86*U86)/2/V86/W86)*180/PI()","v":60.789888883522082},{"$f":"ACOS((W86*W86+Y86*Y86-X86*X86)/2/W86/Y86)*180/PI()","v":28.075899125827938},{"$f":"AC85+Z86+AA85+AB85-180","v":91.198837998073543},{"$f":"ACOS((U86*U86+W86*W86-V86*V86)/2/U86/W86)*180/PI()","v":28.039865040473043},{"$f":"ACOS((W86*W86+X86*X86-Y86*Y86)/2/W86/X86)*180/PI()","v":63.679554506567534},{"$f":"ACOS((X86*X86+Y86*Y86-W86*W86)/2/X86/Y86)*180/PI()","v":88.244546367604556},{"$f":"180+AG85-AF85-AE86-AD86","v":88.309172375028055},{"$f":"AH85+V85*SIN(AC85*PI()/180)","v":2500.003804184259},{"$f":"AI85+V85*COS(AC85*PI()/180)","v":-76.667447392961918},{"$f":"AJ85+X85*SIN(AG85*PI()/180)","v":2500.0964897049757},{"$f":"AK85+X85*COS(AG85*PI()/180)","v":109.06643595611766},{"$f":"((AH86-AJ86)^2+(AI86-AK86)^2)^0.5","v":185.73390647519167},{"$f":"U86-AL86","v":0}]
[0,2700.0131532634068,198.239694535436,0,2700.2283439794369,389.0222460460086,null,null,null,null,null,null,null,null,{"$f":"'Hull Long'!B87","v":2600},{"$f":"'Hull Long'!C87","v":-75},{"$f":"'Hull Plan'!C87","v":195.5},{"$f":"'Hull Long'!B138","v":2600},{"$f":"'Hull Long'!C138","v":37.954564625533862},{"$f":"'Hull Plan'!C138","v":349.25074238042333},190.78267287132908,100.06123125366787,217.91404188105494,100.24937444341045,196.95146557732997,91.615322044561296,61.062398567162347,27.372311040013965,91.679948051984866,27.32227938827635,64.591622450288327,88.036066509697704,88.150724168858858,2600.0131532634068,-78.760315464563988,2600.2283439794369,112.02223604600863,190.78267287132905,0]
[0,2800.0313763263134,195.30625707425003,0,2800.4255062104226,392.25732829421742,null,null,null,null,null,null,null,null,{"$f":"'Hull Long'!B88","v":2700},{"$f":"'Hull Long'!C88","v":-75},{"$f":"'Hull Plan'!C88","v":192},{"$f":"'Hull Long'!B139","v":2700},{"$f":"'Hull Long'!C139","v":44.944856996763676},{"$f":"'Hull Plan'!C139","v":348.21493889527625},196.95146557732997,100.10119879402045,224.08940248054228,100.32850857491741,204.04078621677681,92.043384358989258,61.442517033733139,26.57845808813607,92.158042018150468,26.514098607277607,65.496499487922549,87.925042423941377,88.104059563960988,2700.0313763263134,-81.693752925749948,2700.4255062104226,115.25731829421743,196.95146557733003,0]
[0,2900.0615793513443,191.53684295915411,0,2900.6990912043384,395.57663324182852,null,null,null,null,null,null,null,null,{"$f":"'Hull Long'!B89","v":2800},{"$f":"'Hull Long'!C89","v":-75},{"$f":"'Hull Plan'!C89","v":187.5},{"$f":"'Hull Long'!B140","v":2800},{"$f":"'Hull Long'!C140","v":52.873785028922441},{"$f":"'Hull Plan'!C140","v":346.4997907593646},204.04078621677681,100.15113578986511,231.11011673550294,100.41642112160271,211.87920183926551,92.452678593431344,61.892328324166499,25.734544502254103,92.631695733451011,25.654993082402171,66.372318512929709,87.893136984816181,88.151705544687715,2800.0615793513443,-85.463167040845846,2800.6990912043384,118.57662324182857,204.04078621677692,0]
[0,3000.1070879779904,186.93834280848694,0,3001.0632686005833,398.81538708337132,null,null,null,null,null,null,null,null,{"$f":"'Hull Long'!B90","v":2900},{"$f":"'Hull Long'!C90","v":-75},{"$f":"'Hull Plan'!C90","v":182},{"$f":"'Hull Long'!B141","v":2900},{"$f":"'Hull Long'!C141","v":61.641041976137416},{"$f":"'Hull Plan'!C141","v":343.9321388178879},211.87920183926551,100.21102733731453,238.83081823561383,100.51753284566875,220.31382305563358,92.841465323424089,62.382386695453768,24.872350534134807,93.10003388329568,24.776147981122154,67.200227072678757,87.927422393186433,88.282193506070641,2900.1070879779904,-90.061667191513024,2901.0632686005833,121.81537708337133,211.87920183926579,-2.8421709430404007E-13]
[0,3100.1714703405091,181.51899022651793,0,3101.5356280744077,401.82858988814462,null,null,null,null,null,null,null,null,{"$f":"'Hull Long'!B91","v":3000},{"$f":"'Hull Long'!C91","v":-75},{"$f":"'Hull Plan'!C91","v":175.5},{"$f":"'Hull Long'!B142","v":3000},{"$f":"'Hull Long'!C142","v":71.172990104660329},{"$f":"'Hull Plan'!C142","v":340.33820305674146},220.31382305563358,100.2808556006579,247.11737953645383,100.63715257040153,229.20686064305582,93.207806209269478,62.890620629675141,24.016541414383877,93.562577322153743,23.901573161055378,67.966791300286403,88.016667285329717,88.486406651542453,3000.1714703405091,-95.481019773482032,3001.5356280744077,124.82857988814465,220.31382305563395,-3.694822225952521E-13]
[0,3200.2585359059294,175.2876736318249,0,3202.1376669731267,404.48683120505353,null,null,null,null,null,null,null,null,{"$f":"'Hull Long'!B92","v":3100},{"$f":"'Hull Long'!C92","v":-75},{"$f":"'Hull Plan'!C92","v":168},{"$f":"'Hull Long'!B143","v":3100},{"$f":"'Hull Long'!C143","v":81.412574528830177},{"$f":"'Hull Plan'!C143","v":335.54368657449089},229.20686064305582,100.36059983878135,255.84423591997231,100.78147459893526,238.43462002883948,93.54940764073875,63.401492874301248,23.185665376942985,94.019147006951528,23.049099484959974,68.664565931497805,88.149768691559217,88.756073949754921,3100.2585359059294,-101.71233636817507,3102.1376669731267,127.48682120505356,229.20686064305622,-3.979039320256561E-13]
[0,3300.3723172613595,168.25341583749105,0,3302.8953908118519,406.67468613055047,null,null,null,null,null,null,null,null,{"$f":"'Hull Long'!B93","v":3200},{"$f":"'Hull Long'!C93","v":-75},{"$f":"'Hull Plan'!C93","v":159.5},{"$f":"'Hull Long'!B144","v":3200},{"$f":"'Hull Long'!C144","v":92.313892364077404},{"$f":"'Hull Plan'!C144","v":329.37384931644624},238.43462002883948,100.45023643575958,264.89416074465896,100.95756645478451,247.88773219233806,93.863500859779592,63.905159624150606,22.393119626119336,94.469806117975395,22.231339516069809,69.291967701268234,88.314912672612422,89.08299804085766,3200.3723172613595,-108.74659416250893,3202.8953908118519,129.67467613055049,238.43462002883996,-4.8316906031686813E-13]
[0,3400.5170385105084,160.42495456274364,0,3403.8400273754605,408.2904130608249,null,null,null,null,null,null,null,null,{"$f":"'Hull Long'!B94","v":3300},{"$f":"'Hull Long'!C94","v":-75},{"$f":"'Hull Plan'!C94","v":150},{"$f":"'Hull Long'!B145","v":3300},{"$f":"'Hull Long'!C145","v":103.83896964514844},{"$f":"'Hull Plan'!C145","v":321.65356317294277},247.88773219233806,100.5497389355139,274.15925598151449,101.1733475101905,257.4721706430164,94.146745520658357,64.396642132058432,21.648082000703361,94.91483088890368,21.456612347283205,69.85289027753231,88.499027721764307,89.45858274342973,3300.5170385105084,-116.57505543725634,3303.8400273754605,131.29040306082496,247.88773219233875,-6.8212102632969618E-13]
[0,{"$f":"AH95+$H$59","v":3500.697071422594},{"$f":"AI95+$I$59","v":151.81037356693056},0,{"$f":"AJ95+$H$59","v":3505.0088578677114},{"$f":"AK95+$I$59","v":409.2464377717709},null,null,null,null,null,null,null,null,{"$f":"'Hull Long'!B95","v":3400},{"$f":"'Hull Long'!C95","v":-75},{"$f":"'Hull Plan'!C95","v":139.5},{"$f":"'Hull Long'!B146","v":3400},{"$f":"'Hull Long'!C146","v":115.95570983889458},{"$f":"'Hull Plan'!C146","v":312.20735475395122},257.4721706430164,100.65907808041955,283.54264699604562,101.43755738962601,267.11088006961,94.395148057718586,64.875066512505683,20.956357955563245,95.35470307938408,20.729785429775745,70.35626708407186,88.687374960364892,89.873502507817776,3400.697071422594,-125.18963643306941,3405.0088578677114,132.24642777177093,257.47217064301725,-8.5265128291212022E-13]
[0,3600.916878687849,142.41674638063535,0,3606.446168035302,409.47039119918912,null,null,null,null,null,null,null,null,{"$f":"'Hull Long'!B96","v":3500},{"$f":"'Hull Long'!C96","v":-75},{"$f":"'Hull Plan'!C96","v":128},{"$f":"'Hull Long'!B147","v":3500},{"$f":"'Hull Long'!C147","v":128.6365170042709},{"$f":"'Hull Plan'!C147","v":300.85943957942646},267.11088006961,100.77822185373186,292.96066783585434,101.75971256084257,276.74595313447423,94.603990361031165,65.343013725957462,20.321101085304271,95.790117908484149,20.052995913011358,70.815677957377048,88.863220957318674,90.317453677064478,3500.916878687849,-134.58326361936463,3506.446168035302,132.47038119918915,267.11088006961103,-1.0231815394945443E-12]
[0,3701.1809425218953,132.2497653399204,0,3708.2043186709734,408.90658301079912,null,null,null,null,null,null,null,null,{"$f":"'Hull Long'!B97","v":3600},{"$f":"'Hull Long'!C97","v":-75},{"$f":"'Hull Plan'!C97","v":115.5},{"$f":"'Hull Long'!B148","v":3600},{"$f":"'Hull Long'!C148","v":141.85733244839565},{"$f":"'Hull Plan'!C148","v":287.43375004563728},276.74595313447423,100.80616156508499,302.30381494291527,102.04768359640029,286.33176493450418,94.767594953443165,65.823604168129165,19.725608712196212,96.221827673189068,19.40880087842768,71.266656290921318,89.007734996882462,90.778775550396787,3601.1809425218953,-144.75024466007957,3608.2043186709734,131.90657301079915,276.74595313447543,-1.1937117960769683E-12]
[0,3801.3933303802633,121.32458665899875,0,3810.2425758683194,407.51957345087305,null,null,null,null,null,null,null,null,{"$f":"'Hull Long'!B98","v":3699.9},{"$f":"'Hull Long'!C98","v":-75},{"$f":"'Hull Plan'!C98","v":102.01399949999998},{"$f":"'Hull Long'!B149","v":3699.9},{"$f":"'Hull Long'!C149","v":155.58294536349544},{"$f":"'Hull Plan'!C149","v":271.77082319603949},286.33176493450418,0.20195048898164417,286.34842596040221,0.20474610614141445,286.35090414892414,94.712175598826832,85.247552479418729,4.0964701910409435E-2,96.483216152341299,4.0271921760509227E-2,90.673026326160539,89.286008971929419,91.057742305593308,3701.3933303802633,-155.67542334100122,3710.2425758683194,130.51956345087305,286.3317649345056,-1.4210854715202004E-12]
[0,3801.593989390627,121.30178399337154,0,3810.4472870855184,407.51579383012432,null,null,null,null,null,null,null,null,{"$f":"'Hull Long'!B99","v":3700.1},{"$f":"'Hull Long'!C99","v":-75},{"$f":"'Hull Plan'!C99","v":101.98599950000002},{"$f":"'Hull Long'!B150","v":3700.1},{"$f":"'Hull Long'!C150","v":155.61093042155551},{"$f":"'Hull Plan'!C150","v":271.73709183814333},286.35090414892414,202.13651368818557,364.74143867382884,205.6801546926649,305.39785090173774,95.045120313616749,51.447514331571448,34.318436819030389,96.816853647287189,33.507365354811789,56.838177070314316,88.843386110655317,91.426190908537791,3701.593989390627,-155.69822600662843,3710.4472870855184,130.51578383012435,286.35090414892562,-1.4779288903810084E-12]
[0,4002.3015265723288,97.308979145463638,0,4016.0637255538068,402.39658822621482,null,null,null,null,null,null,null,null,{"$f":"'Hull Long'!B100","v":3900},{"$f":"'Hull Long'!C100","v":-75},{"$f":"'Hull Plan'!C100","v":72},{"$f":"'Hull Long'!B151","v":3900},{"$f":"'Hull Long'!C151","v":184.55885597410949},{"$f":"'Hull Plan'!C151","v":232.92557755948741},305.39785090173774,101.35210900617707,329.92519650203468,103.84169545992727,314.9274308588889,94.921148755272384,67.256613968228109,18.342563816172607,97.503953553161409,17.822237276499511,72.631389391737756,89.026046792089645,92.129178129645226,3902.3015265723288,-179.69103085453634,3916.0637255538068,125.39657822621486,305.3978509017623,-2.4556356947869062E-11]
[0,4102.7856411551093,84.07294059480256,0,4119.833729042125,398.53859755403175,null,null,null,null,null,null,null,null,{"$f":"'Hull Long'!B101","v":4000},{"$f":"'Hull Long'!C101","v":-75},{"$f":"'Hull Plan'!C101","v":55.5},{"$f":"'Hull Long'!B152","v":4000},{"$f":"'Hull Long'!C152","v":199.74884818167922},{"$f":"'Hull Plan'!C152","v":209.42319783473931},314.9274308588889,101.51970252123476,338.92896354995628,104.61867431596119,324.56268177355753,94.833019720858886,67.801494053925296,17.975332150627715,97.936151058421046,17.365486225215779,73.217027423096553,88.807640426275697,92.520617689243238,4002.7856411551097,-192.92706940519741,4019.833729042125,121.53858755403176,314.92743085892505,-3.6152414395473897E-11]
[0,4203.3330432692528,70.056167496234167,0,4224.3511806700162,393.9375845307365,null,null,null,null,null,null,null,null,{"$f":"'Hull Long'!B102","v":4100},{"$f":"'Hull Long'!C102","v":-75},{"$f":"'Hull Plan'!C102","v":38},{"$f":"'Hull Long'!B153","v":4100},{"$f":"'Hull Long'!C153","v":215.39243903480215},{"$f":"'Hull Plan'!C153","v":182.95916411254859},324.56268177355753,101.69685344198217,347.91761522083698,105.52274383319769,334.43312308829167,94.660283986007869,68.401808311568857,17.648954665796982,98.373261248981919,16.937907702423256,73.921136305912995,88.429909028290012,92.853933254631286,4103.3330432692528,-206.94384250376581,4124.3511806700162,116.93757453073654,324.56268177360533,-4.7805315261939541E-11]
[0,4303.9458488459595,55.246935443766034,0,4329.7430459024208,388.68361375414361,null,null,null,null,null,null,null,null,{"$f":"'Hull Long'!B103","v":4200},{"$f":"'Hull Long'!C103","v":-75},{"$f":"'Hull Plan'!C103","v":19.5},{"$f":"'Hull Long'!B154","v":4200},{"$f":"'Hull Long'!C154","v":231.47683821912474},{"$f":"'Hull Plan'!C154","v":153.35609722808502},334.43312308829167,101.88351191434265,356.99600126867165,106.56639878572649,344.71388862195886,94.393466697846833,69.074428405839328,17.355604642347735,98.817490924194544,16.532104896313822,74.780067018946966,87.864328338705334,93.111852311080469,4203.9458488459595,-221.75307455623394,4229.7430459024208,111.68360375414365,334.43312308835101,-5.9344529290683568E-11]
[0,4404.6252640016455,39.629465613188188,0,4436.1523084962173,382.89861726296635,null,null,null,null,null,null,null,null,{"$f":"'Hull Long'!B104","v":4300},{"$f":"'Hull Long'!C104","v":-75},{"$f":"'Hull Plan'!C104","v":0},{"$f":"'Hull Long'!B155","v":4300},{"$f":"'Hull Long'!C155","v":247.99028023137919},{"$f":"'Hull Plan'!C155","v":120.43644378114854},344.71388862195886,160.07810593582121,252.39866888862511,107.76203385354987,230.76222247029708,42.974335945458648,111.40988373021425,25.266917295563413,48.221859917840248,25.615780324327115,66.068137644899139,88.664945059537459,93.563606003148919,4304.6252640016455,-237.37054438681179,4336.1523084962173,105.89860726296641,344.7138886220298,-7.0940586738288403E-11]
[0,4524.0003493065788,146.28118387613893,0,4543.7059749005348,376.20049937490279,null,null,null,null,null,null,null,null,{"$f":"'Hull Long'!B105","v":4400},{"$f":"'Hull Long'!C105","v":50},{"$f":"'Hull Plan'!C105","v":0},{"$f":"'Hull Long'!B156","v":4400},{"$f":"'Hull Long'!C156","v":264.92189439594011},{"$f":"'Hull Plan'!C156","v":84.02248516585837},230.76222247029708,160.07810593582121,158.5740366680545,109.12178452799117,115.91140993292811,43.342211384145301,92.800509017017276,43.481723003146442,48.240872327763213,43.857279598837422,46.96513817086101,89.553138825992534,94.076243173913085,4424.0003493065788,-130.71882612386105,4443.7059749005348,99.200489374902816,230.76222247038029,-8.3218765212222934E-11]
[0,4643.4108181878519,252.89328413476102,0,4652.5517186900752,368.44370122907497,null,null,null,null,null,null,null,null,{"$f":"'Hull Long'!B106","v":4500},{"$f":"'Hull Long'!C106","v":175},{"$f":"'Hull Plan'!C106","v":0},{"$f":"'Hull Long'!B157","v":4500},{"$f":"'Hull Long'!C157","v":282.26159685887365},{"$f":"'Hull Plan'!C157","v":43.936345702569213},115.91140993292811,160.07810593582121,110.65736947755805,110.65736947755805,1.0000000000000001E-5,43.73068408312318,46.393294005853839,89.999997409967861,48.253788431050111,89.876021911022974,5.1226418775095632E-6,89.999997409967861,94.647077314255711,4543.4108181878519,-24.106725865238971,4552.5517186900752,91.443691229074986,115.91140993302372,-9.5610630523879081E-11]
[0,4762.8453174437418,359.47846315836978,0,4762.8453182452758,359.47847301949588,null,null,null,null,null,null,null,null,{"$f":"'Hull Long'!B107","v":4600},{"$f":"'Hull Long'!C107","v":300},{"$f":"'Hull Plan'!C107","v":0},{"$f":"'Hull Long'!B158","v":4600},{"$f":"'Hull Long'!C158","v":300},{"$f":"'Hull Plan'!C158","v":0},1.0000000000000001E-5,160.07810593582121,160.07810593582121,160.07810593582121,1.0000000000000001E-5,89.999998242138602,3.6222548107960426E-6,89.999998242138602,94.647078089010392,89.999998242138602,3.6222548107960426E-6,89.999998242138602,94.647078039894453,4662.8453174437418,82.478453158369831,4662.8453182452758,82.478463019495905,9.8936476724976765E-6,1.0635232750232433E-7]
[0,4922.3971898367972,346.50926827702835,0,4922.3971906494489,346.50927827492785,null,null,null,null,null,null,null,null,{"$f":"'Hull Long'!B108","v":4700},{"$f":"'Hull Long'!C108","v":425},{"$f":"'Hull Plan'!C108","v":0},{"$f":"'Hull Long'!B159","v":4700},{"$f":"'Hull Long'!C159","v":425},{"$f":"'Hull Plan'!C159","v":0},1.0000000000000001E-5,null,null,null,null,null,null,null,null,null,null,null,null,4822.3971898367972,69.509258277028366,4822.3971906494489,69.509268274927848,1.0030872188293406E-5,-3.0872188293404914E-8]
[0,0,0,0,0,0,null,null,null,null,null,null,null,null,"X0","Z0","Y0","X1","Z1","Y1","F","L","D","U","F'","A1","A2","A3","A","B1","B2","B3","B","XA","YA","XB","YB","Check F","Error F"]
[0,{"$f":"(AH110+$H$110-$H$111)*COS(RADIANS($J$110))+$H$112+(AI110+$I$110-$I$111)*SIN(RADIANS($J$110))","v":2510.2201584461977},{"$f":"(AI110+$I$110-$I$111)*COS(RADIANS($J$110))+$I$112-(AH110+$H$110-$H$111)*SIN(RADIANS($J$110))","v":373.69973400602476},0,{"$f":"(AJ110+$H$110-$H$111)*COS(RADIANS($J$110))+$H$112+(AK110+$I$110-$I$111)*SIN(RADIANS($J$110))","v":2510.2201575228491},{"$f":"(AK110+$I$110-$I$111)*COS(RADIANS($J$110))+$I$112-(AJ110+$H$110-$H$111)*SIN(RADIANS($J$110))","v":373.69972400405641},"Top Side Plank",{"$f":"-2290*Basic!$D$2","v":-2290},{"$f":"161*Basic!$D$2-AI134+AK83+I59","v":518.27758377319947},172.4,null,null,null,null,{"$f":"'Hull Long'!B110","v":-100},{"$f":"'Hull Long'!C110","v":425},{"$f":"'Hull Plan'!C110","v":0},{"$f":"'Hull Long'!B161","v":-100},{"$f":"'Hull Long'!C161","v":425},{"$f":"'Hull Plan'!C161","v":0},{"$f":"((O110-R110)^2+(S110-P110)^2+(T110-Q110)^2)^0.5+0.00001","v":1.0000000000000001E-5},null,null,null,null,null,null,null,null,null,null,null,null,{"$f":"AH111-V111*SIN(AC111*PI()/180)","v":-155.82932082427226},{"$f":"AI111+V111*COS(AC111*PI()/180)","v":523.75829297584949},{"$f":"AJ111-X111*SIN(AG111*PI()/180)","v":-155.82931858621052},{"$f":"AK111+X111*COS(AG111*PI()/180)","v":523.75830276783699},{"$f":"((AH110-AJ110)^2+(AI110-AK110)^2)^0.5","v":1.0044497982623366E-5},{"$f":"U110-AL110","v":-4.4497982623365262E-8}]
[2,{"$f":"(AH111+$H$110-$H$111)*COS(RADIANS($J$110))+$H$112+(AI111+$I$110-$I$111)*SIN(RADIANS($J$110))","v":2350.8198293378478},{"$f":"(AI111+$I$110-$I$111)*COS(RADIANS($J$110))+$I$112-(AH111+$H$110-$H$111)*SIN(RADIANS($J$110))","v":388.41486499931153},2,{"$f":"(AJ111+$H$110-$H$111)*COS(RADIANS($J$110))+$H$112+(AK111+$I$110-$I$111)*SIN(RADIANS($J$110))","v":2350.8198284274072},{"$f":"(AK111+$I$110-$I$111)*COS(RADIANS($J$110))+$I$112-(AJ111+$H$110-$H$111)*SIN(RADIANS($J$110))","v":388.41485513716901},null,{"$f":"AH134+$H$110","v":10},{"$f":"AI134+$I$110","v":543.27758377319947},null,null,null,null,null,{"$f":"'Hull Long'!B111","v":0},{"$f":"'Hull Long'!C111","v":300},{"$f":"'Hull Plan'!C111","v":0},{"$f":"'Hull Long'!B162","v":0},{"$f":"'Hull Long'!C162","v":300},{"$f":"'Hull Plan'!C162","v":0},1.0000000000000001E-5,{"$f":"((O111-O110)^2+(P111-P110)^2+(Q111-Q110)^2)^0.5","v":160.07810593582121},{"$f":"((R111-O110)^2+(S111-P110)^2+(T111-Q110)^2)^0.5","v":160.07810593582121},{"$f":"((R111-R110)^2+(S111-S110)^2+(T111-T110)^2)^0.5","v":160.07810593582121},{"$f":"U110","v":1.0000000000000001E-5},{"$f":"ACOS((U111*U111+V111*V111-W111*W111)/2/U111/V111)*180/PI()","v":89.999998242138602},{"$f":"ACOS((V111*V111+W111*W111-U111*U111)/2/V111/W111)*180/PI()","v":3.6222548107960426E-6},{"$f":"ACOS((W111*W111+Y111*Y111-X111*X111)/2/W111/Y111)*180/PI()","v":89.999998242138602},{"$f":"AC112+Z111+AA112+AB112-180","v":77.125656942128273},{"$f":"ACOS((U111*U111+W111*W111-V111*V111)/2/U111/W111)*180/PI()","v":89.999998242138602},{"$f":"ACOS((W111*W111+X111*X111-Y111*Y111)/2/W111/X111)*180/PI()","v":3.6222548107960426E-6},{"$f":"ACOS((X111*X111+Y111*Y111-W111*W111)/2/X111/Y111)*180/PI()","v":89.999998242138602},{"$f":"180+AG112-AF112-AE111-AD111","v":77.12565689186853},0.22459240180194229,488.09071432479868,0.22459460857615454,488.09072397989598,9.9040777622096578E-6,9.5922237790343034E-8]
[2,{"$f":"(AH112+$H$110-$H$111)*COS(RADIANS($J$110))+$H$112+(AI112+$I$110-$I$111)*SIN(RADIANS($J$110))","v":2245.4711247060213},{"$f":"(AI112+$I$110-$I$111)*COS(RADIANS($J$110))+$I$112-(AH112+$H$110-$H$111)*SIN(RADIANS($J$110))","v":422.27788099152639},2,{"$f":"(AJ112+$H$110-$H$111)*COS(RADIANS($J$110))+$H$112+(AK112+$I$110-$I$111)*SIN(RADIANS($J$110))","v":2248.7002725752586},{"$f":"(AK112+$I$110-$I$111)*COS(RADIANS($J$110))+$I$112-(AJ112+$H$110-$H$111)*SIN(RADIANS($J$110))","v":397.84208110777843},null,{"$f":"AH134+$H$110","v":10},{"$f":"AI134+$I$110","v":543.27758377319947},null,null,null,null,null,{"$f":"'Hull Long'!B112","v":100},{"$f":"'Hull Long'!C112","v":282.26159685887365},{"$f":"'Hull Plan'!C112","v":43.936345702569213},{"$f":"'Hull Long'!B163","v":100},{"$f":"'Hull Long'!C163","v":291.9370894813062},{"$f":"'Hull Plan'!C163","v":21.266540642722106},24.64823952948581,110.65736947755805,102.55377261193766,102.55377261193766,1.0000000000000001E-5,64.65273343583722,12.545010005119318,89.999997205308617,64.580651489561774,102.80225655904346,5.5330856145987559E-6,89.999997205308617,77.125655961570544,100.16926531988827,440.59212724065969,100.20027445580004,465.24034726469921,24.648239529831997,-3.4618707900335721E-10]
[2,2140.6138064116153,452.48560614054924,2,2146.7056074292236,406.33719281702832,null,null,null,null,null,null,null,null,{"$f":"'Hull Long'!B113","v":200},{"$f":"'Hull Long'!C113","v":264.92189439594011},{"$f":"'Hull Plan'!C113","v":84.02248516585837},{"$f":"'Hull Long'!B164","v":200},{"$f":"'Hull Long'!C164","v":284.05540654360914},{"$f":"'Hull Plan'!C164","v":41.587901701323261},46.548749627551622,109.12178452799117,100.04365518318509,102.34783163899671,24.64823952948581,66.409323418031846,25.239283603312749,88.35948388585696,66.32915056455488,88.351392978655369,13.929596793778872,77.710919320364155,77.638837374063755,200.11030403631702,396.7817102276407,200.17543876180571,443.33041428461945,46.548749627854178,-3.0255620231400826E-10]
[2,2036.2217507582197,479.22424216993647,2,2044.8355577803538,413.89766282557326,null,null,null,null,null,null,null,null,{"$f":"'Hull Long'!B114","v":300},{"$f":"'Hull Long'!C114","v":247.99028023137919},{"$f":"'Hull Plan'!C114","v":120.43644378114854},{"$f":"'Hull Long'!B165","v":300},{"$f":"'Hull Long'!C165","v":276.35921828699054},{"$f":"'Hull Plan'!C165","v":60.96408317580341},65.892030172212984,107.76203385354987,103.25939318107463,102.15022135175872,46.548749627551622,68.121761515656544,36.310619275089792,75.575894462953826,68.033313408479387,75.567619209253664,26.18846087264528,78.23564466440088,78.155471810898874,300.04897639712044,356.4714422179436,300.15069458798416,422.36339387867065,65.892030172471863,-2.588791403468349E-10]
[2,1932.2687106777273,502.67979179432291,2,1943.0898982895881,420.52067519814818,null,null,null,null,null,null,null,null,{"$f":"'Hull Long'!B115","v":400},{"$f":"'Hull Long'!C115","v":231.47683821912474},{"$f":"'Hull Plan'!C115","v":153.35609722808502},{"$f":"'Hull Long'!B166","v":400},{"$f":"'Hull Long'!C166","v":268.8531082814203},{"$f":"'Hull Plan'!C166","v":79.395085066162579},82.868682511303632,106.56639878572649,110.08928521621773,101.96099017809775,65.892030172212984,69.781690641343147,44.939422030039715,65.287193626076586,69.684936236706534,65.278887328617131,35.948704368167476,78.76410200575593,78.67565389855379,399.98669885647763,319.47348308781068,400.12663771934803,402.34204744311717,82.86868251151887,-2.1523760551644955E-10]
[2,1828.7283667740119,523.03775461939358,2,1841.4684656579182,426.20314442128807,null,null,null,null,null,null,null,null,{"$f":"'Hull Long'!B116","v":500},{"$f":"'Hull Long'!C116","v":215.39243903480215},{"$f":"'Hull Plan'!C116","v":182.95916411254859},{"$f":"'Hull Long'!B167","v":500},{"$f":"'Hull Long'!C167","v":261.54201774309189},{"$f":"'Hull Plan'!C167","v":96.88090737240077},97.669093636406842,105.52274383319769,118.71546693267881,101.78018484255652,82.868682511303632,71.381370472369298,51.229337644774972,57.397434310879341,71.276473639709081,57.389291882855709,43.306344725623198,79.296220963497461,79.199466558835894,499.92502610059699,285.60048183705089,500.10383809928476,383.26941178951773,97.669093636578552,-1.7170975752378581E-10]
[2,1725.5744029312275,540.48271833820638,2,1739.97117126628,430.94175983687296,null,null,null,null,null,null,null,null,{"$f":"'Hull Long'!B117","v":600},{"$f":"'Hull Long'!C117","v":199.74884818167922},{"$f":"'Hull Plan'!C117","v":209.42319783473931},{"$f":"'Hull Long'!B168","v":600},{"$f":"'Hull Long'!C168","v":254.43129462803603},{"$f":"'Hull Plan'!C168","v":113.42155009451795},110.48297845304361,104.61867431596119,127.90430801716563,101.60785031128115,97.669093636406842,72.913834667424084,55.656438377919699,51.437464216082454,72.801200573337638,51.429726954656218,48.730672352875828,79.831863431041697,79.72696659835654,599.86563017049389,254.66599180127901,600.08282142408029,365.14875677321197,110.48297845317174,-1.2812506611226127E-10]
[2,1622.7806115136452,555.19781813368581,2,1638.5980130137254,434.73305980035184,null,null,null,null,null,null,null,null,{"$f":"'Hull Long'!B118","v":700},{"$f":"'Hull Long'!C118","v":184.55885597410949},{"$f":"'Hull Plan'!C118","v":232.92557755948741},{"$f":"'Hull Long'!B169","v":700},{"$f":"'Hull Long'!C169","v":247.5267527155043},{"$f":"'Hull Plan'!C169","v":129.01701323251416},121.49875797925984,103.84169545992727,136.9229078128653,101.44402973812952,110.48297845304361,74.373038725796917,58.710214842525041,46.923788694673824,74.253362368714704,46.916746431678028,52.705409391674259,80.370801913651931,80.258167819540546,699.8102676837533,226.48502041391447,700.06404760083933,347.9835133522098,121.49875797934445,-8.461142897431273E-11]
[2,1418.2798122154859,577.19211559490145,2,1436.3266347770157,439.49899394129034,null,null,null,null,null,null,null,null,{"$f":"'Hull Long'!B119","v":899.9},{"$f":"'Hull Long'!C119","v":155.61093042155551},{"$f":"'Hull Plan'!C119","v":271.73709183814333},{"$f":"'Hull Long'!B170","v":899.9},{"$f":"'Hull Long'!C170","v":234.36860473707068},{"$f":"'Hull Plan'!C170","v":157.3591677693762},138.87074405822199,205.68015469266476,219.43405241756878,202.32751810372636,121.49875797925984,76.394429170865038,37.959149108087274,65.659805423456092,76.261369111374449,65.646421721047673,33.170276142382463,81.169918434161431,81.050242077054278,899.60575155348874,177.63739345357169,899.92825581147952,316.50776302997582,138.87074405821946,2.5295321393059567E-12]
[2,1418.0757981071649,577.20941332845598,2,1436.1245098392203,439.50177204896613,null,null,null,null,null,null,null,null,{"$f":"'Hull Long'!B120","v":900.1},{"$f":"'Hull Long'!C120","v":155.58294536349544},{"$f":"'Hull Plan'!C120","v":271.77082319603949},{"$f":"'Hull Long'!B171","v":900.1},{"$f":"'Hull Long'!C171","v":234.35588425613429},{"$f":"'Hull Plan'!C171","v":157.38563279773155},138.88538606328672,0.20474610614163655,138.84186666521347,0.20214402875455079,138.87074405822199,77.686722452733051,102.23072872984949,8.255448347318313E-2,77.553656727186763,8.2548817431871674E-2,98.17183813095842,81.745607385579106,81.612547326063506,899.80568577228757,177.59326550173327,900.12823776840196,316.47827701182132,138.88538606328416,2.5579538487363607E-12]
[2,1316.3110938729653,584.80379938111969,2,1335.2258337996084,440.4341877624986,null,null,null,null,null,null,null,null,{"$f":"'Hull Long'!B121","v":1000},{"$f":"'Hull Long'!C121","v":141.85733244839565},{"$f":"'Hull Plan'!C121","v":287.43375004563728},{"$f":"'Hull Long'!B172","v":1000},{"$f":"'Hull Long'!C172","v":228.11696929472529},{"$f":"'Hull Plan'!C172","v":170.13232514177693},145.60340705287325,102.04768359640018,159.91115944293117,100.90298422548975,138.88538606328672,78.26794982726183,63.063009942219665,38.671820510242711,78.132103821991336,38.669040230518505,59.324575265165201,82.003604224592081,81.870538499045921,999.67203597278365,156.60655959006453,1000.0172555131805,302.20955739187133,145.60340705287095,2.3021584638627246E-12]
[2,1214.7041728008244,590.37808773973404,2,1234.3511533987025,440.40816762907582,null,null,null,null,null,null,null,null,{"$f":"'Hull Long'!B122","v":1100},{"$f":"'Hull Long'!C122","v":128.6365170042709},{"$f":"'Hull Plan'!C122","v":300.85943957942646},{"$f":"'Hull Long'!B173","v":1100},{"$f":"'Hull Long'!C173","v":222.10750772921403},{"$f":"'Hull Plan'!C173","v":181.94706994328922},151.25138275272494,101.75971256084257,166.03472622200812,100.87468375678914,145.60340705287325,79.396232157337764,63.560635183138587,37.043692219127486,79.259826592463469,37.043132659523643,60.405682608139024,82.55062517273349,82.414779167463109,1099.6491598800392,137.64307373702098,1100.0092476733864,288.8940278543148,151.25138275272275,2.1884716261411086E-12]
[2,1113.3343665572208,594.08489651656362,2,1133.6019813680316,439.42048514162269,null,null,null,null,null,null,null,null,{"$f":"'Hull Long'!B123","v":1200},{"$f":"'Hull Long'!C123","v":115.95570983889458},{"$f":"'Hull Plan'!C123","v":312.20735475395122},{"$f":"'Hull Long'!B174","v":1200},{"$f":"'Hull Long'!C174","v":216.34350447222482},{"$f":"'Hull Plan'!C174","v":192.81663516068053},155.98671852461334,101.43755738962601,171.36441648536959,100.75401322806802,151.25138275272494,80.440143752866149,63.847232617842366,35.710574267239245,80.305787550044101,35.712623629291485,61.191345822498711,83.098079910262058,82.961674345387863,1199.6382379927898,120.56202261784391,1200.004019978174,276.54831227054223,155.98671852461135,1.9895196601282805E-12]
[2,1012.1806276031749,596.07671529207448,2,1032.9788020048316,437.47036619462529,null,null,null,null,null,null,null,null,{"$f":"'Hull Long'!B124","v":1300},{"$f":"'Hull Long'!C124","v":103.83896964514844},{"$f":"'Hull Plan'!C124","v":321.65356317294277},{"$f":"'Hull Long'!B175","v":1300},{"$f":"'Hull Long'!C175","v":210.83589529324928},{"$f":"'Hull Plan'!C175","v":202.74102079395084},159.96417734125419,101.1733475101905,176.02592951748636,100.64207464607533,155.98671852461334,81.401319177639749,63.966676832364833,34.627032661383829,81.271934303429248,34.632003989995404,61.72833415977685,83.644633178839342,83.510276976017394,1299.6399652372925,105.2094725191193,1300.0011947649982,265.17324199737328,159.96417734125248,1.7053025658242404E-12]
[2,911.22392845573836,596.49519077072648,2,932.48208944530825,434.55822179634657,null,null,null,null,null,null,null,null,{"$f":"'Hull Long'!B125","v":1400},{"$f":"'Hull Long'!C125","v":92.313892364077404},{"$f":"'Hull Plan'!C125","v":329.37384931644624},{"$f":"'Hull Long'!B176","v":1400},{"$f":"'Hull Long'!C176","v":205.59722380185337},{"$f":"'Hull Plan'!C176","v":211.72022684310019},163.32633385118339,100.95756645478451,180.11130093814447,100.53889705118037,159.96417734125419,82.283806126582789,63.97424795888444,33.733862465761391,82.162504701143689,33.741945914532785,62.076928169020839,84.189209365217764,84.059824491007419,1399.6544682685135,91.442504519951044,1400.0002477042137,254.76847234457341,163.32633385118191,1.4779288903810084E-12]
[2,810.44767936126664,595.46891557136723,2,832.11226127359259,430.68567344349225,null,null,null,null,null,null,null,null,{"$f":"'Hull Long'!B126","v":1500},{"$f":"'Hull Long'!C126","v":81.412574528830177},{"$f":"'Hull Plan'!C126","v":335.54368657449089},{"$f":"'Hull Long'!B177","v":1500},{"$f":"'Hull Long'!C177","v":200.64207933128645},{"$f":"'Hull Plan'!C177","v":219.75425330812854},166.20129661230132,100.78147459893526,183.71568229367188,100.44450725632022,163.32633385118339,83.093560528479131,63.909616806694352,32.985618843993002,82.98346292387356,32.996822664826503,62.283544461874847,84.730836694132165,84.609535268693179,1499.6811839124919,79.131461517243253,1500.0005504266401,245.33245128757937,166.20129661230001,1.3073986337985843E-12]
[2,709.83815287789116,593.11102281102535,2,731.86964360285879,425.85531242442562,null,null,null,null,null,null,null,null,{"$f":"'Hull Long'!B127","v":1600},{"$f":"'Hull Long'!C127","v":71.172990104660329},{"$f":"'Hull Plan'!C127","v":340.33820305674146},{"$f":"'Hull Long'!B178","v":1600},{"$f":"'Hull Long'!C178","v":195.98772277484559},{"$f":"'Hull Plan'!C178","v":226.84310018903591},168.70050160118319,100.63715257040153,186.93122284984435,100.35892977236971,166.20129661230132,83.838549503715399,63.800265523996821,32.347094246195063,83.742542625202532,32.361184972287788,62.384047489886129,85.26885826391883,85.158760659313387,1599.7187564452588,68.162388665371097,1600.0014369693856,236.86265343164749,168.7005016011822,9.9475983006414026E-13]
[2,609.38491032832087,589.51651719032031,2,631.75447317647513,420.07001903026469,null,null,null,null,null,null,null,null,{"$f":"'Hull Long'!B128","v":1700},{"$f":"'Hull Long'!C128","v":61.641041976137416},{"$f":"'Hull Plan'!C128","v":343.9321388178879},{"$f":"'Hull Long'!B179","v":1700},{"$f":"'Hull Long'!C179","v":191.65501908006246},{"$f":"'Hull Plan'!C179","v":232.9867674858223},170.91668461775012,100.51753284566875,189.84269810863637,100.2821866991361,168.70050160118319,84.528890478161244,63.663685540144478,31.790974346063834,84.4493332352788,31.807423981694303,62.405781000297246,85.803244653638941,85.707237775126274,1699.7649678672037,58.43973524690616,1700.0022917318388,229.35625509828429,170.91668461774952,5.9685589803848416E-13]
[2,509.0812488002141,584.75908984709758,2,531.7669799573124,413.33157483965522,null,null,null,null,null,null,null,null,{"$f":"'Hull Long'!B129","v":1800},{"$f":"'Hull Long'!C129","v":52.873785028922441},{"$f":"'Hull Plan'!C129","v":346.4997907593646},{"$f":"'Hull Long'!B180","v":1800},{"$f":"'Hull Long'!C180","v":187.66990228587383},{"$f":"'Hull Plan'!C180","v":238.18525519848771},172.92204977896589,100.41642112160271,192.52448422521749,100.21429753464352,170.91668461775012,85.177125343073172,63.508685877487217,31.296239043007986,85.115517836622359,31.314188779439601,62.36870657204674,86.335054384945252,86.255497142063035,1799.8167160853191,49.889570957846395,1800.0026511460676,222.81152077310912,172.9220497789656,2.8421709430404007E-13]
[2,408.92474699046676,578.88671570188649,2,431.90762699291196,405.6381041631056,null,null,null,null,null,null,null,null,{"$f":"'Hull Long'!B130","v":1900},{"$f":"'Hull Long'!C130","v":44.944856996763676},{"$f":"'Hull Plan'!C130","v":348.21493889527625},{"$f":"'Hull Long'!B181","v":1900},{"$f":"'Hull Long'!C181","v":184.06584408943803},{"$f":"'Hull Plan'!C181","v":242.43856332703214},174.76639886809528,100.32850857491741,195.03870235228041,100.15527877011594,172.92204977896589,85.798880005314828,63.335859354462713,30.847009649937732,85.755523489148743,30.865260640222438,62.285843149502135,86.867147200560126,86.805539694109456,1899.8700561430571,42.464022078613105,1900.0023043040746,217.23037090969117,174.76639886809522,0]
[2,308.91814510789004,571.91415116687381,2,332.17766223936843,396.97936573200019,null,null,null,null,null,null,null,null,{"$f":"'Hull Long'!B131","v":2000},{"$f":"'Hull Long'!C131","v":37.954564625533862},{"$f":"'Hull Plan'!C131","v":349.25074238042333},{"$f":"'Hull Long'!B182","v":2000},{"$f":"'Hull Long'!C182","v":180.88843846615177},{"$f":"'Hull Plan'!C182","v":245.74669187145557},176.47431623988476,100.24937444341045,197.4345435602871,100.10514282973338,174.76639886809528,86.414581403185423,63.136751420688832,30.431624586187919,86.388267476957196,30.448667176125735,62.162937391264826,87.405438022547258,87.362081506381273,1999.9203202730519,36.148824234253539,2000.0013686856041,212.62312186280252,176.47431623988479,0]
[2,209.07128966198408,563.80671925672709,2,232.58037513867873,387.32724797983929,null,null,null,null,null,null,null,null,{"$f":"'Hull Long'!B132","v":2100},{"$f":"'Hull Long'!C132","v":32.051571816103774},{"$f":"'Hull Plan'!C132","v":349.77958120761446},{"$f":"'Hull Long'!B183","v":2100},{"$f":"'Hull Long'!C183","v":178.2052599164108},{"$f":"'Hull Plan'!C183","v":248.10964083175804},178.03842529667699,100.17547102266765,199.74929274481008,100.0638944620825,176.47431623988476,87.054375146361892,62.889810395030921,30.041718944269373,87.042156734471519,30.055814458607195,61.99663569339544,87.961645362335176,87.935331436106992,2099.9623347149745,30.979652055322017,2100.0003016789396,209.01807330374268,178.03842529667702,0]
[2,109.40707338261886,554.43330362517293,2,133.12449081202411,376.61135097290389,null,null,null,null,null,null,null,null,{"$f":"'Hull Long'!B133","v":2200},{"$f":"'Hull Long'!C133","v":27.493107124595461},{"$f":"'Hull Plan'!C133","v":349.97278275577901},{"$f":"'Hull Long'!B184","v":2200},{"$f":"'Hull Long'!C184","v":176.13323051117976},{"$f":"'Hull Plan'!C184","v":249.52741020793951},{"$f":"((O133-R133)^2+(S133-P133)^2+(T133-Q133)^2)^0.5+0.00001","v":179.39666310883945},{"$f":"((O133-O132)^2+(P133-P132)^2+(Q133-Q132)^2)^0.5","v":100.10403052415992},{"$f":"((R133-O132)^2+(S133-P132)^2+(T133-Q132)^2)^0.5","v":202.01490579279647},{"$f":"((R133-R132)^2+(S133-S132)^2+(T133-T132)^2)^0.5","v":100.0315119142972},{"$f":"U132","v":178.03842529667699},{"$f":"ACOS((U133*U133+V133*V133-W133*W133)/2/U133/V133)*180/PI()","v":87.775741117345191},{"$f":"ACOS((V133*V133+W133*W133-U133*U133)/2/V133/W133)*180/PI()","v":62.54431365222721},{"$f":"ACOS((W133*W133+Y133*Y133-X133*X133)/2/W133/Y133)*180/PI()","v":29.670606619174826},{"$f":"AC134+Z133+AA134+AB134-180","v":87.772861316707576},{"$f":"ACOS((U133*U133+W133*W133-V133*V133)/2/U133/W133)*180/PI()","v":29.679945230427609},{"$f":"ACOS((W133*W133+X133*X133-Y133*Y133)/2/W133/X133)*180/PI()","v":61.767551935773973},{"$f":"ACOS((X133*X133+Y133*Y133-W133*W133)/2/X133/Y133)*180/PI()","v":88.561841445051201},{"$f":"180+AG134-AF134-AE133-AD133","v":88.549623033160785},{"$f":"AH134-V134*SIN(AC134*PI()/180)","v":2199.9907488138811},{"$f":"AI134+V134*COS(AC134*PI()/180)","v":27.089497811641333},{"$f":"AJ134-X134*SIN(AG134*PI()/180)","v":2199.9997656494838},{"$f":"AK134+X134*COS(AG134*PI()/180)","v":206.48616069387865},{"$f":"((AH133-AJ133)^2+(AI133-AK133)^2)^0.5","v":179.39666310883942},{"$f":"U133-AL133","v":0}]
[2,10,543.27758377319947,2,33.842861151555425,364.58365109036038,null,null,null,null,null,null,null,null,{"$f":"'Hull Long'!B134","v":2300},{"$f":"'Hull Long'!C134","v":25},{"$f":"'Hull Plan'!C134","v":350},{"$f":"'Hull Long'!B185","v":2300},{"$f":"'Hull Long'!C185","v":175},{"$f":"'Hull Plan'!C185","v":250},{"$f":"((O134-R134)^2+(S134-P134)^2+(T134-Q134)^2)^0.5+0.00001","v":180.27757377319946},{"$f":"((O134-O133)^2+(P134-P133)^2+(Q134-Q133)^2)^0.5","v":100.03107679073085},{"$f":"((R134-O133)^2+(S134-P133)^2+(T134-Q133)^2)^0.5","v":204.33511870867977},{"$f":"((R134-R133)^2+(S134-S133)^2+(T134-T133)^2)^0.5","v":100.00753747844723},{"$f":"U133","v":179.39666310883945},{"$f":"ACOS((U134*U134+V134*V134-W134*W134)/2/U134/V134)*180/PI()","v":88.803090823049942},{"$f":"ACOS((V134*V134+W134*W134-U134*U134)/2/V134/W134)*180/PI()","v":61.893298331672881},{"$f":"ACOS((W134*W134+Y134*Y134-X134*X134)/2/W134/Y134)*180/PI()","v":29.300731044639559},{"$f":"Z134","v":88.803090823049942},{"$f":"ACOS((U134*U134+W134*W134-V134*V134)/2/U134/W134)*180/PI()","v":29.303610845277184},{"$f":"ACOS((W134*W134+X134*X134-Y134*Y134)/2/W134/X134)*180/PI()","v":61.388823116486584},{"$f":"ACOS((X134*X134+Y134*Y134-W134*W134)/2/X134/Y134)*180/PI()","v":89.310445838873889},{"$f":"180-AD134-AE134","v":89.307566038236246},{"$f":"O134","v":2300},{"$f":"P134","v":25},{"$f":"AH134","v":2300},{"$f":"AI134+U134","v":205.27757377319946},{"$f":"((AH134-AJ134)^2+(AI134-AK134)^2)^0.5","v":180.27757377319946},{"$f":"U134-AL134","v":0}]
[2,{"$f":"E134","v":33.842861151555425},{"$f":"F134","v":364.58365109036038},0,33.842861151555425,364.58365109036038,null,null,null,null,null,null,null,null,{"$f":"'Hull Long'!B135","v":2300},{"$f":"'Hull Long'!C135","v":25},{"$f":"'Hull Plan'!C135","v":350},{"$f":"'Hull Long'!B186","v":2300},{"$f":"'Hull Long'!C186","v":175},{"$f":"'Hull Plan'!C186","v":250},{"$f":"((O135-R135)^2+(S135-P135)^2+(T135-Q135)^2)^0.5+0.00001","v":180.27757377319946},{"$f":"((O135-O136)^2+(P135-P136)^2+(Q135-Q136)^2)^0.5","v":100.03107679073085},{"$f":"((R135-O136)^2+(S135-P136)^2+(T135-Q136)^2)^0.5","v":204.33511870867977},{"$f":"((R135-R136)^2+(S135-S136)^2+(T135-T136)^2)^0.5","v":100.00753747844723},{"$f":"U136","v":179.39666310883945},{"$f":"ACOS((U135*U135+V135*V135-W135*W135)/2/U135/V135)*180/PI()","v":88.803090823049942},{"$f":"ACOS((V135*V135+W135*W135-U135*U135)/2/V135/W135)*180/PI()","v":61.893298331672881},{"$f":"ACOS((W135*W135+Y135*Y135-X135*X135)/2/W135/Y135)*180/PI()","v":29.300731044639559},{"$f":"Z135","v":88.803090823049942},{"$f":"ACOS((U135*U135+W135*W135-V135*V135)/2/U135/W135)*180/PI()","v":29.303610845277184},{"$f":"ACOS((W135*W135+X135*X135-Y135*Y135)/2/W135/X135)*180/PI()","v":61.388823116486584},{"$f":"ACOS((X135*X135+Y135*Y135-W135*W135)/2/X135/Y135)*180/PI()","v":89.310445838873889},{"$f":"180-AD135-AE135","v":89.307566038236246},{"$f":"O135","v":2300},{"$f":"P135","v":25},{"$f":"AH135","v":2300},{"$f":"AI135+U135","v":205.27757377319946},{"$f":"((AH135-AJ135)^2+(AI135-AK135)^2)^0.5","v":180.27757377319946},{"$f":"U135-AL135","v":0}]
[0,-88.854374506583198,527.97957851678518,0,-65.119081822031248,350.16001093277282,null,null,null,null,null,null,null,null,{"$f":"'Hull Long'!B136","v":2400},{"$f":"'Hull Long'!C136","v":27.493107124595461},{"$f":"'Hull Plan'!C136","v":349.97278275577901},{"$f":"'Hull Long'!B187","v":2400},{"$f":"'Hull Long'!C187","v":176.13323051117976},{"$f":"'Hull Plan'!C187","v":249.52741020793951},{"$f":"((O136-R136)^2+(S136-P136)^2+(T136-Q136)^2)^0.5+0.00001","v":179.39666310883945},{"$f":"((O136-O137)^2+(P136-P137)^2+(Q136-Q137)^2)^0.5","v":100.10403052415992},{"$f":"((R136-O137)^2+(S136-P137)^2+(T136-Q137)^2)^0.5","v":202.01490579279647},{"$f":"((R136-R137)^2+(S136-S137)^2+(T136-T137)^2)^0.5","v":100.0315119142972},{"$f":"U137","v":178.03842529667699},{"$f":"ACOS((U136*U136+V136*V136-W136*W136)/2/U136/V136)*180/PI()","v":87.775741117345191},{"$f":"ACOS((V136*V136+W136*W136-U136*U136)/2/V136/W136)*180/PI()","v":62.54431365222721},{"$f":"ACOS((W136*W136+Y136*Y136-X136*X136)/2/W136/Y136)*180/PI()","v":29.670606619174826},{"$f":"AC135+Z136+AA135+AB135-180","v":87.772861316707576},{"$f":"ACOS((U136*U136+W136*W136-V136*V136)/2/U136/W136)*180/PI()","v":29.679945230427609},{"$f":"ACOS((W136*W136+X136*X136-Y136*Y136)/2/W136/X136)*180/PI()","v":61.767551935773973},{"$f":"ACOS((X136*X136+Y136*Y136-W136*W136)/2/X136/Y136)*180/PI()","v":88.561841445051201},{"$f":"180+AG135-AF135-AE136-AD136","v":88.549623033160785},{"$f":"AH135+V135*SIN(AC135*PI()/180)","v":2400.0092511861189},{"$f":"AI135+V135*COS(AC135*PI()/180)","v":27.089497811641333},{"$f":"AJ135+X135*SIN(AG135*PI()/180)","v":2400.0002343505162},{"$f":"AK135+X135*COS(AG135*PI()/180)","v":206.48616069387865},{"$f":"((AH136-AJ136)^2+(AI136-AK136)^2)^0.5","v":179.39666310883942},{"$f":"U136-AL136","v":0}]
[0,-187.48959527032312,510.89420020460722,0,-163.90524290423167,334.42477167492552,null,null,null,null,null,null,null,null,{"$f":"'Hull Long'!B137","v":2500},{"$f":"'Hull Long'!C137","v":32.051571816103774},{"$f":"'Hull Plan'!C137","v":349.77958120761446},{"$f":"'Hull Long'!B188","v":2500},{"$f":"'Hull Long'!C188","v":178.2052599164108},{"$f":"'Hull Plan'!C188","v":248.10964083175804},{"$f":"((O137-R137)^2+(S137-P137)^2+(T137-Q137)^2)^0.5+0.00001","v":178.03842529667699},{"$f":"((O137-O138)^2+(P137-P138)^2+(Q137-Q138)^2)^0.5","v":100.17547102266765},{"$f":"((R137-O138)^2+(S137-P138)^2+(T137-Q138)^2)^0.5","v":199.74929274481008},{"$f":"((R137-R138)^2+(S137-S138)^2+(T137-T138)^2)^0.5","v":100.0638944620825},{"$f":"U138","v":176.47431623988476},{"$f":"ACOS((U137*U137+V137*V137-W137*W137)/2/U137/V137)*180/PI()","v":87.054375146361892},{"$f":"ACOS((V137*V137+W137*W137-U137*U137)/2/V137/W137)*180/PI()","v":62.889810395030921},{"$f":"ACOS((W137*W137+Y137*Y137-X137*X137)/2/W137/Y137)*180/PI()","v":30.041718944269373},{"$f":"AC136+Z137+AA136+AB136-180","v":87.042156734471519},{"$f":"ACOS((U137*U137+W137*W137-V137*V137)/2/U137/W137)*180/PI()","v":30.055814458607195},{"$f":"ACOS((W137*W137+X137*X137-Y137*Y137)/2/W137/X137)*180/PI()","v":61.99663569339544},{"$f":"ACOS((X137*X137+Y137*Y137-W137*W137)/2/X137/Y137)*180/PI()","v":87.961645362335176},{"$f":"180+AG136-AF136-AE137-AD137","v":87.935331436106992},{"$f":"AH136+V136*SIN(AC136*PI()/180)","v":2500.0376652850255},{"$f":"AI136+V136*COS(AC136*PI()/180)","v":30.979652055322017},{"$f":"AJ136+X136*SIN(AG136*PI()/180)","v":2499.9996983210604},{"$f":"AK136+X136*COS(AG136*PI()/180)","v":209.01807330374268},{"$f":"((AH137-AJ137)^2+(AI137-AK137)^2)^0.5","v":178.03842529667702},{"$f":"U137-AL137","v":0}]
[0,-285.96913861022301,492.5392407064748,0,-262.54894858667564,317.62589361256158,null,null,null,null,null,null,null,null,{"$f":"'Hull Long'!B138","v":2600},{"$f":"'Hull Long'!C138","v":37.954564625533862},{"$f":"'Hull Plan'!C138","v":349.25074238042333},{"$f":"'Hull Long'!B189","v":2600},{"$f":"'Hull Long'!C189","v":180.88843846615177},{"$f":"'Hull Plan'!C189","v":245.74669187145557},176.47431623988476,100.24937444341045,197.4345435602871,100.10514282973338,174.76639886809528,86.414581403185423,63.136751420688832,30.431624586187919,86.388267476957196,30.448667176125735,62.162937391264826,87.405438022547258,87.362081506381273,2600.0796797269481,36.148824234253539,2599.9986313143959,212.62312186280252,176.47431623988479,0]
[0,-384.30528995149092,473.04723168527789,0,-361.06023708430502,299.83360147528572,null,null,null,null,null,null,null,null,{"$f":"'Hull Long'!B139","v":2700},{"$f":"'Hull Long'!C139","v":44.944856996763676},{"$f":"'Hull Plan'!C139","v":348.21493889527625},{"$f":"'Hull Long'!B190","v":2700},{"$f":"'Hull Long'!C190","v":184.06584408943803},{"$f":"'Hull Plan'!C190","v":242.43856332703214},174.76639886809528,100.32850857491741,195.03870235228041,100.15527877011594,172.92204977896589,85.798880005314828,63.335859354462713,30.847009649937732,85.755523489148743,30.865260640222438,62.285843149502135,86.867147200560126,86.805539694109456,2700.1299438569431,42.464022078613105,2699.9976956959254,217.23037090969117,174.76639886809522,0]
[0,-482.49763918034796,452.45421865207948,0,-459.44330457986587,281.07588584455084,null,null,null,null,null,null,null,null,{"$f":"'Hull Long'!B140","v":2800},{"$f":"'Hull Long'!C140","v":52.873785028922441},{"$f":"'Hull Plan'!C140","v":346.4997907593646},{"$f":"'Hull Long'!B191","v":2800},{"$f":"'Hull Long'!C191","v":187.66990228587383},{"$f":"'Hull Plan'!C191","v":238.18525519848771},172.92204977896589,100.41642112160271,192.52448422521749,100.21429753464352,170.91668461775012,85.177125343073172,63.508685877487217,31.296239043007986,85.115517836622359,31.314188779439601,62.36870657204674,86.335054384945252,86.255497142063035,2800.1832839146814,49.889570957846395,2799.9973488539322,222.81152077310912,172.9220497789656,2.8421709430404007E-13]
[0,-580.53967297850193,430.74667987881736,0,-557.69963192494924,261.36295691407889,null,null,null,null,null,null,null,null,{"$f":"'Hull Long'!B141","v":2900},{"$f":"'Hull Long'!C141","v":61.641041976137416},{"$f":"'Hull Plan'!C141","v":343.9321388178879},{"$f":"'Hull Long'!B192","v":2900},{"$f":"'Hull Long'!C192","v":191.65501908006246},{"$f":"'Hull Plan'!C192","v":232.9867674858223},170.91668461775012,100.51753284566875,189.84269810863637,100.2821866991361,168.70050160118319,84.528890478161244,63.663685540144478,31.790974346063834,84.4493332352788,31.807423981694303,62.405781000297246,85.803244653638941,85.707237775126274,2900.2350321327967,58.43973524690616,2899.9977082681607,229.35625509828429,170.91668461774952,5.9685589803848416E-13]
[0,-678.42114943837782,407.87768393638783,0,-655.82926405652779,240.69674616122214,null,null,null,null,null,null,null,null,{"$f":"'Hull Long'!B142","v":3000},{"$f":"'Hull Long'!C142","v":71.172990104660329},{"$f":"'Hull Plan'!C142","v":340.33820305674146},{"$f":"'Hull Long'!B193","v":3000},{"$f":"'Hull Long'!C193","v":195.98772277484559},{"$f":"'Hull Plan'!C193","v":226.84310018903591},168.70050160118319,100.63715257040153,186.93122284984435,100.35892977236971,166.20129661230132,83.838549503715399,63.800265523996821,32.347094246195063,83.742542625202532,32.361184972287788,62.384047489886129,85.26885826391883,85.158760659313387,3000.2812435547416,68.162388665371097,2999.9985630306142,236.86265343164749,168.7005016011822,9.9475983006414026E-13]
[0,-776.12921596204092,383.77436023019209,0,-753.83151194599554,219.07559462697765,null,null,null,null,null,null,null,null,{"$f":"'Hull Long'!B143","v":3100},{"$f":"'Hull Long'!C143","v":81.412574528830177},{"$f":"'Hull Plan'!C143","v":335.54368657449089},{"$f":"'Hull Long'!B194","v":3100},{"$f":"'Hull Long'!C194","v":200.64207933128645},{"$f":"'Hull Plan'!C194","v":219.75425330812854},166.20129661230132,100.78147459893526,183.71568229367188,100.44450725632022,163.32633385118339,83.093560528479131,63.909616806694352,32.985618843993002,82.98346292387356,32.996822664826503,62.283544461874847,84.730836694132165,84.609535268693179,3100.3188160875084,79.131461517243253,3099.9994495733599,245.33245128757937,166.20129661230001,1.3073986337985843E-12]
[0,-873.64903684083629,358.34229074885485,0,-851.70539195093511,196.49678485445673,null,null,null,null,null,null,null,null,{"$f":"'Hull Long'!B144","v":3200},{"$f":"'Hull Long'!C144","v":92.313892364077404},{"$f":"'Hull Plan'!C144","v":329.37384931644624},{"$f":"'Hull Long'!B195","v":3200},{"$f":"'Hull Long'!C195","v":205.59722380185337},{"$f":"'Hull Plan'!C195","v":211.72022684310019},163.32633385118339,100.95756645478451,180.11130093814447,100.53889705118037,159.96417734125419,82.283806126582789,63.97424795888444,33.733862465761391,82.162504701143689,33.741945914532785,62.076928169020839,84.189209365217764,84.059824491007419,3200.345531731487,91.442504519951044,3199.9997522957865,254.76847234457341,163.32633385118191,1.4779288903810084E-12]
[0,-970.96419700356216,331.46870098166426,0,-949.4499099589857,172.95790171099245,null,null,null,null,null,null,null,null,{"$f":"'Hull Long'!B145","v":3300},{"$f":"'Hull Long'!C145","v":103.83896964514844},{"$f":"'Hull Plan'!C145","v":321.65356317294277},{"$f":"'Hull Long'!B196","v":3300},{"$f":"'Hull Long'!C196","v":210.83589529324928},{"$f":"'Hull Plan'!C196","v":202.74102079395084},159.96417734125419,101.1733475101905,176.02592951748636,100.64207464607533,155.98671852461334,81.401319177639749,63.966676832364833,34.627032661383829,81.271934303429248,34.632003989995404,61.72833415977685,83.644633178839342,83.510276976017394,3300.360034762708,105.2094725191193,3299.9988052350018,265.17324199737328,159.96417734125248,1.7053025658242404E-12]
[0,-1068.0569902430107,303.02514727648287,0,-1047.064237855685,148.4574899115581,null,null,null,null,null,null,null,null,{"$f":"'Hull Long'!B146","v":3400},{"$f":"'Hull Long'!C146","v":115.95570983889458},{"$f":"'Hull Plan'!C146","v":312.20735475395122},{"$f":"'Hull Long'!B197","v":3400},{"$f":"'Hull Long'!C197","v":216.34350447222482},{"$f":"'Hull Plan'!C197","v":192.81663516068053},155.98671852461334,101.43755738962601,171.36441648536959,100.75401322806802,151.25138275272494,80.440143752866149,63.847232617842366,35.710574267239245,80.305787550044101,35.712623629291485,61.191345822498711,83.098079910262058,82.961674345387863,3400.3617620072109,120.56202261784391,3399.9959800218257,276.54831227054223,155.98671852461135,1.9895196601282805E-12]
[0,-1164.9086401609745,272.86994942699363,0,-1144.547810329854,122.99527713978301,null,null,null,null,null,null,null,null,{"$f":"'Hull Long'!B147","v":3500},{"$f":"'Hull Long'!C147","v":128.6365170042709},{"$f":"'Hull Plan'!C147","v":300.85943957942646},{"$f":"'Hull Long'!B198","v":3500},{"$f":"'Hull Long'!C198","v":222.10750772921403},{"$f":"'Hull Plan'!C198","v":181.94706994328922},151.25138275272494,101.75971256084257,166.03472622200812,100.87468375678914,145.60340705287325,79.396232157337764,63.560635183138587,37.043692219127486,79.259826592463469,37.043132659523643,60.405682608139024,82.55062517273349,82.414779167463109,3500.3508401199615,137.64307373702098,3499.9907523266133,288.8940278543148,151.25138275272275,2.1884716261411086E-12]
[0,-1261.4994768618847,240.85043403585402,0,-1241.9003629887611,96.572137397751192,null,null,null,null,null,null,null,null,{"$f":"'Hull Long'!B148","v":3600},{"$f":"'Hull Long'!C148","v":141.85733244839565},{"$f":"'Hull Plan'!C148","v":287.43375004563728},{"$f":"'Hull Long'!B199","v":3600},{"$f":"'Hull Long'!C199","v":228.11696929472529},{"$f":"'Hull Plan'!C199","v":170.13232514177693},145.60340705287325,102.04768359640029,159.91115944293125,100.90298422548986,138.88538606328672,78.267949827261845,63.063009942219622,38.671820510242753,78.132103821991393,38.669040230518533,59.324575265165159,82.003604224592081,81.870538499045949,3600.3279640272171,156.60655959006453,3599.9827444868192,302.20955739187133,145.60340705287095,2.3021584638627246E-12]
[0,-1357.712929161554,206.84012201184791,0,-1339.0247803273221,69.217799857710673,null,null,null,null,null,null,null,null,{"$f":"'Hull Long'!B149","v":3699.9},{"$f":"'Hull Long'!C149","v":155.58294536349544},{"$f":"'Hull Plan'!C149","v":271.77082319603949},{"$f":"'Hull Long'!B200","v":3699.9},{"$f":"'Hull Long'!C200","v":234.35588425613429},{"$f":"'Hull Plan'!C200","v":157.38563279773155},138.88538606328672,0.20474610614141445,138.84186666521347,0.20214402875432583,138.87074405822199,77.686722452719479,102.23072872986297,8.255448347318313E-2,77.553656727173234,8.2548817431871674E-2,98.171838130967572,81.745607385569855,81.612547326054411,3700.1943142277132,177.59326550173321,3699.871762231598,316.47827701182132,138.88538606328422,2.5011104298755527E-12]
[0,-1357.9052708626357,206.769939122159,0,-1339.2191058364695,69.162123966556663,null,null,null,null,null,null,null,null,{"$f":"'Hull Long'!B150","v":3700.1},{"$f":"'Hull Long'!C150","v":155.61093042155551},{"$f":"'Hull Plan'!C150","v":271.73709183814333},{"$f":"'Hull Long'!B201","v":3700.1},{"$f":"'Hull Long'!C201","v":234.36860473707068},{"$f":"'Hull Plan'!C201","v":157.3591677693762},138.87074405822199,205.6801546926649,219.43405241756889,202.32751810372648,121.49875797925984,76.394429170865038,37.959149108087253,65.659805423456106,76.261369111374449,65.646421721047702,33.170276142382455,81.169918434161431,81.050242077054421,3700.3942484465119,177.63739345357163,3700.0717441885204,316.50776302997582,138.87074405821951,2.4726887204451486E-12]
[0,-1549.4852485319923,131.92718268837069,0,-1533.1647458366729,11.52955238654431,null,null,null,null,null,null,null,null,{"$f":"'Hull Long'!B151","v":3900},{"$f":"'Hull Long'!C151","v":184.55885597410949},{"$f":"'Hull Plan'!C151","v":232.92557755948741},{"$f":"'Hull Long'!B202","v":3900},{"$f":"'Hull Long'!C202","v":247.5267527155043},{"$f":"'Hull Plan'!C202","v":129.01701323251416},121.49875797925984,103.84169545992727,136.9229078128653,101.44402973812952,110.48297845304361,74.373038725796917,58.710214842525041,46.923788694673824,74.253362368714704,46.916746431678028,52.705409391674259,80.370801913651931,80.25816781954066,3900.1897323162475,226.48502041391444,3899.9359523991607,347.98351335220929,121.49875797934396,-8.4128259913995862E-11]
[0,-1644.8248128503101,90.775448926770565,0,-1629.9974778237345,-18.708059712172542,null,null,null,null,null,null,null,null,{"$f":"'Hull Long'!B152","v":4000},{"$f":"'Hull Long'!C152","v":199.74884818167922},{"$f":"'Hull Plan'!C152","v":209.42319783473931},{"$f":"'Hull Long'!B203","v":4000},{"$f":"'Hull Long'!C203","v":254.43129462803603},{"$f":"'Hull Plan'!C203","v":113.42155009451795},110.48297845304361,104.61867431596119,127.90430801716563,101.60785031128115,97.669093636406842,72.913834667424084,55.656438377919699,51.437464216082454,72.801200573337638,51.429726954656218,48.730672352875828,79.831863431041697,79.726966598356654,4000.1343698295068,254.66599180127898,3999.9171785759199,365.14875677321123,110.48297845317104,-1.2742873423121637E-10]
[0,-1739.7962087199421,46.894918139156175,0,-1726.7016273722707,-49.892393999986126,null,null,null,null,null,null,null,null,{"$f":"'Hull Long'!B153","v":4100},{"$f":"'Hull Long'!C153","v":215.39243903480215},{"$f":"'Hull Plan'!C153","v":182.95916411254859},{"$f":"'Hull Long'!B204","v":4100},{"$f":"'Hull Long'!C204","v":261.54201774309189},{"$f":"'Hull Plan'!C204","v":96.88090737240077},97.669093636406842,105.52274383319769,118.71546693267881,101.78018484255652,82.868682511303632,71.381370472369298,51.229337644774972,57.397434310879341,71.276473639709081,57.389291882855709,43.306344725623198,79.296220963497461,79.199466558836008,4100.0749738994036,285.60048183705084,4099.8961619007159,383.26941178951677,97.669093636577642,-1.7080026282201288E-10]
[0,-1834.3767108784566,0.10199049480110034,0,-1823.2781041154724,-82.020110483652729,null,null,null,null,null,null,null,null,{"$f":"'Hull Long'!B154","v":4200},{"$f":"'Hull Long'!C154","v":231.47683821912474},{"$f":"'Hull Plan'!C154","v":153.35609722808502},{"$f":"'Hull Long'!B205","v":4200},{"$f":"'Hull Long'!C205","v":268.8531082814203},{"$f":"'Hull Plan'!C205","v":79.395085066162579},82.868682511303632,106.56639878572649,110.08928521621773,101.96099017809775,65.892030172212984,69.781690641343147,44.939422030039715,65.287193626076586,69.684936236706534,65.278887328617131,35.948704368167476,78.76410200575593,78.675653898553904,4200.0133011435228,319.47348308781056,4199.8733622806531,402.34204744311597,82.868682511517804,-2.141717914128094E-10]
[0,-1928.5433179160852,-49.78836397557086,0,-1919.7278615909313,-115.0880375584386,null,null,null,null,null,null,null,null,{"$f":"'Hull Long'!B155","v":4300},{"$f":"'Hull Long'!C155","v":247.99028023137919},{"$f":"'Hull Plan'!C155","v":120.43644378114854},{"$f":"'Hull Long'!B206","v":4300},{"$f":"'Hull Long'!C206","v":276.35921828699054},{"$f":"'Hull Plan'!C206","v":60.96408317580341},65.892030172212984,107.76203385354987,103.25939318107463,102.15022135175872,46.548749627551622,68.121761515656544,36.310619275089792,75.575894462953826,68.033313408479387,75.567619209253664,26.18846087264528,78.23564466440088,78.155471810898987,4299.95102360288,356.47144221794349,4299.8493054120172,422.36339387866923,65.892030172470555,-2.5757174171303632E-10]
[0,-2022.2727924949609,-102.96205611201623,0,-2016.0518663731252,-149.09324046818864,null,null,null,null,null,null,null,null,{"$f":"'Hull Long'!B156","v":4400},{"$f":"'Hull Long'!C156","v":264.92189439594011},{"$f":"'Hull Plan'!C156","v":84.02248516585837},{"$f":"'Hull Long'!B207","v":4400},{"$f":"'Hull Long'!C207","v":284.05540654360914},{"$f":"'Hull Plan'!C207","v":41.587901701323261},46.548749627551622,109.12178452799117,100.04365518318509,102.34783163899671,24.64823952948581,66.409323418031846,25.239283603312749,88.35948388585696,66.32915056455488,88.351392978655369,13.929596793778872,77.710919320364155,77.638837374063868,4399.8896959636832,396.78171022764059,4399.8245612381961,443.3304142846178,46.548749627852636,-3.0101432457740884E-10]
[0,-2115.5416955697651,-159.60546329940337,0,-2112.2510742257182,-184.03306087038828,null,null,null,null,null,null,null,null,{"$f":"'Hull Long'!B157","v":4500},{"$f":"'Hull Long'!C157","v":282.26159685887365},{"$f":"'Hull Plan'!C157","v":43.936345702569213},{"$f":"'Hull Long'!B208","v":4500},{"$f":"'Hull Long'!C208","v":291.9370894813062},{"$f":"'Hull Plan'!C208","v":21.266540642722106},24.64823952948581,110.65736947755805,102.55377261193766,102.55377261193766,1.0000000000000001E-5,64.65273343583722,12.545010005119318,89.999997205308617,64.580651489561774,102.80225655904346,5.5330856145987559E-6,89.999997205308617,77.125655961570658,4499.8307346801121,440.59212724065958,4499.7997255442015,465.24034726469733,24.648239529830231,-3.4442138030499336E-10]
[2,-2208.3264168614678,-219.90512262276798,2,-2208.326413397132,-219.90513190118867,null,null,null,null,null,null,null,null,{"$f":"'Hull Long'!B158","v":4600},{"$f":"'Hull Long'!C158","v":300},{"$f":"'Hull Plan'!C158","v":0},{"$f":"'Hull Long'!B209","v":4600},{"$f":"'Hull Long'!C209","v":300},{"$f":"'Hull Plan'!C209","v":0},1.0000000000000001E-5,160.07810593582121,160.07810593582121,160.07810593582121,1.0000000000000001E-5,89.999998242138602,3.6222548107960426E-6,89.999998242138602,77.125656942128273,89.999998242138602,3.6222548107960426E-6,89.999998242138602,77.125656891868644,4599.7754075981984,488.09071432479857,4599.775405391425,488.09072397989388,9.9040756390544363E-6,9.5924360945564546E-8]
[0,{"$f":"(AH159+$H$110-$H$111)*COS(RADIANS($J$110))+$H$112+(AI159+$I$110-$I$111)*SIN(RADIANS($J$110))","v":-2358.2922155666179},{"$f":"(AI159+$I$110-$I$111)*COS(RADIANS($J$110))+$I$112-(AH159+$H$110-$H$111)*SIN(RADIANS($J$110))","v":-275.89850811361237},0,{"$f":"(AJ159+$H$110-$H$111)*COS(RADIANS($J$110))+$H$112+(AK159+$I$110-$I$111)*SIN(RADIANS($J$110))","v":-2358.2922120531653},{"$f":"(AK159+$I$110-$I$111)*COS(RADIANS($J$110))+$I$112-(AJ159+$H$110-$H$111)*SIN(RADIANS($J$110))","v":-275.89851752358243},null,null,null,null,null,null,null,null,{"$f":"'Hull Long'!B159","v":4700},{"$f":"'Hull Long'!C159","v":425},{"$f":"'Hull Plan'!C159","v":0},{"$f":"'Hull Long'!B210","v":4700},{"$f":"'Hull Long'!C210","v":425},{"$f":"'Hull Plan'!C210","v":0},1.0000000000000001E-5,null,null,null,null,null,null,null,null,null,null,null,null,4755.8293208242721,523.75829297584937,4755.8293185862121,523.75830276783461,1.0044495379747323E-5,-4.4495379747322374E-8]
[0,0,0,0,0,0,null,null,null,null,null,null,null,null,"X0","Z0","Y0","X1","Z1","Y1","F","L","D","U","F'","A1","A2","A3","A","B1","B2","B3","B","XA","YA","XB","YB","Check F","Error F"]
[0,{"$f":"(AH161+$H$161-$H$162)*COS(RADIANS($J$161))+$H$163+(AI161+$I$161-$I$162)*SIN(RADIANS($J$161))","v":6263.0062873851057},{"$f":"(AI161+$I$161-$I$162)*COS(RADIANS($J$161))+$I$163-(AH161+$H$161-$H$162)*SIN(RADIANS($J$161))","v":616.03925893364408},0,{"$f":"(AJ161+$H$161-$H$162)*COS(RADIANS($J$161))+$H$163+(AK161+$I$161-$I$162)*SIN(RADIANS($J$161))","v":6263.0062894004113},{"$f":"(AK161+$I$161-$I$162)*COS(RADIANS($J$161))+$I$163-(AJ161+$H$161-$H$162)*SIN(RADIANS($J$161))","v":616.03924909013324},"Deck",{"$f":"1501*Basic!$D$2","v":1501},{"$f":"171*Basic!$D$2","v":171},180.2,null,null,null,null,{"$f":"'Hull Long'!B212","v":-100},{"$f":"'Hull Long'!C212","v":425},{"$f":"'Hull Plan'!C212","v":0},{"$f":"'Hull Long'!B161","v":-100},{"$f":"'Hull Long'!C161","v":425},{"$f":"'Hull Plan'!C161","v":0},{"$f":"((O161-R161)^2+(S161-P161)^2+(T161-Q161)^2)^0.5+0.00001","v":1.0000000000000001E-5},null,null,null,null,null,null,null,null,null,null,null,null,{"$f":"AH162-V162*SIN(AC162*PI()/180)","v":-161.048675078918},{"$f":"AI162+V162*COS(AC162*PI()/180)","v":-103.63161949341833},{"$f":"AJ162-X162*SIN(AG162*PI()/180)","v":-161.04867712857171},{"$f":"AK162+X162*COS(AG162*PI()/180)","v":-103.63160965700214},{"$f":"((AH161-AJ161)^2+(AI161-AK161)^2)^0.5","v":1.0047694445951866E-5},{"$f":"U161-AL161","v":-4.7694445951865612E-8}]
[0,{"$f":"(AH162+$H$161-$H$162)*COS(RADIANS($J$161))+$H$163+(AI162+$I$161-$I$162)*SIN(RADIANS($J$161))","v":6106.184034647612},{"$f":"(AI162+$I$161-$I$162)*COS(RADIANS($J$161))+$I$163-(AH162+$H$161-$H$162)*SIN(RADIANS($J$161))","v":583.91791017090088},0,{"$f":"(AJ162+$H$161-$H$162)*COS(RADIANS($J$161))+$H$163+(AK162+$I$161-$I$162)*SIN(RADIANS($J$161))","v":6106.1840366346469},{"$f":"(AK162+$I$161-$I$162)*COS(RADIANS($J$161))+$I$163-(AJ162+$H$161-$H$162)*SIN(RADIANS($J$161))","v":583.91790046541621},null,{"$f":"AH185+$H$161","v":3801},{"$f":"AI185+$I$161","v":346},null,null,null,null,null,{"$f":"'Hull Long'!B213","v":0},{"$f":"'Hull Long'!C213","v":300},{"$f":"'Hull Plan'!C213","v":0},{"$f":"'Hull Long'!B162","v":0},{"$f":"'Hull Long'!C162","v":300},{"$f":"'Hull Plan'!C162","v":0},1.0000000000000001E-5,{"$f":"((O162-O161)^2+(P162-P161)^2+(Q162-Q161)^2)^0.5","v":160.07810593582121},{"$f":"((R162-O161)^2+(S162-P161)^2+(T162-Q161)^2)^0.5","v":160.07810593582121},{"$f":"((R162-R161)^2+(S162-S161)^2+(T162-T161)^2)^0.5","v":160.07810593582121},{"$f":"U161","v":1.0000000000000001E-5},{"$f":"ACOS((U162*U162+V162*V162-W162*W162)/2/U162/V162)*180/PI()","v":89.999998242138602},{"$f":"ACOS((V162*V162+W162*W162-U162*U162)/2/V162/W162)*180/PI()","v":3.6222548107960426E-6},{"$f":"ACOS((W162*W162+Y162*Y162-X162*X162)/2/W162/Y162)*180/PI()","v":89.999998242138602},{"$f":"AC163+Z162+AA163+AB163-180","v":101.77558445751379},{"$f":"ACOS((U162*U162+W162*W162-V162*V162)/2/U162/W162)*180/PI()","v":89.999998242138602},{"$f":"ACOS((W162*W162+X162*X162-Y162*Y162)/2/W162/X162)*180/PI()","v":3.6222548107960426E-6},{"$f":"ACOS((X162*X162+Y162*Y162-W162*W162)/2/X162/Y162)*180/PI()","v":89.999998242138602},{"$f":"180+AG163-AF163-AE162-AD162","v":101.77558440708522},-4.3395021877720552,-70.963054606467381,-4.3395042086727074,-70.963044907977945,9.9068025506395665E-6,9.3197449360434302E-8]
[0,{"$f":"(AH163+$H$161-$H$162)*COS(RADIANS($J$161))+$H$163+(AI163+$I$161-$I$162)*SIN(RADIANS($J$161))","v":6005.8618646411678},{"$f":"(AI163+$I$161-$I$162)*COS(RADIANS($J$161))+$I$163-(AH163+$H$161-$H$162)*SIN(RADIANS($J$161))","v":584.6054647000102},0,6005.7161206126602,563.33941346709128,null,{"$f":"AH185+$H$161","v":3801},{"$f":"AI185+$I$161","v":346},null,null,null,null,null,{"$f":"'Hull Long'!B214","v":100},{"$f":"'Hull Long'!C214","v":291.9370894813062},{"$f":"'Hull Plan'!C214","v":0},{"$f":"'Hull Long'!B163","v":100},{"$f":"'Hull Long'!C163","v":291.9370894813062},{"$f":"'Hull Plan'!C163","v":21.266540642722106},21.266550642722105,100.32452604439486,102.55377261193766,102.55377261193766,1.0000000000000001E-5,89.999994288957254,11.968257509360104,89.999997205308617,89.807331500706482,78.031748201682703,5.5330856145987559E-6,89.999997205308617,101.77558347678722,95.984456634871677,-71.300415222048017,96.055967403623711,-50.033984807591224,21.266550645626111,-2.9040059246199235E-9]
[0,5905.5540966604267,585.29293008254456,0,5905.2690822199347,543.70599503487472,null,null,null,null,null,null,null,null,{"$f":"'Hull Long'!B215","v":200},{"$f":"'Hull Long'!C215","v":284.05540654360914},{"$f":"'Hull Plan'!C215","v":0},{"$f":"'Hull Long'!B164","v":200},{"$f":"'Hull Long'!C164","v":284.05540654360914},{"$f":"'Hull Plan'!C164","v":41.587901701323261},41.587911701323264,100.31012374596287,108.58947690199687,102.34783163899671,21.266550642722105,89.999994288136591,22.518572570934715,67.481438598928847,89.807326041885688,67.481433140928686,11.066279077338741,101.45228232373238,101.25961953528792,196.29401320837448,-71.637736964048059,196.4338604187825,-30.05006039215791,41.587911703888182,-2.5649171675468097E-9]
[0,5805.2607328004751,585.98030140619687,0,5804.8429247412296,525.01763993669545,null,null,null,null,null,null,null,null,{"$f":"'Hull Long'!B216","v":300},{"$f":"'Hull Long'!C216","v":276.35921828699054},{"$f":"'Hull Plan'!C216","v":0},{"$f":"'Hull Long'!B165","v":300},{"$f":"'Hull Long'!C165","v":276.35921828699054},{"$f":"'Hull Plan'!C165","v":60.96408317580341},60.964093175803413,100.29571931882893,117.37057020883724,102.15022135175872,41.587911701323264,89.999994287316014,31.293052422363214,58.706955951911446,89.80732337947444,58.706953290320726,20.358755379520638,100.93428866856792,100.74162042212326,296.58916542051622,-71.97501492750385,296.79417153379768,-11.011266441104745,60.964093178029081,-2.2256685383581498E-9]
[0,5704.9817751889868,586.66757701984341,0,5704.4376506925837,507.27434651876752,null,null,null,null,null,null,null,null,{"$f":"'Hull Long'!B217","v":400},{"$f":"'Hull Long'!C217","v":268.8531082814203},{"$f":"'Hull Plan'!C217","v":0},{"$f":"'Hull Long'!B166","v":400},{"$f":"'Hull Long'!C166","v":268.8531082814203},{"$f":"'Hull Plan'!C166","v":79.395085066162579},79.395095066162582,100.28131275275429,127.90590768247928,101.96099017809775,60.964093175803413,89.999994286495223,38.369497405534389,51.630510035308752,89.807321651315306,51.630508307970388,27.955161925269188,100.41432803942207,100.22165713138668,396.86991113787144,-72.31224746872843,397.13689822687331,7.082398690561476,79.395095068049017,-1.8864341200242052E-9]
[0,5604.7172259714853,587.35475608745139,0,5604.0532624196139,490.4761139436871,null,null,null,null,null,null,null,null,{"$f":"'Hull Long'!B218","v":500},{"$f":"'Hull Long'!C218","v":261.54201774309189},{"$f":"'Hull Plan'!C218","v":0},{"$f":"'Hull Long'!B167","v":500},{"$f":"'Hull Long'!C167","v":261.54201774309189},{"$f":"'Hull Plan'!C167","v":96.88090737240077},96.880917372400774,100.26690403547741,139.4251134414433,101.78018484255652,79.395095066162582,89.999994285674106,44.016052381639973,45.983954591197993,89.807320391982103,45.983953332685907,34.123568692307138,99.892476716494855,99.699804081121101,497.13624821201199,-72.649433759183495,497.46203814948643,24.230935832051944,96.88091737394798,-1.5472068071176182E-9]
[0,5504.4670873105906,588.04183809880726,0,5503.6897622081115,474.62294170039644,null,null,null,null,null,null,null,null,{"$f":"'Hull Long'!B219","v":600},{"$f":"'Hull Long'!C219","v":254.43129462803603},{"$f":"'Hull Plan'!C219","v":0},{"$f":"'Hull Long'!B168","v":600},{"$f":"'Hull Long'!C168","v":254.43129462803603},{"$f":"'Hull Plan'!C168","v":113.42155009451795},113.42156009451796,100.25249315213557,151.37704716720509,101.60785031128115,96.880917372400774,89.999994284852647,48.526771036457809,41.47323565444632,89.807319415403867,41.47323467868955,39.157952683681145,99.368811661872556,99.17613776798666,597.38817447855092,-72.986573296207624,597.76958901407352,40.434345486442297,113.42156009572597,-1.2080079159204615E-9]
[0,5404.2313613882889,588.72882270638638,0,5403.3471523239468,459.71482944079577,null,null,null,null,null,null,null,null,{"$f":"'Hull Long'!B220","v":700},{"$f":"'Hull Long'!C220","v":247.5267527155043},{"$f":"'Hull Plan'!C220","v":0},{"$f":"'Hull Long'!B169","v":700},{"$f":"'Hull Long'!C169","v":247.5267527155043},{"$f":"'Hull Plan'!C169","v":129.01701323251416},129.01702323251416,100.23808008447641,163.38011630079299,101.44402973812952,113.42156009451796,89.999994284030862,52.155052873928824,37.84495362798598,89.807318628636381,37.8449528420403,43.311634975370914,98.843411396643106,98.650736527000447,697.62568775430168,-73.323665739894778,698.05954855356322,55.692627993920709,129.01702323338299,-8.688232355780201E-10]
[0,5203.9034756831425,590.10180017462517,0,5202.825023937261,432.74631800083461,null,null,null,null,null,null,null,null,{"$f":"'Hull Long'!B221","v":899.9},{"$f":"'Hull Long'!C221","v":234.36860473707068},{"$f":"'Hull Plan'!C221","v":0},{"$f":"'Hull Long'!B170","v":899.9},{"$f":"'Hull Long'!C170","v":234.36860473707068},{"$f":"'Hull Plan'!C170","v":157.3591677693762},157.3591777693762,200.33259060428074,254.74507755655071,202.32751810372636,129.01702323251416,89.999997139967206,38.149269142945542,51.850734345372466,89.807320856287504,51.850733717087238,30.096760496203956,98.052505158423557,97.85982950283524,897.95714557915653,-73.997360025739596,898.48631761819763,83.360927983717914,157.35917776956728,-1.9107915250060614E-10]
[0,5202.6279325832984,433.7212409699784,0,5202.6244418969945,432.72123706219003,null,null,null,null,null,null,null,null,{"$f":"'Hull Long'!B222","v":900.1},{"$f":"'Hull Long'!C222","v":234.35588425613429},{"$f":"'Hull Plan'!C222","v":156.38563279773155},{"$f":"'Hull Long'!B171","v":900.1},{"$f":"'Hull Long'!C171","v":234.35588425613429},{"$f":"'Hull Plan'!C171","v":157.38563279773155},1.0000100000000001,156.38576120400975,157.38576038814003,0.20214402875455079,157.3591777693762,179.73266815340628,1.6985881944389721E-3,7.2956974711787304E-2,179.73266815341407,0.26563325857651854,82.407048738656314,97.519994286631828,97.327318002758247,898.68681088765436,82.386698931352129,898.68681088763663,83.386708931543581,1.0000100001914518,-1.9145174334767034E-10]
[0,5102.4894055791128,421.3241592552597,0,5102.4859148928053,420.32415534749941,null,null,null,null,null,null,null,null,{"$f":"'Hull Long'!B223","v":1000},{"$f":"'Hull Long'!C223","v":228.11696929472529},{"$f":"'Hull Plan'!C223","v":169.13232514177693},{"$f":"'Hull Long'!B172","v":1000},{"$f":"'Hull Long'!C172","v":228.11696929472529},{"$f":"'Hull Plan'!C172","v":170.13232514177693},1.0000100000000001,100.90298422548975,101.0341804059276,100.90298422548975,1.0000100000000001,97.257270933825509,0.56256467083435124,82.180164395340753,97.257270933832672,82.180164395340768,0.56256467083498729,97.257270933825509,97.257270933816585,998.78145392283307,95.13325380981216,998.78145392281886,96.133263809975517,1.0000100001633569,-1.6335688357571598E-10]
[0,5002.2683546803937,409.85930950531804,0,5002.2648639940835,408.8593055975835,null,null,null,null,null,null,null,null,{"$f":"'Hull Long'!B224","v":1100},{"$f":"'Hull Long'!C224","v":222.10750772921403},{"$f":"'Hull Plan'!C224","v":180.94706994328922},{"$f":"'Hull Long'!B173","v":1100},{"$f":"'Hull Long'!C173","v":222.10750772921403},{"$f":"'Hull Plan'!C173","v":181.94706994328922},1.0000100000000001,100.87468375678914,100.99668961226028,100.87468375678914,1.0000100000000001,96.726017899787436,0.56341382513700067,82.710568275075715,96.726017899794442,82.710568275075715,0.56341382513700067,96.726017899787436,96.726017899779762,1098.9618744466077,106.94787046512054,1098.9618744465965,107.94788046525822,1.0000100001376779,-1.3767786910534596E-10]
[0,4902.0650296774875,399.33957377083306,0,4902.0615389911745,398.33956986312302,null,null,null,null,null,null,null,null,{"$f":"'Hull Long'!B225","v":1200},{"$f":"'Hull Long'!C225","v":216.34350447222482},{"$f":"'Hull Plan'!C225","v":191.81663516068053},{"$f":"'Hull Long'!B174","v":1200},{"$f":"'Hull Long'!C174","v":216.34350447222482},{"$f":"'Hull Plan'!C174","v":192.81663516068053},1.0000100000000001,100.75401322806802,100.86679489304935,100.75401322806802,1.0000100000000001,96.193180478433788,0.56473374144119082,83.242085780125535,96.19318047844024,83.242085780125535,0.56473374144182698,96.193180478433788,96.193180478426228,1199.1278682461393,117.81731698800692,1199.1278682461309,118.81732698812009,1.0000100001131642,-1.1316414472162251E-10]
[0,4801.8794328691138,389.76495204378034,0,4801.8759421827981,388.76494813609139,null,null,null,null,null,null,null,null,{"$f":"'Hull Long'!B226","v":1300},{"$f":"'Hull Long'!C226","v":210.83589529324928},{"$f":"'Hull Plan'!C226","v":201.74102079395084},{"$f":"'Hull Long'!B175","v":1300},{"$f":"'Hull Long'!C175","v":210.83589529324928},{"$f":"'Hull Plan'!C175","v":202.74102079395084},1.0000100000000001,100.64207464607533,100.74560020334752,100.64207464607533,1.0000100000000001,95.659111641538189,0.56596048184766801,83.774927876614967,95.659111641543802,83.774927876614967,0.56596048184766801,95.659111641538189,95.659111641531737,1299.2794330226911,127.74159337847173,1299.2794330226848,128.74160337856381,1.0000100000920753,-9.2075236324262733E-11]
[0,4701.7115666812051,381.13544431568886,0,4701.7080759948876,380.13544040801906,null,null,null,null,null,null,null,null,{"$f":"'Hull Long'!B227","v":1400},{"$f":"'Hull Long'!C227","v":205.59722380185337},{"$f":"'Hull Plan'!C227","v":210.72022684310019},{"$f":"'Hull Long'!B176","v":1400},{"$f":"'Hull Long'!C176","v":205.59722380185337},{"$f":"'Hull Plan'!C176","v":211.72022684310019},1.0000100000000001,100.53889705118037,100.63313685047358,100.53889705118037,1.0000100000000001,95.123900197345165,0.56709274826374989,84.309007054391373,95.123900197350508,84.309007054391373,0.56709274826374989,95.123900197345165,95.123900197339537,1399.4165663503163,136.72069963651779,1399.4165663503115,137.7207096365907,1.0000100000729049,-7.290479331345523E-11]
[0,4601.5614337265233,373.45105057743797,0,4601.5579430402049,372.45104666978665,null,null,null,null,null,null,null,null,{"$f":"'Hull Long'!B228","v":1500},{"$f":"'Hull Long'!C228","v":200.64207933128645},{"$f":"'Hull Plan'!C228","v":218.75425330812854},{"$f":"'Hull Long'!B177","v":1500},{"$f":"'Hull Long'!C177","v":200.64207933128645},{"$f":"'Hull Plan'!C177","v":219.75425330812854},1.0000100000000001,100.44450725632022,100.52943395292259,100.44450725632022,1.0000100000000001,94.587636131706844,0.56812933161452539,84.844234536678641,94.587636131712145,84.844234536678641,0.56812933161452539,94.587636131706844,94.587636131701544,1499.5392656162385,144.75463576214545,1499.5392656162353,145.75464576219983,1.0000100000543739,-5.4373838764831817E-11]
[0,4501.4290369041573,366.7117708189104,0,4501.4255462178371,365.71176691127584,null,null,null,null,null,null,null,null,{"$f":"'Hull Long'!B229","v":1600},{"$f":"'Hull Long'!C229","v":195.98772277484559},{"$f":"'Hull Plan'!C229","v":225.84310018903591},{"$f":"'Hull Long'!B178","v":1600},{"$f":"'Hull Long'!C178","v":195.98772277484559},{"$f":"'Hull Plan'!C178","v":226.84310018903591},1.0000100000000001,100.35892977236971,100.43451836304713,100.35892977236971,1.0000100000000001,94.050410522095476,0.56906911516868475,85.380520362736817,94.05041052209981,85.380520362736817,0.56906911516868475,94.050410522095476,94.050410522090218,1599.6475279213498,151.8434017553522,1599.647527921348,152.84341175538981,1.0000100000376051,-3.7605030200893452E-11]
[0,4401.3143795759106,360.91760502837485,0,4401.3108888895904,359.91760112075275,null,null,null,null,null,null,null,null,{"$f":"'Hull Long'!B230","v":1700},{"$f":"'Hull Long'!C230","v":191.65501908006246},{"$f":"'Hull Plan'!C230","v":231.9867674858223},{"$f":"'Hull Long'!B179","v":1700},{"$f":"'Hull Long'!C179","v":191.65501908006246},{"$f":"'Hull Plan'!C179","v":232.9867674858223},1.0000100000000001,100.2821866991361,100.34841455525823,100.2821866991361,1.0000100000000001,93.512315448832709,0.5699110778701888,85.917773473298681,93.512315448835466,85.917773473298681,0.5699110778701888,93.512315448832709,93.512315448828403,1699.7413499038266,157.98699761613432,1699.7413499038257,158.98700761615959,1.0000100000252701,-2.5270008308098113E-11]
[0,4301.2174659039929,356.06855319129687,0,4301.2139752176718,355.06854928368364,null,null,null,null,null,null,null,null,{"$f":"'Hull Long'!B231","v":1800},{"$f":"'Hull Long'!C231","v":187.66990228587383},{"$f":"'Hull Plan'!C231","v":237.18525519848771},{"$f":"'Hull Long'!B180","v":1800},{"$f":"'Hull Long'!C180","v":187.66990228587383},{"$f":"'Hull Plan'!C180","v":238.18525519848771},1.0000100000000001,100.21429753464352,100.27114443242078,100.21429753464352,1.0000100000000001,92.973443903760696,0.57065429793920375,86.455901798300445,92.973443903763098,86.455901798300445,0.57065429793920375,92.973443903760696,92.973443903757968,1799.8207274014346,163.18542334449754,1799.8207274014344,164.18543334451383,1.0000100000162888,-1.6288748128090447E-11]
[0,4201.1383015671263,352.16461528785698,0,4201.1348108808043,351.16461138025016,null,null,null,null,null,null,null,null,{"$f":"'Hull Long'!B232","v":1900},{"$f":"'Hull Long'!C232","v":184.06584408943803},{"$f":"'Hull Plan'!C232","v":241.43856332703214},{"$f":"'Hull Long'!B181","v":1900},{"$f":"'Hull Long'!C181","v":184.06584408943803},{"$f":"'Hull Plan'!C181","v":242.43856332703214},1.0000100000000001,100.15527877011594,100.20272691786749,100.15527877011594,1.0000100000000001,92.433889696582241,0.57129795748656398,86.994812345932345,92.433889696583492,86.994812345932345,0.57129795748656398,92.433889696582241,92.43388969657984,1899.8856547354173,167.43867894043859,1899.8856547354173,168.43868894044851,1.0000100000099224,-9.922285215679949E-12]
[0,4101.0768955131816,349.20579128682033,0,4101.0734048268596,348.20578737921664,null,null,null,null,null,null,null,null,{"$f":"'Hull Long'!B233","v":2000},{"$f":"'Hull Long'!C233","v":180.88843846615177},{"$f":"'Hull Plan'!C233","v":244.74669187145557},{"$f":"'Hull Long'!B182","v":2000},{"$f":"'Hull Long'!C182","v":180.88843846615177},{"$f":"'Hull Plan'!C182","v":245.74669187145557},1.0000100000000001,100.10514282973338,100.14317689213863,100.10514282973338,1.0000100000000001,91.893747359266285,0.5718413506369735,87.534411290097495,91.893747359266797,87.534411290097495,0.57184135063633734,91.893747359266285,91.893747359265035,1999.9361229578469,170.74676440395828,1999.9361229578469,171.74677440396513,1.0000100000068528,-6.8527405971963162E-12]
[0,4001.0332652996062,347.19208112689745,0,4001.0297746132846,346.19207721929774,null,null,null,null,null,null,null,null,{"$f":"'Hull Long'!B234","v":2100},{"$f":"'Hull Long'!C234","v":178.2052599164108},{"$f":"'Hull Plan'!C234","v":247.10964083175804},{"$f":"'Hull Long'!B183","v":2100},{"$f":"'Hull Long'!C183","v":178.2052599164108},{"$f":"'Hull Plan'!C183","v":248.10964083175804},1.0000100000000001,100.0638944620825,100.09250158148406,100.0638944620825,1.0000100000000001,91.35311204940173,0.57228390603616153,88.074604044561511,91.353112049402853,88.074604044561511,0.57228390603679757,91.35311204940173,91.353112049400551,2099.9721145111716,173.10967973505893,2099.9721145111716,174.10968973506175,1.0000100000028169,-2.8168578580789472E-12]
[0,3901.0074612418925,346.1234846324549,0,3901.003970555571,345.12348072485764,null,null,null,null,null,null,null,null,{"$f":"'Hull Long'!B235","v":2200},{"$f":"'Hull Long'!C235","v":176.13323051117976},{"$f":"'Hull Plan'!C235","v":248.52741020793951},{"$f":"'Hull Long'!B184","v":2200},{"$f":"'Hull Long'!C184","v":176.13323051117976},{"$f":"'Hull Plan'!C184","v":249.52741020793951},{"$f":"((O184-R184)^2+(S184-P184)^2+(T184-Q184)^2)^0.5+0.00001","v":1.0000100000000001},{"$f":"((O184-O183)^2+(P184-P183)^2+(Q184-Q183)^2)^0.5","v":100.0315119142972},{"$f":"((R184-O183)^2+(S184-P183)^2+(T184-Q183)^2)^0.5","v":100.050681729874},{"$f":"((R184-R183)^2+(S184-S183)^2+(T184-T183)^2)^0.5","v":100.0315119142972},{"$f":"U183","v":1.0000100000000001},{"$f":"ACOS((U184*U184+V184*V184-W184*W184)/2/U184/V184)*180/PI()","v":90.812079458969038},{"$f":"ACOS((V184*V184+W184*W184-U184*U184)/2/V184/W184)*180/PI()","v":0.57262529627640435},{"$f":"ACOS((W184*W184+Y184*Y184-X184*X184)/2/W184/Y184)*180/PI()","v":88.615295244755444},{"$f":"AC185+Z184+AA185+AB185-180","v":90.812079458969265},{"$f":"ACOS((U184*U184+W184*W184-V184*V184)/2/U184/W184)*180/PI()","v":88.615295244755444},{"$f":"ACOS((W184*W184+X184*X184-Y184*Y184)/2/W184/X184)*180/PI()","v":0.57262529627640435},{"$f":"ACOS((X184*X184+Y184*Y184-W184*W184)/2/X184/Y184)*180/PI()","v":90.812079458969038},{"$f":"180+AG185-AF185-AE184-AD184","v":90.812079458967915},{"$f":"AH185-V185*SIN(AC185*PI()/180)","v":2199.9935790795921},{"$f":"AI185+V185*COS(AC185*PI()/180)","v":174.52742493373881},{"$f":"AJ185-X185*SIN(AG185*PI()/180)","v":2199.9935790795921},{"$f":"AK185+X185*COS(AG185*PI()/180)","v":175.52743493373924},{"$f":"((AH184-AJ184)^2+(AI184-AK184)^2)^0.5","v":1.0000100000004295},{"$f":"U184-AL184","v":-4.2943426592501055E-13}]
[0,3801,346,0,3800.9965093136784,344.99999609240314,null,null,null,null,null,null,null,null,{"$f":"'Hull Long'!B236","v":2300},{"$f":"'Hull Long'!C236","v":175},{"$f":"'Hull Plan'!C236","v":249},{"$f":"'Hull Long'!B185","v":2300},{"$f":"'Hull Long'!C185","v":175},{"$f":"'Hull Plan'!C185","v":250},{"$f":"((O185-R185)^2+(S185-P185)^2+(T185-Q185)^2)^0.5+0.00001","v":1.0000100000000001},{"$f":"((O185-O184)^2+(P185-P184)^2+(Q185-Q184)^2)^0.5","v":100.00753747844723},{"$f":"((R185-O184)^2+(S185-P184)^2+(T185-Q184)^2)^0.5","v":100.0172621705231},{"$f":"((R185-R184)^2+(S185-S184)^2+(T185-T184)^2)^0.5","v":100.00753747844723},{"$f":"U184","v":1.0000100000000001},{"$f":"ACOS((U185*U185+V185*V185-W185*W185)/2/U185/V185)*180/PI()","v":90.270746168244855},{"$f":"ACOS((V185*V185+W185*W185-U185*U185)/2/V185/W185)*180/PI()","v":0.5728677847034519},{"$f":"ACOS((W185*W185+Y185*Y185-X185*X185)/2/W185/Y185)*180/PI()","v":89.156386047051924},{"$f":"Z185","v":90.270746168244855},{"$f":"ACOS((U185*U185+W185*W185-V185*V185)/2/U185/W185)*180/PI()","v":89.156386047051924},{"$f":"ACOS((W185*W185+X185*X185-Y185*Y185)/2/W185/X185)*180/PI()","v":0.5728677847034519},{"$f":"ACOS((X185*X185+Y185*Y185-W185*W185)/2/X185/Y185)*180/PI()","v":90.270746168244855},{"$f":"180-AD185-AE185","v":90.270746168244628},{"$f":"O185","v":2300},{"$f":"P185","v":175},{"$f":"AH185","v":2300},{"$f":"AI185+U185","v":176.00001},{"$f":"((AH185-AJ185)^2+(AI185-AK185)^2)^0.5","v":1.0000100000000032},{"$f":"U185-AL185","v":-3.1086244689504383E-15}]
[0,3801,346,0,3800.9965093136784,344.99999609240314,null,null,null,null,null,null,null,null,{"$f":"'Hull Long'!B237","v":2300},{"$f":"'Hull Long'!C237","v":175},{"$f":"'Hull Plan'!C237","v":249},{"$f":"'Hull Long'!B186","v":2300},{"$f":"'Hull Long'!C186","v":175},{"$f":"'Hull Plan'!C186","v":250},{"$f":"((O186-R186)^2+(S186-P186)^2+(T186-Q186)^2)^0.5+0.00001","v":1.0000100000000001},{"$f":"((O186-O187)^2+(P186-P187)^2+(Q186-Q187)^2)^0.5","v":100.00753747844723},{"$f":"((R186-O187)^2+(S186-P187)^2+(T186-Q187)^2)^0.5","v":100.0172621705231},{"$f":"((R186-R187)^2+(S186-S187)^2+(T186-T187)^2)^0.5","v":100.00753747844723},{"$f":"U187","v":1.0000100000000001},{"$f":"ACOS((U186*U186+V186*V186-W186*W186)/2/U186/V186)*180/PI()","v":90.270746168244855},{"$f":"ACOS((V186*V186+W186*W186-U186*U186)/2/V186/W186)*180/PI()","v":0.5728677847034519},{"$f":"ACOS((W186*W186+Y186*Y186-X186*X186)/2/W186/Y186)*180/PI()","v":89.156386047051924},{"$f":"Z186","v":90.270746168244855},{"$f":"ACOS((U186*U186+W186*W186-V186*V186)/2/U186/W186)*180/PI()","v":89.156386047051924},{"$f":"ACOS((W186*W186+X186*X186-Y186*Y186)/2/W186/X186)*180/PI()","v":0.5728677847034519},{"$f":"ACOS((X186*X186+Y186*Y186-W186*W186)/2/X186/Y186)*180/PI()","v":90.270746168244855},{"$f":"180-AD186-AE186","v":90.270746168244628},{"$f":"O186","v":2300},{"$f":"P186","v":175},{"$f":"AH186","v":2300},{"$f":"AI186+U186","v":176.00001},{"$f":"((AH186-AJ186)^2+(AI186-AK186)^2)^0.5","v":1.0000100000000032},{"$f":"U186-AL186","v":-3.1086244689504383E-15}]
[0,3700.9958379477553,346.82165974188939,0,3700.9923472614337,345.82165583429213,null,null,null,null,null,null,null,null,{"$f":"'Hull Long'!B238","v":2400},{"$f":"'Hull Long'!C238","v":176.13323051117976},{"$f":"'Hull Plan'!C238","v":248.52741020793951},{"$f":"'Hull Long'!B187","v":2400},{"$f":"'Hull Long'!C187","v":176.13323051117976},{"$f":"'Hull Plan'!C187","v":249.52741020793951},{"$f":"((O187-R187)^2+(S187-P187)^2+(T187-Q187)^2)^0.5+0.00001","v":1.0000100000000001},{"$f":"((O187-O188)^2+(P187-P188)^2+(Q187-Q188)^2)^0.5","v":100.0315119142972},{"$f":"((R187-O188)^2+(S187-P188)^2+(T187-Q188)^2)^0.5","v":100.050681729874},{"$f":"((R187-R188)^2+(S187-S188)^2+(T187-T188)^2)^0.5","v":100.0315119142972},{"$f":"U188","v":1.0000100000000001},{"$f":"ACOS((U187*U187+V187*V187-W187*W187)/2/U187/V187)*180/PI()","v":90.812079458969038},{"$f":"ACOS((V187*V187+W187*W187-U187*U187)/2/V187/W187)*180/PI()","v":0.57262529627640435},{"$f":"ACOS((W187*W187+Y187*Y187-X187*X187)/2/W187/Y187)*180/PI()","v":88.615295244755444},{"$f":"AC186+Z187+AA186+AB186-180","v":90.812079458969265},{"$f":"ACOS((U187*U187+W187*W187-V187*V187)/2/U187/W187)*180/PI()","v":88.615295244755444},{"$f":"ACOS((W187*W187+X187*X187-Y187*Y187)/2/W187/X187)*180/PI()","v":0.57262529627640435},{"$f":"ACOS((X187*X187+Y187*Y187-W187*W187)/2/X187/Y187)*180/PI()","v":90.812079458969038},{"$f":"180+AG186-AF186-AE187-AD187","v":90.812079458967915},{"$f":"AH186+V186*SIN(AC186*PI()/180)","v":2400.0064209204079},{"$f":"AI186+V186*COS(AC186*PI()/180)","v":174.52742493373881},{"$f":"AJ186+X186*SIN(AG186*PI()/180)","v":2400.0064209204079},{"$f":"AK186+X186*COS(AG186*PI()/180)","v":175.52743493373924},{"$f":"((AH187-AJ187)^2+(AI187-AK187)^2)^0.5","v":1.0000100000004295},{"$f":"U187-AL187","v":-4.2943426592501055E-13}]
[0,3600.9799315986097,348.58853637002886,0,3600.9764409122881,347.58853246242916,null,null,null,null,null,null,null,null,{"$f":"'Hull Long'!B239","v":2500},{"$f":"'Hull Long'!C239","v":178.2052599164108},{"$f":"'Hull Plan'!C239","v":247.10964083175804},{"$f":"'Hull Long'!B188","v":2500},{"$f":"'Hull Long'!C188","v":178.2052599164108},{"$f":"'Hull Plan'!C188","v":248.10964083175804},{"$f":"((O188-R188)^2+(S188-P188)^2+(T188-Q188)^2)^0.5+0.00001","v":1.0000100000000001},{"$f":"((O188-O189)^2+(P188-P189)^2+(Q188-Q189)^2)^0.5","v":100.0638944620825},{"$f":"((R188-O189)^2+(S188-P189)^2+(T188-Q189)^2)^0.5","v":100.09250158148406},{"$f":"((R188-R189)^2+(S188-S189)^2+(T188-T189)^2)^0.5","v":100.0638944620825},{"$f":"U189","v":1.0000100000000001},{"$f":"ACOS((U188*U188+V188*V188-W188*W188)/2/U188/V188)*180/PI()","v":91.35311204940173},{"$f":"ACOS((V188*V188+W188*W188-U188*U188)/2/V188/W188)*180/PI()","v":0.57228390603616153},{"$f":"ACOS((W188*W188+Y188*Y188-X188*X188)/2/W188/Y188)*180/PI()","v":88.074604044561511},{"$f":"AC187+Z188+AA187+AB187-180","v":91.353112049402853},{"$f":"ACOS((U188*U188+W188*W188-V188*V188)/2/U188/W188)*180/PI()","v":88.074604044561511},{"$f":"ACOS((W188*W188+X188*X188-Y188*Y188)/2/W188/X188)*180/PI()","v":0.57228390603679757},{"$f":"ACOS((X188*X188+Y188*Y188-W188*W188)/2/X188/Y188)*180/PI()","v":91.35311204940173},{"$f":"180+AG187-AF187-AE188-AD188","v":91.353112049400551},{"$f":"AH187+V187*SIN(AC187*PI()/180)","v":2500.0278854888284},{"$f":"AI187+V187*COS(AC187*PI()/180)","v":173.10967973505893},{"$f":"AJ187+X187*SIN(AG187*PI()/180)","v":2500.0278854888284},{"$f":"AK187+X187*COS(AG187*PI()/180)","v":174.10968973506175},{"$f":"((AH188-AJ188)^2+(AI188-AK188)^2)^0.5","v":1.0000100000028169},{"$f":"U188-AL188","v":-2.8168578580789472E-12}]
[0,3500.9527976125237,351.30062808092958,0,3500.9493069262016,350.3006241733259,null,null,null,null,null,null,null,null,{"$f":"'Hull Long'!B240","v":2600},{"$f":"'Hull Long'!C240","v":180.88843846615177},{"$f":"'Hull Plan'!C240","v":244.74669187145557},{"$f":"'Hull Long'!B189","v":2600},{"$f":"'Hull Long'!C189","v":180.88843846615177},{"$f":"'Hull Plan'!C189","v":245.74669187145557},1.0000100000000001,100.10514282973338,100.14317689213863,100.10514282973338,1.0000100000000001,91.893747359266285,0.5718413506369735,87.534411290097495,91.893747359266797,87.534411290097495,0.57184135063633734,91.893747359266285,91.893747359265035,2600.0638770421529,170.74676440395828,2600.0638770421529,171.74677440396513,1.0000100000068528,-6.8527405971963162E-12]
[0,3400.9144863049887,354.95793469895494,0,3400.9109956186671,353.95793079134813,null,null,null,null,null,null,null,null,{"$f":"'Hull Long'!B241","v":2700},{"$f":"'Hull Long'!C241","v":184.06584408943803},{"$f":"'Hull Plan'!C241","v":241.43856332703214},{"$f":"'Hull Long'!B190","v":2700},{"$f":"'Hull Long'!C190","v":184.06584408943803},{"$f":"'Hull Plan'!C190","v":242.43856332703214},1.0000100000000001,100.15527877011594,100.20272691786749,100.15527877011594,1.0000100000000001,92.433889696582241,0.57129795748656398,86.994812345932345,92.433889696583492,86.994812345932345,0.57129795748656398,92.433889696582241,92.43388969657984,2700.1143452645824,167.43867894043859,2700.1143452645824,168.43868894044851,1.0000100000099224,-9.922285215679949E-12]
[0,3300.8650152334526,359.56045616282,0,3300.8615245471306,358.56045225520677,null,null,null,null,null,null,null,null,{"$f":"'Hull Long'!B242","v":2800},{"$f":"'Hull Long'!C242","v":187.66990228587383},{"$f":"'Hull Plan'!C242","v":237.18525519848771},{"$f":"'Hull Long'!B191","v":2800},{"$f":"'Hull Long'!C191","v":187.66990228587383},{"$f":"'Hull Plan'!C191","v":238.18525519848771},1.0000100000000001,100.21429753464352,100.27114443242078,100.21429753464352,1.0000100000000001,92.973443903760696,0.57065429793920375,86.455901798300445,92.973443903763098,86.455901798300445,0.57065429793920375,92.973443903760696,92.973443903757968,2800.1792725985651,163.18542334449754,2800.1792725985651,164.18543334451383,1.0000100000162888,-1.6288748128090447E-11]
[0,3200.8043933457861,365.10819244129141,0,3200.8009026594641,364.10818853366931,null,null,null,null,null,null,null,null,{"$f":"'Hull Long'!B243","v":2900},{"$f":"'Hull Long'!C243","v":191.65501908006246},{"$f":"'Hull Plan'!C243","v":231.9867674858223},{"$f":"'Hull Long'!B192","v":2900},{"$f":"'Hull Long'!C192","v":191.65501908006246},{"$f":"'Hull Plan'!C192","v":232.9867674858223},1.0000100000000001,100.2821866991361,100.34841455525823,100.2821866991361,1.0000100000000001,93.512315448832709,0.5699110778701888,85.917773473298681,93.512315448835466,85.917773473298681,0.5699110778701888,93.512315448832709,93.512315448828403,2900.2586500961734,157.98699761613432,2900.2586500961738,158.98700761615959,1.0000100000252701,-2.5270008308098113E-11]
[0,3100.7326263207119,371.60114351454342,0,3100.7291356343881,370.60113960690899,null,null,null,null,null,null,null,null,{"$f":"'Hull Long'!B244","v":3000},{"$f":"'Hull Long'!C244","v":195.98772277484559},{"$f":"'Hull Plan'!C244","v":225.84310018903591},{"$f":"'Hull Long'!B193","v":3000},{"$f":"'Hull Long'!C193","v":195.98772277484559},{"$f":"'Hull Plan'!C193","v":226.84310018903591},1.0000100000000001,100.35892977236971,100.43451836304713,100.35892977236971,1.0000100000000001,94.050410522095476,0.56906911516868475,85.380520362736817,94.05041052209981,85.380520362736817,0.56906911516868475,94.050410522095476,94.050410522090218,3000.3524720786504,151.8434017553522,3000.3524720786513,152.84341175538981,1.0000100000376051,-3.7605030200893452E-11]
[0,3000.6497183204388,379.03930936805284,0,3000.6462276341149,378.03930546040152,null,null,null,null,null,null,null,null,{"$f":"'Hull Long'!B245","v":3100},{"$f":"'Hull Long'!C245","v":200.64207933128645},{"$f":"'Hull Plan'!C245","v":218.75425330812854},{"$f":"'Hull Long'!B194","v":3100},{"$f":"'Hull Long'!C194","v":200.64207933128645},{"$f":"'Hull Plan'!C194","v":219.75425330812854},1.0000100000000001,100.44450725632022,100.52943395292259,100.44450725632022,1.0000100000000001,94.587636131706844,0.56812933161452539,84.844234536678641,94.587636131712145,84.844234536678641,0.56812933161452539,94.587636131706844,94.587636131701544,3100.460734383762,144.75463576214545,3100.4607343837638,145.75464576219983,1.0000100000543739,-5.4373838764831817E-11]
[0,2900.5556727067687,387.42268999008087,0,2900.552182020444,386.42268608241108,null,null,null,null,null,null,null,null,{"$f":"'Hull Long'!B246","v":3200},{"$f":"'Hull Long'!C246","v":205.59722380185337},{"$f":"'Hull Plan'!C246","v":210.72022684310019},{"$f":"'Hull Long'!B195","v":3200},{"$f":"'Hull Long'!C195","v":205.59722380185337},{"$f":"'Hull Plan'!C195","v":211.72022684310019},1.0000100000000001,100.53889705118037,100.63313685047358,100.53889705118037,1.0000100000000001,95.123900197345165,0.56709274826374989,84.309007054391373,95.123900197350508,84.309007054391373,0.56709274826374989,95.123900197345165,95.123900197339537,3200.5834336496841,136.72069963651779,3200.5834336496873,137.7207096365907,1.0000100000729049,-7.290479331345523E-11]
[0,2800.4504923787954,396.75128537050534,0,2800.4470016924688,395.75128146281639,null,null,null,null,null,null,null,null,{"$f":"'Hull Long'!B247","v":3300},{"$f":"'Hull Long'!C247","v":210.83589529324928},{"$f":"'Hull Plan'!C247","v":201.74102079395084},{"$f":"'Hull Long'!B196","v":3300},{"$f":"'Hull Long'!C196","v":210.83589529324928},{"$f":"'Hull Plan'!C196","v":202.74102079395084},1.0000100000000001,100.64207464607533,100.74560020334752,100.64207464607533,1.0000100000000001,95.659111641538189,0.56596048184766801,83.774927876614967,95.659111641543802,83.774927876614967,0.56596048184766801,95.659111641538189,95.659111641531737,3300.7205669773093,127.74159337847173,3300.7205669773143,128.74160337856381,1.0000100000920753,-9.2075236324262733E-11]
[0,2700.3341799492764,407.02509550020631,0,2700.3306892629471,406.02509159249627,null,null,null,null,null,null,null,null,{"$f":"'Hull Long'!B248","v":3400},{"$f":"'Hull Long'!C248","v":216.34350447222482},{"$f":"'Hull Plan'!C248","v":191.81663516068053},{"$f":"'Hull Long'!B197","v":3400},{"$f":"'Hull Long'!C197","v":216.34350447222482},{"$f":"'Hull Plan'!C197","v":192.81663516068053},1.0000100000000001,100.75401322806802,100.86679489304935,100.75401322806802,1.0000100000000001,96.193180478433788,0.56473374144119082,83.242085780125535,96.19318047844024,83.242085780125535,0.56473374144182698,96.193180478433788,96.193180478426228,3400.8721317538611,117.81731698800692,3400.8721317538684,118.81732698812009,1.0000100001131642,-1.1316414472162251E-10]
[0,2600.2067378441448,418.24412037071841,0,2600.2032471578127,417.24411646298398,null,null,null,null,null,null,null,null,{"$f":"'Hull Long'!B249","v":3500},{"$f":"'Hull Long'!C249","v":222.10750772921403},{"$f":"'Hull Plan'!C249","v":180.94706994328922},{"$f":"'Hull Long'!B198","v":3500},{"$f":"'Hull Long'!C198","v":222.10750772921403},{"$f":"'Hull Plan'!C198","v":181.94706994328922},1.0000100000000001,100.87468375678914,100.99668961226028,100.87468375678914,1.0000100000000001,96.726017899787436,0.56341382513700067,82.710568275075715,96.726017899794442,82.710568275075715,0.56341382513700067,96.726017899787436,96.726017899779762,3501.038125553393,106.94787046512054,3501.0381255534026,107.94788046525822,1.0000100001376779,-1.3767786910534596E-10]
[0,2500.0681683621233,430.40835997401803,0,2500.0646776757881,429.40835606625785,null,null,null,null,null,null,null,null,{"$f":"'Hull Long'!B250","v":3600},{"$f":"'Hull Long'!C250","v":228.11696929472529},{"$f":"'Hull Plan'!C250","v":169.13232514177693},{"$f":"'Hull Long'!B199","v":3600},{"$f":"'Hull Long'!C199","v":228.11696929472529},{"$f":"'Hull Plan'!C199","v":170.13232514177693},1.0000100000000001,100.90298422548986,101.03418040592771,100.90298422548986,1.0000100000000001,97.257270933825509,0.56256467083435124,82.180164395340768,97.257270933832672,82.180164395340768,0.56256467083370243,97.257270933825509,97.257270933817864,3601.2185460771675,95.13325380981216,3601.2185460771802,96.133263809975517,1.0000100001633569,-1.6335688357571598E-10]
[3,2400.0186289175881,443.50423270347079,3,2400.0151382312501,442.50422879568475,null,null,null,null,null,null,null,null,{"$f":"'Hull Long'!B251","v":3699.9},{"$f":"'Hull Long'!C251","v":234.35588425613429},{"$f":"'Hull Plan'!C251","v":156.38563279773155},{"$f":"'Hull Long'!B200","v":3699.9},{"$f":"'Hull Long'!C200","v":234.35588425613429},{"$f":"'Hull Plan'!C200","v":157.38563279773155},1.0000100000000001,156.38576120400975,157.38576038814003,0.20214402875432583,157.3591777693762,179.73266815340628,1.6985881944389721E-3,7.2956974711787304E-2,179.73266815341412,0.26563325857651854,82.407048738647831,97.519994286640255,97.327318002767981,3701.3131891123462,82.386698931352115,3701.3131891123621,83.386708931541364,1.0000100001892491,-1.8924906086681403E-10]
[3,2399.8348502911786,599.88988592260102,3,2399.8147361755864,442.5307094385588,null,null,null,null,null,null,null,null,{"$f":"'Hull Long'!B252","v":3700.1},{"$f":"'Hull Long'!C252","v":234.36860473707068},{"$f":"'Hull Plan'!C252","v":0},{"$f":"'Hull Long'!B201","v":3700.1},{"$f":"'Hull Long'!C201","v":234.36860473707068},{"$f":"'Hull Plan'!C201","v":157.3591677693762},157.3591777693762,200.33259060428085,254.7450775565508,202.32751810372648,129.01702323251416,89.999997139967206,38.149269142945514,51.85073434537248,89.807320856287561,51.850733717087252,30.096760496203956,98.052505158423557,97.859829502836504,3702.0428544208439,-73.99736002573961,3701.5136823818007,83.360927983715698,157.35917776956509,-1.8889068087446503E-10]
[3,2199.5022613222077,599.91548302790261,3,2199.4857685699344,470.89846084869265,null,null,null,null,null,null,null,null,{"$f":"'Hull Long'!B253","v":3900},{"$f":"'Hull Long'!C253","v":247.5267527155043},{"$f":"'Hull Plan'!C253","v":0},{"$f":"'Hull Long'!B202","v":3900},{"$f":"'Hull Long'!C202","v":247.5267527155043},{"$f":"'Hull Plan'!C202","v":129.01701323251416},129.01702323251416,100.23808008447641,163.38011630079299,101.44402973812952,113.42156009451796,89.999994284030862,52.155052873928824,37.84495362798598,89.807318628636438,37.8449528420403,43.311634975370914,98.843411396643106,98.650736527001754,3902.374312245699,-73.323665739894963,3901.9404514464345,55.692627993914023,129.01702323337653,-8.6237150753731839E-10]
[3,2099.2641820554745,599.92828685547249,3,2099.2496813766279,486.50672768669409,null,null,null,null,null,null,null,null,{"$f":"'Hull Long'!B254","v":4000},{"$f":"'Hull Long'!C254","v":254.43129462803603},{"$f":"'Hull Plan'!C254","v":0},{"$f":"'Hull Long'!B203","v":4000},{"$f":"'Hull Long'!C203","v":254.43129462803603},{"$f":"'Hull Plan'!C203","v":113.42155009451795},113.42156009451796,100.25249315213557,151.37704716720509,101.60785031128115,96.880917372400774,89.999994284852647,48.526771036457809,41.47323565444632,89.807319415403924,41.47323467868955,39.157952683681145,99.368811661872556,99.176137767987967,4002.6118255214496,-72.986573296207894,4002.2304109859238,40.434345486433337,113.42156009571728,-1.1993250836894731E-9]
[3,1999.011689721375,599.94109390071912,3,1998.9993020748088,503.06017731875312,null,null,null,null,null,null,null,null,{"$f":"'Hull Long'!B255","v":4100},{"$f":"'Hull Long'!C255","v":261.54201774309189},{"$f":"'Hull Plan'!C255","v":0},{"$f":"'Hull Long'!B204","v":4100},{"$f":"'Hull Long'!C204","v":261.54201774309189},{"$f":"'Hull Plan'!C204","v":96.88090737240077},96.880917372400774,100.26690403547741,139.4251134414433,101.78018484255652,79.395095066162582,89.999994285674106,44.016052381639973,45.983954591197993,89.807320391982159,45.983953332685907,34.123568692307138,99.892476716494855,99.699804081122352,4102.8637517879888,-72.649433759183864,4102.5379618505103,24.230935832040714,96.880917373937137,-1.536363924969919E-9]
[3,1898.7447865042707,599.95390449592549,3,1898.7346329327227,520.55881007714243,null,null,null,null,null,null,null,null,{"$f":"'Hull Long'!B256","v":4200},{"$f":"'Hull Long'!C256","v":268.8531082814203},{"$f":"'Hull Plan'!C256","v":0},{"$f":"'Hull Long'!B205","v":4200},{"$f":"'Hull Long'!C205","v":268.8531082814203},{"$f":"'Hull Plan'!C205","v":79.395085066162579},79.395095066162582,100.28131275275429,127.90590768247928,101.96099017809775,60.964093175803413,89.999994286495223,38.369497405534389,51.630510035308752,89.807321651315362,51.630508307970388,27.955161925269188,100.41432803942207,100.22165713138793,4203.130088862129,-72.312247468728913,4202.8631017731232,7.0823986905480609,79.395095068036099,-1.8735164530880866E-9]
[3,1798.4634745702883,599.96671913619514,3,1798.4556762396755,539.00262645694966,null,null,null,null,null,null,null,null,{"$f":"'Hull Long'!B257","v":4300},{"$f":"'Hull Long'!C257","v":276.35921828699054},{"$f":"'Hull Plan'!C257","v":0},{"$f":"'Hull Long'!B206","v":4300},{"$f":"'Hull Long'!C206","v":276.35921828699054},{"$f":"'Hull Plan'!C206","v":60.96408317580341},60.964093175803413,100.29571931882893,117.37057020883724,102.15022135175872,41.587911701323264,89.999994287316014,31.293052422363214,58.706955951911446,89.807323379474497,58.706953290320726,20.358755379520638,100.93428866856792,100.74162042212451,4303.4108345794839,-71.975014927504432,4303.205828466198,-11.011266441120345,60.964093178014082,-2.2106689812062541E-9]
[3,1698.1677560707351,599.97953864256147,3,1698.1624343470692,558.3916272791829,null,null,null,null,null,null,null,null,{"$f":"'Hull Long'!B258","v":4400},{"$f":"'Hull Long'!C258","v":284.05540654360914},{"$f":"'Hull Plan'!C258","v":0},{"$f":"'Hull Long'!B207","v":4400},{"$f":"'Hull Long'!C207","v":284.05540654360914},{"$f":"'Hull Plan'!C207","v":41.587901701323261},41.587911701323264,100.31012374596287,108.58947690199687,102.34783163899671,21.266550642722105,89.999994288136591,22.518572570934715,67.481438598928847,89.807326041885744,67.481433140928686,11.066279077338741,101.45228232373238,101.25961953528918,4403.7059867916259,-71.637736964048727,4403.5661395812131,-30.050060392175695,41.587911703871086,-2.5478215093244216E-9]
[3,1597.8576331447616,599.99236465125477,3,1597.8549097824282,578.72581418002267,null,null,null,null,null,null,null,null,{"$f":"'Hull Long'!B259","v":4500},{"$f":"'Hull Long'!C259","v":291.9370894813062},{"$f":"'Hull Plan'!C259","v":0},{"$f":"'Hull Long'!B208","v":4500},{"$f":"'Hull Long'!C208","v":291.9370894813062},{"$f":"'Hull Plan'!C208","v":21.266540642722106},21.266550642722105,100.32452604439486,102.55377261193766,102.55377261193766,1.0000000000000001E-5,89.999994288957254,11.968257509360104,89.999997205308617,89.807331500706539,78.031748201682703,5.5330856145987559E-6,89.999997205308617,101.77558347678847,4504.0155433651289,-71.300415222048798,4503.9440325963715,-50.033984807611191,21.266550645606944,-2.8848390343227948E-9]
[3,1497.5331079216971,600.0052020598356,3,1497.5331058669601,600.00519236848072,null,null,null,null,null,null,null,null,{"$f":"'Hull Long'!B260","v":4600},{"$f":"'Hull Long'!C260","v":300},{"$f":"'Hull Plan'!C260","v":0},{"$f":"'Hull Long'!B209","v":4600},{"$f":"'Hull Long'!C209","v":300},{"$f":"'Hull Plan'!C209","v":0},1.0000000000000001E-5,160.07810593582121,160.07810593582121,160.07810593582121,1.0000000000000001E-5,89.999998242138602,3.6222548107960426E-6,89.999998242138602,101.77558445751384,89.999998242138602,3.6222548107960426E-6,89.999998242138602,101.77558440708647,4604.3395021877723,-70.963054606468262,4604.3395042086677,-70.963044908000086,9.906780668538909E-6,9.3219331461091853E-8]
[0,1340.9389243287158,633.22058501484082,0,1340.9389222447451,633.22057518566385,null,null,null,null,null,null,null,null,{"$f":"'Hull Long'!B261","v":4700},{"$f":"'Hull Long'!C261","v":425},{"$f":"'Hull Plan'!C261","v":0},{"$f":"'Hull Long'!B210","v":4700},{"$f":"'Hull Long'!C210","v":425},{"$f":"'Hull Plan'!C210","v":0},1.0000000000000001E-5,null,null,null,null,null,null,null,null,null,null,null,null,4761.0486750789178,-103.63161949341938,4761.0486771285659,-103.63160965702778,1.0047669247556845E-5,-4.7669247556844036E-8]
[0,0,0,0,0,0,null,null,null,null,null,null,null,null,"X0","Z0","Y0","X1","Z1","Y1","F","L","D","U","F'","A1","A2","A3","A","B1","B2","B3","B","XA","YA","XB","YB","Check F","Error F"]
[{"$f":"A8","v":0},-228.47499754372404,{"$f":"-C8","v":122.55266458468884},{"$f":"D8","v":0},-228.47500030160751,{"$f":"-F8","v":122.55265044174209}]
[0,-71.356248243178896,{"$f":"-C9","v":91.914475698391357},0,-71.356250617046669,{"$f":"-F9","v":91.914463524753842}]
[0,85.762501114332878,61.276287104230164,0,85.762499010547543,61.276276315629332]
[0,242.88125052881131,30.638098802205235,0,242.88124858117513,30.638088814368473]
[0,400.00000000025636,-8.9207683373615509E-5,1,399.99999809483609,-9.8979028578582984E-5]
[0,500.00000000025483,-1.067221316617406E-4,1,499.99999463492952,-19.500116722130969]
[0,600.00000000025443,-1.1474940549760504E-4,1,599.99999314988361,-38.000124749404272]
[0,700.00000000025443,-1.181714174975923E-4,1,699.9999925510316,-55.500128171415618]
[0,800.00000000025443,-1.186204570302607E-4,1,799.99999247694018,-72.000128620454618]
[0,999.90000000025429,-1.2534336488556619E-4,1,999.89999146847038,-101.98613484336111]
[0,1000.100000000005,-1.1535735117718104E-4,1,1000.0999928662582,-102.01412485734747]
[0,1100.000000000005,-1.1102129232654079E-4,1,1099.999993451604,-115.50012102128927]
[0,1200.0000000000048,-1.0560865219133575E-4,1,1199.999994128184,-128.00011560864971]
[0,1300.0000000000045,-9.9297574635670571E-5,1,1299.9999948539576,-139.50010929757258]
[0,1400.0000000000043,-9.2233808942410178E-5,1,1399.9999955956528,-150.00010223380735]
[0,1500.0000000000041,-8.4536710062366183E-5,1,1499.9999963268767,-159.50009453670884]
[0,1600.0000000000036,-7.6306695916628087E-5,1,1599.9999970264275,-168.00008630669501]
[0,1700.0000000000032,-6.763025325540184E-5,1,1699.9999976771603,-175.50007763025258]
[0,1800.0000000000027,-5.8583440306847478E-5,1,1799.9999982652027,-182.00006858343974]
[0,1900.0000000000023,-4.9234429539524172E-5,1,1899.9999987793979,-187.50005923442905]
[{"$f":"A28","v":0},2000.0000000000018,-3.9645418809186594E-5,{"$f":"D28","v":1},1999.9999992109028,-192.0000496454185]
[0,2100.0000000000014,-2.9874116464156941E-5,1,2099.9999995528979,-195.50003987411628]
[0,2200.0000000000009,-1.9974936847688696E-5,1,2199.9999998003768,-198.00002997493684]
[0,2300.0000000000005,-9.9999997473787516E-6,1,2299.9999999500005,-199.50001999999975]
[1,2400,0,1,2400,-200.00001]
[1,2400,-200.00001,0,2400,-200.00001]
[0,2499.9999999999995,-9.9999997473787516E-6,0,2500.0000000499995,-199.50001999999975]
[0,2599.9999999999991,-1.9974936847688696E-5,0,2600.0000001996232,-198.00002997493684]
[0,2699.9999999999986,-2.9874116464156941E-5,0,2700.0000004471021,-195.50003987411628]
[0,2799.9999999999982,-3.9645418809186594E-5,0,2800.0000007890972,-192.0000496454185]
[0,2899.9999999999977,-4.9234429539524172E-5,0,2900.0000012206024,-187.50005923442905]
[0,2999.9999999999973,-5.8583440306847478E-5,0,3000.0000017347975,-182.00006858343974]
[0,3099.9999999999968,-6.763025325540184E-5,0,3100.0000023228399,-175.50007763025258]
[0,3199.9999999999964,-7.6306695916628087E-5,0,3200.0000029735729,-168.00008630669501]
[0,3299.9999999999959,-8.4536710062366183E-5,0,3300.000003673124,-159.50009453670884]
[0,3399.9999999999955,-9.2233808942410178E-5,0,3400.0000044043481,-150.00010223380735]
[0,3499.999999999995,-9.9297574635670571E-5,0,3500.0000051460433,-139.50010929757258]
[0,3599.999999999995,-1.0560865219133575E-4,0,3600.0000058718169,-128.00011560864971]
[0,3699.999999999995,-1.1102129232654079E-4,0,3700.0000065483969,-115.50012102128927]
[0,3799.8999999999951,-1.1535735117718104E-4,0,3799.9000071337432,-102.01412485734744]
[{"$f":"A48","v":0},3800.0999999997457,-1.2534336487135533E-4,{"$f":"D48","v":0},3800.1000085315309,-101.9861348433611]
[0,3999.9999999997458,-1.1862043952248769E-4,0,4000.000007523061,-72.000128620454177]
[0,4099.9999999997453,-1.181713912643545E-4,0,4100.000007448969,-55.500128171415056]
[0,4199.9999999997453,-1.1474937055311329E-4,0,4200.0000068501176,-38.000124749403597]
[0,4299.9999999997453,-1.0672208799178406E-4,0,4300.000005365072,-19.500116722130208]
[0,4399.9999999997435,-8.920763096398332E-5,0,4400.0000019051649,-9.8979027683299137E-5]
[0,4557.1187494711858,30.638098802271358,0,4557.1187514188259,30.638088814369524]
[0,4714.2374988856618,61.276287104310029,0,4714.2375009894531,61.276276315630525]
[0,4871.3562482431707,91.914475698484978,0,4871.3562506170474,91.914463524755263]
[0,5028.4749975437135,122.55266458479622,0,5028.4750003016079,122.55265044174365]
[0,0,0,0,0,0]
[0,-122.3971898367983,-346.50926827702881,0,-122.39719064945007,-346.50927827493206]
[1,37.15468255625693,-359.47846315837023,1,37.154681754722858,-359.47847301949946]
[1,156.58918181214722,-252.89328413476147,1,147.44828130992357,-368.4437012290781]
[1,275.99965069342039,-146.28118387613938,1,256.29402509946374,-376.20049937490552]
[1,395.37473599835403,-39.629465613188643,1,363.84769150378133,-382.89861726296868]
[1,496.05415115404008,-55.246935443766489,1,470.25695409757793,-388.68361375414554]
[1,596.66695673074662,-70.056167496234536,1,575.64881932998276,-393.93758453073792]
[1,697.21435884489006,-84.072940594802844,1,680.16627095787419,-398.53859755403278]
[1,797.69847342767082,-97.308979145463837,1,783.93627444619267,-402.39658822621544]
[{"$f":"A68","v":1},998.40601060937263,-121.30178399337154,{"$f":"D68","v":1},989.55271291448105,-407.51579383012432]
[1,998.60666961973675,-121.32458665899875,1,989.75742413168018,-407.51957345087305]
[1,1098.8190574781045,-132.2497653399204,1,1091.7956813290259,-408.90658301079912]
[1,1199.083121312151,-142.41674638063535,1,1193.5538319646973,-409.47039119918912]
[1,1299.3029285774062,-151.81037356693056,1,1294.9911421322881,-409.2464377717709]
[1,1399.4829614894918,{"$f":"-C73","v":-160.42495456274364},1,1396.1599726245393,{"$f":"-F73","v":-408.2904130608249}]
[1,1499.6276827386409,-168.25341583749105,1,1497.1046091881478,-406.67468613055047]
[1,1599.741464094071,-175.2876736318249,1,1597.8623330268731,-404.48683120505353]
[1,1699.8285296594911,-181.51899022651793,1,1698.4643719255921,-401.82858988814462]
[1,1799.8929120220096,-186.93834280848694,1,1798.9367313994167,-398.81538708337132]
[1,1899.9384206486557,-191.53684295915411,1,1899.3009087956618,-395.57663324182852]
[1,1999.9686236736866,-195.30625707425003,1,1999.5744937895774,-392.25732829421742]
[1,2099.9868467365932,-198.239694535436,1,2099.7716560205631,-389.0222460460086]
[1,2199.996195815741,-200.33256260703806,1,2199.9035102950243,-386.0664459561176]
[1,2299.9996153436573,-201.58399487590771,1,2299.9782957622519,-383.64689209841976]
[1,2400,-202.00000999999997,1,2400,-382.27758377319947]
[1,2400,-382.27758377319947,0,2400,-382.27758377319947]
[0,2500.0003846563427,-201.58399487590771,0,2500.0217042377481,-383.64689209841976]
[0,2600.003804184259,-200.33256260703806,0,2600.0964897049757,-386.0664459561176]
[0,2700.0131532634068,-198.239694535436,0,2700.2283439794369,-389.0222460460086]
[{"$f":"A88","v":0},2800.0313763263134,-195.30625707425003,{"$f":"D88","v":0},2800.4255062104226,-392.25732829421742]
[0,2900.0615793513443,-191.53684295915411,0,2900.6990912043384,-395.57663324182852]
[0,3000.1070879779904,-186.93834280848694,0,3001.0632686005833,-398.81538708337132]
[0,3100.1714703405091,-181.51899022651793,0,3101.5356280744077,-401.82858988814462]
[0,3200.2585359059294,-175.2876736318249,0,3202.1376669731267,-404.48683120505353]
[0,3300.3723172613595,-168.25341583749105,0,3302.8953908118519,-406.67468613055047]
[0,3400.5170385105084,-160.42495456274364,0,3403.8400273754605,-408.2904130608249]
[0,3500.697071422594,-151.81037356693056,0,3505.0088578677114,-409.2464377717709]
[0,3600.916878687849,-142.41674638063535,0,3606.446168035302,-409.47039119918912]
[0,3701.1809425218953,-132.2497653399204,0,3708.2043186709734,-408.90658301079912]
[0,3801.3933303802633,-121.32458665899875,0,3810.2425758683194,-407.51957345087305]
[0,3801.593989390627,-121.30178399337154,0,3810.4472870855184,-407.51579383012432]
[0,4002.3015265723288,-97.308979145463638,0,4016.0637255538068,-402.39658822621482]
[0,4102.7856411551093,-84.07294059480256,0,4119.833729042125,-398.53859755403175]
[0,4203.3330432692528,-70.056167496234167,0,4224.3511806700162,-393.9375845307365]
[0,4303.9458488459595,-55.246935443766034,0,4329.7430459024208,-388.68361375414361]
[0,4404.6252640016455,-39.629465613188188,0,4436.1523084962173,-382.89861726296635]
[0,4524.0003493065788,-146.28118387613893,0,4543.7059749005348,-376.20049937490279]
[0,4643.4108181878519,-252.89328413476102,0,4652.5517186900752,-368.44370122907497]
[0,4762.8453174437418,-359.47846315836978,0,4762.8453182452758,-359.47847301949588]
[{"$f":"A108","v":0},4922.3971898367972,-346.50926827702835,{"$f":"D108","v":0},4922.3971906494489,-346.50927827492785]
[0,0,0,0,0,0]
[0,2510.2201584461977,-373.69973400602476,0,2510.2201575228491,-373.69972400405641]
[2,2350.8198293378478,-388.41486499931153,2,2350.8198284274072,-388.41485513716901]
[2,2245.4711247060213,-422.27788099152639,2,2248.7002725752586,-397.84208110777843]
[2,2140.6138064116153,-452.48560614054924,2,2146.7056074292236,-406.33719281702832]
[2,2036.2217507582197,-479.22424216993647,2,2044.8355577803538,-413.89766282557326]
[2,1932.2687106777273,-502.67979179432291,2,1943.0898982895881,-420.52067519814818]
[2,1828.7283667740119,-523.03775461939358,2,1841.4684656579182,-426.20314442128807]
[2,1725.5744029312275,-540.48271833820638,2,1739.97117126628,-430.94175983687296]
[2,1622.7806115136452,-555.19781813368581,2,1638.5980130137254,-434.73305980035184]
[2,1418.2798122154859,-577.19211559490145,2,1436.3266347770157,-439.49899394129034]
[2,1418.0757981071649,-577.20941332845598,2,1436.1245098392203,-439.50177204896613]
[2,1316.3110938729653,-584.80379938111969,2,1335.2258337996084,-440.4341877624986]
[2,1214.7041728008244,-590.37808773973404,2,1234.3511533987025,-440.40816762907582]
[2,1113.3343665572208,-594.08489651656362,2,1133.6019813680316,-439.42048514162269]
[2,1012.1806276031749,-596.07671529207448,2,1032.9788020048316,-437.47036619462529]
[2,911.22392845573836,-596.49519077072648,2,932.48208944530825,-434.55822179634657]
[2,810.44767936126664,-595.46891557136723,2,832.11226127359259,-430.68567344349225]
[2,709.83815287789116,-593.11102281102535,2,731.86964360285879,-425.85531242442562]
[{"$f":"A128","v":2},609.38491032832087,-589.51651719032031,{"$f":"D128","v":2},631.75447317647513,-420.07001903026469]
[2,509.0812488002141,-584.75908984709758,2,531.7669799573124,-413.33157483965522]
[2,408.92474699046676,-578.88671570188649,2,431.90762699291196,-405.6381041631056]
[2,308.91814510789004,-571.91415116687381,2,332.17766223936843,-396.97936573200019]
[2,209.07128966198408,-563.80671925672709,2,232.58037513867873,-387.32724797983929]
[2,109.40707338261886,-554.43330362517293,2,133.12449081202411,-376.61135097290389]
[2,10,-543.27758377319947,2,33.842861151555425,-364.58365109036038]
[2,33.842861151555425,-364.58365109036038,0,33.842861151555425,-364.58365109036038]
[0,-88.854374506583198,-527.97957851678518,0,-65.119081822031248,-350.16001093277282]
[0,-187.48959527032312,{"$f":"-C137","v":-510.89420020460722},0,-163.90524290423167,{"$f":"-F137","v":-334.42477167492552}]
[0,-285.96913861022301,-492.5392407064748,0,-262.54894858667564,-317.62589361256158]
[0,-384.30528995149092,-473.04723168527789,0,-361.06023708430502,-299.83360147528572]
[0,-482.49763918034796,-452.45421865207948,0,-459.44330457986587,-281.07588584455084]
[0,-580.53967297850193,-430.74667987881736,0,-557.69963192494924,-261.36295691407889]
[0,-678.42114943837782,-407.87768393638783,0,-655.82926405652779,-240.69674616122214]
[0,-776.12921596204092,-383.77436023019209,0,-753.83151194599554,-219.07559462697765]
[0,-873.64903684083629,-358.34229074885485,0,-851.70539195093511,-196.49678485445673]
[0,-970.96419700356216,-331.46870098166426,0,-949.4499099589857,-172.95790171099245]
[0,-1068.0569902430107,-303.02514727648287,0,-1047.064237855685,-148.4574899115581]
[0,-1164.9086401609745,-272.86994942699363,0,-1144.547810329854,-122.99527713978301]
[{"$f":"A148","v":0},-1261.4994768618847,-240.85043403585402,{"$f":"D148","v":0},-1241.9003629887611,-96.572137397751192]
[0,-1357.712929161554,-206.84012201184791,0,-1339.0247803273221,-69.217799857710673]
[0,-1357.9052708626357,-206.769939122159,0,-1339.2191058364695,-69.162123966556663]
[0,-1549.4852485319923,-131.92718268837069,0,-1533.1647458366729,-11.52955238654431]
[0,-1644.8248128503101,-90.775448926770565,0,-1629.9974778237345,18.708059712172542]
[0,-1739.7962087199421,-46.894918139156175,0,-1726.7016273722707,49.892393999986126]
[0,-1834.3767108784566,-0.10199049480110034,0,-1823.2781041154724,82.020110483652729]
[0,-1928.5433179160852,49.78836397557086,0,-1919.7278615909313,115.0880375584386]
[0,-2022.2727924949609,102.96205611201623,0,-2016.0518663731252,149.09324046818864]
[0,-2115.5416955697651,159.60546329940337,0,-2112.2510742257182,184.03306087038828]
[2,-2208.3264168614678,219.90512262276798,2,-2208.326413397132,219.90513190118867]
[0,-2358.2922155666179,275.89850811361237,0,-2358.2922120531653,275.89851752358243]
[0,0,0,0,0,0]
[0,6263.0062873851057,-616.03925893364408,0,6263.0062894004113,-616.03924909013324]
[0,6106.184034647612,-583.91791017090088,0,6106.1840366346469,-583.91790046541621]
[0,6005.8618646411678,-584.6054647000102,0,6005.7161206126602,-563.33941346709128]
[0,5905.5540966604267,-585.29293008254456,0,5905.2690822199347,-543.70599503487472]
[0,5805.2607328004751,-585.98030140619687,0,5804.8429247412296,-525.01763993669545]
[0,5704.9817751889868,-586.66757701984341,0,5704.4376506925837,-507.27434651876752]
[0,5604.7172259714853,-587.35475608745139,0,5604.0532624196139,-490.4761139436871]
[{"$f":"A168","v":0},5504.4670873105906,-588.04183809880726,{"$f":"D168","v":0},5503.6897622081115,-474.62294170039644]
[0,5404.2313613882889,-588.72882270638638,0,5403.3471523239468,-459.71482944079577]
[0,5203.9034756831425,-590.10180017462517,0,5202.825023937261,-432.74631800083461]
[0,5202.6279325832984,-433.7212409699784,0,5202.6244418969945,-432.72123706219003]
[0,5102.4894055791128,-421.3241592552597,0,5102.4859148928053,-420.32415534749941]
[0,5002.2683546803937,-409.85930950531804,0,5002.2648639940835,-408.8593055975835]
[0,4902.0650296774875,-399.33957377083306,0,4902.0615389911745,-398.33956986312302]
[0,4801.8794328691138,-389.76495204378034,0,4801.8759421827981,-388.76494813609139]
[0,4701.7115666812051,-381.13544431568886,0,4701.7080759948876,-380.13544040801906]
[0,4601.5614337265233,-373.45105057743797,0,4601.5579430402049,-372.45104666978665]
[0,4501.4290369041573,-366.7117708189104,0,4501.4255462178371,-365.71176691127584]
[0,4401.3143795759106,-360.91760502837485,0,4401.3108888895904,-359.91760112075275]
[0,4301.2174659039929,-356.06855319129687,0,4301.2139752176718,-355.06854928368364]
[0,4201.1383015671263,-352.16461528785698,0,4201.1348108808043,-351.16461138025016]
[0,4101.0768955131816,-349.20579128682033,0,4101.0734048268596,-348.20578737921664]
[0,4001.0332652996062,-347.19208112689745,0,4001.0297746132846,-346.19207721929774]
[0,3901.0074612418925,-346.1234846324549,0,3901.003970555571,-345.12348072485764]
[0,3801,-346,0,3800.9965093136784,-344.99999609240314]
[0,3801,-346,0,3800.9965093136784,-344.99999609240314]
[0,3700.9958379477553,-346.82165974188939,0,3700.9923472614337,-345.82165583429213]
[{"$f":"A188","v":0},3600.9799315986097,-348.58853637002886,{"$f":"D188","v":0},3600.9764409122881,-347.58853246242916]
[0,3500.9527976125237,-351.30062808092958,0,3500.9493069262016,-350.3006241733259]
[0,3400.9144863049887,-354.95793469895494,0,3400.9109956186671,-353.95793079134813]
[0,3300.8650152334526,-359.56045616282,0,3300.8615245471306,-358.56045225520677]
[0,3200.8043933457861,-365.10819244129141,0,3200.8009026594641,-364.10818853366931]
[0,3100.7326263207119,-371.60114351454342,0,3100.7291356343881,-370.60113960690899]
[0,3000.6497183204388,-379.03930936805284,0,3000.6462276341149,-378.03930546040152]
[0,2900.5556727067687,-387.42268999008087,0,2900.552182020444,-386.42268608241108]
[0,2800.4504923787954,-396.75128537050534,0,2800.4470016924688,-395.75128146281639]
[0,2700.3341799492764,-407.02509550020631,0,2700.3306892629471,-406.02509159249627]
[0,2600.2067378441448,-418.24412037071841,0,2600.2032471578127,-417.24411646298398]
[0,2500.0681683621233,-430.40835997401803,0,2500.0646776757881,-429.40835606625785]
[3,2400.0186289175881,-443.50423270347079,3,2400.0151382312501,-442.50422879568475]
[3,2399.8348502911786,{"$f":"-C201","v":-599.88988592260102},3,2399.8147361755864,{"$f":"-F201","v":-442.5307094385588}]
[3,2199.5022613222077,-599.91548302790261,3,2199.4857685699344,-470.89846084869265]
[3,2099.2641820554745,-599.92828685547249,3,2099.2496813766279,-486.50672768669409]
[3,1999.011689721375,-599.94109390071912,3,1998.9993020748088,-503.06017731875312]
[3,1898.7447865042707,-599.95390449592549,3,1898.7346329327227,-520.55881007714243]
[3,1798.4634745702883,-599.96671913619514,3,1798.4556762396755,-539.00262645694966]
[3,1698.1677560707351,-599.97953864256147,3,1698.1624343470692,-558.3916272791829]
[{"$f":"A208","v":3},1597.8576331447616,-599.99236465125477,{"$f":"D208","v":3},1597.8549097824282,-578.72581418002267]
[3,1497.5331079216971,-600.0052020598356,3,1497.5331058669601,-600.00519236848072]
[0,1340.9389243287158,-633.22058501484082,0,1340.9389222447451,-633.22057518566385]
[0,0,0,0,0,0,null,{"$f":"234*Basic!$D$2","v":234},{"$f":"0*Basic!$D$2","v":0}]
[1,{"$f":"$H$415-'Hull Long'!C221","v":-0.36860473707068309},{"$f":"'Hull Plan'!C221+$I$415","v":0}]
[1,{"$f":"$H$415-'Hull Long'!C170","v":-0.36860473707068309},{"$f":"'Hull Plan'!C170+$I$415","v":157.3591677693762}]
[1,{"$f":"$H$415-'Hull Long'!C119","v":78.389069578444492},{"$f":"'Hull Plan'!C119+$I$415","v":271.73709183814333}]
[1,{"$f":"$H$415-'Hull Long'!C68","v":309},{"$f":"'Hull Plan'!C68+$I$415","v":101.98599950000002}]
[1,{"$f":"$H$415-'Hull Long'!C17","v":309},{"$f":"'Hull Plan'!C17+$I$415","v":0}]
[0,{"$f":"B416","v":-0.36860473707068309},{"$f":"C416","v":0}]
[0,0,0]
[0,{"$f":"B428","v":-0.36860473707068309},{"$f":"C428","v":0}]
[{"$f":"A420","v":1},{"$f":"B420","v":309},{"$f":"2*$I$415-C420","v":0}]
[{"$f":"A419","v":1},{"$f":"B419","v":309},{"$f":"2*$I$415-C419","v":-101.98599950000002}]
[{"$f":"A418","v":1},{"$f":"B418","v":78.389069578444492},{"$f":"2*$I$415-C418","v":-271.73709183814333}]
[{"$f":"A417","v":1},{"$f":"B417","v":-0.36860473707068309},{"$f":"2*$I$415-C417","v":-157.3591677693762}]
[{"$f":"A416","v":1},{"$f":"B416","v":-0.36860473707068309},{"$f":"2*$I$415-C416","v":0}]
[0,0,0]

{"sheet":"Export","index":6,"n_rows":256,"n_cols":4,"rows_kept":256,"cut":false,"hidden":false,"merged":[]}
[0,0,0,0]
[{"$f":"'Hull Long'!A8","v":0},{"$f":"'Hull Long'!B8","v":-100},{"$f":"'Hull Long'!C8","v":425},{"$f":"'Hull Plan'!C8","v":0}]
[{"$f":"'Hull Long'!A9","v":1},{"$f":"'Hull Long'!B9","v":0},{"$f":"'Hull Long'!C9","v":300},{"$f":"'Hull Plan'!C9","v":0}]
[{"$f":"'Hull Long'!A10","v":1},{"$f":"'Hull Long'!B10","v":100},{"$f":"'Hull Long'!C10","v":175},{"$f":"'Hull Plan'!C10","v":0}]
[{"$f":"'Hull Long'!A11","v":1},{"$f":"'Hull Long'!B11","v":200},{"$f":"'Hull Long'!C11","v":50},{"$f":"'Hull Plan'!C11","v":0}]
[{"$f":"'Hull Long'!A12","v":1},{"$f":"'Hull Long'!B12","v":300},{"$f":"'Hull Long'!C12","v":-75},{"$f":"'Hull Plan'!C12","v":0}]
[{"$f":"'Hull Long'!A13","v":1},{"$f":"'Hull Long'!B13","v":400},{"$f":"'Hull Long'!C13","v":-75},{"$f":"'Hull Plan'!C13","v":0}]
[{"$f":"'Hull Long'!A14","v":1},{"$f":"'Hull Long'!B14","v":500},{"$f":"'Hull Long'!C14","v":-75},{"$f":"'Hull Plan'!C14","v":0}]
[{"$f":"'Hull Long'!A15","v":1},{"$f":"'Hull Long'!B15","v":600},{"$f":"'Hull Long'!C15","v":-75},{"$f":"'Hull Plan'!C15","v":0}]
[{"$f":"'Hull Long'!A16","v":1},{"$f":"'Hull Long'!B16","v":700},{"$f":"'Hull Long'!C16","v":-75},{"$f":"'Hull Plan'!C16","v":0}]
[{"$f":"'Hull Long'!A17","v":1},{"$f":"'Hull Long'!B17","v":899.9},{"$f":"'Hull Long'!C17","v":-75},{"$f":"'Hull Plan'!C17","v":0}]
[{"$f":"'Hull Long'!A18","v":1},{"$f":"'Hull Long'!B18","v":900.1},{"$f":"'Hull Long'!C18","v":-75},{"$f":"'Hull Plan'!C18","v":0}]
[{"$f":"'Hull Long'!A19","v":1},{"$f":"'Hull Long'!B19","v":1000},{"$f":"'Hull Long'!C19","v":-75},{"$f":"'Hull Plan'!C19","v":0}]
[{"$f":"'Hull Long'!A20","v":1},{"$f":"'Hull Long'!B20","v":1100},{"$f":"'Hull Long'!C20","v":-75},{"$f":"'Hull Plan'!C20","v":0}]
[{"$f":"'Hull Long'!A21","v":1},{"$f":"'Hull Long'!B21","v":1200},{"$f":"'Hull Long'!C21","v":-75},{"$f":"'Hull Plan'!C21","v":0}]
[{"$f":"'Hull Long'!A22","v":1},{"$f":"'Hull Long'!B22","v":1300},{"$f":"'Hull Long'!C22","v":-75},{"$f":"'Hull Plan'!C22","v":0}]
[{"$f":"'Hull Long'!A23","v":1},{"$f":"'Hull Long'!B23","v":1400},{"$f":"'Hull Long'!C23","v":-75},{"$f":"'Hull Plan'!C23","v":0}]
[{"$f":"'Hull Long'!A24","v":1},{"$f":"'Hull Long'!B24","v":1500},{"$f":"'Hull Long'!C24","v":-75},{"$f":"'Hull Plan'!C24","v":0}]
[{"$f":"'Hull Long'!A25","v":1},{"$f":"'Hull Long'!B25","v":1600},{"$f":"'Hull Long'!C25","v":-75},{"$f":"'Hull Plan'!C25","v":0}]
[{"$f":"'Hull Long'!A26","v":1},{"$f":"'Hull Long'!B26","v":1700},{"$f":"'Hull Long'!C26","v":-75},{"$f":"'Hull Plan'!C26","v":0}]
[{"$f":"'Hull Long'!A27","v":1},{"$f":"'Hull Long'!B27","v":1800},{"$f":"'Hull Long'!C27","v":-75},{"$f":"'Hull Plan'!C27","v":0}]
[{"$f":"'Hull Long'!A28","v":1},{"$f":"'Hull Long'!B28","v":1900},{"$f":"'Hull Long'!C28","v":-75},{"$f":"'Hull Plan'!C28","v":0}]
[{"$f":"'Hull Long'!A29","v":1},{"$f":"'Hull Long'!B29","v":2000},{"$f":"'Hull Long'!C29","v":-75},{"$f":"'Hull Plan'!C29","v":0}]
[{"$f":"'Hull Long'!A30","v":1},{"$f":"'Hull Long'!B30","v":2100},{"$f":"'Hull Long'!C30","v":-75},{"$f":"'Hull Plan'!C30","v":0}]
[{"$f":"'Hull Long'!A31","v":1},{"$f":"'Hull Long'!B31","v":2200},{"$f":"'Hull Long'!C31","v":-75},{"$f":"'Hull Plan'!C31","v":0}]
[{"$f":"'Hull Long'!A32","v":1},{"$f":"'Hull Long'!B32","v":2300},{"$f":"'Hull Long'!C32","v":-75},{"$f":"'Hull Plan'!C32","v":0}]
[{"$f":"'Hull Long'!A33","v":1},{"$f":"'Hull Long'!B33","v":2300},{"$f":"'Hull Long'!C33","v":-75},{"$f":"'Hull Plan'!C33","v":0}]
[{"$f":"'Hull Long'!A34","v":1},{"$f":"'Hull Long'!B34","v":2400},{"$f":"'Hull Long'!C34","v":-75},{"$f":"'Hull Plan'!C34","v":0}]
[{"$f":"'Hull Long'!A35","v":1},{"$f":"'Hull Long'!B35","v":2500},{"$f":"'Hull Long'!C35","v":-75},{"$f":"'Hull Plan'!C35","v":0}]
[{"$f":"'Hull Long'!A36","v":1},{"$f":"'Hull Long'!B36","v":2600},{"$f":"'Hull Long'!C36","v":-75},{"$f":"'Hull Plan'!C36","v":0}]
[{"$f":"'Hull Long'!A37","v":1},{"$f":"'Hull Long'!B37","v":2700},{"$f":"'Hull Long'!C37","v":-75},{"$f":"'Hull Plan'!C37","v":0}]
[{"$f":"'Hull Long'!A38","v":1},{"$f":"'Hull Long'!B38","v":2800},{"$f":"'Hull Long'!C38","v":-75},{"$f":"'Hull Plan'!C38","v":0}]
[{"$f":"'Hull Long'!A39","v":1},{"$f":"'Hull Long'!B39","v":2900},{"$f":"'Hull Long'!C39","v":-75},{"$f":"'Hull Plan'!C39","v":0}]
[{"$f":"'Hull Long'!A40","v":1},{"$f":"'Hull Long'!B40","v":3000},{"$f":"'Hull Long'!C40","v":-75},{"$f":"'Hull Plan'!C40","v":0}]
[{"$f":"'Hull Long'!A41","v":1},{"$f":"'Hull Long'!B41","v":3100},{"$f":"'Hull Long'!C41","v":-75},{"$f":"'Hull Plan'!C41","v":0}]
[{"$f":"'Hull Long'!A42","v":1},{"$f":"'Hull Long'!B42","v":3200},{"$f":"'Hull Long'!C42","v":-75},{"$f":"'Hull Plan'!C42","v":0}]
[{"$f":"'Hull Long'!A43","v":1},{"$f":"'Hull Long'!B43","v":3300},{"$f":"'Hull Long'!C43","v":-75},{"$f":"'Hull Plan'!C43","v":0}]
[{"$f":"'Hull Long'!A44","v":1},{"$f":"'Hull Long'!B44","v":3400},{"$f":"'Hull Long'!C44","v":-75},{"$f":"'Hull Plan'!C44","v":0}]
[{"$f":"'Hull Long'!A45","v":1},{"$f":"'Hull Long'!B45","v":3500},{"$f":"'Hull Long'!C45","v":-75},{"$f":"'Hull Plan'!C45","v":0}]
[{"$f":"'Hull Long'!A46","v":1},{"$f":"'Hull Long'!B46","v":3600},{"$f":"'Hull Long'!C46","v":-75},{"$f":"'Hull Plan'!C46","v":0}]
[{"$f":"'Hull Long'!A47","v":1},{"$f":"'Hull Long'!B47","v":3699.9},{"$f":"'Hull Long'!C47","v":-75},{"$f":"'Hull Plan'!C47","v":0}]
[{"$f":"'Hull Long'!A48","v":1},{"$f":"'Hull Long'!B48","v":3700.1},{"$f":"'Hull Long'!C48","v":-75},{"$f":"'Hull Plan'!C48","v":0}]
[{"$f":"'Hull Long'!A49","v":1},{"$f":"'Hull Long'!B49","v":3900},{"$f":"'Hull Long'!C49","v":-75},{"$f":"'Hull Plan'!C49","v":0}]
[{"$f":"'Hull Long'!A50","v":1},{"$f":"'Hull Long'!B50","v":4000},{"$f":"'Hull Long'!C50","v":-75},{"$f":"'Hull Plan'!C50","v":0}]
[{"$f":"'Hull Long'!A51","v":1},{"$f":"'Hull Long'!B51","v":4100},{"$f":"'Hull Long'!C51","v":-75},{"$f":"'Hull Plan'!C51","v":0}]
[{"$f":"'Hull Long'!A52","v":1},{"$f":"'Hull Long'!B52","v":4200},{"$f":"'Hull Long'!C52","v":-75},{"$f":"'Hull Plan'!C52","v":0}]
[{"$f":"'Hull Long'!A53","v":1},{"$f":"'Hull Long'!B53","v":4300},{"$f":"'Hull Long'!C53","v":-75},{"$f":"'Hull Plan'!C53","v":0}]
[{"$f":"'Hull Long'!A54","v":1},{"$f":"'Hull Long'!B54","v":4400},{"$f":"'Hull Long'!C54","v":50},{"$f":"'Hull Plan'!C54","v":0}]
[{"$f":"'Hull Long'!A55","v":1},{"$f":"'Hull Long'!B55","v":4500},{"$f":"'Hull Long'!C55","v":175},{"$f":"'Hull Plan'!C55","v":0}]
[{"$f":"'Hull Long'!A56","v":1},{"$f":"'Hull Long'!B56","v":4600},{"$f":"'Hull Long'!C56","v":300},{"$f":"'Hull Plan'!C56","v":0}]
[{"$f":"'Hull Long'!A57","v":0},{"$f":"'Hull Long'!B57","v":4700},{"$f":"'Hull Long'!C57","v":425},{"$f":"'Hull Plan'!C57","v":0}]
[{"$f":"'Hull Long'!A58","v":0},{"$f":"'Hull Long'!B58","v":0},{"$f":"'Hull Long'!C58","v":0},{"$f":"'Hull Plan'!C58","v":0}]
[{"$f":"'Hull Long'!A59","v":0},{"$f":"'Hull Long'!B59","v":-100},{"$f":"'Hull Long'!C59","v":425},{"$f":"'Hull Plan'!C59","v":0}]
[{"$f":"'Hull Long'!A60","v":2},{"$f":"'Hull Long'!B60","v":0},{"$f":"'Hull Long'!C60","v":300},{"$f":"'Hull Plan'!C60","v":0}]
[{"$f":"'Hull Long'!A61","v":2},{"$f":"'Hull Long'!B61","v":100},{"$f":"'Hull Long'!C61","v":175},{"$f":"'Hull Plan'!C61","v":0}]
[{"$f":"'Hull Long'!A62","v":2},{"$f":"'Hull Long'!B62","v":200},{"$f":"'Hull Long'!C62","v":50},{"$f":"'Hull Plan'!C62","v":0}]
[{"$f":"'Hull Long'!A63","v":2},{"$f":"'Hull Long'!B63","v":300},{"$f":"'Hull Long'!C63","v":-75},{"$f":"'Hull Plan'!C63","v":0}]
[{"$f":"'Hull Long'!A64","v":2},{"$f":"'Hull Long'!B64","v":400},{"$f":"'Hull Long'!C64","v":-75},{"$f":"'Hull Plan'!C64","v":19.5}]
[{"$f":"'Hull Long'!A65","v":2},{"$f":"'Hull Long'!B65","v":500},{"$f":"'Hull Long'!C65","v":-75},{"$f":"'Hull Plan'!C65","v":38}]
[{"$f":"'Hull Long'!A66","v":2},{"$f":"'Hull Long'!B66","v":600},{"$f":"'Hull Long'!C66","v":-75},{"$f":"'Hull Plan'!C66","v":55.5}]
[{"$f":"'Hull Long'!A67","v":2},{"$f":"'Hull Long'!B67","v":700},{"$f":"'Hull Long'!C67","v":-75},{"$f":"'Hull Plan'!C67","v":72}]
[{"$f":"'Hull Long'!A68","v":2},{"$f":"'Hull Long'!B68","v":899.9},{"$f":"'Hull Long'!C68","v":-75},{"$f":"'Hull Plan'!C68","v":101.98599950000002}]
[{"$f":"'Hull Long'!A69","v":2},{"$f":"'Hull Long'!B69","v":900.1},{"$f":"'Hull Long'!C69","v":-75},{"$f":"'Hull Plan'!C69","v":102.01399949999998}]
[{"$f":"'Hull Long'!A70","v":2},{"$f":"'Hull Long'!B70","v":1000},{"$f":"'Hull Long'!C70","v":-75},{"$f":"'Hull Plan'!C70","v":115.5}]
[{"$f":"'Hull Long'!A71","v":2},{"$f":"'Hull Long'!B71","v":1100},{"$f":"'Hull Long'!C71","v":-75},{"$f":"'Hull Plan'!C71","v":128}]
[{"$f":"'Hull Long'!A72","v":2},{"$f":"'Hull Long'!B72","v":1200},{"$f":"'Hull Long'!C72","v":-75},{"$f":"'Hull Plan'!C72","v":139.5}]
[{"$f":"'Hull Long'!A73","v":2},{"$f":"'Hull Long'!B73","v":1300},{"$f":"'Hull Long'!C73","v":-75},{"$f":"'Hull Plan'!C73","v":150}]
[{"$f":"'Hull Long'!A74","v":2},{"$f":"'Hull Long'!B74","v":1400},{"$f":"'Hull Long'!C74","v":-75},{"$f":"'Hull Plan'!C74","v":159.5}]
[{"$f":"'Hull Long'!A75","v":2},{"$f":"'Hull Long'!B75","v":1500},{"$f":"'Hull Long'!C75","v":-75},{"$f":"'Hull Plan'!C75","v":168}]
[{"$f":"'Hull Long'!A76","v":2},{"$f":"'Hull Long'!B76","v":1600},{"$f":"'Hull Long'!C76","v":-75},{"$f":"'Hull Plan'!C76","v":175.5}]
[{"$f":"'Hull Long'!A77","v":2},{"$f":"'Hull Long'!B77","v":1700},{"$f":"'Hull Long'!C77","v":-75},{"$f":"'Hull Plan'!C77","v":182}]
[{"$f":"'Hull Long'!A78","v":2},{"$f":"'Hull Long'!B78","v":1800},{"$f":"'Hull Long'!C78","v":-75},{"$f":"'Hull Plan'!C78","v":187.5}]
[{"$f":"'Hull Long'!A79","v":2},{"$f":"'Hull Long'!B79","v":1900},{"$f":"'Hull Long'!C79","v":-75},{"$f":"'Hull Plan'!C79","v":192}]
[{"$f":"'Hull Long'!A80","v":2},{"$f":"'Hull Long'!B80","v":2000},{"$f":"'Hull Long'!C80","v":-75},{"$f":"'Hull Plan'!C80","v":195.5}]
[{"$f":"'Hull Long'!A81","v":2},{"$f":"'Hull Long'!B81","v":2100},{"$f":"'Hull Long'!C81","v":-75},{"$f":"'Hull Plan'!C81","v":198}]
[{"$f":"'Hull Long'!A82","v":2},{"$f":"'Hull Long'!B82","v":2200},{"$f":"'Hull Long'!C82","v":-75},{"$f":"'Hull Plan'!C82","v":199.5}]
[{"$f":"'Hull Long'!A83","v":2},{"$f":"'Hull Long'!B83","v":2300},{"$f":"'Hull Long'!C83","v":-75},{"$f":"'Hull Plan'!C83","v":200}]
[{"$f":"'Hull Long'!A84","v":2},{"$f":"'Hull Long'!B84","v":2300},{"$f":"'Hull Long'!C84","v":-75},{"$f":"'Hull Plan'!C84","v":200}]
[{"$f":"'Hull Long'!A85","v":2},{"$f":"'Hull Long'!B85","v":2400},{"$f":"'Hull Long'!C85","v":-75},{"$f":"'Hull Plan'!C85","v":199.5}]
[{"$f":"'Hull Long'!A86","v":2},{"$f":"'Hull Long'!B86","v":2500},{"$f":"'Hull Long'!C86","v":-75},{"$f":"'Hull Plan'!C86","v":198}]
[{"$f":"'Hull Long'!A87","v":2},{"$f":"'Hull Long'!B87","v":2600},{"$f":"'Hull Long'!C87","v":-75},{"$f":"'Hull Plan'!C87","v":195.5}]
[{"$f":"'Hull Long'!A88","v":2},{"$f":"'Hull Long'!B88","v":2700},{"$f":"'Hull Long'!C88","v":-75},{"$f":"'Hull Plan'!C88","v":192}]
[{"$f":"'Hull Long'!A89","v":2},{"$f":"'Hull Long'!B89","v":2800},{"$f":"'Hull Long'!C89","v":-75},{"$f":"'Hull Plan'!C89","v":187.5}]
[{"$f":"'Hull Long'!A90","v":2},{"$f":"'Hull Long'!B90","v":2900},{"$f":"'Hull Long'!C90","v":-75},{"$f":"'Hull Plan'!C90","v":182}]
[{"$f":"'Hull Long'!A91","v":2},{"$f":"'Hull Long'!B91","v":3000},{"$f":"'Hull Long'!C91","v":-75},{"$f":"'Hull Plan'!C91","v":175.5}]
[{"$f":"'Hull Long'!A92","v":2},{"$f":"'Hull Long'!B92","v":3100},{"$f":"'Hull Long'!C92","v":-75},{"$f":"'Hull Plan'!C92","v":168}]
[{"$f":"'Hull Long'!A93","v":2},{"$f":"'Hull Long'!B93","v":3200},{"$f":"'Hull Long'!C93","v":-75},{"$f":"'Hull Plan'!C93","v":159.5}]
[{"$f":"'Hull Long'!A94","v":2},{"$f":"'Hull Long'!B94","v":3300},{"$f":"'Hull Long'!C94","v":-75},{"$f":"'Hull Plan'!C94","v":150}]
[{"$f":"'Hull Long'!A95","v":2},{"$f":"'Hull Long'!B95","v":3400},{"$f":"'Hull Long'!C95","v":-75},{"$f":"'Hull Plan'!C95","v":139.5}]
[{"$f":"'Hull Long'!A96","v":2},{"$f":"'Hull Long'!B96","v":3500},{"$f":"'Hull Long'!C96","v":-75},{"$f":"'Hull Plan'!C96","v":128}]
[{"$f":"'Hull Long'!A97","v":2},{"$f":"'Hull Long'!B97","v":3600},{"$f":"'Hull Long'!C97","v":-75},{"$f":"'Hull Plan'!C97","v":115.5}]
[{"$f":"'Hull Long'!A98","v":2},{"$f":"'Hull Long'!B98","v":3699.9},{"$f":"'Hull Long'!C98","v":-75},{"$f":"'Hull Plan'!C98","v":102.01399949999998}]
[{"$f":"'Hull Long'!A99","v":2},{"$f":"'Hull Long'!B99","v":3700.1},{"$f":"'Hull Long'!C99","v":-75},{"$f":"'Hull Plan'!C99","v":101.98599950000002}]
[{"$f":"'Hull Long'!A100","v":2},{"$f":"'Hull Long'!B100","v":3900},{"$f":"'Hull Long'!C100","v":-75},{"$f":"'Hull Plan'!C100","v":72}]
[{"$f":"'Hull Long'!A101","v":2},{"$f":"'Hull Long'!B101","v":4000},{"$f":"'Hull Long'!C101","v":-75},{"$f":"'Hull Plan'!C101","v":55.5}]
[{"$f":"'Hull Long'!A102","v":2},{"$f":"'Hull Long'!B102","v":4100},{"$f":"'Hull Long'!C102","v":-75},{"$f":"'Hull Plan'!C102","v":38}]
[{"$f":"'Hull Long'!A103","v":2},{"$f":"'Hull Long'!B103","v":4200},{"$f":"'Hull Long'!C103","v":-75},{"$f":"'Hull Plan'!C103","v":19.5}]
[{"$f":"'Hull Long'!A104","v":2},{"$f":"'Hull Long'!B104","v":4300},{"$f":"'Hull Long'!C104","v":-75},{"$f":"'Hull Plan'!C104","v":0}]
[{"$f":"'Hull Long'!A105","v":2},{"$f":"'Hull Long'!B105","v":4400},{"$f":"'Hull Long'!C105","v":50},{"$f":"'Hull Plan'!C105","v":0}]
[{"$f":"'Hull Long'!A106","v":2},{"$f":"'Hull Long'!B106","v":4500},{"$f":"'Hull Long'!C106","v":175},{"$f":"'Hull Plan'!C106","v":0}]
[{"$f":"'Hull Long'!A107","v":2},{"$f":"'Hull Long'!B107","v":4600},{"$f":"'Hull Long'!C107","v":300},{"$f":"'Hull Plan'!C107","v":0}]
[{"$f":"'Hull Long'!A108","v":0},{"$f":"'Hull Long'!B108","v":4700},{"$f":"'Hull Long'!C108","v":425},{"$f":"'Hull Plan'!C108","v":0}]
[{"$f":"'Hull Long'!A109","v":0},{"$f":"'Hull Long'!B109","v":0},{"$f":"'Hull Long'!C109","v":0},{"$f":"'Hull Plan'!C109","v":0}]
[{"$f":"'Hull Long'!A110","v":0},{"$f":"'Hull Long'!B110","v":-100},{"$f":"'Hull Long'!C110","v":425},{"$f":"'Hull Plan'!C110","v":0}]
[{"$f":"'Hull Long'!A111","v":3},{"$f":"'Hull Long'!B111","v":0},{"$f":"'Hull Long'!C111","v":300},{"$f":"'Hull Plan'!C111","v":0}]
[{"$f":"'Hull Long'!A112","v":3},{"$f":"'Hull Long'!B112","v":100},{"$f":"'Hull Long'!C112","v":282.26159685887365},{"$f":"'Hull Plan'!C112","v":43.936345702569213}]
[{"$f":"'Hull Long'!A113","v":3},{"$f":"'Hull Long'!B113","v":200},{"$f":"'Hull Long'!C113","v":264.92189439594011},{"$f":"'Hull Plan'!C113","v":84.02248516585837}]
[{"$f":"'Hull Long'!A114","v":3},{"$f":"'Hull Long'!B114","v":300},{"$f":"'Hull Long'!C114","v":247.99028023137919},{"$f":"'Hull Plan'!C114","v":120.43644378114854}]
[{"$f":"'Hull Long'!A115","v":3},{"$f":"'Hull Long'!B115","v":400},{"$f":"'Hull Long'!C115","v":231.47683821912474},{"$f":"'Hull Plan'!C115","v":153.35609722808502}]
[{"$f":"'Hull Long'!A116","v":3},{"$f":"'Hull Long'!B116","v":500},{"$f":"'Hull Long'!C116","v":215.39243903480215},{"$f":"'Hull Plan'!C116","v":182.95916411254859}]
[{"$f":"'Hull Long'!A117","v":3},{"$f":"'Hull Long'!B117","v":600},{"$f":"'Hull Long'!C117","v":199.74884818167922},{"$f":"'Hull Plan'!C117","v":209.42319783473931}]
[{"$f":"'Hull Long'!A118","v":3},{"$f":"'Hull Long'!B118","v":700},{"$f":"'Hull Long'!C118","v":184.55885597410949},{"$f":"'Hull Plan'!C118","v":232.92557755948741}]
[{"$f":"'Hull Long'!A119","v":3},{"$f":"'Hull Long'!B119","v":899.9},{"$f":"'Hull Long'!C119","v":155.61093042155551},{"$f":"'Hull Plan'!C119","v":271.73709183814333}]
[{"$f":"'Hull Long'!A120","v":3},{"$f":"'Hull Long'!B120","v":900.1},{"$f":"'Hull Long'!C120","v":155.58294536349544},{"$f":"'Hull Plan'!C120","v":271.77082319603949}]
[{"$f":"'Hull Long'!A121","v":3},{"$f":"'Hull Long'!B121","v":1000},{"$f":"'Hull Long'!C121","v":141.85733244839565},{"$f":"'Hull Plan'!C121","v":287.43375004563728}]
[{"$f":"'Hull Long'!A122","v":3},{"$f":"'Hull Long'!B122","v":1100},{"$f":"'Hull Long'!C122","v":128.6365170042709},{"$f":"'Hull Plan'!C122","v":300.85943957942646}]
[{"$f":"'Hull Long'!A123","v":3},{"$f":"'Hull Long'!B123","v":1200},{"$f":"'Hull Long'!C123","v":115.95570983889458},{"$f":"'Hull Plan'!C123","v":312.20735475395122}]
[{"$f":"'Hull Long'!A124","v":3},{"$f":"'Hull Long'!B124","v":1300},{"$f":"'Hull Long'!C124","v":103.83896964514844},{"$f":"'Hull Plan'!C124","v":321.65356317294277}]
[{"$f":"'Hull Long'!A125","v":3},{"$f":"'Hull Long'!B125","v":1400},{"$f":"'Hull Long'!C125","v":92.313892364077404},{"$f":"'Hull Plan'!C125","v":329.37384931644624}]
[{"$f":"'Hull Long'!A126","v":3},{"$f":"'Hull Long'!B126","v":1500},{"$f":"'Hull Long'!C126","v":81.412574528830177},{"$f":"'Hull Plan'!C126","v":335.54368657449089}]
[{"$f":"'Hull Long'!A127","v":3},{"$f":"'Hull Long'!B127","v":1600},{"$f":"'Hull Long'!C127","v":71.172990104660329},{"$f":"'Hull Plan'!C127","v":340.33820305674146}]
[{"$f":"'Hull Long'!A128","v":3},{"$f":"'Hull Long'!B128","v":1700},{"$f":"'Hull Long'!C128","v":61.641041976137416},{"$f":"'Hull Plan'!C128","v":343.9321388178879}]
[{"$f":"'Hull Long'!A129","v":3},{"$f":"'Hull Long'!B129","v":1800},{"$f":"'Hull Long'!C129","v":52.873785028922441},{"$f":"'Hull Plan'!C129","v":346.4997907593646}]
[{"$f":"'Hull Long'!A130","v":3},{"$f":"'Hull Long'!B130","v":1900},{"$f":"'Hull Long'!C130","v":44.944856996763676},{"$f":"'Hull Plan'!C130","v":348.21493889527625}]
[{"$f":"'Hull Long'!A131","v":3},{"$f":"'Hull Long'!B131","v":2000},{"$f":"'Hull Long'!C131","v":37.954564625533862},{"$f":"'Hull Plan'!C131","v":349.25074238042333}]
[{"$f":"'Hull Long'!A132","v":3},{"$f":"'Hull Long'!B132","v":2100},{"$f":"'Hull Long'!C132","v":32.051571816103774},{"$f":"'Hull Plan'!C132","v":349.77958120761446}]
[{"$f":"'Hull Long'!A133","v":3},{"$f":"'Hull Long'!B133","v":2200},{"$f":"'Hull Long'!C133","v":27.493107124595461},{"$f":"'Hull Plan'!C133","v":349.97278275577901}]
[{"$f":"'Hull Long'!A134","v":3},{"$f":"'Hull Long'!B134","v":2300},{"$f":"'Hull Long'!C134","v":25},{"$f":"'Hull Plan'!C134","v":350}]
[{"$f":"'Hull Long'!A135","v":3},{"$f":"'Hull Long'!B135","v":2300},{"$f":"'Hull Long'!C135","v":25},{"$f":"'Hull Plan'!C135","v":350}]
[{"$f":"'Hull Long'!A136","v":3},{"$f":"'Hull Long'!B136","v":2400},{"$f":"'Hull Long'!C136","v":27.493107124595461},{"$f":"'Hull Plan'!C136","v":349.97278275577901}]
[{"$f":"'Hull Long'!A137","v":3},{"$f":"'Hull Long'!B137","v":2500},{"$f":"'Hull Long'!C137","v":32.051571816103774},{"$f":"'Hull Plan'!C137","v":349.77958120761446}]
[{"$f":"'Hull Long'!A138","v":3},{"$f":"'Hull Long'!B138","v":2600},{"$f":"'Hull Long'!C138","v":37.954564625533862},{"$f":"'Hull Plan'!C138","v":349.25074238042333}]
[{"$f":"'Hull Long'!A139","v":3},{"$f":"'Hull Long'!B139","v":2700},{"$f":"'Hull Long'!C139","v":44.944856996763676},{"$f":"'Hull Plan'!C139","v":348.21493889527625}]
[{"$f":"'Hull Long'!A140","v":3},{"$f":"'Hull Long'!B140","v":2800},{"$f":"'Hull Long'!C140","v":52.873785028922441},{"$f":"'Hull Plan'!C140","v":346.4997907593646}]
[{"$f":"'Hull Long'!A141","v":3},{"$f":"'Hull Long'!B141","v":2900},{"$f":"'Hull Long'!C141","v":61.641041976137416},{"$f":"'Hull Plan'!C141","v":343.9321388178879}]
[{"$f":"'Hull Long'!A142","v":3},{"$f":"'Hull Long'!B142","v":3000},{"$f":"'Hull Long'!C142","v":71.172990104660329},{"$f":"'Hull Plan'!C142","v":340.33820305674146}]
[{"$f":"'Hull Long'!A143","v":3},{"$f":"'Hull Long'!B143","v":3100},{"$f":"'Hull Long'!C143","v":81.412574528830177},{"$f":"'Hull Plan'!C143","v":335.54368657449089}]
[{"$f":"'Hull Long'!A144","v":3},{"$f":"'Hull Long'!B144","v":3200},{"$f":"'Hull Long'!C144","v":92.313892364077404},{"$f":"'Hull Plan'!C144","v":329.37384931644624}]
[{"$f":"'Hull Long'!A145","v":3},{"$f":"'Hull Long'!B145","v":3300},{"$f":"'Hull Long'!C145","v":103.83896964514844},{"$f":"'Hull Plan'!C145","v":321.65356317294277}]
[{"$f":"'Hull Long'!A146","v":3},{"$f":"'Hull Long'!B146","v":3400},{"$f":"'Hull Long'!C146","v":115.95570983889458},{"$f":"'Hull Plan'!C146","v":312.20735475395122}]
[{"$f":"'Hull Long'!A147","v":3},{"$f":"'Hull Long'!B147","v":3500},{"$f":"'Hull Long'!C147","v":128.6365170042709},{"$f":"'Hull Plan'!C147","v":300.85943957942646}]
[{"$f":"'Hull Long'!A148","v":3},{"$f":"'Hull Long'!B148","v":3600},{"$f":"'Hull Long'!C148","v":141.85733244839565},{"$f":"'Hull Plan'!C148","v":287.43375004563728}]
[{"$f":"'Hull Long'!A149","v":3},{"$f":"'Hull Long'!B149","v":3699.9},{"$f":"'Hull Long'!C149","v":155.58294536349544},{"$f":"'Hull Plan'!C149","v":271.77082319603949}]
[{"$f":"'Hull Long'!A150","v":3},{"$f":"'Hull Long'!B150","v":3700.1},{"$f":"'Hull Long'!C150","v":155.61093042155551},{"$f":"'Hull Plan'!C150","v":271.73709183814333}]
[{"$f":"'Hull Long'!A151","v":3},{"$f":"'Hull Long'!B151","v":3900},{"$f":"'Hull Long'!C151","v":184.55885597410949},{"$f":"'Hull Plan'!C151","v":232.92557755948741}]
[{"$f":"'Hull Long'!A152","v":3},{"$f":"'Hull Long'!B152","v":4000},{"$f":"'Hull Long'!C152","v":199.74884818167922},{"$f":"'Hull Plan'!C152","v":209.42319783473931}]
[{"$f":"'Hull Long'!A153","v":3},{"$f":"'Hull Long'!B153","v":4100},{"$f":"'Hull Long'!C153","v":215.39243903480215},{"$f":"'Hull Plan'!C153","v":182.95916411254859}]
[{"$f":"'Hull Long'!A154","v":3},{"$f":"'Hull Long'!B154","v":4200},{"$f":"'Hull Long'!C154","v":231.47683821912474},{"$f":"'Hull Plan'!C154","v":153.35609722808502}]
[{"$f":"'Hull Long'!A155","v":3},{"$f":"'Hull Long'!B155","v":4300},{"$f":"'Hull Long'!C155","v":247.99028023137919},{"$f":"'Hull Plan'!C155","v":120.43644378114854}]
[{"$f":"'Hull Long'!A156","v":3},{"$f":"'Hull Long'!B156","v":4400},{"$f":"'Hull Long'!C156","v":264.92189439594011},{"$f":"'Hull Plan'!C156","v":84.02248516585837}]
[{"$f":"'Hull Long'!A157","v":3},{"$f":"'Hull Long'!B157","v":4500},{"$f":"'Hull Long'!C157","v":282.26159685887365},{"$f":"'Hull Plan'!C157","v":43.936345702569213}]
[{"$f":"'Hull Long'!A158","v":3},{"$f":"'Hull Long'!B158","v":4600},{"$f":"'Hull Long'!C158","v":300},{"$f":"'Hull Plan'!C158","v":0}]
[{"$f":"'Hull Long'!A159","v":0},{"$f":"'Hull Long'!B159","v":4700},{"$f":"'Hull Long'!C159","v":425},{"$f":"'Hull Plan'!C159","v":0}]
[{"$f":"'Hull Long'!A160","v":0},{"$f":"'Hull Long'!B160","v":0},{"$f":"'Hull Long'!C160","v":0},{"$f":"'Hull Plan'!C160","v":0}]
[{"$f":"'Hull Long'!A161","v":0},{"$f":"'Hull Long'!B161","v":-100},{"$f":"'Hull Long'!C161","v":425},{"$f":"'Hull Plan'!C161","v":0}]
[{"$f":"'Hull Long'!A162","v":5},{"$f":"'Hull Long'!B162","v":0},{"$f":"'Hull Long'!C162","v":300},{"$f":"'Hull Plan'!C162","v":0}]
[{"$f":"'Hull Long'!A163","v":5},{"$f":"'Hull Long'!B163","v":100},{"$f":"'Hull Long'!C163","v":291.9370894813062},{"$f":"'Hull Plan'!C163","v":21.266540642722106}]
[{"$f":"'Hull Long'!A164","v":5},{"$f":"'Hull Long'!B164","v":200},{"$f":"'Hull Long'!C164","v":284.05540654360914},{"$f":"'Hull Plan'!C164","v":41.587901701323261}]
[{"$f":"'Hull Long'!A165","v":5},{"$f":"'Hull Long'!B165","v":300},{"$f":"'Hull Long'!C165","v":276.35921828699054},{"$f":"'Hull Plan'!C165","v":60.96408317580341}]
[{"$f":"'Hull Long'!A166","v":5},{"$f":"'Hull Long'!B166","v":400},{"$f":"'Hull Long'!C166","v":268.8531082814203},{"$f":"'Hull Plan'!C166","v":79.395085066162579}]
[{"$f":"'Hull Long'!A167","v":5},{"$f":"'Hull Long'!B167","v":500},{"$f":"'Hull Long'!C167","v":261.54201774309189},{"$f":"'Hull Plan'!C167","v":96.88090737240077}]
[{"$f":"'Hull Long'!A168","v":5},{"$f":"'Hull Long'!B168","v":600},{"$f":"'Hull Long'!C168","v":254.43129462803603},{"$f":"'Hull Plan'!C168","v":113.42155009451795}]
[{"$f":"'Hull Long'!A169","v":5},{"$f":"'Hull Long'!B169","v":700},{"$f":"'Hull Long'!C169","v":247.5267527155043},{"$f":"'Hull Plan'!C169","v":129.01701323251416}]
[{"$f":"'Hull Long'!A170","v":5},{"$f":"'Hull Long'!B170","v":899.9},{"$f":"'Hull Long'!C170","v":234.36860473707068},{"$f":"'Hull Plan'!C170","v":157.3591677693762}]
[{"$f":"'Hull Long'!A171","v":5},{"$f":"'Hull Long'!B171","v":900.1},{"$f":"'Hull Long'!C171","v":234.35588425613429},{"$f":"'Hull Plan'!C171","v":157.38563279773155}]
[{"$f":"'Hull Long'!A172","v":5},{"$f":"'Hull Long'!B172","v":1000},{"$f":"'Hull Long'!C172","v":228.11696929472529},{"$f":"'Hull Plan'!C172","v":170.13232514177693}]
[{"$f":"'Hull Long'!A173","v":5},{"$f":"'Hull Long'!B173","v":1100},{"$f":"'Hull Long'!C173","v":222.10750772921403},{"$f":"'Hull Plan'!C173","v":181.94706994328922}]
[{"$f":"'Hull Long'!A174","v":5},{"$f":"'Hull Long'!B174","v":1200},{"$f":"'Hull Long'!C174","v":216.34350447222482},{"$f":"'Hull Plan'!C174","v":192.81663516068053}]
[{"$f":"'Hull Long'!A175","v":5},{"$f":"'Hull Long'!B175","v":1300},{"$f":"'Hull Long'!C175","v":210.83589529324928},{"$f":"'Hull Plan'!C175","v":202.74102079395084}]
[{"$f":"'Hull Long'!A176","v":5},{"$f":"'Hull Long'!B176","v":1400},{"$f":"'Hull Long'!C176","v":205.59722380185337},{"$f":"'Hull Plan'!C176","v":211.72022684310019}]
[{"$f":"'Hull Long'!A177","v":5},{"$f":"'Hull Long'!B177","v":1500},{"$f":"'Hull Long'!C177","v":200.64207933128645},{"$f":"'Hull Plan'!C177","v":219.75425330812854}]
[{"$f":"'Hull Long'!A178","v":5},{"$f":"'Hull Long'!B178","v":1600},{"$f":"'Hull Long'!C178","v":195.98772277484559},{"$f":"'Hull Plan'!C178","v":226.84310018903591}]
[{"$f":"'Hull Long'!A179","v":5},{"$f":"'Hull Long'!B179","v":1700},{"$f":"'Hull Long'!C179","v":191.65501908006246},{"$f":"'Hull Plan'!C179","v":232.9867674858223}]
[{"$f":"'Hull Long'!A180","v":5},{"$f":"'Hull Long'!B180","v":1800},{"$f":"'Hull Long'!C180","v":187.66990228587383},{"$f":"'Hull Plan'!C180","v":238.18525519848771}]
[{"$f":"'Hull Long'!A181","v":5},{"$f":"'Hull Long'!B181","v":1900},{"$f":"'Hull Long'!C181","v":184.06584408943803},{"$f":"'Hull Plan'!C181","v":242.43856332703214}]
[{"$f":"'Hull Long'!A182","v":5},{"$f":"'Hull Long'!B182","v":2000},{"$f":"'Hull Long'!C182","v":180.88843846615177},{"$f":"'Hull Plan'!C182","v":245.74669187145557}]
[{"$f":"'Hull Long'!A183","v":5},{"$f":"'Hull Long'!B183","v":2100},{"$f":"'Hull Long'!C183","v":178.2052599164108},{"$f":"'Hull Plan'!C183","v":248.10964083175804}]
[{"$f":"'Hull Long'!A184","v":5},{"$f":"'Hull Long'!B184","v":2200},{"$f":"'Hull Long'!C184","v":176.13323051117976},{"$f":"'Hull Plan'!C184","v":249.52741020793951}]
[{"$f":"'Hull Long'!A185","v":5},{"$f":"'Hull Long'!B185","v":2300},{"$f":"'Hull Long'!C185","v":175},{"$f":"'Hull Plan'!C185","v":250}]
[{"$f":"'Hull Long'!A186","v":5},{"$f":"'Hull Long'!B186","v":2300},{"$f":"'Hull Long'!C186","v":175},{"$f":"'Hull Plan'!C186","v":250}]
[{"$f":"'Hull Long'!A187","v":5},{"$f":"'Hull Long'!B187","v":2400},{"$f":"'Hull Long'!C187","v":176.13323051117976},{"$f":"'Hull Plan'!C187","v":249.52741020793951}]
[{"$f":"'Hull Long'!A188","v":5},{"$f":"'Hull Long'!B188","v":2500},{"$f":"'Hull Long'!C188","v":178.2052599164108},{"$f":"'Hull Plan'!C188","v":248.10964083175804}]
[{"$f":"'Hull Long'!A189","v":5},{"$f":"'Hull Long'!B189","v":2600},{"$f":"'Hull Long'!C189","v":180.88843846615177},{"$f":"'Hull Plan'!C189","v":245.74669187145557}]
[{"$f":"'Hull Long'!A190","v":5},{"$f":"'Hull Long'!B190","v":2700},{"$f":"'Hull Long'!C190","v":184.06584408943803},{"$f":"'Hull Plan'!C190","v":242.43856332703214}]
[{"$f":"'Hull Long'!A191","v":5},{"$f":"'Hull Long'!B191","v":2800},{"$f":"'Hull Long'!C191","v":187.66990228587383},{"$f":"'Hull Plan'!C191","v":238.18525519848771}]
[{"$f":"'Hull Long'!A192","v":5},{"$f":"'Hull Long'!B192","v":2900},{"$f":"'Hull Long'!C192","v":191.65501908006246},{"$f":"'Hull Plan'!C192","v":232.9867674858223}]
[{"$f":"'Hull Long'!A193","v":5},{"$f":"'Hull Long'!B193","v":3000},{"$f":"'Hull Long'!C193","v":195.98772277484559},{"$f":"'Hull Plan'!C193","v":226.84310018903591}]
[{"$f":"'Hull Long'!A194","v":5},{"$f":"'Hull Long'!B194","v":3100},{"$f":"'Hull Long'!C194","v":200.64207933128645},{"$f":"'Hull Plan'!C194","v":219.75425330812854}]
[{"$f":"'Hull Long'!A195","v":5},{"$f":"'Hull Long'!B195","v":3200},{"$f":"'Hull Long'!C195","v":205.59722380185337},{"$f":"'Hull Plan'!C195","v":211.72022684310019}]
[{"$f":"'Hull Long'!A196","v":5},{"$f":"'Hull Long'!B196","v":3300},{"$f":"'Hull Long'!C196","v":210.83589529324928},{"$f":"'Hull Plan'!C196","v":202.74102079395084}]
[{"$f":"'Hull Long'!A197","v":5},{"$f":"'Hull Long'!B197","v":3400},{"$f":"'Hull Long'!C197","v":216.34350447222482},{"$f":"'Hull Plan'!C197","v":192.81663516068053}]
[{"$f":"'Hull Long'!A198","v":5},{"$f":"'Hull Long'!B198","v":3500},{"$f":"'Hull Long'!C198","v":222.10750772921403},{"$f":"'Hull Plan'!C198","v":181.94706994328922}]
[{"$f":"'Hull Long'!A199","v":5},{"$f":"'Hull Long'!B199","v":3600},{"$f":"'Hull Long'!C199","v":228.11696929472529},{"$f":"'Hull Plan'!C199","v":170.13232514177693}]
[{"$f":"'Hull Long'!A200","v":5},{"$f":"'Hull Long'!B200","v":3699.9},{"$f":"'Hull Long'!C200","v":234.35588425613429},{"$f":"'Hull Plan'!C200","v":157.38563279773155}]
[{"$f":"'Hull Long'!A201","v":5},{"$f":"'Hull Long'!B201","v":3700.1},{"$f":"'Hull Long'!C201","v":234.36860473707068},{"$f":"'Hull Plan'!C201","v":157.3591677693762}]
[{"$f":"'Hull Long'!A202","v":5},{"$f":"'Hull Long'!B202","v":3900},{"$f":"'Hull Long'!C202","v":247.5267527155043},{"$f":"'Hull Plan'!C202","v":129.01701323251416}]
[{"$f":"'Hull Long'!A203","v":5},{"$f":"'Hull Long'!B203","v":4000},{"$f":"'Hull Long'!C203","v":254.43129462803603},{"$f":"'Hull Plan'!C203","v":113.42155009451795}]
[{"$f":"'Hull Long'!A204","v":5},{"$f":"'Hull Long'!B204","v":4100},{"$f":"'Hull Long'!C204","v":261.54201774309189},{"$f":"'Hull Plan'!C204","v":96.88090737240077}]
[{"$f":"'Hull Long'!A205","v":5},{"$f":"'Hull Long'!B205","v":4200},{"$f":"'Hull Long'!C205","v":268.8531082814203},{"$f":"'Hull Plan'!C205","v":79.395085066162579}]
[{"$f":"'Hull Long'!A206","v":5},{"$f":"'Hull Long'!B206","v":4300},{"$f":"'Hull Long'!C206","v":276.35921828699054},{"$f":"'Hull Plan'!C206","v":60.96408317580341}]
[{"$f":"'Hull Long'!A207","v":5},{"$f":"'Hull Long'!B207","v":4400},{"$f":"'Hull Long'!C207","v":284.05540654360914},{"$f":"'Hull Plan'!C207","v":41.587901701323261}]
[{"$f":"'Hull Long'!A208","v":5},{"$f":"'Hull Long'!B208","v":4500},{"$f":"'Hull Long'!C208","v":291.9370894813062},{"$f":"'Hull Plan'!C208","v":21.266540642722106}]
[{"$f":"'Hull Long'!A209","v":5},{"$f":"'Hull Long'!B209","v":4600},{"$f":"'Hull Long'!C209","v":300},{"$f":"'Hull Plan'!C209","v":0}]
[{"$f":"'Hull Long'!A210","v":0},{"$f":"'Hull Long'!B210","v":4700},{"$f":"'Hull Long'!C210","v":425},{"$f":"'Hull Plan'!C210","v":0}]
[{"$f":"'Hull Long'!A211","v":0},{"$f":"'Hull Long'!B211","v":0},{"$f":"'Hull Long'!C211","v":0},{"$f":"'Hull Plan'!C211","v":0}]
[{"$f":"'Hull Long'!A212","v":0},{"$f":"'Hull Long'!B212","v":-100},{"$f":"'Hull Long'!C212","v":425},{"$f":"'Hull Plan'!C212","v":0}]
[{"$f":"'Hull Long'!A213","v":6},{"$f":"'Hull Long'!B213","v":0},{"$f":"'Hull Long'!C213","v":300},{"$f":"'Hull Plan'!C213","v":0}]
[{"$f":"'Hull Long'!A214","v":6},{"$f":"'Hull Long'!B214","v":100},{"$f":"'Hull Long'!C214","v":291.9370894813062},{"$f":"'Hull Plan'!C214","v":0}]
[{"$f":"'Hull Long'!A215","v":6},{"$f":"'Hull Long'!B215","v":200},{"$f":"'Hull Long'!C215","v":284.05540654360914},{"$f":"'Hull Plan'!C215","v":0}]
[{"$f":"'Hull Long'!A216","v":6},{"$f":"'Hull Long'!B216","v":300},{"$f":"'Hull Long'!C216","v":276.35921828699054},{"$f":"'Hull Plan'!C216","v":0}]
[{"$f":"'Hull Long'!A217","v":6},{"$f":"'Hull Long'!B217","v":400},{"$f":"'Hull Long'!C217","v":268.8531082814203},{"$f":"'Hull Plan'!C217","v":0}]
[{"$f":"'Hull Long'!A218","v":6},{"$f":"'Hull Long'!B218","v":500},{"$f":"'Hull Long'!C218","v":261.54201774309189},{"$f":"'Hull Plan'!C218","v":0}]
[{"$f":"'Hull Long'!A219","v":6},{"$f":"'Hull Long'!B219","v":600},{"$f":"'Hull Long'!C219","v":254.43129462803603},{"$f":"'Hull Plan'!C219","v":0}]
[{"$f":"'Hull Long'!A220","v":6},{"$f":"'Hull Long'!B220","v":700},{"$f":"'Hull Long'!C220","v":247.5267527155043},{"$f":"'Hull Plan'!C220","v":0}]
[{"$f":"'Hull Long'!A221","v":6},{"$f":"'Hull Long'!B221","v":899.9},{"$f":"'Hull Long'!C221","v":234.36860473707068},{"$f":"'Hull Plan'!C221","v":0}]
[{"$f":"'Hull Long'!A222","v":6},{"$f":"'Hull Long'!B222","v":900.1},{"$f":"'Hull Long'!C222","v":234.35588425613429},{"$f":"'Hull Plan'!C222","v":156.38563279773155}]
[{"$f":"'Hull Long'!A223","v":0},{"$f":"'Hull Long'!B223","v":1000},{"$f":"'Hull Long'!C223","v":228.11696929472529},{"$f":"'Hull Plan'!C223","v":169.13232514177693}]
[{"$f":"'Hull Long'!A224","v":0},{"$f":"'Hull Long'!B224","v":1100},{"$f":"'Hull Long'!C224","v":222.10750772921403},{"$f":"'Hull Plan'!C224","v":180.94706994328922}]
[{"$f":"'Hull Long'!A225","v":0},{"$f":"'Hull Long'!B225","v":1200},{"$f":"'Hull Long'!C225","v":216.34350447222482},{"$f":"'Hull Plan'!C225","v":191.81663516068053}]
[{"$f":"'Hull Long'!A226","v":0},{"$f":"'Hull Long'!B226","v":1300},{"$f":"'Hull Long'!C226","v":210.83589529324928},{"$f":"'Hull Plan'!C226","v":201.74102079395084}]
[{"$f":"'Hull Long'!A227","v":0},{"$f":"'Hull Long'!B227","v":1400},{"$f":"'Hull Long'!C227","v":205.59722380185337},{"$f":"'Hull Plan'!C227","v":210.72022684310019}]
[{"$f":"'Hull Long'!A228","v":0},{"$f":"'Hull Long'!B228","v":1500},{"$f":"'Hull Long'!C228","v":200.64207933128645},{"$f":"'Hull Plan'!C228","v":218.75425330812854}]
[{"$f":"'Hull Long'!A229","v":0},{"$f":"'Hull Long'!B229","v":1600},{"$f":"'Hull Long'!C229","v":195.98772277484559},{"$f":"'Hull Plan'!C229","v":225.84310018903591}]
[{"$f":"'Hull Long'!A230","v":0},{"$f":"'Hull Long'!B230","v":1700},{"$f":"'Hull Long'!C230","v":191.65501908006246},{"$f":"'Hull Plan'!C230","v":231.9867674858223}]
[{"$f":"'Hull Long'!A231","v":0},{"$f":"'Hull Long'!B231","v":1800},{"$f":"'Hull Long'!C231","v":187.66990228587383},{"$f":"'Hull Plan'!C231","v":237.18525519848771}]
[{"$f":"'Hull Long'!A232","v":0},{"$f":"'Hull Long'!B232","v":1900},{"$f":"'Hull Long'!C232","v":184.06584408943803},{"$f":"'Hull Plan'!C232","v":241.43856332703214}]
[{"$f":"'Hull Long'!A233","v":0},{"$f":"'Hull Long'!B233","v":2000},{"$f":"'Hull Long'!C233","v":180.88843846615177},{"$f":"'Hull Plan'!C233","v":244.74669187145557}]
[{"$f":"'Hull Long'!A234","v":0},{"$f":"'Hull Long'!B234","v":2100},{"$f":"'Hull Long'!C234","v":178.2052599164108},{"$f":"'Hull Plan'!C234","v":247.10964083175804}]
[{"$f":"'Hull Long'!A235","v":0},{"$f":"'Hull Long'!B235","v":2200},{"$f":"'Hull Long'!C235","v":176.13323051117976},{"$f":"'Hull Plan'!C235","v":248.52741020793951}]
[{"$f":"'Hull Long'!A236","v":0},{"$f":"'Hull Long'!B236","v":2300},{"$f":"'Hull Long'!C236","v":175},{"$f":"'Hull Plan'!C236","v":249}]
[{"$f":"'Hull Long'!A237","v":0},{"$f":"'Hull Long'!B237","v":2300},{"$f":"'Hull Long'!C237","v":175},{"$f":"'Hull Plan'!C237","v":249}]
[{"$f":"'Hull Long'!A238","v":0},{"$f":"'Hull Long'!B238","v":2400},{"$f":"'Hull Long'!C238","v":176.13323051117976},{"$f":"'Hull Plan'!C238","v":248.52741020793951}]
[{"$f":"'Hull Long'!A239","v":0},{"$f":"'Hull Long'!B239","v":2500},{"$f":"'Hull Long'!C239","v":178.2052599164108},{"$f":"'Hull Plan'!C239","v":247.10964083175804}]
[{"$f":"'Hull Long'!A240","v":0},{"$f":"'Hull Long'!B240","v":2600},{"$f":"'Hull Long'!C240","v":180.88843846615177},{"$f":"'Hull Plan'!C240","v":244.74669187145557}]
[{"$f":"'Hull Long'!A241","v":0},{"$f":"'Hull Long'!B241","v":2700},{"$f":"'Hull Long'!C241","v":184.06584408943803},{"$f":"'Hull Plan'!C241","v":241.43856332703214}]
[{"$f":"'Hull Long'!A242","v":0},{"$f":"'Hull Long'!B242","v":2800},{"$f":"'Hull Long'!C242","v":187.66990228587383},{"$f":"'Hull Plan'!C242","v":237.18525519848771}]
[{"$f":"'Hull Long'!A243","v":0},{"$f":"'Hull Long'!B243","v":2900},{"$f":"'Hull Long'!C243","v":191.65501908006246},{"$f":"'Hull Plan'!C243","v":231.9867674858223}]
[{"$f":"'Hull Long'!A244","v":0},{"$f":"'Hull Long'!B244","v":3000},{"$f":"'Hull Long'!C244","v":195.98772277484559},{"$f":"'Hull Plan'!C244","v":225.84310018903591}]
[{"$f":"'Hull Long'!A245","v":0},{"$f":"'Hull Long'!B245","v":3100},{"$f":"'Hull Long'!C245","v":200.64207933128645},{"$f":"'Hull Plan'!C245","v":218.75425330812854}]
[{"$f":"'Hull Long'!A246","v":0},{"$f":"'Hull Long'!B246","v":3200},{"$f":"'Hull Long'!C246","v":205.59722380185337},{"$f":"'Hull Plan'!C246","v":210.72022684310019}]
[{"$f":"'Hull Long'!A247","v":0},{"$f":"'Hull Long'!B247","v":3300},{"$f":"'Hull Long'!C247","v":210.83589529324928},{"$f":"'Hull Plan'!C247","v":201.74102079395084}]
[{"$f":"'Hull Long'!A248","v":0},{"$f":"'Hull Long'!B248","v":3400},{"$f":"'Hull Long'!C248","v":216.34350447222482},{"$f":"'Hull Plan'!C248","v":191.81663516068053}]
[{"$f":"'Hull Long'!A249","v":0},{"$f":"'Hull Long'!B249","v":3500},{"$f":"'Hull Long'!C249","v":222.10750772921403},{"$f":"'Hull Plan'!C249","v":180.94706994328922}]
[{"$f":"'Hull Long'!A250","v":0},{"$f":"'Hull Long'!B250","v":3600},{"$f":"'Hull Long'!C250","v":228.11696929472529},{"$f":"'Hull Plan'!C250","v":169.13232514177693}]
[{"$f":"'Hull Long'!A251","v":0},{"$f":"'Hull Long'!B251","v":3699.9},{"$f":"'Hull Long'!C251","v":234.35588425613429},{"$f":"'Hull Plan'!C251","v":156.38563279773155}]
[{"$f":"'Hull Long'!A252","v":6},{"$f":"'Hull Long'!B252","v":3700.1},{"$f":"'Hull Long'!C252","v":234.36860473707068},{"$f":"'Hull Plan'!C252","v":0}]
[{"$f":"'Hull Long'!A253","v":6},{"$f":"'Hull Long'!B253","v":3900},{"$f":"'Hull Long'!C253","v":247.5267527155043},{"$f":"'Hull Plan'!C253","v":0}]
[{"$f":"'Hull Long'!A254","v":6},{"$f":"'Hull Long'!B254","v":4000},{"$f":"'Hull Long'!C254","v":254.43129462803603},{"$f":"'Hull Plan'!C254","v":0}]
[{"$f":"'Hull Long'!A255","v":6},{"$f":"'Hull Long'!B255","v":4100},{"$f":"'Hull Long'!C255","v":261.54201774309189},{"$f":"'Hull Plan'!C255","v":0}]
[{"$f":"'Hull Long'!A256","v":6},{"$f":"'Hull Long'!B256","v":4200},{"$f":"'Hull Long'!C256","v":268.8531082814203},{"$f":"'Hull Plan'!C256","v":0}]
[{"$f":"'Hull Long'!A257","v":6},{"$f":"'Hull Long'!B257","v":4300},{"$f":"'Hull Long'!C257","v":276.35921828699054},{"$f":"'Hull Plan'!C257","v":0}]
[{"$f":"'Hull Long'!A258","v":6},{"$f":"'Hull Long'!B258","v":4400},{"$f":"'Hull Long'!C258","v":284.05540654360914},{"$f":"'Hull Plan'!C258","v":0}]
[{"$f":"'Hull Long'!A259","v":6},{"$f":"'Hull Long'!B259","v":4500},{"$f":"'Hull Long'!C259","v":291.9370894813062},{"$f":"'Hull Plan'!C259","v":0}]
[{"$f":"'Hull Long'!A260","v":6},{"$f":"'Hull Long'!B260","v":4600},{"$f":"'Hull Long'!C260","v":300},{"$f":"'Hull Plan'!C260","v":0}]
[{"$f":"'Hull Long'!A261","v":0},{"$f":"'Hull Long'!B261","v":4700},{"$f":"'Hull Long'!C261","v":425},{"$f":"'Hull Plan'!C261","v":0}]
[{"$f":"'Hull Long'!A262","v":0},{"$f":"'Hull Long'!B262","v":0},{"$f":"'Hull Long'!C262","v":0},{"$f":"'Hull Plan'!C262","v":0}]

{"sheet":"T-section","index":7,"n_rows":10,"n_cols":8,"rows_kept":10,"cut":false,"hidden":false,"merged":[[0,0,0,7],[2,4,2,6],[3,4,3,6],[4,5,7,5],[4,6,7,6],[5,4,7,4]]}
["T-Section"]
["Fw",42,"mm"]
["Ft",19,"mm",null,"Fw"]
["Wh",42,"mm",null,null,null,null,"Ft"]
["Wt",19,"mm",null,null,null,"Wh"]
["cy",{"$f":"(B2*B3*(B4+B3/2)+B4*B5*B4/2)/(B2*B3+B4*B5)","v":36.25},"mm",null,"cy"]
["I",{"$f":"(B2*B3^3/12+B2*B3*(B4+B3/2-B6)^2+B5*B4^3/12+B4*B5*(B4/2-B6)^2)","v":512482.25},"mm^4"]
["A",{"$f":"B2*B3+B4*B5","v":1596},"mm^2"]
["Z",{"$f":"B7/B6","v":14137.441379310345},"mm^3",null,null,"Wt"]
["r",{"$f":"(B7/B8)^0.5","v":17.9193796395597}]